Back to Multiple platform build/check report for BioC 3.22:   simplified   long

This page was generated on 2025-10-24 12:08 -0400 (Fri, 24 Oct 2025).

All results on taishan


Package status is indicated by one of the following glyphs
  TIMEOUT  
INSTALL, BUILD, CHECK or BUILD BIN of package took more than 40 minutes
  ERROR  
Bad DESCRIPTION file, or INSTALL, BUILD or BUILD BIN of package failed, or CHECK produced errors
  WARNINGS  
CHECK of package produced warnings
  OK  
INSTALL, BUILD, CHECK or BUILD BIN of package went OK
  NA  
INSTALL, BUILD, CHECK or BUILD BIN result is not available because of an anomaly in the Build System
skipped
CHECK or BUILD BIN of package was skipped because the BUILD step failed
Click on any glyph in the report below to access the detailed report.
Package propagation status is indicated by one of the following LEDs
YES YES: Package was propagated because it didn't previously exist or version was bumped
NO NO: Package was not propagated because of a problem (impossible dependencies, or version lower than what is already propagated)
UNNEEDED UNNEEDED: Package was not propagated because it is already in the repository with this version. A version bump is required in order to propagate it

A crossed-out package name indicates that the package is deprecated


QUICK STATSOS / ArchINSTALLBUILDCHECKBUILD BIN
nebbiolo2Linux (Ubuntu 24.04.3 LTS) / x86_64
0222336
0932265
1553561853
lconwaymacOS 12.7.6 Monterey / x86_64
0232325
01042244
2593461837
002244
kjohnson3macOS 13.7.7 Ventura / arm64
0332313
51192222
0803391803
002222
taishanLinux (openEuler 24.03 LTS) / aarch64
0362321
71702174
255189414
A
ABCDEFGHIJKLMNOPQRSTUVWXYZ
PackageMaintainerINSTALLBUILDCHECKBUILD BIN
1/2359a4 1.57.0  (landing page)Laure Cougnaud  OK    OK    OK  
2/2359a4Base 1.57.0  (landing page)Laure Cougnaud  OK    OK    OK  
3/2359a4Classif 1.57.0  (landing page)Laure Cougnaud  OK    OK    OK  
4/2359a4Core 1.57.0  (landing page)Laure Cougnaud  OK    OK    OK  
5/2359a4Preproc 1.57.0  (landing page)Laure Cougnaud  OK    OK    OK  
6/2359a4Reporting 1.57.0  (landing page)Laure Cougnaud  OK    OK    OK  
7/2359ABarray 1.77.0  (landing page)Yongming Andrew Sun  OK    OK    OK  
8/2359abseqR 1.27.0  (landing page)JiaHong Fong  OK    OK    OK  
9/2359ABSSeq 1.63.0  (landing page)Wentao Yang  OK    OK    OK  
10/2359acde 1.39.0  (landing page)Juan Pablo Acosta  OK    OK    OK  
11/2359ACE 1.27.1  (landing page)Jos B Poell  OK    OK    OK  
12/2359aCGH 1.87.0  (landing page)Peter Dimitrov  OK    OK    OK  
13/2359ACME 2.65.0  (landing page)Sean Davis  ERROR    ERROR  skipped
14/2359ADaCGH2 2.49.0  (landing page)Ramon Diaz-Uriarte  OK    OK    OK  
15/2359ADAM 1.25.0  (landing page)Jose Luiz Rybarczyk Filho  OK    OK    OK  
16/2359ADAMgui 1.25.0  (landing page)Jose Luiz Rybarczyk Filho  OK    OK    OK  
17/2359ADAPT 1.3.0  (landing page)Mukai Wang  OK    ERROR  skipped
18/2359adductomicsR 1.25.0  (landing page)Josie Hayes  OK    ERROR  skipped
19/2359ADImpute 1.19.0  (landing page)Ana Carolina Leote  OK    OK    WARNINGS  
20/2359adSplit 1.79.0  (landing page)Claudio Lottaz  OK    OK    OK  
21/2359adverSCarial 1.7.1  (landing page)Ghislain FIEVET  OK    OK    WARNINGS  
22/2359AffiXcan 1.27.0  (landing page)Alessandro Lussana  OK    OK    OK  
23/2359affxparser 1.81.0  (landing page)Kasper Daniel Hansen  OK    OK    ERROR  
24/2359affy 1.87.0  (landing page)Robert D. Shear  OK    OK    WARNINGS  
25/2359affycomp 1.85.0  (landing page)Robert D. Shear  OK    OK    OK  
26/2359affyContam 1.67.0  (landing page)V. Carey  OK    OK    OK  
27/2359affycoretools 1.81.1  (landing page)James W. MacDonald  OK    OK    OK  
28/2359affyILM 1.61.0  (landing page)Myriam Kroll and Fabrice Berger  OK    OK    OK  
29/2359affyio 1.79.0  (landing page)Ben Bolstad  OK    OK    WARNINGS  
30/2359affylmGUI 1.83.0  (landing page)Gordon Smyth  OK    OK    OK  
31/2359affyPLM 1.85.0  (landing page)Ben Bolstad  OK    OK    WARNINGS  
32/2359AffyRNADegradation 1.55.0  (landing page)Mario Fasold  OK    OK    OK  
33/2359AGDEX 1.57.0  (landing page)Cuilan lani Gao  OK    OK    OK  
34/2359aggregateBioVar 1.19.1  (landing page)Jason Ratcliff  OK    OK    OK  
35/2359agilp 3.41.0  (landing page)Benny Chain  OK    OK    OK  
36/2359AgiMicroRna 2.59.0  (landing page)Pedro Lopez-Romero  OK    OK    WARNINGS  
37/2359AHMassBank 1.9.0  (landing page)Johannes Rainer  OK    OK    OK  
38/2359AIMS 1.41.0  (landing page)Eric R Paquet  OK    OK    OK  
39/2359airpart 1.17.0  (landing page)Wancen Mu  OK    OK    OK  
40/2359alabaster 1.9.0  (landing page)Aaron Lun  OK    OK    OK  
41/2359alabaster.base 1.9.5  (landing page)Aaron Lun  OK    OK    WARNINGS  
42/2359alabaster.bumpy 1.9.1  (landing page)Aaron Lun  OK    OK    OK  
43/2359alabaster.files 1.7.0  (landing page)Aaron Lun  OK    OK    OK  
44/2359alabaster.mae 1.9.0  (landing page)Aaron Lun  OK    OK    OK  
45/2359alabaster.matrix 1.9.0  (landing page)Aaron Lun  OK    OK    OK  
46/2359alabaster.ranges 1.9.1  (landing page)Aaron Lun  OK    OK    OK  
47/2359alabaster.sce 1.9.0  (landing page)Aaron Lun  OK    OK    OK  
48/2359alabaster.schemas 1.9.0  (landing page)Aaron Lun  OK    OK    OK  
49/2359alabaster.se 1.9.0  (landing page)Aaron Lun  OK    OK    OK  
50/2359alabaster.sfe 1.1.0  (landing page)Lambda Moses  OK    OK    OK  
51/2359alabaster.spatial 1.9.0  (landing page)Aaron Lun  OK    OK    OK  
52/2359alabaster.string 1.9.0  (landing page)Aaron Lun  OK    OK    OK  
53/2359alabaster.vcf 1.9.0  (landing page)Aaron Lun  OK    OK    OK  
54/2359ALDEx2 1.41.0  (landing page)Greg Gloor  OK    OK    OK  
55/2359alevinQC 1.25.1  (landing page)Charlotte Soneson  OK    OK    OK  
56/2359AllelicImbalance 1.47.0  (landing page)Jesper R Gadin  OK    OK    OK  
57/2359AlphaBeta 1.23.0  (landing page)Yadollah Shahryary Dizaji  OK    OK    OK  
58/2359AlphaMissenseR 1.5.4  (landing page)Martin Morgan  OK    ERROR  skipped
59/2359AlpsNMR 4.11.1  (landing page)Sergio Oller Moreno  OK    ERROR  skipped
60/2359altcdfenvs 2.71.0  (landing page)Laurent Gautier  OK    OK    OK  
61/2359AMARETTO 1.25.0  (landing page)Olivier Gevaert  OK    OK    WARNINGS  
62/2359AMOUNTAIN 1.35.0  (landing page)Dong Li  OK    OK    OK  
63/2359amplican 1.31.2  (landing page)Eivind Valen  OK    OK    OK  
64/2359anansi 0.99.4  (landing page)Thomaz Bastiaanssen  OK    OK    OK  
65/2359Anaquin 2.33.0  (landing page)Ted Wong  OK    OK    OK  
66/2359ANCOMBC 2.11.1  (landing page)Huang Lin  OK    OK    OK  
67/2359ANF 1.31.0  (landing page)Tianle Ma  OK    OK    OK  
68/2359anglemania 0.99.7  (landing page)Aaron Kollotzek  OK    OK    ERROR  
69/2359animalcules 1.25.0  (landing page)Jessica McClintock  OK    OK    OK  
70/2359annaffy 1.81.0  (landing page)Colin A. Smith  OK    OK    WARNINGS  
71/2359anndataR 0.99.6  (landing page)Robrecht Cannoodt  OK    ERROR  skipped
72/2359annmap 1.51.0  (landing page)Chris Wirth  OK    OK    WARNINGS  
73/2359annotate 1.87.0  (landing page)Bioconductor Package Maintainer  OK    OK    OK  
74/2359AnnotationDbi 1.71.2  (landing page)Bioconductor Package Maintainer  OK    OK    OK  
75/2359AnnotationFilter 1.33.0  (landing page)Bioconductor Package Maintainer  OK    OK    OK  
76/2359AnnotationForge 1.51.1  (landing page)Bioconductor Package Maintainer  OK    OK    OK  
77/2359AnnotationHub 3.99.6  (landing page)Bioconductor Package Maintainer  OK    OK    ERROR  
78/2359AnnotationHubData 1.39.2  (landing page)Bioconductor Package Maintainer  OK    OK    WARNINGS  
79/2359annotationTools 1.83.0  (landing page)Alexandre Kuhn  OK    OK    OK  
80/2359annotatr 1.35.2  (landing page)Raymond G. Cavalcante  OK    OK    OK  
81/2359anota 1.57.0  (landing page)Ola Larsson  OK    OK    OK  
82/2359anota2seq 1.31.0  (landing page)Christian Oertlin , Ola Larsson  OK    OK    OK  
83/2359antiProfiles 1.49.0  (landing page)Hector Corrada Bravo  OK    OK    OK  
84/2359AnVIL 1.21.10  (landing page)Marcel Ramos  OK    OK    OK  
85/2359AnVILAz 1.3.1  (landing page)Marcel Ramos  OK    OK    OK  
86/2359AnVILBase 1.3.1  (landing page)Marcel Ramos  OK    OK    OK  
87/2359AnVILBilling 1.19.0  (landing page)Vince Carey  OK    OK    OK  
88/2359AnVILGCP 1.3.11  (landing page)Marcel Ramos  OK    OK    OK  
89/2359AnVILPublish 1.19.1  (landing page)Marcel Ramos  OK    OK    OK  
90/2359AnVILWorkflow 1.9.0  (landing page)Sehyun Oh  OK    OK    WARNINGS  
91/2359APAlyzer 1.23.0  (landing page)Ruijia Wang  OK    OK    ERROR  
92/2359apComplex 2.75.0  (landing page)Denise Scholtens  OK    OK    OK  
93/2359apeglm 1.31.0  (landing page)Anqi Zhu  OK    OK    WARNINGS  
94/2359APL 1.13.0  (landing page)Clemens Kohl  OK    OK    OK  
95/2359appreci8R 1.27.0  (landing page)Sarah Sandmann  OK    OK    OK  
96/2359aroma.light 3.39.0  (landing page)Henrik Bengtsson  OK    OK    OK  
97/2359ArrayExpress 1.69.0  (landing page)Jose Marugan  OK    OK    TIMEOUT  
98/2359arrayMvout 1.67.0  (landing page)V. Carey  OK    OK    OK  
99/2359arrayQuality 1.87.0  (landing page)Agnes Paquet  OK    OK    WARNINGS  
100/2359arrayQualityMetrics 3.65.0  (landing page)Mike Smith  OK    OK    OK  
101/2359ARRmNormalization 1.49.0  (landing page)Jean-Philippe Fortin  OK    OK    OK  
102/2359artMS 1.27.0  (landing page)David Jimenez-Morales  OK    OK    OK  
103/2359ASAFE 1.35.0  (landing page)Qian Zhang  OK    OK    OK  
104/2359ASEB 1.53.0  (landing page)Likun Wang  OK    OK    WARNINGS  
105/2359ASGSCA 1.43.0  (landing page)Hela Romdhani  OK    OK    OK  
106/2359ASICS 2.25.0  (landing page)Gaëlle Lefort  OK    OK    WARNINGS  
107/2359ASpli 2.19.0  (landing page)Ariel Chernomoretz  OK    OK    WARNINGS  
108/2359AssessORF 1.27.0  (landing page)Deepank Korandla  OK    OK    OK  
109/2359ASSET 2.27.0  (landing page)Samsiddhi Bhattacharjee  OK    OK    OK  
110/2359ASSIGN 1.45.0  (landing page)Ying Shen , W. Evan Johnson  OK    OK    OK  
111/2359assorthead 1.3.13  (landing page)Aaron Lun  OK    OK    OK  
112/2359ASURAT 1.13.1  (landing page)Keita Iida  OK    ERROR  skipped
113/2359ATACseqQC 1.33.1  (landing page)Jianhong Ou  OK    ERROR  skipped
114/2359ATACseqTFEA 1.11.1  (landing page)Jianhong Ou  OK    OK    OK  
115/2359atena 1.15.2  (landing page)Robert Castelo  OK    ERROR  skipped
116/2359atSNP 1.25.0  (landing page)Sunyoung Shin  OK    OK    OK  
117/2359attract 1.61.0  (landing page)Samuel Zimmerman  OK    OK    OK  
118/2359AUCell 1.31.0  (landing page)Gert Hulselmans  OK    OK    OK  
119/2359autonomics 1.17.16  (landing page)Aditya Bhagwat  OK    OK    OK  
120/2359AWAggregator 0.99.4  (landing page)Jiahua Tan  OK    OK    OK  
121/2359AWFisher 1.23.0  (landing page)Zhiguang Huo  OK    OK    OK  
122/2359awst 1.17.0  (landing page)Davide Risso  OK    OK    OK  
B
ABCDEFGHIJKLMNOPQRSTUVWXYZ
PackageMaintainerINSTALLBUILDCHECKBUILD BIN
123/2359BaalChIP 1.35.0  (landing page)Ines de Santiago  OK    OK    WARNINGS  
124/2359bacon 1.37.0  (landing page)Maarten van Iterson  OK    OK    OK  
125/2359BADER 1.47.0  (landing page)Andreas Neudecker  OK    OK    OK  
126/2359BadRegionFinder 1.37.0  (landing page)Sarah Sandmann  OK    OK    OK  
127/2359BAGS 2.49.0  (landing page)Alejandro Quiroz-Zarate  OK    OK    OK  
128/2359ballgown 2.41.1  (landing page)Jack Fu  OK    OK    OK  
129/2359bambu 3.11.2  (landing page)Ying Chen  OK    OK    OK  
130/2359bamsignals 1.41.2  (landing page)Johannes Helmuth  OK    OK    OK  
131/2359BANDITS 1.25.1  (landing page)Simone Tiberi  OK    TIMEOUT  skipped
132/2359bandle 1.13.0  (landing page)Oliver M. Crook  OK    OK    WARNINGS  
133/2359Banksy 1.5.10  (landing page)Joseph Lee  OK    OK    OK  
134/2359banocc 1.33.0  (landing page)George Weingart  OK    OK    OK  
135/2359barbieQ 1.1.2  (landing page)Liyang Fei  OK    OK    OK  
136/2359barcodetrackR 1.17.0  (landing page)Diego Alexander Espinoza  OK    OK    ERROR  
137/2359basecallQC 1.33.0  (landing page)Thomas Carroll  OK    OK    OK  
138/2359BaseSpaceR 1.53.0  (landing page)Jared O'Connell  OK    OK    WARNINGS  
139/2359Basic4Cseq 1.45.1  (landing page)Carolin Walter  OK    OK    OK  
140/2359BASiCS 2.21.1  (landing page)Catalina Vallejos  OK    OK    WARNINGS  
141/2359BASiCStan 1.11.0  (landing page)Alan O'Callaghan  OK    OK    WARNINGS  
142/2359BasicSTARRseq 1.37.1  (landing page)Annika Buerger  OK    OK    OK  
143/2359basilisk 1.21.5  (landing page)Aaron Lun  OK    OK    OK  
144/2359basilisk.utils 1.21.2  (landing page)Aaron Lun  OK    OK    OK  
145/2359batchCorr 0.99.8  (landing page)Anton Ribbenstedt  OK    OK    OK  
146/2359batchelor 1.25.0  (landing page)Aaron Lun  OK    OK    OK  
147/2359BatchQC 2.5.14  (landing page)Jessica Anderson  OK    OK    OK  
148/2359BatchSVG 1.1.1  (landing page)Kinnary Shah  OK    OK    OK  
149/2359BayesKnockdown 1.35.0  (landing page)William Chad Young  OK    OK    OK  
150/2359BayesSpace 1.19.5  (landing page)Senbai Kang  OK    OK    OK  
151/2359bayNorm 1.27.0  (landing page)Wenhao Tang  OK    OK    OK  
152/2359baySeq 2.43.0  (landing page)Samuel Granjeaud  OK    OK    OK  
153/2359BBCAnalyzer 1.39.0  (landing page)Sarah Sandmann  OK    OK    OK  
154/2359BCRANK 1.71.0  (landing page)Adam Ameur  OK    OK    OK  
155/2359bcSeq 1.31.0  (landing page)Jiaxing Lin  OK    OK    WARNINGS  
156/2359beachmat 2.25.5  (landing page)Aaron Lun  OK    OK    OK  
157/2359beachmat.hdf5 1.7.2  (landing page)Aaron Lun  OK    OK    WARNINGS  
158/2359beachmat.tiledb 1.1.1  (landing page)Aaron Lun  ERROR    ERROR  skipped
159/2359beadarray 2.59.0  (landing page)Mark Dunning  OK    OK    OK  
160/2359BeadDataPackR 1.61.0  (landing page)Mike Smith  OK    OK    OK  
161/2359BEAT 1.47.0  (landing page)Kemal Akman  OK    OK    OK  
162/2359BEclear 2.25.0  (landing page)Livia Rasp  OK    OK    OK  
163/2359bedbaser 1.1.3  (landing page)Andres Wokaty  OK    ERROR  skipped
164/2359beer 1.13.0  (landing page)Athena Chen  ERROR    ERROR  skipped
165/2359benchdamic 1.15.4  (landing page)Matteo Calgaro  OK    OK    TIMEOUT  
166/2359BERT 1.5.0  (landing page)Yannis Schumann  OK    OK    OK  
167/2359betaHMM 1.5.1  (landing page)Koyel Majumdar  OK    OK    TIMEOUT  
168/2359bettr 1.5.4  (landing page)Charlotte Soneson  OK    OK    OK  
169/2359BG2 1.9.0  (landing page)Jacob Williams  OK    OK    OK  
170/2359BgeeCall 1.25.1  (landing page)Julien Wollbrett  OK    OK    ERROR  
171/2359BgeeDB 2.35.1  (landing page)Julien Wollbrett , Julien Roux , Andrea Komljenovic , Frederic Bastian  OK    OK    TIMEOUT  
172/2359bgx 1.75.1  (landing page)Ernest Turro  OK    OK    OK  
173/2359BicARE 1.67.0  (landing page)Pierre Gestraud  OK    OK    OK  
174/2359BiFET 1.29.1  (landing page)Ahrim Youn  OK    OK    OK  
175/2359BiGGR 1.45.1  (landing page)Anand K. Gavai  ERROR    ERROR  skipped
176/2359bigmelon 1.35.0  (landing page)Leonard C. Schalkwyk  OK    OK    TIMEOUT  
177/2359BindingSiteFinder 2.7.1  (landing page)Mirko Brüggemann  OK    OK    TIMEOUT  
178/2359bioassayR 1.47.0  (landing page)Thomas Girke  OK    OK    OK  
179/2359Biobase 2.69.1  (landing page)Bioconductor Package Maintainer  OK    OK    OK  
180/2359biobroom 1.41.0  (landing page)John D. Storey and Andrew J. Bass  OK    OK    WARNINGS  
181/2359biobtreeR 1.21.0  (landing page)Tamer Gur  OK    ERROR  skipped
182/2359Bioc.gff 0.99.17  (landing page)Bioconductor Package Maintainer  OK    OK    OK  
183/2359bioCancer 1.37.0  (landing page)Karim Mezhoud  OK    OK    TIMEOUT  
184/2359BioCartaImage 1.7.0  (landing page)Zuguang Gu  OK    OK    OK  
185/2359BiocBaseUtils 1.11.2  (landing page)Marcel Ramos  OK    OK    OK  
186/2359BiocBook 1.7.0  (landing page)Jacques Serizay  OK    OK    OK  
187/2359BiocCheck 1.45.20  (landing page)Marcel Ramos  OK    OK    ERROR  
188/2359BiocFHIR 1.11.0  (landing page)Vincent Carey  OK    OK    OK  
189/2359BiocFileCache 2.99.6  (landing page)Lori Shepherd  OK    ERROR  skipped
190/2359BiocGenerics 0.55.4  (landing page)Hervé Pagès  OK    OK    WARNINGS  
191/2359biocGraph 1.71.0  (landing page)Florian Hahne  OK    OK    OK  
192/2359BiocHail 1.9.4  (landing page)Vincent Carey  OK    OK    TIMEOUT  
193/2359BiocHubsShiny 1.9.2  (landing page)Marcel Ramos  OK    OK    OK  
194/2359BiocIO 1.19.0  (landing page)Marcel Ramos  OK    OK    OK  
195/2359biocmake 1.1.4  (landing page)Aaron Lun  OK    OK    OK  
196/2359BiocNeighbors 2.3.1  (landing page)Aaron Lun  OK    OK    OK  
197/2359BioCor 1.33.3  (landing page)Lluís Revilla Sancho  OK    OK    TIMEOUT  
198/2359BiocParallel 1.43.4  (landing page)Jiefei Wang  OK    OK    TIMEOUT  
199/2359BiocPkgTools 1.27.14  (landing page)Sean Davis  OK    OK    TIMEOUT  
200/2359biocroxytest 1.5.0  (landing page)Francesc Catala-Moll  OK    OK    OK  
201/2359BiocSet 1.23.0  (landing page)Kayla Morrell  OK    OK    TIMEOUT  
202/2359BiocSingular 1.25.0  (landing page)Aaron Lun  OK    OK    ERROR  
203/2359BiocSklearn 1.31.0  (landing page)Vince Carey  OK    OK    TIMEOUT  
204/2359BiocStyle 2.37.1  (landing page)Bioconductor Package Maintainer  OK    OK    OK  
205/2359biocthis 1.19.0  (landing page)Leonardo Collado-Torres  OK    OK    OK  
206/2359BiocVersion 3.22.0  (landing page)Bioconductor Package Maintainer  OK    OK    OK  
207/2359biocViews 1.77.4  (landing page)Bioconductor Package Maintainer  OK    OK    TIMEOUT  
208/2359BiocWorkflowTools 1.35.0  (landing page)Mike Smith  OK    OK    TIMEOUT  
209/2359biodb 1.17.2  (landing page)Pierrick Roger  OK    OK    ERROR  
210/2359biodbChebi 1.15.1  (landing page)Pierrick Roger  OK    ERROR  skipped
211/2359biodbHmdb 1.15.1  (landing page)Pierrick Roger  OK    ERROR  skipped
212/2359biodbNcbi 1.13.1  (landing page)Pierrick Roger  OK    ERROR  skipped
213/2359biodbNci 1.13.1  (landing page)Pierrick Roger  OK    ERROR  skipped
214/2359biodbUniprot 1.15.1  (landing page)Pierrick Roger  OK    ERROR  skipped
215/2359bioDist 1.81.0  (landing page)Bioconductor Package Maintainer  OK    OK    TIMEOUT  
216/2359BioGA 1.3.0  (landing page)Dany Mukesha  OK    OK    TIMEOUT  
217/2359biomaRt 2.65.16  (landing page)Hugo Gruson  OK    OK    TIMEOUT  
218/2359biomformat 1.37.0  (landing page)Paul J. McMurdie  OK    OK    TIMEOUT  
219/2359BioMVCClass 1.77.0  (landing page)Elizabeth Whalen  OK    OK    TIMEOUT  
220/2359biomvRCNS 1.49.0  (landing page)Yang Du  OK    OK    ERROR  
221/2359BioNAR 1.11.0  (landing page)Anatoly Sorokin  OK    OK    TIMEOUT  
222/2359BioNERO 1.17.3  (landing page)Fabricio Almeida-Silva  OK    OK    TIMEOUT  
223/2359BioNet 1.69.0  (landing page)Marcus Dittrich  OK    OK    TIMEOUT  
224/2359BioQC 1.37.0  (landing page)Jitao David Zhang  OK    OK    OK  
225/2359biosigner 1.37.4  (landing page)Etienne A. Thevenot  OK    OK    ERROR  
226/2359Biostrings 2.77.2  (landing page)Hervé Pagès  OK    OK    WARNINGS  
227/2359BioTIP 1.23.1  (landing page)Felix Yu and X Holly Yang  OK    OK    WARNINGS  
228/2359biotmle 1.33.0  (landing page)Nima Hejazi  OK    OK    OK  
229/2359biovizBase 1.57.1  (landing page)Michael Lawrence  OK    OK    WARNINGS  
230/2359BiRewire 3.41.0  (landing page)Andrea Gobbi  OK    ERROR  skipped
231/2359biscuiteer 1.23.0  (landing page)Jacob Morrison  OK    OK    WARNINGS  
232/2359BiSeq 1.49.1  (landing page)Katja Hebestreit  OK    OK    OK  
233/2359blacksheepr 1.23.0  (landing page)RugglesLab  OK    OK    OK  
234/2359blase 0.99.5  (landing page)Andrew McCluskey  OK    OK    OK  
235/2359blima 1.43.0  (landing page)Vojtěch Kulvait  OK    OK    OK  
236/2359BLMA 1.33.0  (landing page)Van-Dung Pham  OK    OK    OK  
237/2359BloodGen3Module 1.17.0  (landing page)Darawan Rinchai  OK    OK    WARNINGS  
238/2359bluster 1.19.1  (landing page)Aaron Lun  OK    ERROR  skipped
239/2359bnbc 1.31.1  (landing page)Kipper Fletez-Brant  OK    OK    OK  
240/2359bnem 1.17.0  (landing page)Martin Pirkl  OK    OK    OK  
241/2359BOBaFIT 1.13.0  (landing page)Gaia Mazzocchetti  OK    OK    WARNINGS  
242/2359borealis 1.13.0  (landing page)Garrett Jenkinson  OK    OK    OK  
243/2359BPRMeth 1.35.0  (landing page)Chantriolnt-Andreas Kapourani  OK    OK    ERROR  
244/2359BRAIN 1.55.0  (landing page)Piotr Dittwald  OK    OK    WARNINGS  
245/2359branchpointer 1.35.1  (landing page)Beth Signal  OK    ERROR  skipped
246/2359breakpointR 1.27.0  (landing page)David Porubsky  OK    OK    OK  
247/2359BreastSubtypeR 1.1.8  (landing page)Qiao Yang  OK    OK    OK  
248/2359brendaDb 1.23.0  (landing page)Yi Zhou  OK    OK    OK  
249/2359BREW3R.r 1.5.0  (landing page)Lucille Lopez-Delisle  OK    OK    OK  
250/2359BridgeDbR 2.19.3  (landing page)Egon Willighagen  OK    OK    OK  
251/2359broadSeq 1.3.3  (landing page)Rishi Das Roy  OK    OK    WARNINGS  
252/2359BrowserViz 2.31.0  (landing page)Arkadiusz Gladki  OK    OK    OK  
253/2359BSgenome 1.77.2  (landing page)Hervé Pagès  OK    OK    ERROR  
254/2359BSgenomeForge 1.9.2  (landing page)Hervé Pagès  OK    OK    OK  
255/2359bsseq 1.45.4  (landing page)Kasper Daniel Hansen  OK    OK    OK  
256/2359BubbleTree 2.39.0  (landing page)Todd Creasy , Wei Zhu  OK    ERROR  skipped
257/2359BufferedMatrix 1.73.0  (landing page)Ben Bolstad  OK    OK    OK  
258/2359BufferedMatrixMethods 1.73.0  (landing page)Ben Bolstad  OK    OK    OK  
259/2359bugsigdbr 1.15.3  (landing page)Ludwig Geistlinger  OK    OK    OK  
260/2359BulkSignalR 1.1.5  (landing page)Jean-Philippe Villemin  OK    OK    OK  
261/2359BUMHMM 1.33.0  (landing page)Alina Selega  OK    OK    OK  
262/2359bumphunter 1.51.1  (landing page)Tamilselvi Guharaj  OK    OK    OK  
263/2359BumpyMatrix 1.17.0  (landing page)Aaron Lun  OK    OK    OK  
264/2359BUS 1.65.0  (landing page)Yuanhua Liu  OK    OK    OK  
265/2359BUScorrect 1.27.0  (landing page)Xiangyu Luo  OK    OK    OK  
266/2359BUSpaRse 1.23.2  (landing page)Lambda Moses  OK    OK    OK  
267/2359BUSseq 1.15.1  (landing page)Fangda Song  OK    OK    OK  
C
ABCDEFGHIJKLMNOPQRSTUVWXYZ
PackageMaintainerINSTALLBUILDCHECKBUILD BIN
268/2359CaDrA 1.7.0  (landing page)Reina Chau  OK    OK    OK  
269/2359CAEN 1.17.0  (landing page)Zhou Yan  OK    OK    OK  
270/2359CAFE 1.45.0  (landing page)Sander Bollen  OK    OK    WARNINGS  
271/2359CAGEfightR 1.29.1  (landing page)Malte Thodberg  OK    OK    OK  
272/2359cageminer 1.15.2  (landing page)Fabrício Almeida-Silva  OK    OK    OK  
273/2359CAGEr 2.15.2  (landing page)Charles Plessy  OK    OK    OK  
274/2359CalibraCurve 0.99.2  (landing page)Karin Schork  OK    OK    OK  
275/2359calm 1.23.0  (landing page)Kun Liang  OK    OK    OK  
276/2359CAMERA 1.65.1  (landing page)Steffen Neumann  OK    OK    WARNINGS  
277/2359CaMutQC 1.5.6  (landing page)Xin Wang  OK    OK    OK  
278/2359canceR 1.43.0  (landing page)Karim Mezhoud  OK    OK    ERROR  
279/2359cancerclass 1.53.0  (landing page)Daniel Kosztyla  OK    OK    OK  
280/2359cardelino 1.11.0  (landing page)Davis McCarthy  OK    OK    OK  
281/2359Cardinal 3.11.1  (landing page)Kylie Ariel Bemis  OK    OK    OK  
282/2359CardinalIO 1.7.0  (landing page)Kylie Ariel Bemis  OK    OK    OK  
283/2359CARDspa 1.1.0  (landing page)Jing Fu  OK    OK    OK  
284/2359CARNIVAL 2.19.0  (landing page)Attila Gabor  OK    OK    OK  
285/2359casper 2.43.1  (landing page)David Rossell  OK    OK    WARNINGS  
286/2359CATALYST 1.33.1  (landing page)Helena L. Crowell  OK    OK    OK  
287/2359Category 2.75.0  (landing page)Bioconductor Package Maintainer  OK    OK    OK  
288/2359categoryCompare 1.53.0  (landing page)Robert M. Flight  OK    OK    OK  
289/2359CatsCradle 1.3.1  (landing page)Michael Shapiro  OK    NA    NA  
290/2359CausalR 1.41.0  (landing page)Glyn Bradley , Steven Barrett  OK    OK    OK  
291/2359cbaf 1.31.0  (landing page)Arman Shahrisa  OK    OK    OK  
292/2359cBioPortalData 2.21.5  (landing page)Marcel Ramos  OK    ERROR  skipped
293/2359CBN2Path 0.99.17  (landing page)William Choi-Kim  OK    NA    NA  
294/2359CBNplot 1.9.0  (landing page)Noriaki Sato  OK    OK    OK  
295/2359cbpManager 1.17.0  (landing page)Arsenij Ustjanzew  OK    OK    WARNINGS  
296/2359CCAFE 1.1.0  (landing page)Hayley Wolff  OK    OK    OK  
297/2359ccfindR 1.29.0  (landing page)Jun Woo  OK    OK    WARNINGS  
298/2359ccImpute 1.11.0  (landing page)Marcin Malec  OK    OK    WARNINGS  
299/2359ccmap 1.35.1  (landing page)Alex Pickering  OK    ERROR  skipped
300/2359CCPlotR 1.7.0  (landing page)Sarah Ennis  OK    OK    OK  
301/2359CCPROMISE 1.35.0  (landing page)Xueyuan Cao  OK    OK    WARNINGS  
302/2359ccrepe 1.45.0  (landing page)Emma Schwager ,Craig Bielski, George Weingart  OK    OK    OK  
303/2359CDI 1.7.0  (landing page)Jiyuan Fang  OK    OK    OK  
304/2359celaref 1.27.0  (landing page)Sarah Williams  OK    OK    OK  
305/2359celda 1.25.0  (landing page)Joshua Campbell  OK    OK    WARNINGS  
306/2359CellBarcode 1.15.0  (landing page)Wenjie Sun  OK    OK    OK  
307/2359cellbaseR 1.33.0  (landing page)Mohammed OE Abdallah  OK    OK    OK  
308/2359CellBench 1.25.1  (landing page)Shian Su  OK    OK    OK  
309/2359CelliD 1.17.0  (landing page)Akira Cortal  OK    OK    WARNINGS  
310/2359cellity 1.37.0  (landing page)Tomislav Ilicic  OK    OK    OK  
311/2359CellMapper 1.35.0  (landing page)Brad Nelms  OK    OK    WARNINGS  
312/2359cellmig 0.99.16  (landing page)Simo Kitanovski  OK    OK    WARNINGS  
313/2359cellmigRation 1.17.0  (landing page)Waldir Leoncio  OK    OK    OK  
314/2359CellMixS 1.25.1  (landing page)Almut Lütge  OK    OK    OK  
315/2359CellNOptR 1.55.0  (landing page)Attila Gabor  OK    OK    OK  
316/2359cellscape 1.33.0  (landing page)Shixiang Wang  OK    OK    OK  
317/2359CellScore 1.29.1  (landing page)Nancy Mah  OK    ERROR  skipped
318/2359CellTrails 1.27.1  (landing page)Daniel Ellwanger  OK    OK    OK  
319/2359cellxgenedp 1.13.1  (landing page)Martin Morgan  OK    OK    OK  
320/2359CEMiTool 1.33.2  (landing page)Helder Nakaya  OK    OK    OK  
321/2359censcyt 1.17.0  (landing page)Reto Gerber  OK    OK    OK  
322/2359Cepo 1.15.1  (landing page)Hani Jieun Kim  OK    OK    OK  
323/2359ceRNAnetsim 1.21.1  (landing page)Selcen Ari Yuka  OK    OK    OK  
324/2359CeTF 1.21.0  (landing page)Carlos Alberto Oliveira de Biagi Junior  OK    OK    OK  
325/2359CexoR 1.47.1  (landing page)Pedro Madrigal  OK    OK    OK  
326/2359CFAssay 1.43.0  (landing page)Herbert Braselmann  OK    OK    OK  
327/2359cfdnakit 1.7.0  (landing page)Pitithat Puranachot  OK    OK    OK  
328/2359cfDNAPro 1.15.0  (landing page)Haichao Wang  OK    OK    WARNINGS  
329/2359cfTools 1.9.0  (landing page)Ran Hu  OK    OK    OK  
330/2359CGEN 3.45.0  (landing page)Justin Lee  OK    OK    WARNINGS  
331/2359CGHbase 1.69.0  (landing page)Mark van de Wiel  OK    OK    OK  
332/2359CGHcall 2.71.0  (landing page)Mark van de Wiel  OK    OK    WARNINGS  
333/2359cghMCR 1.67.0  (landing page)J. Zhang  OK    OK    WARNINGS  
334/2359CGHnormaliter 1.63.0  (landing page)Bart P.P. van Houte  OK    OK    OK  
335/2359CGHregions 1.67.0  (landing page)Sjoerd Vosse  OK    OK    OK  
336/2359ChAMP 2.39.1  (landing page)Yuan Tian  OK    OK    WARNINGS  
337/2359ChemmineOB 1.47.5  (landing page)Thomas Girke  ERROR    ERROR  skipped
338/2359ChemmineR 3.61.2  (landing page)Thomas Girke  OK    OK    WARNINGS  
339/2359CHETAH 1.25.1  (landing page)Jurrian de Kanter  OK    OK    OK  
340/2359chevreulPlot 1.1.2  (landing page)Kevin Stachelek  OK    OK    OK  
341/2359chevreulProcess 1.1.2  (landing page)Kevin Stachelek  OK    OK    OK  
342/2359chevreulShiny 1.1.2  (landing page)Kevin Stachelek  OK    OK    OK  
343/2359Chicago 1.37.1  (landing page)Mikhail Spivakov  OK    OK    OK  
344/2359chihaya 1.9.0  (landing page)Aaron Lun  OK    OK    WARNINGS  
345/2359chimeraviz 1.35.0  (landing page)Stian Lågstad  OK    OK    OK  
346/2359ChIPanalyser 1.31.0  (landing page)Patrick C.N. Martin  OK    OK    OK  
347/2359ChIPComp 1.39.1  (landing page)Li Chen  OK    OK    OK  
348/2359chipenrich 2.33.1  (landing page)Kai Wang  OK    OK    OK  
349/2359ChIPexoQual 1.33.1  (landing page)Rene Welch  OK    OK    OK  
350/2359ChIPpeakAnno 3.43.2  (landing page)Jianhong Ou  OK    OK    OK  
351/2359ChIPQC 1.45.0  (landing page)Tom Carroll , Rory Stark  OK    OK    OK  
352/2359ChIPseeker 1.45.3  (landing page)Guangchuang Yu  OK    OK    ERROR  
353/2359chipseq 1.59.0  (landing page)Bioconductor Package Maintainer  OK    OK    WARNINGS  
354/2359ChIPseqR 1.63.0  (landing page)Peter Humburg  OK    OK    OK  
355/2359ChIPsim 1.63.0  (landing page)Peter Humburg  OK    OK    OK  
356/2359ChIPXpress 1.53.0  (landing page)George Wu  OK    OK    OK  
357/2359chopsticks 1.75.0  (landing page)Hin-Tak Leung  OK    OK    WARNINGS  
358/2359Chromatograms 0.99.7  (landing page)Philippine Louail  OK    OK    OK  
359/2359chromDraw 2.39.0  (landing page)Jan Janecka  OK    OK    WARNINGS  
360/2359ChromHeatMap 1.63.0  (landing page)Tim F. Rayner  OK    OK    OK  
361/2359chromPlot 1.37.0  (landing page)Karen Y. Orostica  OK    OK    OK  
362/2359ChromSCape 1.19.1  (landing page)Pacome Prompsy  OK    OK    WARNINGS  
363/2359chromVAR 1.31.1  (landing page)Alicia Schep  OK    OK    OK  
364/2359CHRONOS 1.37.0  (landing page)Panos Balomenos  OK    ERROR  skipped
365/2359cicero 1.27.0  (landing page)Hannah Pliner  OK    OK    OK  
366/2359CIMICE 1.17.0  (landing page)Nicolò Rossi  OK    OK    OK  
367/2359CINdex 1.37.2  (landing page)Yuriy Gusev  OK    OK    WARNINGS  
368/2359circRNAprofiler 1.23.1  (landing page)Simona Aufiero  OK    OK    ERROR  
369/2359CircSeqAlignTk 1.11.2  (landing page)Jianqiang Sun  OK    OK    OK  
370/2359cisPath 1.49.1  (landing page)Likun Wang  ERROR    ERROR  skipped
371/2359CiteFuse 1.21.1  (landing page)Yingxin Lin  OK    OK    OK  
372/2359ClassifyR 3.13.8  (landing page)Dario Strbenac  OK    OK    OK  
373/2359cleanUpdTSeq 1.47.1  (landing page)Jianhong Ou ; Lihua Julie Zhu  OK    OK    OK  
374/2359CleanUpRNAseq 1.3.2  (landing page)Haibo Liu  OK    OK    OK  
375/2359cleaver 1.47.1  (landing page)Sebastian Gibb  OK    OK    OK  
376/2359clevRvis 1.9.0  (landing page)Sarah Sandmann  OK    OK    OK  
377/2359clippda 1.59.0  (landing page)Stephen Nyangoma  OK    OK    OK  
378/2359clipper 1.49.0  (landing page)Paolo Martini  OK    OK    OK  
379/2359cliProfiler 1.15.0  (landing page)You Zhou  OK    ERROR  skipped
380/2359cliqueMS 1.23.0  (landing page)Oriol Senan Campos  OK    OK    OK  
381/2359Clomial 1.45.0  (landing page)Habil Zare  OK    OK    OK  
382/2359clst 1.57.0  (landing page)Noah Hoffman  OK    OK    WARNINGS  
383/2359clstutils 1.57.0  (landing page)Noah Hoffman  OK    OK    WARNINGS  
384/2359CluMSID 1.25.0  (landing page)Tobias Depke  OK    OK    WARNINGS  
385/2359ClustAll 1.5.0  (landing page)Asier Ortega-Legarreta  OK    OK    OK  
386/2359clustComp 1.37.0  (landing page)Aurora Torrente  OK    OK    OK  
387/2359clusterExperiment 2.29.1  (landing page)Elizabeth Purdom  OK    OK    WARNINGS  
388/2359ClusterFoldSimilarity 1.5.0  (landing page)Oscar Gonzalez-Velasco  OK    OK    WARNINGS  
389/2359ClusterJudge 1.31.0  (landing page)Adrian Pasculescu  OK    OK    OK  
390/2359clusterProfiler 4.17.0  (landing page)Guangchuang Yu  OK    OK    OK  
391/2359clusterSeq 1.33.0  (landing page)Samuel Granjeaud  OK    OK    OK  
392/2359ClusterSignificance 1.37.0  (landing page)Jason T Serviss  OK    OK    OK  
393/2359clusterStab 1.81.0  (landing page)James W. MacDonald  OK    OK    OK  
394/2359clustifyr 1.21.0  (landing page)Rui Fu  OK    OK    OK  
395/2359ClustIRR 1.7.15  (landing page)Simo Kitanovski  OK    OK    WARNINGS  
396/2359clustSIGNAL 1.1.1  (landing page)Pratibha Panwar  OK    OK    OK  
397/2359CMA 1.67.0  (landing page)Roman Hornung  OK    OK    OK  
398/2359cmapR 1.21.0  (landing page)Ted Natoli  OK    OK    OK  
399/2359cn.farms 1.57.2  (landing page)Andreas Mitterecker  OK    OK    OK  
400/2359cn.mops 1.55.1  (landing page)Gundula Povysil  OK    OK    OK  
401/2359CNAnorm 1.55.0  (landing page)Stefano Berri  OK    OK    OK  
402/2359CNEr 1.45.2  (landing page)Boris Lenhard Damir Baranasic  OK    OK    WARNINGS  
403/2359CNORdt 1.51.0  (landing page)A. MacNamara  OK    OK    OK  
404/2359CNORfeeder 1.49.0  (landing page)Attila Gabor  OK    OK    WARNINGS  
405/2359CNORfuzzy 1.51.0  (landing page)T. Cokelaer  OK    OK    OK  
406/2359CNORode 1.51.0  (landing page)Attila Gabor  OK    OK    WARNINGS  
407/2359CNTools 1.65.0  (landing page)J. Zhang  OK    OK    OK  
408/2359CNVfilteR 1.23.0  (landing page)Jose Marcos Moreno-Cabrera  OK    OK    OK  
409/2359cnvGSA 1.53.0  (landing page)Joseph Lugo  OK    OK    OK  
410/2359CNViz 1.17.0  (landing page)Rebecca Greenblatt  OK    OK    OK  
411/2359CNVMetrics 1.13.0  (landing page)Astrid Deschênes  OK    OK    OK  
412/2359CNVPanelizer 1.41.0  (landing page)Thomas Wolf  OK    OK    OK  
413/2359CNVRanger 1.25.4  (landing page)Ludwig Geistlinger  OK    OK    OK  
414/2359CNVrd2 1.47.0  (landing page)Hoang Tan Nguyen  ERROR    ERROR  skipped
415/2359CoCiteStats 1.81.0  (landing page)Bioconductor Package Maintainer  OK    OK    OK  
416/2359COCOA 2.23.1  (landing page)John Lawson  OK    OK    OK  
417/2359codelink 1.77.0  (landing page)Diego Diez  OK    OK    OK  
418/2359CODEX 1.41.0  (landing page)Yuchao Jiang  OK    OK    OK  
419/2359CoGAPS 3.29.1  (landing page)Elana J. Fertig  OK    OK    OK  
420/2359cogena 1.43.0  (landing page)Zhilong Jia  OK    OK    WARNINGS  
421/2359cogeqc 1.13.0  (landing page)Fabrício Almeida-Silva  OK    OK    ERROR  
422/2359Cogito 1.15.2  (landing page)Annika Bürger  OK    OK    OK  
423/2359coGPS 1.53.0  (landing page)Yingying Wei  OK    OK    OK  
424/2359cola 2.15.0  (landing page)Zuguang Gu  OK    OK    OK  
425/2359comapr 1.13.0  (landing page)Ruqian Lyu  OK    OK    ERROR  
426/2359combi 1.21.0  (landing page)Stijn Hawinkel  OK    OK    OK  
427/2359coMethDMR 1.13.0  (landing page)Fernanda Veitzman  OK    OK    WARNINGS  
428/2359COMPASS 1.47.0  (landing page)Greg Finak  OK    OK    OK  
429/2359compcodeR 1.45.0  (landing page)Charlotte Soneson  OK    OK    OK  
430/2359compEpiTools 1.43.1  (landing page)Mattia Furlan  OK    OK    OK  
431/2359ComplexHeatmap 2.25.2  (landing page)Zuguang Gu  OK    OK    OK  
432/2359CompoundDb 1.13.0  (landing page)Johannes Rainer  OK    OK    OK  
433/2359ComPrAn 1.17.0  (landing page)Petra Palenikova  OK    OK    OK  
434/2359compSPOT 1.7.0  (landing page)Sydney Grant  OK    OK    OK  
435/2359concordexR 1.9.1  (landing page)Kayla Jackson  OK    OK    WARNINGS  
436/2359condiments 1.17.0  (landing page)Hector Roux de Bezieux  OK    OK    OK  
437/2359CONFESS 1.37.0  (landing page)Diana LOW  OK    OK    WARNINGS  
438/2359consensus 1.27.0  (landing page)Tim Peters  OK    OK    OK  
439/2359ConsensusClusterPlus 1.73.0  (landing page)Matt Wilkerson  OK    OK    OK  
440/2359consensusDE 1.27.0  (landing page)Ashley J. Waardenberg  OK    OK    OK  
441/2359consensusOV 1.31.0  (landing page)Benjamin Haibe-Kains  OK    OK    OK  
442/2359consensusSeekeR 1.37.3  (landing page)Astrid Deschênes  OK    OK    OK  
443/2359consICA 2.7.5  (landing page)Petr V. Nazarov  OK    OK    TIMEOUT  
444/2359CONSTANd 1.17.0  (landing page)Dirk Valkenborg  OK    OK    OK  
445/2359conumee 1.43.1  (landing page)Volker Hovestadt  OK    OK    OK  
446/2359convert 1.85.0  (landing page)Yee Hwa (Jean) Yang  OK    OK    OK  
447/2359copa 1.77.0  (landing page)James W. MacDonald  OK    OK    OK  
448/2359CopyNumberPlots 1.25.0  (landing page)Bernat Gel  OK    OK    OK  
449/2359Coralysis 0.99.10  (landing page)António Sousa  OK    OK    OK  
450/2359coRdon 1.27.0  (landing page)Anamaria Elek  OK    OK    OK  
451/2359CoreGx 2.13.0  (landing page)Benjamin Haibe-Kains  OK    OK    OK  
452/2359Cormotif 1.55.0  (landing page)Yingying Wei  OK    OK    OK  
453/2359corral 1.19.0  (landing page)Lauren Hsu  OK    ERROR  skipped
454/2359coseq 1.33.0  (landing page)Andrea Rau  OK    OK    OK  
455/2359CoSIA 1.9.0  (landing page)Amanda D. Clark  OK    OK    TIMEOUT  
456/2359cosmiq 1.43.0  (landing page)David Fischer  OK    OK    OK  
457/2359cosmosR 1.17.0  (landing page)Attila Gabor  OK    OK    OK  
458/2359COSNet 1.43.0  (landing page)Marco Frasca  OK    OK    WARNINGS  
459/2359COTAN 2.9.7  (landing page)Galfrè Silvia Giulia  OK    OK    OK  
460/2359countsimQC 1.27.1  (landing page)Charlotte Soneson  OK    OK    OK  
461/2359covEB 1.35.0  (landing page)C. Pacini  OK    OK    OK  
462/2359CoverageView 1.47.0  (landing page)Ernesto Lowy  OK    OK    WARNINGS  
463/2359covRNA 1.35.0  (landing page)Lara Urban  OK    OK    OK  
464/2359CPSM 1.1.4  (landing page)Harpreet Kaur  OK    OK    OK  
465/2359cpvSNP 1.41.0  (landing page)Caitlin McHugh  OK    OK    OK  
466/2359cqn 1.55.0  (landing page)Kasper Daniel Hansen  OK    OK    OK  
467/2359CRImage 1.57.0  (landing page)Henrik Failmezger , Yinyin Yuan  OK    OK    OK  
468/2359CRISPRball 1.5.0  (landing page)Jared Andrews  OK    OK    OK  
469/2359crisprBase 1.13.0  (landing page)Jean-Philippe Fortin  OK    OK    OK  
470/2359crisprBowtie 1.13.1  (landing page)Jean-Philippe Fortin  OK    OK    OK  
471/2359crisprBwa 1.13.1  (landing page)Jean-Philippe Fortin  OK    OK    OK  
472/2359crisprDesign 1.11.1  (landing page)Jean-Philippe Fortin  OK    OK    ERROR  
473/2359crisprScore 1.13.1  (landing page)Jean-Philippe Fortin  OK    OK    OK  
474/2359CRISPRseek 1.49.2  (landing page)Lihua Julie Zhu  OK    OK    ERROR  
475/2359crisprShiny 1.5.1  (landing page)Jean-Philippe Fortin  OK    OK    OK  
476/2359CrispRVariants 1.37.0  (landing page)Helen Lindsay  OK    OK    WARNINGS  
477/2359crisprVerse 1.11.0  (landing page)Jean-Philippe Fortin  OK    OK    OK  
478/2359crisprViz 1.11.1  (landing page)Jean-Philippe Fortin  OK    OK    OK  
479/2359crlmm 1.67.0  (landing page)Benilton S Carvalho  OK    OK    WARNINGS  
480/2359crumblr 1.1.0  (landing page)Gabriel Hoffman  OK    OK    OK  
481/2359crupR 1.1.1  (landing page)Persia Akbari Omgba  OK    OK    OK  
482/2359CSAR 1.61.1  (landing page)Jose M Muino  OK    OK    OK  
483/2359csaw 1.43.1  (landing page)Aaron Lun  OK    OK    OK  
484/2359csdR 1.15.0  (landing page)Jakob Peder Pettersen  OK    OK    OK  
485/2359CSOA 0.99.3  (landing page)Andrei-Florian Stoica  OK    OK    OK  
486/2359CSSQ 1.21.0  (landing page)Fan Lab at Georgia Institute of Technology  OK    OK    OK  
487/2359ctc 1.83.0  (landing page)Antoine Lucas  OK    OK    OK  
488/2359CTdata 1.9.0  (landing page)Laurent Gatto  OK    OK    OK  
489/2359CTDquerier 2.17.0  (landing page)Xavier Escribà-Montagut  OK    OK    WARNINGS  
490/2359CTexploreR 1.5.2  (landing page)Axelle Loriot  OK    OK    NA  
491/2359cTRAP 1.27.0  (landing page)Nuno Saraiva-Agostinho  OK    OK    ERROR  
492/2359ctsGE 1.35.0  (landing page)Michal Sharabi-Schwager  OK    OK    OK  
493/2359CTSV 1.11.0  (landing page)Jinge Yu Developer  OK    OK    OK  
494/2359cummeRbund 2.51.0  (landing page)Loyal A. Goff  OK    ERROR  skipped
495/2359CuratedAtlasQueryR 1.7.0  (landing page)Stefano Mangiola  OK    OK    OK  
496/2359customCMPdb 1.19.0  (landing page)Yuzhu Duan  OK    OK    OK  
497/2359customProDB 1.49.0  (landing page)Xiaojing Wang  OK    OK    ERROR  
498/2359cyanoFilter 1.17.0  (landing page)Oluwafemi Olusoji  OK    OK    OK  
499/2359cycle 1.63.0  (landing page)Matthias Futschik  OK    OK    OK  
500/2359cydar 1.33.0  (landing page)Aaron Lun  OK    OK    OK  
501/2359cypress 1.5.0  (landing page)Shilin Yu  OK    OK    OK  
502/2359CytoDx 1.29.0  (landing page)Zicheng Hu  OK    OK    OK  
503/2359CyTOFpower 1.15.0  (landing page)Anne-Maud Ferreira  OK    OK    OK  
504/2359cytofQC 1.9.0  (landing page)Jill Lundell  OK    OK    OK  
505/2359CytoGLMM 1.17.3  (landing page)Christof Seiler  OK    OK    OK  
506/2359cytoKernel 1.15.0  (landing page)Tusharkanti Ghosh  OK    OK    OK  
507/2359cytolib 2.21.0  (landing page)Mike Jiang  OK    OK    WARNINGS  
508/2359cytomapper 1.21.1  (landing page)Lasse Meyer  OK    OK    OK  
509/2359CytoMDS 1.5.0  (landing page)Philippe Hauchamps  OK    OK    OK  
510/2359cytoMEM 1.13.0  (landing page)Jonathan Irish  OK    OK    OK  
511/2359CytoML 2.21.0  (landing page)Mike Jiang  OK    OK    WARNINGS  
512/2359CytoPipeline 1.9.4  (landing page)Philippe Hauchamps  OK    OK    OK  
513/2359CytoPipelineGUI 1.7.2  (landing page)Philippe Hauchamps  OK    OK    OK  
514/2359cytoviewer 1.9.0  (landing page)Lasse Meyer  OK    OK    OK  
D
ABCDEFGHIJKLMNOPQRSTUVWXYZ
PackageMaintainerINSTALLBUILDCHECKBUILD BIN
515/2359dada2 1.37.0  (landing page)Benjamin Callahan  OK    ERROR  skipped
516/2359dagLogo 1.47.0  (landing page)Jianhong Ou  OK    OK    OK  
517/2359daMA 1.81.0  (landing page)Jobst Landgrebe  OK    OK    OK  
518/2359DAMEfinder 1.21.2  (landing page)Stephany Orjuela  OK    OK    OK  
519/2359DaMiRseq 2.21.0  (landing page)Mattia Chiesa  OK    OK    OK  
520/2359Damsel 1.5.0  (landing page)Caitlin Page  OK    ERROR  skipped
521/2359dandelionR 1.1.5  (landing page)Kelvin Tuong  OK    OK    OK  
522/2359DAPAR 1.41.0  (landing page)Samuel Wieczorek  OK    OK    OK  
523/2359dar 1.5.2  (landing page)Francesc Catala-Moll  OK    OK    OK  
524/2359DART 1.57.0  (landing page)Charles Shijie Zheng  OK    OK    OK  
525/2359dcanr 1.25.0  (landing page)Dharmesh D. Bhuva  OK    OK    OK  
526/2359DCATS 1.7.0  (landing page)Xinyi Lin  OK    OK    OK  
527/2359dcGSA 1.37.0  (landing page)Jiehuan sun  OK    OK    WARNINGS  
528/2359ddCt 1.65.0  (landing page)Jitao David Zhang  OK    OK    WARNINGS  
529/2359ddPCRclust 1.29.0  (landing page)Benedikt G. Brink  OK    OK    OK  
530/2359dearseq 1.21.0  (landing page)Boris P. Hejblum  OK    OK    OK  
531/2359debCAM 1.27.0  (landing page)Lulu Chen  OK    ERROR  skipped
532/2359debrowser 1.37.0  (landing page)Alper Kucukural  OK    OK    OK  
533/2359DECIPHER 3.5.1  (landing page)Erik Wright  OK    OK    OK  
534/2359decompTumor2Sig 2.25.1  (landing page)Rosario M. Piro  OK    OK    OK  
535/2359DeconRNASeq 1.51.0  (landing page)Ting Gong  OK    ERROR  skipped
536/2359decontam 1.29.0  (landing page)Benjamin Callahan  OK    OK    OK  
537/2359decontX 1.7.0  (landing page)Joshua Campbell  OK    OK    WARNINGS  
538/2359DeconvoBuddies 1.1.5  (landing page)Louise Huuki-Myers  OK    OK    NA  
539/2359deconvR 1.15.1  (landing page)Irem B. Gündüz  OK    OK    NA  
540/2359decoupleR 2.15.0  (landing page)Pau Badia-i-Mompel  OK    OK    ERROR  
541/2359DeeDeeExperiment 0.99.5  (landing page)Najla Abassi  OK    OK    OK  
542/2359DeepPINCS 1.17.0  (landing page)Dongmin Jung  OK    OK    OK  
543/2359deepSNV 1.55.0  (landing page)Moritz Gerstung  OK    OK    OK  
544/2359DeepTarget 1.3.0  (landing page)Trinh Nguyen  OK    OK    OK  
545/2359DEFormats 1.37.0  (landing page)Andrzej Oleś  OK    OK    OK  
546/2359DegCre 1.5.1  (landing page)Brian S. Roberts  OK    OK    OK  
547/2359DegNorm 1.19.1  (landing page)Ji-Ping Wang  OK    OK    OK  
548/2359DEGraph 1.61.0  (landing page)Laurent Jacob  OK    OK    OK  
549/2359DEGreport 1.45.1  (landing page)Lorena Pantano  OK    OK    OK  
550/2359DEGseq 1.63.0  (landing page)Likun Wang  OK    OK    WARNINGS  
551/2359DelayedArray 0.35.3  (landing page)Hervé Pagès  OK    OK    NA  
552/2359DelayedDataFrame 1.25.0  (landing page)Qian Liu  OK    OK    OK  
553/2359DelayedMatrixStats 1.31.0  (landing page)Peter Hickey  OK    OK    OK  
554/2359DelayedRandomArray 1.17.0  (landing page)Aaron Lun  OK    OK    OK  
555/2359DelayedTensor 1.15.0  (landing page)Koki Tsuyuzaki  OK    OK    WARNINGS  
556/2359DELocal 1.9.0  (landing page)Rishi Das Roy  OK    ERROR  skipped
557/2359deltaCaptureC 1.23.1  (landing page)Michael Shapiro  OK    OK    OK  
558/2359deltaGseg 1.49.0  (landing page)Diana Low  OK    OK    WARNINGS  
559/2359DeMAND 1.39.0  (landing page)Jung Hoon Woo , Mariano Alvarez  OK    OK    OK  
560/2359DeMixT 1.25.0  (landing page)Ruonan Li  OK    OK    WARNINGS  
561/2359demuxmix 1.11.0  (landing page)Hans-Ulrich Klein  OK    OK    OK  
562/2359demuxSNP 1.7.1  (landing page)Michael Lynch  OK    OK    OK  
563/2359densvis 1.19.0  (landing page)Alan O'Callaghan  OK    OK    OK  
564/2359DEP 1.31.2  (landing page)Arne Smits  OK    OK    OK  
565/2359DepecheR 1.25.0  (landing page)Jakob Theorell  OK    OK    ERROR  
566/2359DepInfeR 1.13.0  (landing page)Junyan Lu  OK    OK    OK  
567/2359DEqMS 1.27.1  (landing page)Yafeng Zhu  OK    OK    NA  
568/2359derfinder 1.43.1  (landing page)Leonardo Collado-Torres  OK    OK    OK  
569/2359derfinderHelper 1.43.0  (landing page)Leonardo Collado-Torres  OK    OK    OK  
570/2359derfinderPlot 1.43.1  (landing page)Leonardo Collado-Torres  OK    OK    OK  
571/2359DEScan2 1.29.2  (landing page)Dario Righelli  OK    OK    OK  
572/2359DESeq2 1.49.8  (landing page)Michael Love  OK    OK    OK  
573/2359DEsingle 1.29.0  (landing page)Zhun Miao  OK    OK    OK  
574/2359DESpace 2.1.0  (landing page)Peiying Cai  OK    OK    ERROR  
575/2359destiny 3.23.0  (landing page)Philipp Angerer  OK    OK    ERROR  
576/2359DEsubs 1.35.0  (landing page)Aristidis G. Vrahatis , Panos Balomenos  OK    OK    WARNINGS  
577/2359DEWSeq 1.23.1  (landing page)bioinformatics team Hentze  OK    OK    OK  
578/2359DExMA 1.17.0  (landing page)Juan Antonio Villatoro-García  OK    OK    OK  
579/2359DEXSeq 1.55.1  (landing page)Alejandro Reyes  OK    OK    OK  
580/2359DFP 1.67.0  (landing page)Rodrigo Alvarez-Glez  OK    OK    OK  
581/2359DFplyr 1.3.2  (landing page)Jonathan Carroll  OK    OK    OK  
582/2359DiffBind 3.19.0  (landing page)Rory Stark  OK    OK    NA  
583/2359diffcoexp 1.29.0  (landing page)Wenbin Wei  OK    OK    OK  
584/2359diffcyt 1.29.0  (landing page)Lukas M. Weber  OK    OK    OK  
585/2359DifferentialRegulation 2.7.0  (landing page)Simone Tiberi  OK    TIMEOUT  skipped
586/2359diffGeneAnalysis 1.91.0  (landing page)Choudary Jagarlamudi  OK    OK    OK  
587/2359diffHic 1.41.0  (landing page)Aaron Lun , Gordon Smyth , Hannah Coughlin  OK    OK    OK  
588/2359DiffLogo 2.33.0  (landing page)Hendrik Treutler  OK    OK    WARNINGS  
589/2359diffuStats 1.29.0  (landing page)Sergio Picart-Armada  OK    ERROR  skipped
590/2359diffUTR 1.17.0  (landing page)Pierre-Luc Germain  OK    OK    OK  
591/2359diggit 1.41.0  (landing page)Mariano J Alvarez  OK    OK    WARNINGS  
592/2359Dino 1.15.0  (landing page)Jared Brown  OK    OK    OK  
593/2359dinoR 1.5.0  (landing page)Michaela Schwaiger  OK    OK    OK  
594/2359dir.expiry 1.17.0  (landing page)Aaron Lun  OK    OK    OK  
595/2359DirichletMultinomial 1.51.0  (landing page)Martin Morgan  OK    OK    WARNINGS  
596/2359discordant 1.33.0  (landing page)McGrath Max  OK    OK    OK  
597/2359DiscoRhythm 1.25.0  (landing page)Matthew Carlucci  OK    OK    OK  
598/2359distinct 1.21.1  (landing page)Simone Tiberi  OK    OK    OK  
599/2359dittoSeq 1.21.1  (landing page)Daniel Bunis  OK    OK    NA  
600/2359divergence 1.25.0  (landing page)Wikum Dinalankara , Luigi Marchionni  OK    OK    OK  
601/2359dks 1.55.0  (landing page)Jeffrey T. Leek  OK    OK    OK  
602/2359DMCFB 1.23.0  (landing page)Farhad Shokoohi  OK    OK    NA  
603/2359DMCHMM 1.31.0  (landing page)Farhad Shokoohi  OK    OK    ERROR  
604/2359dmGsea 0.99.11  (landing page)Zongli Xu  OK    OK    ERROR  
605/2359DMRcaller 1.41.2  (landing page)Nicolae Radu Zabet  OK    OK    NA  
606/2359DMRcate 3.5.2  (landing page)Tim Peters  OK    OK    ERROR  
607/2359DMRScan 1.31.1  (landing page)Christian M Page  OK    OK    NA  
608/2359dmrseq 1.29.2  (landing page)Keegan Korthauer  OK    OK    NA  
609/2359DNABarcodeCompatibility 1.25.0  (landing page)Céline Trébeau  OK    OK    OK  
610/2359DNABarcodes 1.39.0  (landing page)Tilo Buschmann  OK    OK    OK  
611/2359DNAcopy 1.83.0  (landing page)Venkatraman E. Seshan  OK    OK    OK  
612/2359DNAcycP2 1.1.0  (landing page)Ji-Ping Wang  OK    OK    ERROR  
613/2359DNAfusion 1.11.0  (landing page)Christoffer Trier Maansson  OK    OK    ERROR  
614/2359DNAshapeR 1.37.0  (landing page)Tsu-Pei Chiu  OK    OK    ERROR  
615/2359DNEA 0.99.14  (landing page)Christopher Patsalis  OK    OK    NA  
616/2359DominoEffect 1.29.5  (landing page)Marija Buljan , Peter Blattmann  OK    ERROR  skipped
617/2359dominoSignal 1.3.0  (landing page)Jacob T Mitchell  OK    OK    ERROR  
618/2359doppelgangR 1.37.3  (landing page)Levi Waldron  OK    OK    ERROR  
619/2359Doscheda 1.31.0  (landing page)Bruno Contrino  OK    OK    ERROR  
620/2359DOSE 4.3.0  (landing page)Guangchuang Yu  OK    OK    ERROR  
621/2359doseR 1.25.0  (landing page)ake.vastermark  OK    OK    NA  
622/2359DOtools 0.99.11  (landing page)Mariano Ruz Jurado  OK    OK    ERROR  
623/2359doubletrouble 1.9.1  (landing page)Fabrício Almeida-Silva  OK    OK    ERROR  
624/2359drawProteins 1.29.0  (landing page)Paul Brennan  OK    OK    ERROR  
625/2359dreamlet 1.7.1  (landing page)Gabriel Hoffman  OK    OK    ERROR  
626/2359DRIMSeq 1.37.0  (landing page)Malgorzata Nowicka  OK    OK    NA  
627/2359DriverNet 1.49.0  (landing page)Jiarui Ding  OK    OK    ERROR  
628/2359DropletUtils 1.29.7  (landing page)Jonathan Griffiths  OK    OK    ERROR  
629/2359drugTargetInteractions 1.17.0  (landing page)Thomas Girke  OK    OK    ERROR  
630/2359DrugVsDisease 2.51.0  (landing page)j. Saez-Rodriguez  OK    OK    ERROR  
631/2359DspikeIn 0.99.29  (landing page)Mitra Ghotbi  OK    NA    NA  
632/2359DSS 2.57.0  (landing page)Hao Wu , Hao Feng  OK    OK    ERROR  
633/2359dStruct 1.15.0  (landing page)Krishna Choudhary  OK    OK    NA  
634/2359DTA 2.55.0  (landing page)Bjoern Schwalb  OK    OK    ERROR  
635/2359Dune 1.21.0  (landing page)Hector Roux de Bezieux  OK    OK    NA  
636/2359DuplexDiscovereR 1.3.4  (landing page)Egor Semenchenko  OK    OK    NA  
637/2359dupRadar 1.39.1  (landing page)Sergi Sayols , Holger Klein  OK    OK    ERROR  
638/2359dyebias 1.69.0  (landing page)Philip Lijnzaad  OK    OK    NA  
639/2359DynDoc 1.87.0  (landing page)Bioconductor Package Maintainer  OK    OK    WARNINGS  
E
ABCDEFGHIJKLMNOPQRSTUVWXYZ
PackageMaintainerINSTALLBUILDCHECKBUILD BIN
640/2359easier 1.15.0  (landing page)Oscar Lapuente-Santana  OK    OK    ERROR  
641/2359EasyCellType 1.11.0  (landing page)Ruoxing Li  OK    OK    ERROR  
642/2359easylift 1.7.0  (landing page)Abdullah Al Nahid  OK    OK    ERROR  
643/2359easyreporting 1.21.0  (landing page)Dario Righelli  OK    OK    ERROR  
644/2359easyRNASeq 2.45.1  (landing page)Nicolas Delhomme  OK    OK    NA  
645/2359EBarrays 2.73.0  (landing page)Ming Yuan  OK    OK    NA  
646/2359EBcoexpress 1.53.0  (landing page)John A. Dawson  OK    OK    NA  
647/2359EBImage 4.51.0  (landing page)Andrzej Oleś  OK    OK    NA  
648/2359EBSEA 1.37.0  (landing page)Arfa Mehmood  OK    OK    NA  
649/2359EBSeq 2.7.0  (landing page)Xiuyu Ma  OK    OK    NA  
650/2359ecolitk 1.81.0  (landing page)Laurent Gautier  OK    OK    NA  
651/2359EDASeq 2.43.0  (landing page)Davide Risso  OK    OK    NA  
652/2359edge 2.41.0  (landing page)John D. Storey , Andrew J. Bass  OK    OK    NA  
653/2359edgeR 4.7.6  (landing page)Yunshun Chen , Gordon Smyth  OK    OK    NA  
654/2359EDIRquery 1.9.0  (landing page)Laura D.T. Vo Ngoc  OK    OK    NA  
655/2359eds 1.11.0  (landing page)Avi Srivastava  OK    OK    NA  
656/2359EGAD 1.37.0  (landing page)Sara Ballouz  OK    OK    NA  
657/2359EGSEA 1.37.0  (landing page)Monther Alhamdoosh  OK    OK    NA  
658/2359eiR 1.49.0  (landing page)Thomas Girke  OK    OK    NA  
659/2359eisaR 1.21.1  (landing page)Michael Stadler  OK    OK    NA  
660/2359ELMER 2.33.1  (landing page)Tiago Chedraoui Silva  OK    OK    NA  
661/2359ELViS 1.1.12  (landing page)Jin-Young Lee  OK    OK    NA  
662/2359EMDomics 2.39.0  (landing page)Sadhika Malladi and Daniel Schmolze  OK    OK    NA  
663/2359EmpiricalBrownsMethod 1.37.0  (landing page)David Gibbs  OK    OK    NA  
664/2359EnhancedVolcano 1.27.0  (landing page)Kevin Blighe  OK    OK    NA  
665/2359enhancerHomologSearch 1.15.2  (landing page)Jianhong Ou  OK    ERROR  skipped
666/2359EnMCB 1.21.0  (landing page)Xin Yu  OK    OK    NA  
667/2359ENmix 1.45.3  (landing page)Zongli Xu  OK    OK    NA  
668/2359EnrichDO 1.3.1  (landing page)Hongyu Fu  OK    OK    NA  
669/2359EnrichedHeatmap 1.39.1  (landing page)Zuguang Gu  OK    OK    NA  
670/2359EnrichmentBrowser 2.39.2  (landing page)Ludwig Geistlinger  OK    OK    NA  
671/2359enrichplot 1.29.4  (landing page)Guangchuang Yu  OK    OK    NA  
672/2359enrichViewNet 1.7.3  (landing page)Astrid Deschênes  OK    OK    NA  
673/2359ensembldb 2.33.2  (landing page)Johannes Rainer  OK    OK    NA  
674/2359epialleleR 1.17.1  (landing page)Oleksii Nikolaienko  OK    OK    NA  
675/2359EpiCompare 1.13.2  (landing page)Hiranyamaya Dash  OK    OK    NA  
676/2359epidecodeR 1.17.0  (landing page)Kandarp Joshi  OK    OK    NA  
677/2359EpiDISH 2.25.0  (landing page)Shijie C. Zheng  OK    OK    NA  
678/2359epigenomix 1.49.0  (landing page)Hans-Ulrich Klein  OK    OK    NA  
679/2359epigraHMM 1.17.3  (landing page)Pedro Baldoni  OK    OK    NA  
680/2359EpiMix 1.11.1  (landing page)Yuanning Zheng  OK    OK    NA  
681/2359epimutacions 1.13.0  (landing page)Dolors Pelegri-Siso  OK    OK    NA  
682/2359epiNEM 1.33.0  (landing page)Martin Pirkl  OK    OK    NA  
683/2359EpipwR 1.3.1  (landing page)Jackson Barth  OK    OK    NA  
684/2359epiregulon 1.99.5  (landing page)Xiaosai Yao  ERROR    ERROR  skipped
685/2359epiregulon.extra 1.5.1  (landing page)Xiaosai Yao  OK    ERROR  skipped
686/2359epistack 1.15.1  (landing page)DEVAILLY Guillaume  OK    OK    NA  
687/2359epistasisGA 1.11.2  (landing page)Michael Nodzenski  OK    OK    NA  
688/2359EpiTxDb 1.21.2  (landing page)Felix G.M. Ernst  OK    OK    NA  
689/2359epivizr 2.39.0  (landing page)Hector Corrada Bravo  OK    OK    NA  
690/2359epivizrChart 1.31.0  (landing page)Hector Corrada Bravo  OK    OK    NA  
691/2359epivizrData 1.37.2  (landing page)Hector Corrada Bravo  OK    OK    NA  
692/2359epivizrServer 1.37.0  (landing page)Hector Corrada Bravo  OK    ERROR  skipped
693/2359epivizrStandalone 1.37.1  (landing page)Hector Corrada Bravo  OK    OK    NA  
694/2359erccdashboard 1.43.0  (landing page)Sarah Munro  OK    OK    NA  
695/2359ERSSA 1.27.0  (landing page)Zixuan Shao  OK    OK    NA  
696/2359esATAC 1.31.1  (landing page)Zheng Wei  OK    OK    NA  
697/2359escape 2.5.5  (landing page)Nick Borcherding  OK    OK    NA  
698/2359escheR 1.9.0  (landing page)Boyi Guo  OK    OK    NA  
699/2359esetVis 1.35.0  (landing page)Laure Cougnaud  OK    OK    NA  
700/2359eudysbiome 1.39.0  (landing page)Xiaoyuan Zhou  OK    OK    NA  
701/2359evaluomeR 1.25.0  (landing page)José Antonio Bernabé-Díaz  OK    OK    NA  
702/2359EventPointer 3.17.0  (landing page)Juan A. Ferrer-Bonsoms  OK    OK    NA  
703/2359EWCE 1.17.1  (landing page)Hiranyamaya Dash  OK    OK    NA  
704/2359ExCluster 1.27.0  (landing page)R. Matthew Tanner  OK    OK    NA  
705/2359ExiMiR 2.51.0  (landing page)Sylvain Gubian  OK    OK    NA  
706/2359ExperimentHub 2.99.6  (landing page)Bioconductor Package Maintainer  OK    OK    NA  
707/2359ExperimentHubData 1.35.0  (landing page)Bioconductor Package Maintainer  OK    OK    NA  
708/2359ExperimentSubset 1.19.0  (landing page)Irzam Sarfraz  OK    OK    NA  
709/2359ExploreModelMatrix 1.21.2  (landing page)Charlotte Soneson  OK    OK    NA  
710/2359ExpressionAtlas 2.1.1  (landing page)Anil Thanki  OK    OK    NA  
711/2359extraChIPs 1.13.3  (landing page)Stevie Pederson  OK    OK    NA  
F
ABCDEFGHIJKLMNOPQRSTUVWXYZ
PackageMaintainerINSTALLBUILDCHECKBUILD BIN
712/2359fabia 2.55.0  (landing page)Andreas Mitterecker  OK    OK    NA  
713/2359factDesign 1.85.0  (landing page)Denise Scholtens  OK    OK    NA  
714/2359factR 1.11.0  (landing page)Fursham Hamid  OK    ERROR  skipped
715/2359faers 1.5.2  (landing page)Yun Peng  OK    ERROR  skipped
716/2359FamAgg 1.37.0  (landing page)Johannes Rainer  OK    OK    NA  
717/2359famat 1.19.0  (landing page)Mathieu Charles  OK    ERROR  skipped
718/2359fastLiquidAssociation 1.45.0  (landing page)Tina Gunderson  OK    OK    NA  
719/2359FastqCleaner 1.27.0  (landing page)Leandro Roser  OK    OK    NA  
720/2359fastreeR 1.99.8  (landing page)Anestis Gkanogiannis  OK    OK    NA  
721/2359fastseg 1.55.0  (landing page)Alexander Blume  OK    OK    NA  
722/2359fCCAC 1.35.0  (landing page)Pedro Madrigal  OK    OK    NA  
723/2359fCI 1.39.0  (landing page)Shaojun Tang  OK    OK    NA  
724/2359fcScan 1.23.0  (landing page)Pierre Khoueiry Abdullah El-Kurdi  OK    OK    NA  
725/2359fdrame 1.81.0  (landing page)Effi Kenigsberg  OK    OK    NA  
726/2359FEAST 1.17.0  (landing page)Kenong Su  OK    OK    NA  
727/2359FeatSeekR 1.9.0  (landing page)Tuemay Capraz  OK    OK    NA  
728/2359fedup 1.17.0  (landing page)Catherine Ross  OK    OK    NA  
729/2359FELLA 1.29.0  (landing page)Sergio Picart-Armada  OK    ERROR  skipped
730/2359fenr 1.7.1  (landing page)Marek Gierlinski  OK    OK    NA  
731/2359ffpe 1.53.0  (landing page)Levi Waldron  OK    OK    NA  
732/2359fgga 1.17.0  (landing page)Flavio Spetale  OK    OK    NA  
733/2359FGNet 3.43.0  (landing page)Sara Aibar  OK    OK    NA  
734/2359fgsea 1.35.8  (landing page)Alexey Sergushichev  OK    OK    NA  
735/2359FilterFFPE 1.19.0  (landing page)Lanying Wei  OK    OK    NA  
736/2359findIPs 1.5.0  (landing page)Shuo Wang  OK    OK    NA  
737/2359FindIT2 1.15.1  (landing page)Guandong Shang  OK    OK    NA  
738/2359FinfoMDS 0.99.2  (landing page)Soobin Kim  OK    OK    NA  
739/2359FISHalyseR 1.43.0  (landing page)Karesh Arunakirinathan  OK    OK    NA  
740/2359fishpond 2.15.0  (landing page)Michael Love  OK    OK    NA  
741/2359FitHiC 1.35.0  (landing page)Ruyu Tan  OK    OK    NA  
742/2359flagme 1.65.0  (landing page)Mark Robinson , Riccardo Romoli  OK    OK    NA  
743/2359FLAMES 2.3.5  (landing page)Changqing Wang  ERROR    ERROR  skipped
744/2359flowAI 1.39.0  (landing page)Gianni Monaco  OK    OK    NA  
745/2359flowBeads 1.47.0  (landing page)Nikolas Pontikos  OK    OK    NA  
746/2359flowBin 1.45.0  (landing page)Kieran O'Neill  OK    OK    NA  
747/2359flowcatchR 1.43.0  (landing page)Federico Marini  OK    OK    NA  
748/2359flowCHIC 1.43.0  (landing page)Author: Joachim Schumann  OK    OK    NA  
749/2359flowClean 1.47.0  (landing page)Kipper Fletez-Brant  OK    OK    NA  
750/2359flowClust 3.47.0  (landing page)Greg Finak , Mike Jiang  OK    OK    NA  
751/2359flowCore 2.21.0  (landing page)Mike Jiang  OK    OK    NA  
752/2359flowCut 1.19.0  (landing page)Justin Meskas  OK    OK    NA  
753/2359flowCyBar 1.45.0  (landing page)Joachim Schumann  OK    OK    NA  
754/2359flowDensity 1.43.0  (landing page)Mehrnoush Malek  OK    OK    NA  
755/2359flowFP 1.67.0  (landing page)Herb Holyst , Wade Rogers  OK    OK    NA  
756/2359flowGate 1.9.0  (landing page)Andrew Wight  OK    OK    NA  
757/2359flowGraph 1.17.0  (landing page)Alice Yue  OK    OK    NA  
758/2359flowMatch 1.45.0  (landing page)Ariful Azad  OK    OK    NA  
759/2359flowMeans 1.69.0  (landing page)Nima Aghaeepour  OK    OK    NA  
760/2359flowMerge 2.57.0  (landing page)Greg Finak  OK    OK    NA  
761/2359flowPeaks 1.55.0  (landing page)Yongchao Ge  OK    OK    NA  
762/2359flowPloidy 1.35.0  (landing page)Tyler Smith  OK    OK    NA  
763/2359flowPlots 1.57.0  (landing page)N. Hawkins  OK    OK    NA  
764/2359FlowSOM 2.17.0  (landing page)Sofie Van Gassen  OK    OK    NA  
765/2359flowSpecs 1.23.0  (landing page)Jakob Theorell  OK    OK    NA  
766/2359flowStats 4.21.0  (landing page)Greg Finak , Mike Jiang  OK    OK    NA  
767/2359flowTime 1.33.0  (landing page)R. Clay Wright  OK    OK    NA  
768/2359flowTrans 1.61.0  (landing page)Greg Finak  OK    OK    NA  
769/2359flowViz 1.73.0  (landing page)Mike Jiang  OK    OK    NA  
770/2359flowVS 1.41.0  (landing page)Ariful Azad  OK    OK    NA  
771/2359flowWorkspace 4.21.0  (landing page)Greg Finak , Mike Jiang  OK    OK    NA  
772/2359fmcsR 1.51.0  (landing page)Thomas Girke  OK    OK    NA  
773/2359fmrs 1.19.0  (landing page)Farhad Shokoohi  OK    OK    NA  
774/2359fobitools 1.17.0  (landing page)Pol Castellano-Escuder  OK    OK    NA  
775/2359FRASER 2.5.2  (landing page)Christian Mertes  OK    OK    NA  
776/2359frenchFISH 1.21.0  (landing page)Adam Berman  OK    OK    NA  
777/2359FRGEpistasis 1.45.0  (landing page)Futao Zhang  OK    OK    NA  
778/2359frma 1.61.0  (landing page)Matthew N. McCall  OK    OK    NA  
779/2359frmaTools 1.61.0  (landing page)Matthew N. McCall  OK    OK    NA  
780/2359funOmics 1.3.0  (landing page)Elisa Gomez de Lope  OK    OK    NA  
781/2359funtooNorm 1.33.0  (landing page)Kathleen Klein  OK    OK    NA  
782/2359FuseSOM 1.11.0  (landing page)Elijah Willie  OK    OK    NA  
G
ABCDEFGHIJKLMNOPQRSTUVWXYZ
PackageMaintainerINSTALLBUILDCHECKBUILD BIN
783/2359G4SNVHunter 1.1.6  (landing page)Rongxin Zhang  OK    OK    NA  
784/2359GA4GHclient 1.33.1  (landing page)Welliton Souza  OK    OK    NA  
785/2359GA4GHshiny 1.31.1  (landing page)Welliton Souza  OK    OK    NA  
786/2359gaga 2.55.0  (landing page)David Rossell  OK    OK    NA  
787/2359gage 2.59.0  (landing page)Weijun Luo  OK    OK    NA  
788/2359GAprediction 1.35.0  (landing page)Jon Bohlin  OK    OK    NA  
789/2359garfield 1.37.0  (landing page)Valentina Iotchkova  OK    OK    NA  
790/2359GARS 1.29.0  (landing page)Mattia Chiesa  OK    OK    NA  
791/2359GateFinder 1.29.0  (landing page)Nima Aghaeepour  OK    OK    NA  
792/2359gatom 1.7.0  (landing page)Alexey Sergushichev  OK    OK    NA  
793/2359GBScleanR 2.3.2  (landing page)Tomoyuki Furuta  OK    ERROR  skipped
794/2359gcapc 1.33.1  (landing page)Mingxiang Teng  OK    OK    NA  
795/2359gcatest 2.9.0  (landing page)Alejandro Ochoa  OK    OK    NA  
796/2359GCPtools 0.99.4  (landing page)Marcel Ramos  OK    OK    NA  
797/2359gCrisprTools 2.15.0  (landing page)Russell Bainer  OK    OK    NA  
798/2359gcrma 2.81.0  (landing page)Z. Wu  OK    OK    NA  
799/2359GDCRNATools 1.29.0  (landing page)Ruidong Li  OK    OK    NA  
800/2359gDNAx 1.7.3  (landing page)Robert Castelo  OK    OK    NA  
801/2359gDR 1.7.2  (landing page)Arkadiusz Gladki  OK    OK    NA  
802/2359gDRcore 1.7.8  (landing page)Arkadiusz Gladki  OK    OK    NA  
803/2359gDRimport 1.7.5  (landing page)Arkadiusz Gladki  OK    OK    NA  
804/2359gDRstyle 1.7.4  (landing page)Arkadiusz Gladki  OK    OK    NA  
805/2359gDRutils 1.7.18  (landing page)Arkadiusz Gladki  OK    OK    NA  
806/2359GDSArray 1.29.0  (landing page)Xiuwen Zheng  OK    OK    NA  
807/2359gdsfmt 1.45.2  (landing page)Xiuwen Zheng  OK    OK    NA  
808/2359GeDi 1.5.0  (landing page)Annekathrin Nedwed  OK    OK    NA  
809/2359GEM 1.35.0  (landing page)Hong Pan  OK    OK    NA  
810/2359gemini 1.23.0  (landing page)Sidharth Jain  OK    OK    NA  
811/2359gemma.R 3.5.13  (landing page)Ogan Mancarci  OK    OK    NA  
812/2359genArise 1.85.0  (landing page)IFC Development Team  OK    OK    NA  
813/2359geneAttribution 1.35.1  (landing page)Arthur Wuster  OK    OK    NA  
814/2359GeneBreak 1.39.0  (landing page)Evert van den Broek  OK    OK    NA  
815/2359geneClassifiers 1.33.0  (landing page)R Kuiper  OK    OK    NA  
816/2359GeneExpressionSignature 1.55.0  (landing page)Yang Cao  OK    OK    NA  
817/2359genefilter 1.91.0  (landing page)Bioconductor Package Maintainer  OK    OK    NA  
818/2359genefu 2.41.0  (landing page)Benjamin Haibe-Kains  OK    OK    NA  
819/2359GeneGA 1.59.0  (landing page)Zhenpeng Li  OK    ERROR  skipped
820/2359GeneMeta 1.81.0  (landing page)Bioconductor Package Maintainer  OK    OK    NA  
821/2359GeneNetworkBuilder 1.51.0  (landing page)Jianhong Ou  OK    OK    NA  
822/2359GeneOverlap 1.45.0  (landing page)António Miguel de Jesus Domingues, Max-Planck Institute for Cell Biology and Genetics  OK    OK    NA  
823/2359geneplast 1.35.0  (landing page)Mauro Castro  OK    OK    NA  
824/2359geneplotter 1.87.0  (landing page)Bioconductor Package Maintainer  OK    OK    NA  
825/2359geneRecommender 1.81.0  (landing page)Greg Hather  OK    OK    NA  
826/2359GeneRegionScan 1.65.0  (landing page)Lasse Folkersen  OK    OK    NA  
827/2359geneRxCluster 1.45.0  (landing page)Charles Berry  OK    OK    NA  
828/2359GeneSelectMMD 2.53.0  (landing page)Weiliang Qiu  OK    OK    NA  
829/2359GENESIS 2.39.3  (landing page)Stephanie M. Gogarten  OK    OK    NA  
830/2359GeneStructureTools 1.29.0  (landing page)Beth Signal  ERROR    ERROR  skipped
831/2359geNetClassifier 1.49.0  (landing page)Sara Aibar  OK    OK    NA  
832/2359GeneticsPed 1.71.0  (landing page)David Henderson  OK    OK    NA  
833/2359GeneTonic 3.3.3  (landing page)Federico Marini  OK    OK    NA  
834/2359geneXtendeR 1.35.0  (landing page)Bohdan Khomtchouk  OK    OK    NA  
835/2359GENIE3 1.31.0  (landing page)Van Anh Huynh-Thu  OK    OK    NA  
836/2359genomation 1.41.1  (landing page)Altuna Akalin , Vedran Franke  OK    OK    NA  
837/2359GenomAutomorphism 1.11.2  (landing page)Robersy Sanchez  OK    OK    NA  
838/2359GenomeInfoDb 1.45.12  (landing page)Hervé Pagès  OK    OK    NA  
839/2359genomeIntervals 1.65.1  (landing page)Julien Gagneur  OK    OK    NA  
840/2359genomes 3.39.0  (landing page)Chris Stubben  OK    OK    NA  
841/2359GenomicAlignments 1.45.4  (landing page)Hervé Pagès  OK    OK    NA  
842/2359GenomicDataCommons 1.33.1  (landing page)Sean Davis  OK    OK    NA  
843/2359GenomicDistributions 1.17.1  (landing page)Kristyna Kupkova  OK    OK    NA  
844/2359GenomicFeatures 1.61.7  (landing page)H. Pagès  OK    OK    NA  
845/2359GenomicFiles 1.45.2  (landing page)Bioconductor Package Maintainer  OK    OK    NA  
846/2359genomicInstability 1.15.0  (landing page)Mariano Alvarez  OK    OK    NA  
847/2359GenomicInteractionNodes 1.13.1  (landing page)Jianhong Ou  OK    OK    NA  
848/2359GenomicInteractions 1.43.1  (landing page)Liz Ing-Simmons  OK    OK    NA  
849/2359GenomicOZone 1.23.1  (landing page)Hua Zhong, Mingzhou Song  OK    OK    NA  
850/2359GenomicPlot 1.7.2  (landing page)Shuye Pu  OK    OK    NA  
851/2359GenomicRanges 1.61.6  (landing page)Hervé Pagès  OK    ERROR  skipped
852/2359GenomicScores 2.21.4  (landing page)Robert Castelo  OK    OK    NA  
853/2359GenomicSuperSignature 1.17.1  (landing page)Sehyun Oh  OK    OK    NA  
854/2359GenomicTuples 1.43.1  (landing page)Peter Hickey  OK    OK    NA  
855/2359GenProSeq 1.13.0  (landing page)Dongmin Jung  OK    OK    NA  
856/2359GenVisR 1.41.2  (landing page)Zachary Skidmore  OK    OK    NA  
857/2359GeoDiff 1.15.0  (landing page)Nicole Ortogero  OK    OK    NA  
858/2359GEOexplorer 1.15.0  (landing page)Guy Hunt  OK    OK    NA  
859/2359GEOfastq 1.17.0  (landing page)Alex Pickering  OK    OK    NA  
860/2359GEOmetadb 1.71.0  (landing page)Jack Zhu  OK    ERROR  skipped
861/2359geomeTriD 1.3.21  (landing page)Jianhong Ou  OK    OK    NA  
862/2359GeomxTools 3.13.1  (landing page)Maddy Griswold  OK    OK    NA  
863/2359GEOquery 2.77.6  (landing page)Sean Davis  OK    OK    NA  
864/2359GEOsubmission 1.61.0  (landing page)Alexandre Kuhn  OK    OK    NA  
865/2359GeoTcgaData 2.9.0  (landing page)Erqiang Hu  OK    OK    NA  
866/2359gep2pep 1.29.0  (landing page)Francesco Napolitano  OK    OK    NA  
867/2359getDEE2 1.19.3  (landing page)Mark 0000-0002-7688-6974 Ziemann  OK    OK    NA  
868/2359geva 1.17.0  (landing page)Itamar José Guimarães Nunes  OK    ERROR  skipped
869/2359GEWIST 1.53.0  (landing page)Wei Q. Deng  OK    OK    NA  
870/2359geyser 1.1.0  (landing page)David McGaughey  OK    OK    NA  
871/2359gg4way 1.7.1  (landing page)Benjamin I Laufer  OK    OK    NA  
872/2359ggbio 1.57.1  (landing page)Michael Lawrence  OK    OK    NA  
873/2359ggcyto 1.37.1  (landing page)Mike Jiang  OK    OK    NA  
874/2359ggkegg 1.7.2  (landing page)Noriaki Sato  OK    ERROR  skipped
875/2359ggmanh 1.13.0  (landing page)John Lee  OK    OK    NA  
876/2359ggmsa 1.15.1  (landing page)Guangchuang Yu  OK    OK    NA  
877/2359GGPA 1.21.0  (landing page)Dongjun Chung  OK    OK    NA  
878/2359ggsc 1.7.1  (landing page)Guangchuang Yu  OK    OK    NA  
879/2359ggseqalign 1.3.0  (landing page)Simeon Lim Rossmann  OK    OK    NA  
880/2359ggspavis 1.15.9  (landing page)Lukas M. Weber  OK    ERROR  skipped
881/2359ggtree 3.99.2  (landing page)Guangchuang Yu  OK    OK    NA  
882/2359ggtreeDendro 1.11.0  (landing page)Guangchuang Yu  OK    OK    NA  
883/2359ggtreeExtra 1.19.1  (landing page)Shuangbin Xu  OK    OK    NA  
884/2359ggtreeSpace 1.5.0  (landing page)Guangchuang Yu  OK    OK    NA  
885/2359GIGSEA 1.27.0  (landing page)Shijia Zhu  OK    OK    NA  
886/2359ginmappeR 1.5.0  (landing page)Fernando Sola  OK    OK    NA  
887/2359gINTomics 1.5.2  (landing page)Angelo Velle  OK    OK    NA  
888/2359GLAD 2.73.0  (landing page)Philippe Hupe  OK    OK    NA  
889/2359GladiaTOX 1.25.3  (landing page)PMP S.A. R Support  OK    OK    NA  
890/2359Glimma 2.19.2  (landing page)Shian Su  OK    OK    NA  
891/2359glmGamPoi 1.21.0  (landing page)Constantin Ahlmann-Eltze  OK    OK    NA  
892/2359glmSparseNet 1.27.0  (landing page)André Veríssimo  OK    OK    NA  
893/2359GlobalAncova 4.27.0  (landing page)Manuela Hummel  OK    OK    NA  
894/2359globalSeq 1.37.0  (landing page)Armin Rauschenberger  OK    OK    NA  
895/2359globaltest 5.63.0  (landing page)Jelle Goeman  OK    ERROR  skipped
896/2359GloScope 1.99.2  (landing page)William Torous  OK    OK    NA  
897/2359gmapR 1.51.1  (landing page)Michael Lawrence  OK    ERROR  skipped
898/2359GmicR 1.23.0  (landing page)Richard Virgen-Slane  OK    OK    NA  
899/2359gmoviz 1.21.1  (landing page)Kathleen Zeglinski  OK    OK    NA  
900/2359GMRP 1.37.0  (landing page)Yuan-De Tan  OK    OK    NA  
901/2359GNET2 1.25.0  (landing page)Chen Chen  OK    OK    NA  
902/2359GNOSIS 1.7.0  (landing page)Lydia King  OK    OK    NA  
903/2359goatea 0.99.9  (landing page)Maurits Unkel  OK    OK    NA  
904/2359GOexpress 1.43.1  (landing page)Kevin Rue-Albrecht  OK    OK    NA  
905/2359GOfuncR 1.29.0  (landing page)Steffi Grote  OK    OK    NA  
906/2359GOpro 1.35.0  (landing page)Lidia Chrabaszcz  OK    OK    NA  
907/2359goProfiles 1.71.0  (landing page)Alex Sanchez  OK    OK    NA  
908/2359GOSemSim 2.35.2  (landing page)Guangchuang Yu  OK    OK    NA  
909/2359goseq 1.61.1  (landing page)Federico Marini  OK    OK    NA  
910/2359goSorensen 1.11.0  (landing page)Pablo Flores  OK    OK    NA  
911/2359goSTAG 1.33.0  (landing page)Brian D. Bennett  OK    OK    NA  
912/2359GOstats 2.75.0  (landing page)Bioconductor Package Maintainer  OK    ERROR  skipped
913/2359GOTHiC 1.45.1  (landing page)Borbala Mifsud  OK    OK    NA  
914/2359goTools 1.83.0  (landing page)Agnes Paquet  OK    OK    NA  
915/2359GPA 1.21.0  (landing page)Dongjun Chung  OK    OK    NA  
916/2359gpls 1.81.0  (landing page)Bioconductor Package Maintainer  OK    OK    NA  
917/2359gpuMagic 1.25.1  (landing page)Jiefei Wang  ERROR    ERROR  skipped
918/2359GrafGen 1.5.0  (landing page)William Wheeler  OK    OK    NA  
919/2359GRaNIE 1.13.0  (landing page)Christian Arnold  OK    OK    NA  
920/2359granulator 1.17.0  (landing page)Sabina Pfister  OK    OK    NA  
921/2359graper 1.25.2  (landing page)Britta Velten  OK    OK    NA  
922/2359graph 1.87.0  (landing page)Bioconductor Package Maintainer  OK    OK    NA  
923/2359GraphAlignment 1.73.0  (landing page)Joern P. Meier  OK    OK    NA  
924/2359GraphAT 1.81.0  (landing page)Thomas LaFramboise  OK    OK    NA  
925/2359graphite 1.55.3  (landing page)Gabriele Sales  OK    OK    NA  
926/2359GRENITS 1.61.0  (landing page)Edward Morrissey  OK    OK    NA  
927/2359GreyListChIP 1.41.1  (landing page)Matt Eldridge  OK    OK    NA  
928/2359GRmetrics 1.35.0  (landing page)Nicholas Clark , Mario Medvedovic  OK    OK    NA  
929/2359groHMM 1.43.1  (landing page)Tulip Nandu  OK    OK    NA  
930/2359GSALightning 1.37.0  (landing page)Billy Heung Wing Chang  OK    OK    NA  
931/2359GSAR 1.43.2  (landing page)Yasir Rahmatallah , Galina Glazko  OK    OK    NA  
932/2359GSCA 2.39.0  (landing page)Zhicheng Ji  OK    OK    NA  
933/2359gscreend 1.23.0  (landing page)Katharina Imkeller  OK    OK    NA  
934/2359GSEABase 1.71.1  (landing page)Bioconductor Package Maintainer  OK    OK    NA  
935/2359GSEABenchmarkeR 1.29.1  (landing page)Ludwig Geistlinger  OK    OK    NA  
936/2359GSEAlm 1.69.0  (landing page)Assaf Oron  OK    OK    NA  
937/2359GSEAmining 1.19.0  (landing page)Oriol Arqués  OK    OK    NA  
938/2359gsean 1.29.0  (landing page)Dongmin Jung  OK    OK    NA  
939/2359GSgalgoR 1.19.0  (landing page)Carlos Catania  OK    OK    NA  
940/2359GSReg 1.43.0  (landing page)Bahman Afsari , Elana J. Fertig  OK    OK    NA  
941/2359GSRI 2.57.0  (landing page)Julian Gehring  OK    OK    NA  
942/2359GSVA 2.3.4  (landing page)Robert Castelo  OK    OK    NA  
943/2359gtrellis 1.41.0  (landing page)Zuguang Gu  OK    OK    NA  
944/2359GUIDEseq 1.39.0  (landing page)Lihua Julie Zhu  OK    OK    NA  
945/2359Guitar 2.25.0  (landing page)Jia Meng  OK    OK    NA  
946/2359gVenn 0.99.5  (landing page)Christophe Tav  OK    OK    NA  
947/2359Gviz 1.53.1  (landing page)Robert Ivanek  OK    OK    NA  
948/2359GWAS.BAYES 1.19.0  (landing page)Jacob Williams  OK    OK    NA  
949/2359gwascat 2.41.1  (landing page)VJ Carey  OK    OK    NA  
950/2359GWASTools 1.55.0  (landing page)Stephanie M. Gogarten  OK    OK    NA  
951/2359gwasurvivr 1.27.0  (landing page)Abbas Rizvi  OK    OK    NA  
952/2359GWENA 1.19.0  (landing page)Gwenaëlle Lemoine  OK    OK    NA  
953/2359gypsum 1.5.0  (landing page)Aaron Lun  OK    OK    NA  
H
ABCDEFGHIJKLMNOPQRSTUVWXYZ
PackageMaintainerINSTALLBUILDCHECKBUILD BIN
954/2359h5mread 1.1.1  (landing page)Hervé Pagès  OK    OK    NA  
955/2359h5vc 2.43.0  (landing page)Paul Theodor Pyl  OK    OK    NA  
956/2359hapFabia 1.51.0  (landing page)Andreas Mitterecker  OK    OK    NA  
957/2359Harman 1.37.0  (landing page)Jason Ross  OK    OK    NA  
958/2359HarmonizR 1.7.0  (landing page)Simon Schlumbohm  OK    OK    NA  
959/2359Harshlight 1.81.1  (landing page)Maurizio Pellegrino  ERROR    ERROR  skipped
960/2359hca 1.17.0  (landing page)Martin Morgan  OK    ERROR  skipped
961/2359HDF5Array 1.37.0  (landing page)Hervé Pagès  OK    ERROR  skipped
962/2359HDTD 1.43.0  (landing page)Anestis Touloumis  OK    OK    NA  
963/2359hdxmsqc 1.5.0  (landing page)Oliver M. Crook  OK    OK    NA  
964/2359heatmaps 1.33.1  (landing page)Malcolm Perry  OK    OK    NA  
965/2359Heatplus 3.17.0  (landing page)Alexander Ploner  OK    OK    NA  
966/2359HelloRanges 1.35.2  (landing page)Michael Lawrence  OK    OK    NA  
967/2359HELP 1.67.0  (landing page)Reid F. Thompson  OK    OK    NA  
968/2359HEM 1.81.0  (landing page)HyungJun Cho  OK    OK    NA  
969/2359hermes 1.13.1  (landing page)Daniel Sabanés Bové  OK    OK    NA  
970/2359HERON 1.7.0  (landing page)Sean McIlwain  OK    OK    NA  
971/2359Herper 1.19.3  (landing page)Thomas Carroll  OK    OK    NA  
972/2359HGC 1.17.0  (landing page)XGlab  OK    OK    NA  
973/2359hiAnnotator 1.43.1  (landing page)Nirav V Malani  OK    ERROR  skipped
974/2359HIBAG 1.45.0  (landing page)Xiuwen Zheng  OK    ERROR  skipped
975/2359HicAggR 1.5.1  (landing page)Olivier Cuvier  OK    OK    NA  
976/2359HiCaptuRe 0.99.15  (landing page)Laureano Tomas-Daza  OK    OK    NA  
977/2359HiCBricks 1.27.1  (landing page)Koustav Pal  OK    OK    NA  
978/2359HiCcompare 1.31.0  (landing page)Mikhail Dozmorov  OK    OK    NA  
979/2359HiCDCPlus 1.17.0  (landing page)Merve Sahin  OK    OK    NA  
980/2359HiCDOC 1.11.2  (landing page)Maigné Élise  OK    OK    NA  
981/2359HiCExperiment 1.9.2  (landing page)Jacques Serizay  OK    OK    NA  
982/2359HiContacts 1.11.0  (landing page)Jacques Serizay  OK    ERROR  skipped
983/2359HiCool 1.9.1  (landing page)Jacques Serizay  OK    OK    NA  
984/2359HiCParser 1.1.1  (landing page)Maigné Élise  OK    OK    NA  
985/2359HiCPotts 0.99.6  (landing page)Itunu. Godwin Osuntoki  OK    OK    NA  
986/2359hicVennDiagram 1.7.3  (landing page)Jianhong Ou  OK    OK    NA  
987/2359hierGWAS 1.39.0  (landing page)Laura Buzdugan  OK    OK    NA  
988/2359hierinf 1.27.0  (landing page)Claude Renaux  OK    OK    NA  
989/2359HilbertCurve 2.3.0  (landing page)Zuguang Gu  OK    OK    NA  
990/2359HilbertVis 1.67.2  (landing page)Simon Anders  OK    OK    NA  
991/2359HilbertVisGUI 1.67.1  (landing page)Simon Anders  OK    OK    NA  
992/2359HiLDA 1.23.0  (landing page)Zhi Yang  ERROR    ERROR  skipped
993/2359hipathia 3.9.0  (landing page)Marta R. Hidalgo  OK    ERROR  skipped
994/2359HIPPO 1.21.0  (landing page)Tae Kim  OK    OK    NA  
995/2359hiReadsProcessor 1.45.1  (landing page)Nirav V Malani  OK    OK    NA  
996/2359HIREewas 1.27.0  (landing page)Xiangyu Luo  OK    OK    NA  
997/2359HiTC 1.53.1  (landing page)Nicolas Servant  OK    OK    NA  
998/2359hmdbQuery 1.29.0  (landing page)VJ Carey  OK    OK    NA  
999/2359HMMcopy 1.51.0  (landing page)Daniel Lai  OK    OK    NA  
1000/2359HoloFoodR 1.3.1  (landing page)Tuomas Borman  OK    OK    NA  
1001/2359hoodscanR 1.7.0  (landing page)Ning Liu  OK    OK    NA  
1002/2359hopach 2.69.0  (landing page)Katherine S. Pollard  OK    OK    NA  
1003/2359HPAanalyze 1.27.2  (landing page)Anh Nhat Tran  OK    OK    NA  
1004/2359hpar 1.51.0  (landing page)Laurent Gatto  OK    OK    NA  
1005/2359HPiP 1.15.0  (landing page)Matineh Rahmatbakhsh  OK    ERROR  skipped
1006/2359HTqPCR 1.63.0  (landing page)Matthew N. McCall  OK    OK    NA  
1007/2359HTSFilter 1.49.0  (landing page)Andrea Rau  OK    OK    NA  
1008/2359HuBMAPR 1.3.2  (landing page)Christine Hou  OK    OK    NA  
1009/2359HubPub 1.17.1  (landing page)Kayla Interdonato  OK    OK    NA  
1010/2359hummingbird 1.19.0  (landing page)Eleni Adam  OK    OK    NA  
1011/2359HVP 0.99.5  (landing page)Wei Xin Chan  OK    OK    NA  
1012/2359HybridExpress 1.5.0  (landing page)Fabricio Almeida-Silva  OK    OK    NA  
1013/2359HybridMTest 1.53.0  (landing page)Demba Fofana  OK    OK    NA  
1014/2359hypeR 2.7.1  (landing page)Anthony Federico  ERROR    ERROR  skipped
1015/2359hyperdraw 1.61.0  (landing page)Paul Murrell  OK    OK    NA  
1016/2359hypergraph 1.81.0  (landing page)Bioconductor Package Maintainer  OK    OK    NA  
I
ABCDEFGHIJKLMNOPQRSTUVWXYZ
PackageMaintainerINSTALLBUILDCHECKBUILD BIN
1017/2359iASeq 1.53.0  (landing page)Yingying Wei  OK    OK    NA  
1018/2359iasva 1.27.0  (landing page)Donghyung Lee , Anthony Cheng  OK    OK    NA  
1019/2359iBBiG 1.53.0  (landing page)Aedin Culhane  OK    OK    NA  
1020/2359Ibex 0.99.34  (landing page)Nick Borcherding  OK    TIMEOUT  skipped
1021/2359ibh 1.57.0  (landing page)Kircicegi Korkmaz  OK    OK    NA  
1022/2359iBMQ 1.49.0  (landing page)Greg Imholte  OK    OK    NA  
1023/2359iCARE 1.37.0  (landing page)Parichoy Pal Choudhury  OK    OK    NA  
1024/2359Icens 1.81.0  (landing page)Bioconductor Package Maintainer  OK    OK    NA  
1025/2359icetea 1.27.1  (landing page)Vivek Bhardwaj  OK    OK    NA  
1026/2359iCheck 1.39.0  (landing page)Weiliang Qiu  OK    OK    NA  
1027/2359iChip 1.63.0  (landing page)Qianxing Mo  OK    OK    NA  
1028/2359iClusterPlus 1.45.0  (landing page)Qianxing Mo , Ronglai Shen  ERROR    ERROR  skipped
1029/2359iCNV 1.29.0  (landing page)Zilu Zhou  OK    OK    NA  
1030/2359iCOBRA 1.37.1  (landing page)Charlotte Soneson  OK    OK    NA  
1031/2359ideal 2.3.0  (landing page)Federico Marini  OK    OK    NA  
1032/2359IdeoViz 1.45.0  (landing page)Shraddha Pai  OK    OK    NA  
1033/2359idiogram 1.85.0  (landing page)Karl J. Dykema  OK    OK    NA  
1034/2359idpr 1.19.0  (landing page)William M. McFadden  OK    OK    NA  
1035/2359idr2d 1.23.1  (landing page)Konstantin Krismer  OK    OK    NA  
1036/2359IFAA 1.11.0  (landing page)Zhigang Li  OK    OK    NA  
1037/2359igblastr 0.99.23  (landing page)Hervé Pagès... NOT SUPPORTED ...
1038/2359iGC 1.39.0  (landing page)Liang-Bo Wang  OK    OK    NA  
1039/2359IgGeneUsage 1.23.0  (landing page)Simo Kitanovski  OK    OK    NA  
1040/2359igvR 1.29.0  (landing page)Arkadiusz Gladki  OK    OK    NA  
1041/2359igvShiny 1.5.0  (landing page)Arkadiusz Gladki  OK    OK    NA  
1042/2359IHW 1.37.0  (landing page)Nikos Ignatiadis  OK    OK    NA  
1043/2359illuminaio 0.51.0  (landing page)Kasper Daniel Hansen  OK    OK    NA  
1044/2359ILoReg 1.19.0  (landing page)Johannes Smolander  OK    ERROR  skipped
1045/2359imageTCGA 1.1.1  (landing page)Ilaria Billato  OK    OK    NA  
1046/2359IMAS 1.33.1  (landing page)Seonggyun Han  OK    ERROR  skipped
1047/2359imcRtools 1.15.5  (landing page)Daniel Schulz  OK    OK    NA  
1048/2359IMMAN 1.29.0  (landing page)Minoo Ashtiani  OK    OK    NA  
1049/2359immApex 1.3.7  (landing page)Nick Borcherding  OK    OK    NA  
1050/2359immunoClust 1.41.2  (landing page)Till Soerensen  OK    ERROR  skipped
1051/2359immunogenViewer 1.3.1  (landing page)Katharina Waury  OK    OK    NA  
1052/2359immunotation 1.17.5  (landing page)Katharina Imkeller  OK    OK    NA  
1053/2359iModMix 0.99.3  (landing page)Isis Narvaez-Bandera  OK    NA    NA  
1054/2359IMPCdata 1.45.0  (landing page)Jeremy Mason  OK    OK    NA  
1055/2359impute 1.83.0  (landing page)Balasubramanian Narasimhan  OK    OK    NA  
1056/2359INDEED 2.23.0  (landing page)Ressom group  OK    OK    NA  
1057/2359iNETgrate 1.7.0  (landing page)Habil Zare  OK    OK    NA  
1058/2359infercnv 1.25.0  (landing page)Christophe Georgescu  ERROR    ERROR  skipped
1059/2359infinityFlow 1.19.0  (landing page)Etienne Becht  OK    OK    NA  
1060/2359Informeasure 1.19.0  (landing page)Chu Pan  OK    OK    NA  
1061/2359InPAS 2.17.1  (landing page)Jianhong Ou  OK    ERROR  skipped
1062/2359INPower 1.45.0  (landing page)Bill Wheeler  OK    OK    NA  
1063/2359INSPEcT 1.39.1  (landing page)Stefano de Pretis  OK    OK    NA  
1064/2359INTACT 1.9.0  (landing page)Jeffrey Okamoto  OK    OK    NA  
1065/2359InTAD 1.29.1  (landing page)Konstantin Okonechnikov  OK    OK    NA  
1066/2359intansv 1.49.0  (landing page)Wen Yao  OK    OK    NA  
1067/2359interacCircos 1.19.0  (landing page)Zhe Cui  OK    OK    NA  
1068/2359InteractionSet 1.37.1  (landing page)Aaron Lun  OK    OK    NA  
1069/2359InteractiveComplexHeatmap 1.17.0  (landing page)Zuguang Gu  OK    OK    NA  
1070/2359interactiveDisplay 1.47.1  (landing page)Bioconductor Package Maintainer  OK    OK    NA  
1071/2359interactiveDisplayBase 1.47.1  (landing page)Bioconductor Package Maintainer  OK    OK    NA  
1072/2359InterCellar 2.15.0  (landing page)Marta Interlandi  OK    OK    NA  
1073/2359IntEREst 1.33.0  (landing page)Ali Oghabian  OK    OK    NA  
1074/2359IntramiRExploreR 1.31.0  (landing page)Surajit Bhattacharya  OK    OK    NA  
1075/2359IONiseR 2.33.0  (landing page)Mike Smith  OK    OK    NA  
1076/2359iPath 1.15.0  (landing page)Kenong Su  OK    ERROR  skipped
1077/2359ipdDb 1.27.0  (landing page)Steffen Klasberg  OK    OK    NA  
1078/2359IPO 1.35.0  (landing page)Thomas Lieb  OK    OK    NA  
1079/2359IRanges 2.43.5  (landing page)Hervé Pagès  OK    OK    NA  
1080/2359ISAnalytics 1.19.3  (landing page)Francesco Gazzo  OK    OK    NA  
1081/2359iscream 0.99.7  (landing page)James Eapen  OK    NA    NA  
1082/2359iSEE 2.21.1  (landing page)Kevin Rue-Albrecht  OK    OK    NA  
1083/2359iSEEde 1.7.0  (landing page)Kevin Rue-Albrecht  OK    OK    NA  
1084/2359iSEEfier 1.5.0  (landing page)Najla Abassi  OK    OK    NA  
1085/2359iSEEhex 1.11.0  (landing page)Kevin Rue-Albrecht  OK    OK    NA  
1086/2359iSEEhub 1.11.0  (landing page)Kevin Rue-Albrecht  OK    OK    NA  
1087/2359iSEEindex 1.7.0  (landing page)Kevin Rue-Albrecht  OK    OK    NA  
1088/2359iSEEpathways 1.7.0  (landing page)Kevin Rue-Albrecht  OK    OK    NA  
1089/2359iSEEtree 1.3.2  (landing page)Giulio Benedetti  OK    OK    NA  
1090/2359iSEEu 1.21.0  (landing page)Kevin Rue-Albrecht  OK    OK    NA  
1091/2359iSeq 1.61.0  (landing page)Qianxing Mo  OK    OK    NA  
1092/2359ISLET 1.11.0  (landing page)Hao Feng  OK    OK    NA  
1093/2359islify 1.1.1  (landing page)Jakob Theorell  OK    OK    NA  
1094/2359isobar 1.55.0  (landing page)Florian P Breitwieser  OK    OK    NA  
1095/2359IsoBayes 1.7.1  (landing page)Simone Tiberi  OK    OK    NA  
1096/2359IsoCorrectoR 1.27.0  (landing page)Christian Kohler  OK    OK    NA  
1097/2359IsoCorrectoRGUI 1.25.0  (landing page)Christian Kohler  OK    OK    NA  
1098/2359IsoformSwitchAnalyzeR 2.9.1  (landing page)Kristoffer Vitting-Seerup  OK    OK    NA  
1099/2359ISoLDE 1.37.0  (landing page)Christelle Reynès  OK    OK    NA  
1100/2359isomiRs 1.37.1  (landing page)Lorena Pantano  OK    OK    NA  
1101/2359ITALICS 2.69.0  (landing page)Guillem Rigaill  OK    OK    NA  
1102/2359iterativeBMA 1.67.0  (landing page)Ka Yee Yeung  OK    OK    NA  
1103/2359iterativeBMAsurv 1.67.0  (landing page)Ka Yee Yeung  OK    OK    NA  
1104/2359IVAS 2.29.1  (landing page)Seonggyun Han  OK    OK    NA  
1105/2359ivygapSE 1.31.0  (landing page)VJ Carey  OK    OK    NA  
1106/2359IWTomics 1.33.0  (landing page)Marzia A Cremona  OK    OK    NA  
J
ABCDEFGHIJKLMNOPQRSTUVWXYZ
PackageMaintainerINSTALLBUILDCHECKBUILD BIN
1107/2359jazzPanda 1.1.3  (landing page)Melody Jin  OK    OK    NA  
K
ABCDEFGHIJKLMNOPQRSTUVWXYZ
PackageMaintainerINSTALLBUILDCHECKBUILD BIN
1108/2359karyoploteR 1.35.3  (landing page)Bernat Gel  OK    OK    NA  
1109/2359katdetectr 1.11.1  (landing page)Daan Hazelaar  OK    OK    NA  
1110/2359KBoost 1.17.0  (landing page)Luis F. Iglesias-Martinez  OK    OK    NA  
1111/2359KCsmart 2.67.0  (landing page)Jorma de Ronde  OK    OK    NA  
1112/2359kebabs 1.43.1  (landing page)Ulrich Bodenhofer  OK    OK    NA  
1113/2359KEGGgraph 1.69.0  (landing page)Jitao David Zhang  OK    OK    NA  
1114/2359KEGGlincs 1.35.0  (landing page)Shana White , Mario Medvedovic  OK    OK    NA  
1115/2359keggorthology 2.61.0  (landing page)VJ Carey  OK    OK    NA  
1116/2359KEGGREST 1.49.2  (landing page)Bioconductor Package Maintainer  OK    OK    NA  
1117/2359KinSwingR 1.27.0  (landing page)Ashley J. Waardenberg  OK    OK    NA  
1118/2359kissDE 1.29.0  (landing page)Aurélie Siberchicot  OK    OK    NA  
1119/2359kmcut 1.3.0  (landing page)Igor Kuznetsov  OK    OK    NA  
1120/2359KnowSeq 1.23.0  (landing page)Daniel Castillo-Secilla  OK    OK    NA  
1121/2359knowYourCG 1.5.2  (landing page)Goldberg David  OK    OK    NA  
1122/2359koinar 1.3.0  (landing page)Ludwig Lautenbacher  OK    OK    NA  
L
ABCDEFGHIJKLMNOPQRSTUVWXYZ
PackageMaintainerINSTALLBUILDCHECKBUILD BIN
1123/2359LACE 2.13.1  (landing page)Davide Maspero  OK    OK    NA  
1124/2359lapmix 1.75.0  (landing page)Yann Ruffieux  ERROR    ERROR  skipped
1125/2359LBE 1.77.0  (landing page)Cyril Dalmasso  OK    OK    NA  
1126/2359ldblock 1.39.1  (landing page)VJ Carey  OK    OK    NA  
1127/2359LEA 3.21.0  (landing page)Olivier Francois  OK    OK    NA  
1128/2359LedPred 1.43.0  (landing page)Aitor Gonzalez  OK    OK    NA  
1129/2359lefser 1.19.1  (landing page)Sehyun Oh  OK    OK    NA  
1130/2359lemur 1.7.1  (landing page)Constantin Ahlmann-Eltze  OK    OK    NA  
1131/2359les 1.59.0  (landing page)Julian Gehring  OK    OK    NA  
1132/2359levi 1.27.0  (landing page)Jose Luiz Rybarczyk Filho  OK    OK    NA  
1133/2359lfa 2.9.0  (landing page)Alejandro Ochoa  OK    OK    NA  
1134/2359Lheuristic 1.1.0  (landing page)Sanchez Pla Alex  OK    OK    NA  
1135/2359limma 3.65.7  (landing page)Gordon Smyth  OK    OK    NA  
1136/2359limmaGUI 1.85.0  (landing page)Gordon Smyth  OK    OK    NA  
1137/2359limpa 1.1.7  (landing page)Gordon Smyth  OK    OK    NA  
1138/2359limpca 1.5.1  (landing page)Manon Martin  OK    OK    NA  
1139/2359LimROTS 1.1.4  (landing page)Ali Mostafa Anwar  OK    OK    NA  
1140/2359lineagespot 1.13.0  (landing page)Nikolaos Pechlivanis  OK    OK    NA  
1141/2359LinkHD 1.23.0  (landing page)"Laura M Zingaretti"  OK    OK    NA  
1142/2359linkSet 0.99.19  (landing page)Gilbert Han  OK    OK    NA  
1143/2359Linnorm 2.33.0  (landing page)Shun Hang Yip  OK    OK    NA  
1144/2359LinTInd 1.13.1  (landing page)Luyue Wang  OK    ERROR  skipped
1145/2359lionessR 1.23.0  (landing page)Ping-Han Hsieh  OK    OK    NA  
1146/2359lipidr 2.23.0  (landing page)Ahmed Mohamed  OK    OK    NA  
1147/2359LipidTrend 0.99.2  (landing page)Wei-Chung Cheng  OK    OK    NA  
1148/2359LiquidAssociation 1.63.0  (landing page)Yen-Yi Ho  OK    OK    NA  
1149/2359lisaClust 1.17.0  (landing page)Ellis Patrick  OK    OK    NA  
1150/2359lmdme 1.51.0  (landing page)Cristobal Fresno  OK    OK    NA  
1151/2359LOBSTAHS 1.35.1  (landing page)Henry Holm  OK    OK    NA  
1152/2359loci2path 1.29.1  (landing page)Tianlei Xu  OK    OK    NA  
1153/2359logicFS 2.29.0  (landing page)Holger Schwender  OK    OK    NA  
1154/2359LOLA 1.39.1  (landing page)Nathan Sheffield  OK    OK    NA  
1155/2359looking4clusters 0.99.4  (landing page)David Barrios  OK    OK    NA  
1156/2359LoomExperiment 1.27.0  (landing page)Bioconductor Package Maintainer  OK    OK    NA  
1157/2359LPE 1.83.0  (landing page)Nitin Jain  OK    OK    NA  
1158/2359lpNet 2.41.0  (landing page)Lars Kaderali  OK    OK    NA  
1159/2359lpsymphony 1.37.0  (landing page)Vladislav Kim  OK    OK    NA  
1160/2359LRBaseDbi 2.19.1  (landing page)Koki Tsuyuzaki  OK    OK    NA  
1161/2359LRcell 1.17.0  (landing page)Wenjing Ma  OK    OK    NA  
1162/2359lumi 2.61.0  (landing page)Lei Huang  OK    OK    NA  
1163/2359lute 1.5.1  (landing page)Sean K Maden  OK    OK    NA  
1164/2359LymphoSeq 1.37.0  (landing page)David Coffey  OK    OK    NA  
M
ABCDEFGHIJKLMNOPQRSTUVWXYZ
PackageMaintainerINSTALLBUILDCHECKBUILD BIN
1165/2359M3C 1.31.0  (landing page)Christopher John  OK    OK    NA  
1166/2359M3Drop 1.35.0  (landing page)Tallulah Andrews  OK    OK    NA  
1167/2359m6Aboost 1.15.1  (landing page)You Zhou  OK    ERROR  skipped
1168/2359Maaslin2 1.23.0  (landing page)Lauren McIver  OK    ERROR  skipped
1169/2359maaslin3 1.1.2  (landing page)William Nickols  OK    OK    NA  
1170/2359Macarron 1.13.2  (landing page)Sagun Maharjan  OK    ERROR  skipped
1171/2359maCorrPlot 1.79.0  (landing page)Alexander Ploner  OK    OK    NA  
1172/2359MACSQuantifyR 1.23.0  (landing page)Raphaël Bonnet  OK    OK    NA  
1173/2359MACSr 1.17.0  (landing page)Qiang Hu  OK    OK    NA  
1174/2359made4 1.83.0  (landing page)Aedin Culhane  OK    OK    NA  
1175/2359MADSEQ 1.35.1  (landing page)Yu Kong  ERROR    ERROR  skipped
1176/2359maftools 2.25.10  (landing page)Anand Mayakonda  OK    OK    NA  
1177/2359MAGAR 1.17.0  (landing page)Michael Scherer  OK    OK    NA  
1178/2359magpie 1.9.0  (landing page)Daoyu Duan  OK    OK    NA  
1179/2359magrene 1.11.0  (landing page)Fabrício Almeida-Silva  OK    OK    NA  
1180/2359MAI 1.15.0  (landing page)Jonathan Dekermanjian  OK    OK    NA  
1181/2359MAIT 1.43.0  (landing page)Pol Sola-Santos  OK    OK    NA  
1182/2359makecdfenv 1.85.0  (landing page)James W. MacDonald  OK    OK    NA  
1183/2359MANOR 1.81.0  (landing page)Pierre Neuvial  OK    OK    NA  
1184/2359MantelCorr 1.79.0  (landing page)Brian Steinmeyer  OK    OK    NA  
1185/2359MAPFX 1.5.0  (landing page)Hsiao-Chi Liao  OK    OK    NA  
1186/2359maPredictDSC 1.47.0  (landing page)Adi Laurentiu Tarca  OK    TIMEOUT  skipped
1187/2359mapscape 1.33.0  (landing page)Maia Smith  OK    OK    NA  
1188/2359mariner 1.9.1  (landing page)Eric Davis  OK    ERROR  skipped
1189/2359markeR 0.99.6  (landing page)Rita Martins-Silva  OK    OK    NA  
1190/2359marr 1.19.0  (landing page)Tusharkanti Ghosh  OK    OK    NA  
1191/2359marray 1.87.0  (landing page)Yee Hwa (Jean) Yang  OK    OK    NA  
1192/2359martini 1.29.0  (landing page)Hector Climente-Gonzalez  OK    OK    NA  
1193/2359maser 1.27.1  (landing page)Diogo F.T. Veiga  OK    OK    NA  
1194/2359maSigPro 1.81.0  (landing page)Maria Jose Nueda  OK    OK    NA  
1195/2359maskBAD 1.53.0  (landing page)Michael Dannemann  OK    OK    NA  
1196/2359MassArray 1.61.0  (landing page)Reid F. Thompson  OK    OK    NA  
1197/2359massiR 1.45.0  (landing page)Sam Buckberry  OK    OK    NA  
1198/2359MassSpecWavelet 1.75.1  (landing page)Sergio Oller Moreno  OK    OK    NA  
1199/2359MAST 1.35.2  (landing page)Andrew McDavid  OK    OK    NA  
1200/2359mastR 1.9.1  (landing page)Jinjin Chen  OK    OK    NA  
1201/2359matchBox 1.51.0  (landing page)Luigi Marchionni , Anuj Gupta  OK    OK    NA  
1202/2359MatrixGenerics 1.21.0  (landing page)Peter Hickey  OK    OK    NA  
1203/2359MatrixQCvis 1.17.1  (landing page)Thomas Naake  OK    OK    NA  
1204/2359MatrixRider 1.41.0  (landing page)Elena Grassi  OK    OK    NA  
1205/2359matter 2.11.2  (landing page)Kylie A. Bemis  OK    OK    NA  
1206/2359MBAmethyl 1.43.0  (landing page)Tao Wang  OK    OK    NA  
1207/2359MBASED 1.43.0  (landing page)Oleg Mayba  OK    OK    NA  
1208/2359MBCB 1.63.0  (landing page)Bo Yao  OK    OK    NA  
1209/2359MBECS 1.13.0  (landing page)Michael Olbrich  OK    OK    NA  
1210/2359mbkmeans 1.25.0  (landing page)Davide Risso  OK    OK    NA  
1211/2359mBPCR 1.63.0  (landing page)P.M.V. Rancoita  OK    OK    NA  
1212/2359MBQN 2.21.0  (landing page)Eva Brombacher  OK    OK    NA  
1213/2359mbQTL 1.9.0  (landing page)Mercedeh Movassagh  OK    OK    NA  
1214/2359MBttest 1.37.0  (landing page)Yuan-De Tan  OK    OK    NA  
1215/2359MCbiclust 1.33.0  (landing page)Robert Bentham  OK    OK    NA  
1216/2359mCSEA 1.29.0  (landing page)Jordi Martorell-Marugán  OK    ERROR  skipped
1217/2359mdp 1.29.0  (landing page)Helder Nakaya  OK    OK    NA  
1218/2359mdqc 1.71.0  (landing page)Gabriela Cohen-Freue  OK    OK    NA  
1219/2359MDTS 1.29.0  (landing page)Jack M.. Fu  OK    OK    NA  
1220/2359MEAL 1.39.0  (landing page)Xavier Escribà Montagut  OK    OK    NA  
1221/2359MeasurementError.cor 1.81.0  (landing page)Beiying Ding  OK    OK    NA  
1222/2359MEAT 1.21.0  (landing page)Sarah Voisin  OK    OK    NA  
1223/2359MEB 1.23.1  (landing page)Jiadi Zhu  OK    OK    NA  
1224/2359MEDIPS 1.61.0  (landing page)Lukas Chavez  OK    OK    NA  
1225/2359MEDME 1.69.0  (landing page)Mattia Pelizzola  OK    OK    NA  
1226/2359megadepth 1.19.0  (landing page)David Zhang  OK    ERROR  skipped
1227/2359MEIGOR 1.43.0  (landing page)Jose A. Egea  OK    OK    NA  
1228/2359Melissa 1.25.0  (landing page)C. A. Kapourani  OK    OK    NA  
1229/2359memes 1.17.2  (landing page)Spencer Nystrom  OK    OK    NA  
1230/2359Mergeomics 1.37.0  (landing page)Zeyneb Kurt  OK    OK    NA  
1231/2359MeSHDbi 1.45.0  (landing page)Koki Tsuyuzaki  OK    OK    NA  
1232/2359meshes 1.35.0  (landing page)Guangchuang Yu  OK    OK    NA  
1233/2359meshr 2.15.0  (landing page)Koki Tsuyuzaki  OK    OK    NA  
1234/2359MesKit 1.19.0  (landing page)Mengni Liu  OK    OK    NA  
1235/2359messina 1.45.0  (landing page)Mark Pinese  OK    OK    NA  
1236/2359metabCombiner 1.19.0  (landing page)Hani Habra  OK    OK    NA  
1237/2359metabinR 1.11.0  (landing page)Anestis Gkanogiannis  OK    OK    NA  
1238/2359MetaboAnnotation 1.13.3  (landing page)Johannes Rainer  OK    OK    NA  
1239/2359MetaboCoreUtils 1.17.1  (landing page)Johannes Rainer  OK    OK    NA  
1240/2359MetaboDynamics 1.99.11  (landing page)Katja Danielzik  OK    OK    NA  
1241/2359metabolomicsWorkbenchR 1.19.0  (landing page)Gavin Rhys Lloyd  OK    OK    NA  
1242/2359metabomxtr 1.43.0  (landing page)Michael Nodzenski  OK    OK    NA  
1243/2359MetaboSignal 1.39.0  (landing page)Andrea Rodriguez-Martinez  OK    OK    NA  
1244/2359metaCCA 1.37.0  (landing page)Anna Cichonska  OK    OK    NA  
1245/2359MetaCyto 1.31.0  (landing page)Zicheng Hu  OK    OK    NA  
1246/2359MetaDICT 0.99.4  (landing page)Bo Yuan  OK    OK    NA  
1247/2359metagene2 1.25.0  (landing page)Eric Fournier  OK    OK    NA  
1248/2359metagenomeSeq 1.51.0  (landing page)Joseph N. Paulson  OK    OK    NA  
1249/2359metahdep 1.67.0  (landing page)John R. Stevens  ERROR    ERROR  skipped
1250/2359metaMS 1.45.0  (landing page)Yann Guitton  OK    OK    NA  
1251/2359MetaNeighbor 1.29.0  (landing page)Stephan Fischer  OK    OK    NA  
1252/2359MetaPhOR 1.11.0  (landing page)Emily Isenhart  OK    OK    NA  
1253/2359metapod 1.17.0  (landing page)Aaron Lun  OK    OK    NA  
1254/2359metapone 1.15.0  (landing page)Tianwei Yu  OK    TIMEOUT  skipped
1255/2359metaSeq 1.49.0  (landing page)Koki Tsuyuzaki  OK    OK    NA  
1256/2359metaseqR2 1.21.2  (landing page)Panagiotis Moulos  OK    OK    NA  
1257/2359MetCirc 1.39.0  (landing page)Thomas Naake  OK    OK    NA  
1258/2359methimpute 1.31.0  (landing page)Aaron Taudt  OK    OK    NA  
1259/2359methInheritSim 1.31.1  (landing page)Pascal Belleau  OK    OK    NA  
1260/2359methodical 1.5.1  (landing page)Richard Heery  OK    ERROR  skipped
1261/2359MethPed 1.37.0  (landing page)Helena Carén  OK    OK    NA  
1262/2359MethReg 1.19.0  (landing page)Tiago Silva  OK    OK    NA  
1263/2359methrix 1.23.1  (landing page)Anand Mayakonda  OK    OK    NA  
1264/2359MethTargetedNGS 1.41.0  (landing page)Muhammad Ahmer Jamil  OK    OK    NA  
1265/2359MethylAid 1.43.0  (landing page)L.J.Sinke  OK    OK    NA  
1266/2359methylCC 1.23.0  (landing page)Stephanie C. Hicks  OK    OK    NA  
1267/2359methylclock 1.15.0  (landing page)Dolors Pelegri-Siso  OK    OK    NA  
1268/2359methylGSA 1.27.0  (landing page)Xu Ren  OK    OK    NA  
1269/2359methyLImp2 1.5.0  (landing page)Anna Plaksienko  OK    OK    NA  
1270/2359methylInheritance 1.33.1  (landing page)Astrid Deschênes  OK    OK    NA  
1271/2359methylKit 1.35.1  (landing page)Altuna Akalin , Alexander Blume  OK    OK    NA  
1272/2359MethylMix 2.39.0  (landing page)Olivier Gevaert  OK    OK    NA  
1273/2359methylMnM 1.47.0  (landing page)Yan Zhou  OK    OK    NA  
1274/2359methylPipe 1.43.1  (landing page)Mattia Furlan  OK    OK    NA  
1275/2359methylscaper 1.17.0  (landing page)Bacher Rhonda  OK    OK    NA  
1276/2359MethylSeekR 1.49.3  (landing page)Lukas Burger  OK    OK    NA  
1277/2359methylSig 1.21.2  (landing page)Raymond G. Cavalcante  OK    OK    NA  
1278/2359methylumi 2.55.0  (landing page)Sean Davis  OK    OK    NA  
1279/2359MetID 1.27.0  (landing page)Zhenzhi Li  OK    OK    NA  
1280/2359MetMashR 1.3.3  (landing page)Gavin Rhys Lloyd  OK    OK    NA  
1281/2359MetNet 1.27.3  (landing page)Thomas Naake  OK    ERROR  skipped
1282/2359mfa 1.31.0  (landing page)Kieran Campbell  OK    ERROR  skipped
1283/2359Mfuzz 2.69.0  (landing page)Matthias Futschik  OK    OK    NA  
1284/2359MGFM 1.43.0  (landing page)Khadija El Amrani  OK    OK    NA  
1285/2359MGFR 1.35.0  (landing page)Khadija El Amrani  OK    ERROR  skipped
1286/2359MGnifyR 1.5.1  (landing page)Tuomas Borman  OK    OK    NA  
1287/2359mgsa 1.57.0  (landing page)Sebastian Bauer  OK    OK    NA  
1288/2359mia 1.17.10  (landing page)Tuomas Borman  OK    OK    NA  
1289/2359miaDash 1.1.5  (landing page)Giulio Benedetti  OK    OK    NA  
1290/2359miaSim 1.15.1  (landing page)Yagmur Simsek  OK    OK    NA  
1291/2359miaTime 0.99.13  (landing page)Tuomas Borman  OK    OK    NA  
1292/2359miaViz 1.17.10  (landing page)Tuomas Borman  OK    OK    NA  
1293/2359MiChip 1.63.0  (landing page)Jonathon Blake  OK    OK    NA  
1294/2359microbiome 1.31.4  (landing page)Leo Lahti  OK    OK    NA  
1295/2359microbiomeDASim 1.23.0  (landing page)Justin Williams  OK    OK    NA  
1296/2359microbiomeExplorer 1.19.0  (landing page)Janina Reeder  OK    OK    NA  
1297/2359MicrobiomeProfiler 1.15.0  (landing page)Guangchuang Yu  OK    OK    NA  
1298/2359MicrobiotaProcess 1.21.2  (landing page)Shuangbin Xu  OK    OK    NA  
1299/2359microRNA 1.67.0  (landing page)"Michael Lawrence"  OK    OK    NA  
1300/2359microSTASIS 1.9.0  (landing page)Pedro Sánchez-Sánchez  OK    OK    NA  
1301/2359MICSQTL 1.7.0  (landing page)Qian Li  OK    OK    NA  
1302/2359midasHLA 1.17.0  (landing page)Maciej Migdał  OK    OK    NA  
1303/2359miloR 2.5.2  (landing page)Mike Morgan  OK    OK    NA  
1304/2359mimager 1.33.0  (landing page)Aaron Wolen  OK    OK    NA  
1305/2359mina 1.17.0  (landing page)Rui Guan  OK    ERROR  skipped
1306/2359MineICA 1.49.0  (landing page)Anne Biton  OK    OK    NA  
1307/2359minet 3.67.0  (landing page)Patrick E. Meyer  OK    OK    NA  
1308/2359minfi 1.55.1  (landing page)Kasper Daniel Hansen  OK    OK    NA  
1309/2359MinimumDistance 1.53.1  (landing page)Robert Scharpf  OK    OK    NA  
1310/2359MiPP 1.81.0  (landing page)Sukwoo Kim  OK    OK    NA  
1311/2359miQC 1.17.0  (landing page)Ariel Hippen  OK    OK    NA  
1312/2359MIRA 1.31.0  (landing page)John Lawson  OK    OK    NA  
1313/2359MiRaGE 1.51.0  (landing page)Y-h. Taguchi  OK    OK    NA  
1314/2359miRBaseConverter 1.33.0  (landing page)Taosheng Xu Taosheng Xu  OK    OK    NA  
1315/2359miRcomp 1.39.1  (landing page)Matthew N. McCall  OK    OK    NA  
1316/2359mirIntegrator 1.39.0  (landing page)Diana Diaz  OK    OK    NA  
1317/2359MIRit 1.5.2  (landing page)Jacopo Ronchi  OK    OK    NA  
1318/2359miRLAB 1.39.0  (landing page)Thuc Duy Le  OK    OK    NA  
1319/2359miRNAmeConverter 1.37.0  (landing page)Stefan J. Haunsberger  OK    OK    NA  
1320/2359miRNApath 1.69.0  (landing page)James M. Ward  OK    OK    NA  
1321/2359miRNAtap 1.43.0  (landing page)T. Ian Simpson  OK    OK    NA  
1322/2359miRSM 2.5.4  (landing page)Junpeng Zhang  OK    OK    NA  
1323/2359miRspongeR 2.13.5  (landing page)Junpeng Zhang  OK    OK    NA  
1324/2359mirTarRnaSeq 1.17.0  (landing page)Mercedeh Movassagh  OK    OK    NA  
1325/2359missMethyl 1.43.1  (landing page)Belinda Phipson  OK    OK    NA  
1326/2359missRows 1.29.0  (landing page)Gonzalez Ignacio  OK    OK    NA  
1327/2359mist 1.1.0  (landing page)Daoyu Duan  OK    OK    NA  
1328/2359mistyR 1.17.0  (landing page)Jovan Tanevski  OK    OK    NA  
1329/2359mitch 1.21.3  (landing page)Mark Ziemann  OK    OK    NA  
1330/2359mitoClone2 1.15.4  (landing page)Benjamin Story  OK    OK    NA  
1331/2359mitology 1.1.3  (landing page)Stefania Pirrotta  OK    OK    NA  
1332/2359mixOmics 6.33.0  (landing page)Eva Hamrud  OK    OK    NA  
1333/2359MLInterfaces 1.89.2  (landing page)Vincent Carey  OK    OK    NA  
1334/2359MLP 1.57.0  (landing page)Tobias Verbeke  OK    OK    NA  
1335/2359MLSeq 2.27.0  (landing page)Gokmen Zararsiz  OK    OK    NA  
1336/2359MMDiff2 1.37.1  (landing page)Gabriele Schweikert  OK    OK    NA  
1337/2359MMUPHin 1.23.0  (landing page)Siyuan MA  OK    OK    NA  
1338/2359mnem 1.25.0  (landing page)Martin Pirkl  OK    OK    NA  
1339/2359moanin 1.17.0  (landing page)Nelle Varoquaux  OK    OK    NA  
1340/2359mobileRNA 1.5.2  (landing page)Katie Jeynes-Cupper  OK    OK    NA  
1341/2359MODA 1.35.0  (landing page)Dong Li  OK    OK    NA  
1342/2359ModCon 1.17.0  (landing page)Johannes Ptok  OK    OK    NA  
1343/2359Modstrings 1.25.0  (landing page)Felix G.M. Ernst  OK    OK    NA  
1344/2359MOFA2 1.19.0  (landing page)Ricard Argelaguet  OK    ERROR  skipped
1345/2359MOGAMUN 1.19.0  (landing page)Elva-María Novoa-del-Toro  OK    OK    NA  
1346/2359mogsa 1.43.0  (landing page)Chen Meng  OK    OK    NA  
1347/2359MoleculeExperiment 1.9.0  (landing page)Shila Ghazanfar  OK    OK    NA  
1348/2359MOMA 1.21.0  (landing page)Sunny Jones  OK    OK    NA  
1349/2359monaLisa 1.15.3  (landing page)Michael Stadler  OK    ERROR  skipped
1350/2359monocle 2.37.0  (landing page)Cole Trapnell  OK    OK    NA  
1351/2359Moonlight2R 1.7.4  (landing page)Matteo Tiberti  OK    OK    NA  
1352/2359MoonlightR 1.35.0  (landing page)Matteo Tiberti  OK    OK    NA  
1353/2359mosaics 2.47.1  (landing page)Dongjun Chung  OK    OK    NA  
1354/2359mosbi 1.15.0  (landing page)Tim Daniel Rose  OK    ERROR  skipped
1355/2359MOSClip 1.3.3  (landing page)Paolo Martini  OK    OK    NA  
1356/2359mosdef 1.5.1  (landing page)Federico Marini  OK    OK    NA  
1357/2359MOSim 2.5.0  (landing page)Sonia Tarazona  OK    OK    NA  
1358/2359Motif2Site 1.13.0  (landing page)Peyman Zarrineh  OK    OK    NA  
1359/2359motifbreakR 2.23.0  (landing page)Simon Gert Coetzee  OK    OK    NA  
1360/2359motifcounter 1.33.0  (landing page)Wolfgang Kopp  OK    OK    NA  
1361/2359MotifDb 1.51.0  (landing page)Paul Shannon  OK    OK    NA  
1362/2359motifmatchr 1.31.1  (landing page)Alicia Schep  OK    OK    NA  
1363/2359MotifPeeker 1.1.3  (landing page)Hiranyamaya Dash  OK    OK    NA  
1364/2359motifStack 1.53.1  (landing page)Jianhong Ou  OK    OK    NA  
1365/2359motifTestR 1.5.6  (landing page)Stevie Pederson  OK    OK    NA  
1366/2359MouseFM 1.19.1  (landing page)Matthias Munz  OK    OK    NA  
1367/2359MPAC 1.3.1  (landing page)Peng Liu  OK    OK    NA  
1368/2359MPFE 1.45.0  (landing page)Conrad Burden  OK    OK    NA  
1369/2359mpra 1.31.0  (landing page)Leslie Myint  OK    OK    NA  
1370/2359MPRAnalyze 1.27.0  (landing page)Tal Ashuach  OK    OK    NA  
1371/2359msa 1.41.3  (landing page)Ulrich Bodenhofer  OK    OK    NA  
1372/2359MSA2dist 1.13.0  (landing page)Kristian K Ullrich  OK    OK    NA  
1373/2359MsBackendMassbank 1.17.1  (landing page)RforMassSpectrometry Package Maintainer  OK    OK    NA  
1374/2359MsBackendMetaboLights 1.3.1  (landing page)Johannes Rainer  OK    OK    NA  
1375/2359MsBackendMgf 1.17.0  (landing page)RforMassSpectrometry Package Maintainer  OK    OK    NA  
1376/2359MsBackendMsp 1.13.0  (landing page)Johannes Rainer  OK    OK    NA  
1377/2359MsBackendRawFileReader 1.15.1  (landing page)Christian Panse  OK    ERROR  skipped
1378/2359MsBackendSql 1.9.4  (landing page)Johannes Rainer  OK    OK    NA  
1379/2359MsCoreUtils 1.21.0  (landing page)RforMassSpectrometry Package Maintainer  OK    OK    NA  
1380/2359MsDataHub 1.9.0  (landing page)Laurent Gatto  OK    ERROR  skipped
1381/2359MsExperiment 1.11.1  (landing page)Laurent Gatto  OK    OK    NA  
1382/2359MsFeatures 1.17.1  (landing page)Johannes Rainer  OK    OK    NA  
1383/2359msgbsR 1.33.1  (landing page)Benjamin Mayne  OK    ERROR  skipped
1384/2359msImpute 1.19.0  (landing page)Soroor Hediyeh-zadeh  OK    OK    NA  
1385/2359mslp 1.11.0  (landing page)Chunxuan Shao  OK    OK    NA  
1386/2359msmsEDA 1.47.0  (landing page)Josep Gregori  OK    OK    NA  
1387/2359msmsTests 1.47.0  (landing page)Josep Gregori i Font  OK    OK    NA  
1388/2359MSnbase 2.35.2  (landing page)Laurent Gatto  OK    OK    NA  
1389/2359MSnID 1.43.0  (landing page)Vlad Petyuk  OK    OK    NA  
1390/2359mspms 1.1.0  (landing page)Charlie Bayne  OK    OK    NA  
1391/2359MSPrep 1.19.0  (landing page)Max McGrath  OK    OK    NA  
1392/2359msPurity 1.35.0  (landing page)Thomas N. Lawson  OK    OK    NA  
1393/2359msqrob2 1.17.1  (landing page)Lieven Clement  OK    OK    NA  
1394/2359MsQuality 1.9.2  (landing page)Thomas Naake  OK    OK    NA  
1395/2359MSstats 4.17.2  (landing page)Meena Choi  OK    OK    NA  
1396/2359MSstatsBig 1.7.0  (landing page)Mateusz Staniak  OK    OK    NA  
1397/2359MSstatsBioNet 1.1.7  (landing page)Anthony Wu  OK    OK    NA  
1398/2359MSstatsConvert 1.19.3  (landing page)Mateusz Staniak  OK    OK    NA  
1399/2359MSstatsLiP 1.15.3  (landing page)Anthony Wu  OK    OK    NA  
1400/2359MSstatsLOBD 1.17.0  (landing page)Devon Kohler  OK    OK    NA  
1401/2359MSstatsPTM 2.11.5  (landing page)Anthony Wu  OK    OK    NA  
1402/2359MSstatsQC 2.27.0  (landing page)Eralp Dogu  OK    OK    NA  
1403/2359MSstatsQCgui 1.29.0  (landing page)Eralp Dogu  OK    OK    NA  
1404/2359MSstatsResponse 0.99.2  (landing page)Sarah Szvetecz  OK    NA    NA  
1405/2359MSstatsShiny 1.11.6  (landing page)Anthony Wu  OK    OK    NA  
1406/2359MSstatsTMT 2.17.0  (landing page)Devon Kohler  OK    OK    NA  
1407/2359MuData 1.13.0  (landing page)Ilia Kats  OK    OK    NA  
1408/2359Mulcom 1.59.0  (landing page)Claudio Isella  OK    OK    NA  
1409/2359MultiAssayExperiment 1.35.9  (landing page)Marcel Ramos  OK    OK    NA  
1410/2359MultiBaC 1.19.0  (landing page)The package maintainer  OK    OK    NA  
1411/2359multiClust 1.39.0  (landing page)Nathan Lawlor  OK    OK    NA  
1412/2359multicrispr 1.19.1  (landing page)Aditya Bhagwat  OK    ERROR  skipped
1413/2359MultiDataSet 1.37.0  (landing page)Xavier Escribà Montagut  OK    OK    NA  
1414/2359multiGSEA 1.19.0  (landing page)Sebastian Canzler  OK    OK    NA  
1415/2359multiHiCcompare 1.27.0  (landing page)Mikhail Dozmorov  OK    OK    NA  
1416/2359MultiMed 2.31.0  (landing page)Simina M. Boca  OK    OK    NA  
1417/2359multiMiR 1.31.0  (landing page)Spencer Mahaffey  OK    OK    NA  
1418/2359MultimodalExperiment 1.9.0  (landing page)Lucas Schiffer  OK    OK    NA  
1419/2359MultiRNAflow 1.7.2  (landing page)Rodolphe Loubaton  OK    ERROR  skipped
1420/2359multiscan 1.69.0  (landing page)Mizanur Khondoker  OK    OK    NA  
1421/2359multistateQTL 2.1.2  (landing page)Amelia Dunstone  OK    OK    NA  
1422/2359multiWGCNA 1.7.0  (landing page)Dario Tommasini  OK    OK    NA  
1423/2359multtest 2.65.0  (landing page)Katherine S. Pollard  OK    OK    NA  
1424/2359mumosa 1.17.0  (landing page)Aaron Lun  OK    OK    NA  
1425/2359MungeSumstats 1.17.5  (landing page)Alan Murphy  OK    ERROR  skipped
1426/2359muscat 1.23.2  (landing page)Helena L. Crowell  OK    OK    NA  
1427/2359muscle 3.51.0  (landing page)Alex T. Kalinka  OK    OK    NA  
1428/2359musicatk 2.3.2  (landing page)Joshua D. Campbell  ERROR    ERROR  skipped
1429/2359MutationalPatterns 3.19.1  (landing page)Mark van Roosmalen  OK    OK    NA  
1430/2359mutscan 0.99.2  (landing page)Charlotte Soneson  OK    OK    NA  
1431/2359MVCClass 1.83.0  (landing page)Elizabeth Whalen  OK    OK    NA  
1432/2359MWASTools 1.33.0  (landing page)Andrea Rodriguez-Martinez , Rafael Ayala  OK    OK    NA  
1433/2359mygene 1.45.0  (landing page)Adam Mark, Cyrus Afrasiabi, Chunlei Wu  OK    OK    NA  
1434/2359myvariant 1.39.1  (landing page)Adam Mark, Chunlei Wu  OK    OK    NA  
1435/2359mzID 1.47.0  (landing page)Laurent Gatto  OK    OK    NA  
1436/2359mzR 2.43.3  (landing page)Steffen Neumann  OK    OK    NA  
N
ABCDEFGHIJKLMNOPQRSTUVWXYZ
PackageMaintainerINSTALLBUILDCHECKBUILD BIN
1437/2359NADfinder 1.33.0  (landing page)Jianhong Ou  OK    ERROR  skipped
1438/2359NanoMethViz 3.5.6  (landing page)Shian Su  OK    OK    NA  
1439/2359NanoStringDiff 1.39.0  (landing page)tingting zhai ,hong wang  OK    OK    NA  
1440/2359NanoStringNCTools 1.17.2  (landing page)Maddy Griswold  OK    OK    NA  
1441/2359NanoTube 1.15.0  (landing page)Caleb Class  OK    OK    NA  
1442/2359NBAMSeq 1.25.0  (landing page)Xu Ren  OK    OK    NA  
1443/2359ncdfFlow 2.55.0  (landing page)Mike Jiang  OK    OK    NA  
1444/2359ncGTW 1.23.0  (landing page)Chiung-Ting Wu  OK    OK    NA  
1445/2359NCIgraph 1.57.0  (landing page)Laurent Jacob  OK    OK    NA  
1446/2359ncRNAtools 1.19.0  (landing page)Lara Selles Vidal  OK    OK    NA  
1447/2359ndexr 1.31.0  (landing page)Florian Auer  OK    OK    NA  
1448/2359nearBynding 1.19.1  (landing page)Veronica Busa  OK    OK    NA  
1449/2359Nebulosa 1.19.0  (landing page)Jose Alquicira-Hernandez  OK    OK    NA  
1450/2359nempi 1.17.0  (landing page)Martin Pirkl  OK    OK    NA  
1451/2359NetActivity 1.11.0  (landing page)Carlos Ruiz-Arenas  OK    OK    NA  
1452/2359netboost 2.17.0  (landing page)Pascal Schlosser  OK    ERROR  skipped
1453/2359nethet 1.41.0  (landing page)Nicolas Staedler  OK    OK    NA  
1454/2359NetPathMiner 1.45.0  (landing page)Ahmed Mohamed  OK    OK    NA  
1455/2359netprioR 1.35.0  (landing page)Fabian Schmich  OK    OK    NA  
1456/2359netresponse 1.69.0  (landing page)Leo Lahti  OK    OK    NA  
1457/2359NetSAM 1.49.0  (landing page)Zhiao Shi  OK    OK    NA  
1458/2359netSmooth 1.29.0  (landing page)Jonathan Ronen  OK    OK    NA  
1459/2359netZooR 1.13.23  (landing page)Marouen Ben Guebila  ERROR    ERROR  skipped
1460/2359NewWave 1.19.0  (landing page)Federico Agostinis  OK    OK    NA  
1461/2359ngsReports 2.11.1  (landing page)Stevie Pederson  OK    OK    NA  
1462/2359nipalsMCIA 1.7.0  (landing page)Maximilian Mattessich  OK    ERROR  skipped
1463/2359nnNorm 2.73.0  (landing page)Adi Laurentiu Tarca  OK    OK    NA  
1464/2359nnSVG 1.13.1  (landing page)Lukas M. Weber  OK    OK    NA  
1465/2359NOISeq 2.53.0  (landing page)Sonia Tarazona  OK    OK    NA  
1466/2359nondetects 2.39.1  (landing page)Valeriia Sherina  OK    OK    NA  
1467/2359NoRCE 1.21.2  (landing page)Gulden Olgun  OK    OK    NA  
1468/2359normalize450K 1.37.0  (landing page)Jonathan Alexander Heiss  OK    OK    NA  
1469/2359NormalyzerDE 1.27.0  (landing page)Jakob Willforss  OK    OK    NA  
1470/2359NormqPCR 1.55.0  (landing page)James Perkins  OK    OK    NA  
1471/2359normr 1.35.0  (landing page)Johannes Helmuth  OK    OK    NA  
1472/2359notame 0.99.8  (landing page)Vilhelm Suksi  OK    OK    NA  
1473/2359notameStats 0.99.2  (landing page)Vilhelm Suksi  OK    OK    NA  
1474/2359notameViz 0.99.6  (landing page)Vilhelm Suksi  OK    OK    NA  
1475/2359NPARC 1.21.0  (landing page)Nils Kurzawa  OK    OK    NA  
1476/2359npGSEA 1.45.0  (landing page)Jessica Larson  OK    OK    NA  
1477/2359NTW 1.59.0  (landing page)Yuanhua Liu  OK    OK    NA  
1478/2359nucleoSim 1.37.0  (landing page)Astrid Deschênes  OK    OK    NA  
1479/2359nucleR 2.41.1  (landing page)Alba Sala  OK    OK    NA  
1480/2359nuCpos 1.27.0  (landing page)Hiroaki Kato  OK    OK    NA  
1481/2359nullranges 1.15.1  (landing page)Michael Love  OK    OK    NA  
1482/2359NuPoP 2.17.0  (landing page)Ji-Ping Wang  OK    OK    NA  
O
ABCDEFGHIJKLMNOPQRSTUVWXYZ
PackageMaintainerINSTALLBUILDCHECKBUILD BIN
1483/2359occugene 1.69.0  (landing page)Oliver Will  OK    OK    NA  
1484/2359OCplus 1.83.0  (landing page)Alexander Ploner  OK    OK    NA  
1485/2359octad 1.11.1  (landing page)E. Chekalin  OK    OK    NA  
1486/2359odseq 1.37.0  (landing page)José Jiménez  OK    OK    NA  
1487/2359OGRE 1.13.1  (landing page)Sven Berres  OK    OK    NA  
1488/2359oligo 1.73.0  (landing page)Benilton Carvalho  OK    OK    NA  
1489/2359oligoClasses 1.71.0  (landing page)Benilton Carvalho and Robert Scharpf  OK    OK    NA  
1490/2359OLIN 1.87.0  (landing page)Matthias Futschik  OK    OK    NA  
1491/2359OLINgui 1.83.0  (landing page)Matthias Futschik  OK    OK    NA  
1492/2359omada 1.11.0  (landing page)Sokratis Kariotis  OK    OK    NA  
1493/2359OmaDB 2.25.0  (landing page)Klara Kaleb , Adrian Altenhoff  OK    OK    NA  
1494/2359omicade4 1.49.0  (landing page)Chen Meng  OK    OK    NA  
1495/2359OmicCircos 1.47.0  (landing page)Ying Hu  OK    OK    NA  
1496/2359omicplotR 1.29.0  (landing page)Daniel Giguere  OK    OK    NA  
1497/2359omicRexposome 1.31.0  (landing page)Xavier Escribà Montagut  OK    OK    NA  
1498/2359OmicsMLRepoR 1.3.3  (landing page)Sehyun Oh  OK    OK    NA  
1499/2359OMICsPCA 1.27.1  (landing page)Subhadeep Das  OK    OK    NA  
1500/2359omicsPrint 1.29.0  (landing page)Davy Cats  OK    OK    NA  
1501/2359omicsViewer 1.13.2  (landing page)Chen Meng  OK    OK    NA  
1502/2359Omixer 1.19.0  (landing page)Lucy Sinke  OK    OK    NA  
1503/2359OmnipathR 3.17.6  (landing page)Denes Turei  OK    OK    NA  
1504/2359ompBAM 1.13.0  (landing page)Alex Chit Hei Wong  OK    OK    NA  
1505/2359omXplore 1.3.1  (landing page)Samuel Wieczorek  OK    OK    NA  
1506/2359oncomix 1.31.0  (landing page)Daniel Pique  OK    OK    NA  
1507/2359oncoscanR 1.11.1  (landing page)Yann Christinat  OK    OK    NA  
1508/2359OncoScore 1.37.1  (landing page)Luca De Sano  OK    OK    NA  
1509/2359OncoSimulR 4.11.1  (landing page)Ramon Diaz-Uriarte  OK    OK    NA  
1510/2359onlineFDR 2.17.0  (landing page)David S. Robertson  OK    OK    NA  
1511/2359ontoProc 2.3.11  (landing page)Vincent Carey  OK    ERROR  skipped
1512/2359openCyto 2.21.1  (landing page)Mike Jiang  OK    OK    NA  
1513/2359openPrimeR 1.31.1  (landing page)Matthias Döring  OK    OK    NA  
1514/2359OpenStats 1.21.0  (landing page)Marina Kan  OK    OK    NA  
1515/2359oposSOM 2.27.0  (landing page)Henry Loeffler-Wirth  OK    OK    NA  
1516/2359oppar 1.37.0  (landing page)Soroor Hediyeh zadeh  OK    OK    NA  
1517/2359oppti 1.23.1  (landing page)Abdulkadir Elmas  OK    ERROR  skipped
1518/2359optimalFlow 1.21.0  (landing page)Hristo Inouzhe  OK    OK    NA  
1519/2359OPWeight 1.31.0  (landing page)Mohamad Hasan  OK    OK    NA  
1520/2359OrderedList 1.81.0  (landing page)Claudio Lottaz  OK    OK    NA  
1521/2359ORFhunteR 1.17.0  (landing page)Vasily V. Grinev  OK    OK    NA  
1522/2359ORFik 1.29.9  (landing page)Haakon Tjeldnes  OK    OK    NA  
1523/2359Organism.dplyr 1.37.1  (landing page)Martin Morgan  OK    OK    NA  
1524/2359OrganismDbi 1.51.5  (landing page)Bioconductor Package Maintainer  OK    OK    NA  
1525/2359orthogene 1.15.02  (landing page)Brian Schilder  OK    OK    NA  
1526/2359orthos 1.7.4  (landing page)Panagiotis Papasaikas  OK    OK    NA  
1527/2359OSAT 1.57.0  (landing page)Li Yan  OK    OK    NA  
1528/2359Oscope 1.39.0  (landing page)Ning Leng  OK    OK    NA  
1529/2359OSTA.data 1.1.2  (landing page)Yixing E. Dong  OK    ERROR  skipped
1530/2359OTUbase 1.59.0  (landing page)Daniel Beck  OK    OK    NA  
1531/2359OUTRIDER 1.27.2  (landing page)Christian Mertes  OK    OK    NA  
1532/2359OutSplice 1.9.0  (landing page)Theresa Guo  OK    OK    NA  
1533/2359OVESEG 1.25.0  (landing page)Lulu Chen  OK    OK    NA  
P
ABCDEFGHIJKLMNOPQRSTUVWXYZ
PackageMaintainerINSTALLBUILDCHECKBUILD BIN
1534/2359PAA 1.43.0  (landing page)Michael Turewicz , Martin Eisenacher  OK    OK    NA  
1535/2359packFinder 1.21.0  (landing page)Jack Gisby  OK    OK    NA  
1536/2359padma 1.19.0  (landing page)Andrea Rau  OK    OK    NA  
1537/2359PADOG 1.51.0  (landing page)Adi L. Tarca  OK    OK    NA  
1538/2359pageRank 1.19.0  (landing page)Hongxu Ding  OK    OK    NA  
1539/2359PAIRADISE 1.25.0  (landing page)Qiang Hu , Levon Demirdjian  OK    OK    NA  
1540/2359paircompviz 1.47.0  (landing page)Michal Burda  OK    OK    NA  
1541/2359pairedGSEA 1.9.0  (landing page)Søren Helweg Dam  OK    OK    NA  
1542/2359pairkat 1.15.0  (landing page)Max McGrath  OK    OK    NA  
1543/2359pandaR 1.41.0  (landing page)Joseph N. Paulson , Dan Schlauch  OK    OK    NA  
1544/2359panelcn.mops 1.31.2  (landing page)Gundula Povysil  OK    OK    NA  
1545/2359PanomiR 1.13.0  (landing page)Pourya Naderi  OK    OK    NA  
1546/2359panp 1.79.0  (landing page)Peter Warren  OK    OK    NA  
1547/2359PANR 1.55.0  (landing page)Xin Wang  OK    OK    NA  
1548/2359parglms 1.41.0  (landing page)VJ Carey  OK    OK    NA  
1549/2359parody 1.67.0  (landing page)Vince Carey  OK    OK    NA  
1550/2359partCNV 1.7.0  (landing page)Ziyi Li  OK    OK    NA  
1551/2359PAST 1.25.0  (landing page)Thrash Adam  OK    OK    NA  
1552/2359Path2PPI 1.39.0  (landing page)Oliver Philipp  OK    OK    NA  
1553/2359pathifier 1.47.0  (landing page)Assif Yitzhaky  OK    OK    NA  
1554/2359pathlinkR 1.5.3  (landing page)Travis Blimkie  OK    OK    NA  
1555/2359pathMED 1.1.6  (landing page)Jordi Martorell-Marugán  OK    OK    NA  
1556/2359PathNet 1.49.0  (landing page)Ludwig Geistlinger  OK    OK    NA  
1557/2359PathoStat 1.35.0  (landing page)Solaiappan Manimaran  OK    OK    NA  
1558/2359pathRender 1.77.0  (landing page)Vince Carey  OK    OK    NA  
1559/2359pathview 1.49.0  (landing page)Weijun Luo  OK    OK    NA  
1560/2359pathwayPCA 1.25.0  (landing page)Gabriel Odom  OK    OK    NA  
1561/2359pcaExplorer 3.3.0  (landing page)Federico Marini  OK    OK    NA  
1562/2359pcaMethods 2.1.0  (landing page)Henning Redestig  OK    OK    NA  
1563/2359PCAN 1.37.0  (landing page)Matthew Page and Patrice Godard  OK    OK    NA  
1564/2359PCAtools 2.21.0  (landing page)Kevin Blighe  OK    OK    NA  
1565/2359PDATK 1.17.0  (landing page)Benjamin Haibe-Kains  OK    OK    NA  
1566/2359pdInfoBuilder 1.73.0  (landing page)Benilton Carvalho  OK    OK    NA  
1567/2359PeacoQC 1.19.0  (landing page)Annelies Emmaneel  OK    OK    NA  
1568/2359peakCombiner 0.99.603  (landing page)Markus Muckenhuber  OK    OK    NA  
1569/2359peakPantheR 1.23.3  (landing page)Arnaud Wolfer  OK    OK    NA  
1570/2359PECA 1.45.0  (landing page)Tomi Suomi  OK    OK    NA  
1571/2359peco 1.21.1  (landing page)Chiaowen Joyce Hsiao  OK    OK    NA  
1572/2359Pedixplorer 1.5.6  (landing page)Louis Le Nezet  OK    OK    NA  
1573/2359pengls 1.15.2  (landing page)Stijn Hawinkel  OK    OK    NA  
1574/2359PepSetTest 1.3.0  (landing page)Junmin Wang  OK    OK    NA  
1575/2359PepsNMR 1.27.0  (landing page)Manon Martin  OK    OK    NA  
1576/2359pepStat 1.43.0  (landing page)Gregory C Imholte  OK    OK    NA  
1577/2359pepXMLTab 1.43.0  (landing page)Xiaojing Wang  OK    OK    NA  
1578/2359periodicDNA 1.19.1  (landing page)Jacques Serizay  OK    OK    NA  
1579/2359pfamAnalyzeR 1.9.0  (landing page)Kristoffer Vitting-Seerup  OK    OK    NA  
1580/2359pgca 1.33.0  (landing page)Gabriela Cohen-Freue  OK    OK    NA  
1581/2359pgxRpi 1.5.5  (landing page)Hangjia Zhao  OK    ERROR  skipped
1582/2359phantasus 1.29.0  (landing page)Alexey Sergushichev  OK    OK    NA  
1583/2359phantasusLite 1.7.0  (landing page)Alexey Sergushichev  OK    OK    NA  
1584/2359PharmacoGx 3.13.2  (landing page)Benjamin Haibe-Kains  OK    OK    NA  
1585/2359PhenoGeneRanker 1.17.0  (landing page)Cagatay Dursun  OK    OK    NA  
1586/2359phenomis 1.11.0  (landing page)Etienne A. Thevenot  OK    OK    NA  
1587/2359phenopath 1.33.0  (landing page)Kieran Campbell  OK    OK    NA  
1588/2359phenoTest 1.57.0  (landing page)Evarist Planet  OK    OK    NA  
1589/2359PhenStat 2.45.1  (landing page)Hamed Haselimashhadi  OK    OK    NA  
1590/2359philr 1.35.0  (landing page)Justin Silverman  OK    OK    NA  
1591/2359PhIPData 1.17.0  (landing page)Athena Chen  OK    OK    NA  
1592/2359phosphonormalizer 1.33.0  (landing page)Sohrab Saraei  OK    OK    NA  
1593/2359PhosR 1.19.2  (landing page)Di Xiao  OK    OK    NA  
1594/2359PhyloProfile 2.1.13  (landing page)Vinh Tran  OK    OK    NA  
1595/2359phyloseq 1.53.0  (landing page)Paul J. McMurdie  OK    OK    NA  
1596/2359piano 2.25.0  (landing page)Leif Varemo Wigge  OK    OK    NA  
1597/2359PICB 1.1.1  (landing page)Franziska Ahrend  OK    OK    NA  
1598/2359pickgene 1.81.0  (landing page)Brian S. Yandell  OK    OK    NA  
1599/2359Pigengene 1.35.0  (landing page)Habil Zare  OK    OK    NA  
1600/2359pipeComp 1.19.0  (landing page)Pierre-Luc Germain  OK    OK    NA  
1601/2359pipeFrame 1.25.1  (landing page)Zheng Wei  OK    OK    NA  
1602/2359PIPETS 1.5.0  (landing page)Quinlan Furumo  OK    OK    NA  
1603/2359Pirat 1.3.6  (landing page)Lucas Etourneau  OK    ERROR  skipped
1604/2359PIUMA 1.5.0  (landing page)Mattia Chiesa  OK    ERROR  skipped
1605/2359planet 1.17.0  (landing page)Victor Yuan  OK    OK    NA  
1606/2359planttfhunter 1.9.0  (landing page)Fabrício Almeida-Silva  OK    OK    NA  
1607/2359plasmut 1.7.0  (landing page)Adith Arun  OK    OK    NA  
1608/2359plgem 1.81.0  (landing page)Norman Pavelka  OK    OK    NA  
1609/2359plier 1.79.0  (landing page)Crispin Miller  OK    OK    NA  
1610/2359plotgardener 1.15.1  (landing page)Nicole Kramer  OK    OK    NA  
1611/2359plotGrouper 1.27.0  (landing page)John D. Gagnon  OK    OK    NA  
1612/2359PLPE 1.69.0  (landing page)Soo-heang Eo  OK    OK    NA  
1613/2359PLSDAbatch 1.5.0  (landing page)Yiwen (Eva) Wang  OK    OK    NA  
1614/2359plyinteractions 1.7.1  (landing page)Jacques Serizay  OK    ERROR  skipped
1615/2359plyranges 1.29.1  (landing page)Michael Love  OK    OK    NA  
1616/2359plyxp 1.3.11  (landing page)Justin Landis  OK    OK    NA  
1617/2359pmm 1.41.0  (landing page)Anna Drewek  OK    OK    NA  
1618/2359pmp 1.21.0  (landing page)Gavin Rhys Lloyd  OK    OK    NA  
1619/2359PMScanR 0.99.6  (landing page)Jan Pawel Jastrzebski  OK    OK    NA  
1620/2359PoDCall 1.17.1  (landing page)Hans Petter Brodal  OK    OK    NA  
1621/2359podkat 1.41.1  (landing page)Ulrich Bodenhofer  OK    ERROR  skipped
1622/2359poem 1.1.2  (landing page)Siyuan Luo  OK    OK    NA  
1623/2359pogos 1.29.0  (landing page)VJ Carey  OK    OK    NA  
1624/2359PolySTest 1.3.1  (landing page)Veit Schwämmle  OK    OK    NA  
1625/2359Polytect 1.1.0  (landing page)Yao Chen  OK    OK    NA  
1626/2359POMA 1.19.0  (landing page)Pol Castellano-Escuder  OK    OK    NA  
1627/2359powerTCR 1.29.0  (landing page)Hillary Koch  OK    OK    NA  
1628/2359POWSC 1.17.1  (landing page)Kenong Su  OK    OK    NA  
1629/2359ppcseq 1.17.0  (landing page)Stefano Mangiola  OK    ERROR  skipped
1630/2359PPInfer 1.35.0  (landing page)Dongmin Jung  OK    OK    NA  
1631/2359pqsfinder 2.25.0  (landing page)Jiri Hon  ERROR    ERROR  skipped
1632/2359pram 1.25.1  (landing page)Peng Liu  OK    OK    NA  
1633/2359prebs 1.49.1  (landing page)Karolis Uziela  OK    OK    NA  
1634/2359preciseTAD 1.19.0  (landing page)Mikhail Dozmorov  OK    OK    NA  
1635/2359PREDA 1.55.0  (landing page)Francesco Ferrari  OK    OK    NA  
1636/2359preprocessCore 1.71.2  (landing page)Ben Bolstad  OK    OK    NA  
1637/2359primirTSS 1.27.0  (landing page)Pumin Li  OK    OK    NA  
1638/2359PrInCE 1.25.0  (landing page)Michael Skinnider  OK    OK    NA  
1639/2359proActiv 1.19.3  (landing page)Joseph Lee  OK    OK    NA  
1640/2359proBAMr 1.43.1  (landing page)Xiaojing Wang  OK    OK    NA  
1641/2359PROcess 1.85.0  (landing page)Xiaochun Li  OK    OK    NA  
1642/2359procoil 2.37.1  (landing page)Ulrich Bodenhofer  OK    OK    NA  
1643/2359proDA 1.23.0  (landing page)Constantin Ahlmann-Eltze  OK    OK    NA  
1644/2359profileplyr 1.25.1  (landing page)Tom Carroll , Doug Barrows  OK    OK    NA  
1645/2359profileScoreDist 1.37.0  (landing page)Paal O. Westermark  OK    OK    NA  
1646/2359progeny 1.31.0  (landing page)Aurélien Dugourd  OK    OK    NA  
1647/2359projectR 1.25.0  (landing page)Genevieve Stein-O'Brien  OK    OK    NA  
1648/2359pRoloc 1.49.3  (landing page)Lisa Breckels  OK    OK    NA  
1649/2359pRolocGUI 2.19.0  (landing page)Lisa Breckels  OK    OK    NA  
1650/2359PROMISE 1.61.0  (landing page)Stan Pounds , Xueyuan Cao  OK    OK    NA  
1651/2359PRONE 1.3.2  (landing page)Lis Arend  OK    OK    NA  
1652/2359PROPER 1.41.0  (landing page)Hao Wu  OK    OK    NA  
1653/2359PROPS 1.31.0  (landing page)Lichy Han  OK    OK    NA  
1654/2359Prostar 1.41.0  (landing page)Samuel Wieczorek  OK    OK    NA  
1655/2359proteinProfiles 1.49.0  (landing page)Julian Gehring  OK    OK    NA  
1656/2359ProteoDisco 1.15.1  (landing page)Job van Riet  OK    TIMEOUT  skipped
1657/2359ProteoMM 1.27.0  (landing page)Yuliya V Karpievitch  OK    OK    NA  
1658/2359protGear 1.13.0  (landing page)Kennedy Mwai  OK    OK    NA  
1659/2359ProtGenerics 1.41.0  (landing page)Laurent Gatto  OK    OK    NA  
1660/2359psichomics 1.35.0  (landing page)Nuno Saraiva-Agostinho  OK    OK    NA  
1661/2359PSMatch 1.13.2  (landing page)Laurent Gatto  OK    OK    NA  
1662/2359ptairMS 1.17.0  (landing page)camille Roquencourt  OK    OK    NA  
1663/2359puma 3.51.0  (landing page)Xuejun Liu  OK    OK    NA  
1664/2359PureCN 2.15.4  (landing page)Markus Riester  OK    OK    NA  
1665/2359pvac 1.57.0  (landing page)Jun Lu , Pierre R. Bushel  OK    OK    NA  
1666/2359pvca 1.49.0  (landing page)Jianying LI  OK    OK    NA  
1667/2359Pviz 1.43.0  (landing page)Renan Sauteraud  OK    OK    NA  
1668/2359pwalign 1.5.0  (landing page)Hervé Pagès  OK    OK    NA  
1669/2359PWMEnrich 4.45.0  (landing page)Diego Diez  OK    OK    NA  
Q
ABCDEFGHIJKLMNOPQRSTUVWXYZ
PackageMaintainerINSTALLBUILDCHECKBUILD BIN
1670/2359qckitfastq 1.25.1  (landing page)August Guang  ERROR    ERROR  skipped
1671/2359qcmetrics 1.47.0  (landing page)Laurent Gatto  OK    OK    NA  
1672/2359QDNAseq 1.45.1  (landing page)Daoud Sie  OK    OK    NA  
1673/2359QFeatures 1.19.4  (landing page)Laurent Gatto  OK    OK    NA  
1674/2359qmtools 1.13.0  (landing page)Jaehyun Joo  OK    OK    NA  
1675/2359qpcrNorm 1.67.0  (landing page)Jessica Mar  OK    OK    NA  
1676/2359qpgraph 2.43.1  (landing page)Robert Castelo  OK    OK    NA  
1677/2359qPLEXanalyzer 1.27.0  (landing page)Ashley Sawle  OK    ERROR  skipped
1678/2359QRscore 1.1.1  (landing page)Fanding Zhou  OK    OK    NA  
1679/2359qsea 1.35.1  (landing page)Matthias Lienhard  OK    OK    NA  
1680/2359qsmooth 1.25.0  (landing page)Stephanie C. Hicks  OK    OK    NA  
1681/2359QSutils 1.27.0  (landing page)Mercedes Guerrero-Murillo  OK    OK    NA  
1682/2359qsvaR 1.13.3  (landing page)Nicholas J. Eagles  OK    OK    NA  
1683/2359QTLExperiment 2.1.2  (landing page)Amelia Dunstone  OK    OK    NA  
1684/2359Qtlizer 1.23.0  (landing page)Matthias Munz  OK    OK    NA  
1685/2359quantiseqr 1.17.0  (landing page)Federico Marini  OK    OK    NA  
1686/2359quantro 1.43.0  (landing page)Stephanie Hicks  OK    OK    NA  
1687/2359quantsmooth 1.75.0  (landing page)Jan Oosting  OK    OK    NA  
1688/2359QuasR 1.49.3  (landing page)Michael Stadler  OK    OK    NA  
1689/2359QuaternaryProd 1.43.0  (landing page)Carl Tony Fakhry  OK    OK    NA  
1690/2359QUBIC 1.37.0  (landing page)Yu Zhang  OK    OK    NA  
1691/2359qusage 2.43.0  (landing page)Christopher Bolen  OK    OK    NA  
1692/2359qvalue 2.41.0  (landing page)John D. Storey , Andrew J. Bass  OK    OK    NA  
R
ABCDEFGHIJKLMNOPQRSTUVWXYZ
PackageMaintainerINSTALLBUILDCHECKBUILD BIN
1693/2359R3CPET 1.41.0  (landing page)Mohamed Nadhir Djekidel  OK    OK    NA  
1694/2359r3Cseq 1.55.1  (landing page)Supat Thongjuea or  OK    OK    NA  
1695/2359R453Plus1Toolbox 1.59.0  (landing page)Hans-Ulrich Klein  OK    ERROR  skipped
1696/2359R4RNA 1.37.0  (landing page)Daniel Lai  OK    OK    NA  
1697/2359RadioGx 2.13.0  (landing page)Benjamin Haibe-Kains  OK    OK    NA  
1698/2359raer 1.7.2  (landing page)Kent Riemondy  OK    OK    NA  
1699/2359RaggedExperiment 1.33.7  (landing page)Marcel Ramos  OK    OK    NA  
1700/2359RAIDS 1.7.3  (landing page)Pascal Belleau  OK    OK    NA  
1701/2359rain 1.43.0  (landing page)Paul F. Thaben  OK    OK    NA  
1702/2359ramr 1.17.1  (landing page)Oleksii Nikolaienko  OK    OK    NA  
1703/2359ramwas 1.33.0  (landing page)Andrey A Shabalin  OK    OK    NA  
1704/2359randPack 1.55.0  (landing page)Robert Gentleman  OK    OK    NA  
1705/2359randRotation 1.21.0  (landing page)Peter Hettegger  OK    OK    NA  
1706/2359RankProd 3.35.0  (landing page)Francesco Del Carratore  OK    OK    NA  
1707/2359RAREsim 1.13.0  (landing page)Ryan Barnard  OK    OK    NA  
1708/2359RareVariantVis 2.37.0  (landing page)Tomasz Stokowy  OK    OK    NA  
1709/2359Rarr 1.9.18  (landing page)Hugo Gruson  OK    OK    NA  
1710/2359rawDiag 1.5.3  (landing page)Christian Panse  OK    ERROR  skipped
1711/2359rawrr 1.17.13  (landing page)Christian Panse  OK    ERROR  skipped
1712/2359RbcBook1 1.77.0  (landing page)Vince Carey  OK    OK    NA  
1713/2359Rbec 1.17.0  (landing page)Pengfan Zhang  ERROR    ERROR  skipped
1714/2359RBGL 1.85.0  (landing page)Bioconductor Package Maintainer  OK    OK    NA  
1715/2359RBioFormats 1.9.0  (landing page)Andrzej Oleś  OK    OK    NA  
1716/2359rBiopaxParser 2.49.0  (landing page)Frank Kramer  OK    OK    NA  
1717/2359rBLAST 1.5.0  (landing page)Michael Hahsler  OK    OK    NA  
1718/2359RBM 1.41.0  (landing page)Dongmei Li  OK    OK    NA  
1719/2359Rbowtie 1.49.0  (landing page)Michael Stadler  OK    OK    NA  
1720/2359Rbowtie2 2.15.0  (landing page)Zheng Wei  OK    OK    NA  
1721/2359RbowtieCuda 1.1.10  (landing page)Franck RICHARD... NOT SUPPORTED ...
1722/2359rbsurv 2.67.0  (landing page)Soo-heang Eo  OK    OK    NA  
1723/2359Rbwa 1.13.0  (landing page)Jean-Philippe Fortin  OK    OK    NA  
1724/2359RCAS 1.35.0  (landing page)Bora Uyar  OK    OK    NA  
1725/2359RCASPAR 1.55.0  (landing page)Douaa Mugahid , Lars Kaderali  OK    OK    NA  
1726/2359rcellminer 2.31.1  (landing page)Augustin Luna , Vinodh Rajapakse  OK    OK    NA  
1727/2359rCGH 1.39.1  (landing page)Frederic Commo  OK    OK    NA  
1728/2359RcisTarget 1.29.0  (landing page)Gert Hulselmans  OK    OK    NA  
1729/2359RCM 1.25.1  (landing page)Stijn Hawinkel  OK    OK    NA  
1730/2359Rcollectl 1.9.0  (landing page)Vincent Carey  OK    ERROR  skipped
1731/2359Rcpi 1.45.0  (landing page)Nan Xiao  OK    OK    NA  
1732/2359RCSL 1.17.0  (landing page)Qinglin Mei  OK    OK    NA  
1733/2359Rcwl 1.25.0  (landing page)Qiang Hu  OK    OK    NA  
1734/2359RcwlPipelines 1.25.0  (landing page)Qiang Hu  OK    OK    NA  
1735/2359RCX 1.13.1  (landing page)Florian Auer  OK    OK    NA  
1736/2359RCy3 2.29.2  (landing page)Alex Pico  OK    OK    NA  
1737/2359RCyjs 2.31.0  (landing page)Paul Shannon  OK    OK    NA  
1738/2359Rdisop 1.69.2  (landing page)Steffen Neumann  OK    OK    NA  
1739/2359RDRToolbox 1.59.0  (landing page)Christoph Bartenhagen  OK    OK    NA  
1740/2359ReactomeGraph4R 1.17.1  (landing page)Chi-Lam Poon  ERROR    ERROR  skipped
1741/2359ReactomeGSA 1.23.0  (landing page)Johannes Griss  OK    OK    NA  
1742/2359ReactomePA 1.53.0  (landing page)Guangchuang Yu  OK    OK    NA  
1743/2359ReadqPCR 1.55.0  (landing page)James Perkins  OK    OK    NA  
1744/2359REBET 1.27.0  (landing page)Bill Wheeler  OK    OK    NA  
1745/2359rebook 1.19.0  (landing page)Aaron Lun  OK    OK    NA  
1746/2359receptLoss 1.21.0  (landing page)Daniel Pique  OK    OK    NA  
1747/2359reconsi 1.21.0  (landing page)Stijn Hawinkel  OK    OK    NA  
1748/2359recount 1.35.0  (landing page)Leonardo Collado-Torres  OK    OK    NA  
1749/2359recount3 1.19.3  (landing page)Leonardo Collado-Torres  OK    OK    NA  
1750/2359recountmethylation 1.19.0  (landing page)Sean K Maden  OK    OK    NA  
1751/2359recoup 1.37.1  (landing page)Panagiotis Moulos  OK    OK    NA  
1752/2359RedeR 3.5.0  (landing page)Mauro Castro  OK    OK    NA  
1753/2359RedisParam 1.11.0  (landing page)Martin Morgan  OK    OK    NA  
1754/2359REDseq 1.55.0  (landing page)Lihua Julie Zhu  OK    OK    NA  
1755/2359ReducedExperiment 1.1.2  (landing page)Jack Gisby  OK    OK    NA  
1756/2359RegEnrich 1.19.0  (landing page)Weiyang Tao  OK    ERROR  skipped
1757/2359regionalpcs 1.7.0  (landing page)Tiffany Eulalio  OK    OK    NA  
1758/2359RegionalST 1.7.1  (landing page)Ziyi Li  OK    OK    NA  
1759/2359regioneR 1.41.3  (landing page)Bernat Gel  OK    OK    NA  
1760/2359regioneReloaded 1.11.0  (landing page)Roberto Malinverni  OK    OK    NA  
1761/2359regionReport 1.43.1  (landing page)Leonardo Collado-Torres  OK    OK    NA  
1762/2359regsplice 1.35.0  (landing page)Lukas M. Weber  OK    OK    NA  
1763/2359regutools 1.21.0  (landing page)Joselyn Chavez  OK    OK    NA  
1764/2359REMP 1.33.1  (landing page)Yinan Zheng  OK    ERROR  skipped
1765/2359Repitools 1.55.2  (landing page)Mark Robinson  OK    OK    NA  
1766/2359ReportingTools 2.49.0  (landing page)Jason A. Hackney , Gabriel Becker  OK    OK    NA  
1767/2359RepViz 1.25.0  (landing page)Thomas Faux, Asta Laiho   OK    ERROR  skipped
1768/2359ResidualMatrix 1.19.0  (landing page)Aaron Lun  OK    OK    NA  
1769/2359RESOLVE 1.11.2  (landing page)Luca De Sano  OK    ERROR  skipped
1770/2359retrofit 1.9.0  (landing page)Adam Park  OK    OK    NA  
1771/2359ReUseData 1.9.0  (landing page)Qian Liu  OK    OK    NA  
1772/2359rexposome 1.31.0  (landing page)Xavier Escribà Montagut  OK    OK    NA  
1773/2359rfaRm 1.21.0  (landing page)Lara Selles Vidal  OK    OK    NA  
1774/2359Rfastp 1.19.1  (landing page)Thomas Carroll  ERROR    ERROR  skipped
1775/2359RFLOMICS 1.1.4  (landing page)Nadia Bessoltane  OK    OK    NA  
1776/2359rfPred 1.47.1  (landing page)Hugo Varet  OK    OK    NA  
1777/2359rGADEM 2.57.1  (landing page)Arnaud Droit  ERROR    ERROR  skipped
1778/2359rGenomeTracks 1.15.0  (landing page)Omar Elashkar  OK    OK    NA  
1779/2359RgnTX 1.11.1  (landing page)Yue Wang  OK    ERROR  skipped
1780/2359rgoslin 1.13.0  (landing page)Nils Hoffmann  OK    OK    NA  
1781/2359RGraph2js 1.37.0  (landing page)Stephane Cano  OK    OK    NA  
1782/2359Rgraphviz 2.53.0  (landing page)Kasper Daniel Hansen  OK    OK    NA  
1783/2359rGREAT 2.11.0  (landing page)Zuguang Gu  OK    OK    NA  
1784/2359RGSEA 1.43.0  (landing page)Chengcheng Ma  OK    OK    NA  
1785/2359rgsepd 1.41.0  (landing page)Karl Stamm  OK    OK    NA  
1786/2359rhdf5 2.53.6  (landing page)Hugo Gruson  OK    OK    NA  
1787/2359rhdf5client 1.31.2  (landing page)Alexey Sergushichev  OK    OK    NA  
1788/2359rhdf5filters 1.21.4  (landing page)Hugo Gruson  OK    OK    NA  
1789/2359Rhdf5lib 1.31.1  (landing page)Hugo Gruson  OK    OK    NA  
1790/2359rhinotypeR 1.3.1  (landing page)Martha Luka  OK    ERROR  skipped
1791/2359Rhisat2 1.25.0  (landing page)Charlotte Soneson  OK    OK    NA  
1792/2359Rhtslib 3.5.1  (landing page)Hervé Pagès  OK    OK    NA  
1793/2359RiboCrypt 1.15.4  (landing page)Michal Swirski  OK    OK    NA  
1794/2359RiboDiPA 1.17.1  (landing page)Ji-Ping Wang  OK    OK    NA  
1795/2359RiboProfiling 1.39.1  (landing page)A. Popa  OK    ERROR  skipped
1796/2359ribor 1.21.0  (landing page)Michael Geng  OK    OK    NA  
1797/2359riboSeqR 1.43.1  (landing page)Samuel Granjeaud  OK    OK    NA  
1798/2359ribosomeProfilingQC 1.21.2  (landing page)Jianhong Ou  OK    OK    NA  
1799/2359rifi 1.13.1  (landing page)Jens Georg  OK    OK    NA  
1800/2359rifiComparative 1.9.0  (landing page)Loubna Youssar  OK    OK    NA  
1801/2359Rigraphlib 1.1.2  (landing page)Aaron Lun  OK    OK    NA  
1802/2359rigvf 1.1.3  (landing page)Michael Love  OK    OK    NA  
1803/2359RImmPort 1.37.0  (landing page)Zicheng Hu , Ravi Shankar  OK    OK    NA  
1804/2359RITAN 1.33.0  (landing page)Michael Zimmermann  OK    OK    NA  
1805/2359RIVER 1.33.0  (landing page)Yungil Kim  OK    OK    NA  
1806/2359RJMCMCNucleosomes 1.33.2  (landing page)Astrid Deschênes  OK    OK    NA  
1807/2359RLassoCox 1.17.0  (landing page)Wei Liu  OK    OK    NA  
1808/2359RLMM 1.71.0  (landing page)Nusrat Rabbee  OK    OK    NA  
1809/2359Rmagpie 1.65.0  (landing page)Camille Maumet  OK    OK    NA  
1810/2359RMassBank 3.19.0  (landing page)RMassBank at Eawag  OK    OK    NA  
1811/2359rmelting 1.25.0  (landing page)J. Aravind  OK    OK    NA  
1812/2359Rmmquant 1.27.0  (landing page)Zytnicki Matthias  OK    OK    NA  
1813/2359rmspc 1.15.0  (landing page)Meriem Bahda  OK    OK    NA  
1814/2359RNAAgeCalc 1.21.0  (landing page)Xu Ren  OK    OK    NA  
1815/2359RNAdecay 1.29.0  (landing page)Reed Sorenson  OK    ERROR  skipped
1816/2359rnaEditr 1.19.2  (landing page)Lanyu Zhang  OK    OK    NA  
1817/2359RNAmodR 1.23.2  (landing page)Felix G.M. Ernst  OK    OK    NA  
1818/2359RNAmodR.AlkAnilineSeq 1.23.1  (landing page)Felix G.M. Ernst  OK    OK    NA  
1819/2359RNAmodR.ML 1.23.0  (landing page)Felix G.M. Ernst  OK    OK    NA  
1820/2359RNAmodR.RiboMethSeq 1.23.1  (landing page)Felix G.M. Ernst  OK    OK    NA  
1821/2359RNAsense 1.23.0  (landing page)Marcus Rosenblatt  OK    OK    NA  
1822/2359rnaseqcomp 1.39.0  (landing page)Mingxiang Teng  OK    OK    NA  
1823/2359RNAseqCovarImpute 1.7.0  (landing page)Brennan Baker  OK    OK    NA  
1824/2359RNASeqPower 1.49.0  (landing page)Terry M Therneau  OK    OK    NA  
1825/2359RnaSeqSampleSize 2.19.0  (landing page)Shilin Zhao Developer  OK    OK    NA  
1826/2359RnBeads 2.27.2  (landing page)Fabian Mueller  OK    OK    NA  
1827/2359Rnits 1.43.0  (landing page)Dipen P. Sangurdekar  OK    OK    NA  
1828/2359roar 1.45.0  (landing page)Elena Grassi  OK    OK    NA  
1829/2359roastgsa 1.7.0  (landing page)Adria Caballe  OK    OK    NA  
1830/2359ROC 1.85.0  (landing page)Vince Carey  OK    OK    NA  
1831/2359ROCpAI 1.21.0  (landing page)Juan-Pedro Garcia  OK    OK    NA  
1832/2359RolDE 1.13.0  (landing page)Medical Bioinformatics Centre  OK    OK    NA  
1833/2359rols 3.5.0  (landing page)Laurent Gatto  OK    ERROR  skipped
1834/2359ROntoTools 2.37.0  (landing page)Sorin Draghici  OK    OK    NA  
1835/2359ropls 1.41.0  (landing page)Etienne A. Thevenot  OK    OK    NA  
1836/2359ROSeq 1.21.0  (landing page)Krishan Gupta  OK    OK    NA  
1837/2359ROTS 2.1.1  (landing page)Tomi Suomi  OK    OK    NA  
1838/2359RPA 1.65.0  (landing page)Leo Lahti  OK    OK    NA  
1839/2359rprimer 1.13.0  (landing page)Sofia Persson  OK    OK    NA  
1840/2359RProtoBufLib 2.21.0  (landing page)Mike Jiang  OK    OK    NA  
1841/2359rpx 2.17.0  (landing page)Laurent Gatto  OK    OK    NA  
1842/2359Rqc 1.43.0  (landing page)Welliton Souza  OK    OK    NA  
1843/2359rqt 1.35.0  (landing page)Ilya Zhbannikov  OK    OK    NA  
1844/2359rqubic 1.55.0  (landing page)Jitao David Zhang  OK    OK    NA  
1845/2359rRDP 1.43.1  (landing page)Michael Hahsler  OK    OK    NA  
1846/2359RRHO 1.49.0  (landing page)Jonathan Rosenblatt  OK    OK    NA  
1847/2359rrvgo 1.21.5  (landing page)Sergi Sayols  OK    OK    NA  
1848/2359Rsamtools 2.25.3  (landing page)Bioconductor Package Maintainer  OK    OK    NA  
1849/2359rsbml 2.67.0  (landing page)Michael Lawrence  ERROR    ERROR  skipped
1850/2359rScudo 1.25.0  (landing page)Matteo Ciciani  OK    OK    NA  
1851/2359rsemmed 1.19.0  (landing page)Leslie Myint  OK    OK    NA  
1852/2359RSeqAn 1.29.0  (landing page)August Guang  OK    OK    NA  
1853/2359Rsubread 2.23.8  (landing page)Wei Shi , Yang Liao and Gordon K Smyth  OK    OK    NA  
1854/2359RSVSim 1.49.0  (landing page)Christoph Bartenhagen  OK    OK    NA  
1855/2359rSWeeP 1.21.0  (landing page)Camila P Perico  OK    OK    NA  
1856/2359RTCA 1.61.0  (landing page)Jitao David Zhang  OK    OK    NA  
1857/2359RTCGA 1.39.0  (landing page)Marcin Kosinski  OK    OK    NA  
1858/2359RTCGAToolbox 2.39.1  (landing page)Marcel Ramos  OK    OK    NA  
1859/2359RTN 2.33.0  (landing page)Mauro Castro  OK    OK    NA  
1860/2359RTNduals 1.33.0  (landing page)Mauro Castro , Clarice Groeneveld  OK    OK    NA  
1861/2359RTNsurvival 1.33.1  (landing page)Clarice Groeneveld , Mauro A. A. Castro  OK    OK    NA  
1862/2359RTopper 1.55.0  (landing page)Luigi Marchionni  OK    OK    NA  
1863/2359Rtpca 1.19.1  (landing page)Nils Kurzawa  OK    OK    NA  
1864/2359rtracklayer 1.69.1  (landing page)Michael Lawrence  OK    OK    NA  
1865/2359rTRM 1.47.0  (landing page)Diego Diez  OK    OK    NA  
1866/2359rTRMui 1.47.0  (landing page)Diego Diez  OK    OK    NA  
1867/2359RUCova 1.1.0  (landing page)Rosario Astaburuaga-García  OK    OK    NA  
1868/2359runibic 1.31.0  (landing page)Patryk Orzechowski  OK    OK    NA  
1869/2359RUVcorr 1.41.0  (landing page)Saskia Freytag  OK    OK    NA  
1870/2359RUVnormalize 1.43.0  (landing page)Laurent Jacob  OK    OK    NA  
1871/2359RUVSeq 1.43.0  (landing page)Davide Risso  OK    OK    NA  
1872/2359Rvisdiff 1.7.1  (landing page)David Barrios  OK    OK    NA  
1873/2359RVS 1.31.0  (landing page)Alexandre Bureau  OK    OK    NA  
1874/2359rWikiPathways 1.29.2  (landing page)Egon Willighagen  OK    OK    NA  
S
ABCDEFGHIJKLMNOPQRSTUVWXYZ
PackageMaintainerINSTALLBUILDCHECKBUILD BIN
1875/2359S4Arrays 1.9.1  (landing page)Hervé Pagès  OK    OK    NA  
1876/2359S4Vectors 0.47.4  (landing page)Hervé Pagès  OK    OK    NA  
1877/2359safe 3.49.0  (landing page)Ludwig Geistlinger  OK    OK    NA  
1878/2359sagenhaft 1.79.0  (landing page)Tim Beissbarth  OK    OK    NA  
1879/2359SAIGEgds 2.9.3  (landing page)Xiuwen Zheng  OK    OK    NA  
1880/2359sampleClassifier 1.33.0  (landing page)Khadija El Amrani  OK    OK    NA  
1881/2359SamSPECTRAL 1.63.0  (landing page)Habil  OK    OK    NA  
1882/2359sangeranalyseR 1.19.0  (landing page)Kuan-Hao Chao  ERROR    ERROR  skipped
1883/2359sangerseqR 1.45.0  (landing page)Jonathon Hill  OK    OK    NA  
1884/2359SanityR 0.99.3  (landing page)Teo Sakel  OK    OK    NA  
1885/2359SANTA 2.45.0  (landing page)Alex Cornish  OK    OK    NA  
1886/2359SARC 1.7.1  (landing page)Krutik Patel  OK    OK    NA  
1887/2359sarks 1.21.0  (landing page)Dennis Wylie  OK    OK    NA  
1888/2359saseR 1.5.1  (landing page)Alexandre Segers  OK    OK    NA  
1889/2359satuRn 1.17.0  (landing page)Jeroen Gilis  OK    OK    NA  
1890/2359SBGNview 1.23.0  (landing page)Weijun Luo  OK    OK    NA  
1891/2359SBMLR 2.5.0  (landing page)Tomas Radivoyevitch  OK    OK    NA  
1892/2359SC3 1.37.0  (landing page)Vladimir Kiselev  OK    OK    NA  
1893/2359scafari 0.99.12  (landing page)Sophie Wind  OK    OK    NA  
1894/2359Scale4C 1.31.1  (landing page)Carolin Walter  OK    OK    NA  
1895/2359ScaledMatrix 1.17.0  (landing page)Aaron Lun  OK    OK    NA  
1896/2359SCAN.UPC 2.51.0  (landing page)Stephen R. Piccolo  OK    OK    NA  
1897/2359scanMiR 1.15.1  (landing page)Pierre-Luc Germain  OK    OK    NA  
1898/2359scanMiRApp 1.15.1  (landing page)Pierre-Luc Germain  OK    OK    NA  
1899/2359scAnnotatR 1.15.0  (landing page)Johannes Griss  OK    OK    NA  
1900/2359SCANVIS 1.23.0  (landing page)Phaedra Agius  OK    OK    NA  
1901/2359SCArray 1.17.0  (landing page)Xiuwen Zheng  OK    OK    NA  
1902/2359SCArray.sat 1.9.0  (landing page)Xiuwen Zheng  OK    OK    NA  
1903/2359scater 1.37.0  (landing page)Alan O'Callaghan  OK    OK    NA  
1904/2359scatterHatch 1.15.0  (landing page)Atul Deshpande  OK    OK    NA  
1905/2359scBFA 1.23.0  (landing page)Ruoxin Li  OK    OK    NA  
1906/2359SCBN 1.27.0  (landing page)Yan Zhou  OK    OK    NA  
1907/2359scBubbletree 1.11.0  (landing page)Simo Kitanovski  OK    OK    NA  
1908/2359scCB2 1.19.0  (landing page)Zijian Ni  OK    OK    NA  
1909/2359scClassify 1.21.0  (landing page)Yingxin Lin  OK    OK    NA  
1910/2359sccomp 2.1.18  (landing page)Stefano Mangiola  OK    OK    NA  
1911/2359scDataviz 1.19.1  (landing page)Kevin Blighe  OK    OK    NA  
1912/2359scDblFinder 1.23.9  (landing page)Pierre-Luc Germain  OK    OK    NA  
1913/2359scDD 1.33.1  (landing page)Keegan Korthauer  OK    OK    NA  
1914/2359scDDboost 1.11.0  (landing page)Xiuyu Ma  OK    OK    NA  
1915/2359scde 2.37.0  (landing page)Evan Biederstedt  OK    OK    NA  
1916/2359scDesign3 1.7.7  (landing page)Dongyuan Song  OK    OK    NA  
1917/2359scDiagnostics 1.3.0  (landing page)Anthony Christidis  OK    OK    NA  
1918/2359scDotPlot 1.3.1  (landing page)Benjamin I Laufer  OK    OK    NA  
1919/2359scds 1.25.1  (landing page)Dennis Kostka  OK    OK    NA  
1920/2359SCFA 1.19.0  (landing page)Duc Tran  OK    OK    NA  
1921/2359scFeatureFilter 1.29.0  (landing page)Guillaume Devailly  OK    OK    NA  
1922/2359scFeatures 1.9.0  (landing page)Yue Cao  OK    OK    NA  
1923/2359scGPS 1.23.0  (landing page)Quan Nguyen  OK    ERROR  skipped
1924/2359scGraphVerse 0.99.21  (landing page)Francesco Cecere  OK    OK    NA  
1925/2359schex 1.23.0  (landing page)Saskia Freytag  OK    OK    NA  
1926/2359scHiCcompare 1.1.0  (landing page)My Nguyen  OK    OK    NA  
1927/2359scHOT 1.21.0  (landing page)Shila Ghazanfar  OK    OK    NA  
1928/2359scider 1.7.3  (landing page)Yunshun Chen  OK    OK    NA  
1929/2359scifer 1.11.5  (landing page)Rodrigo Arcoverde Cerveira  OK    OK    NA  
1930/2359scLANE 0.99.999999  (landing page)Jack R. Leary  OK    OK    NA  
1931/2359scmap 1.31.0  (landing page)Vladimir Kiselev  OK    OK    NA  
1932/2359scMerge 1.25.1  (landing page)Yingxin Lin  OK    ERROR  skipped
1933/2359scMET 1.11.0  (landing page)Andreas C. Kapourani  OK    OK    NA  
1934/2359scmeth 1.29.1  (landing page)Divy Kangeyan  OK    ERROR  skipped
1935/2359scMitoMut 1.5.0  (landing page)Wenjie Sun  OK    OK    NA  
1936/2359scMultiSim 1.5.0  (landing page)Hechen Li  OK    OK    NA  
1937/2359SCnorm 1.31.1  (landing page)Rhonda Bacher  OK    OK    NA  
1938/2359scone 1.33.0  (landing page)Davide Risso  OK    OK    NA  
1939/2359Sconify 1.29.1  (landing page)Tyler J Burns  OK    OK    NA  
1940/2359SCOPE 1.21.0  (landing page)Rujin Wang  OK    OK    NA  
1941/2359scoreInvHap 1.31.0  (landing page)Dolors Pelegri-Siso  OK    OK    NA  
1942/2359scoup 1.3.0  (landing page)Hassan Sadiq  OK    OK    NA  
1943/2359scp 1.19.5  (landing page)Christophe Vanderaa  OK    OK    NA  
1944/2359scPCA 1.23.0  (landing page)Philippe Boileau  OK    OK    NA  
1945/2359scPipe 2.9.0  (landing page)Shian Su  OK    OK    NA  
1946/2359scQTLtools 1.1.7  (landing page)Xiaofeng Wu  OK    OK    NA  
1947/2359scran 1.37.0  (landing page)Aaron Lun  OK    OK    NA  
1948/2359scrapper 1.3.17  (landing page)Aaron Lun  OK    OK    NA  
1949/2359scReClassify 1.15.1  (landing page)Taiyun Kim  OK    OK    NA  
1950/2359scRecover 1.25.0  (landing page)Zhun Miao  OK    OK    NA  
1951/2359screenCounter 1.9.0  (landing page)Aaron Lun  OK    OK    NA  
1952/2359ScreenR 1.11.0  (landing page)Emanuel Michele Soda  OK    OK    NA  
1953/2359scRepertoire 2.5.8  (landing page)Nick Borcherding  OK    OK    NA  
1954/2359scRNAseqApp 1.9.26  (landing page)Jianhong Ou  OK    OK    NA  
1955/2359scruff 1.27.1  (landing page)Zhe Wang  OK    OK    NA  
1956/2359scry 1.21.0  (landing page)Kelly Street  OK    OK    NA  
1957/2359scShapes 1.15.0  (landing page)Malindrie Dharmaratne  OK    OK    NA  
1958/2359scTensor 2.19.2  (landing page)Koki Tsuyuzaki  OK    OK    NA  
1959/2359scTGIF 1.23.0  (landing page)Koki Tsuyuzaki  OK    OK    NA  
1960/2359scTHI 1.21.0  (landing page)Michele Ceccarelli  OK    OK    NA  
1961/2359scTreeViz 1.15.0  (landing page)Jayaram Kancherla  OK    OK    NA  
1962/2359scuttle 1.19.0  (landing page)Aaron Lun  OK    OK    NA  
1963/2359scviR 1.9.14  (landing page)Vincent Carey  OK    OK    NA  
1964/2359SDAMS 1.29.0  (landing page)Yuntong Li  OK    OK    NA  
1965/2359seahtrue 1.3.0  (landing page)Vincent de Boer  ERROR    ERROR  skipped
1966/2359sechm 1.17.1  (landing page)Pierre-Luc Germain  OK    OK    NA  
1967/2359segmenter 1.15.0  (landing page)Mahmoud Ahmed  OK    OK    NA  
1968/2359segmentSeq 2.43.1  (landing page)Samuel Granjeaud  OK    OK    NA  
1969/2359selectKSigs 1.21.0  (landing page)Zhi Yang  ERROR    ERROR  skipped
1970/2359SELEX 1.41.0  (landing page)Harmen J. Bussemaker  OK    OK    NA  
1971/2359SemDist 1.43.0  (landing page)Ian Gonzalez  OK    OK    NA  
1972/2359semisup 1.33.0  (landing page)Armin Rauschenberger  OK    OK    NA  
1973/2359seq.hotSPOT 1.9.0  (landing page)Sydney Grant  OK    OK    NA  
1974/2359seq2pathway 1.41.0  (landing page)Arjun Kinstlick  OK    OK    NA  
1975/2359seqArchR 1.13.1  (landing page)Sarvesh Nikumbh  OK    OK    NA  
1976/2359seqArchRplus 1.9.2  (landing page)Sarvesh Nikumbh  OK    OK    NA  
1977/2359SeqArray 1.49.8  (landing page)Xiuwen Zheng  OK    OK    NA  
1978/2359seqCAT 1.31.0  (landing page)Erik Fasterius  OK    OK    NA  
1979/2359seqcombo 1.31.0  (landing page)Guangchuang Yu  OK    OK    NA  
1980/2359SeqGate 1.19.0  (landing page)Stéphanie Rialle  OK    OK    NA  
1981/2359SeqGSEA 1.49.0  (landing page)Xi Wang  OK    OK    NA  
1982/2359Seqinfo 0.99.3  (landing page)Hervé Pagès  OK    OK    NA  
1983/2359seqLogo 1.75.0  (landing page)Robert Ivanek  OK    OK    NA  
1984/2359seqPattern 1.41.0  (landing page)Vanja Haberle  OK    OK    NA  
1985/2359seqsetvis 1.29.1  (landing page)Joseph R Boyd  OK    OK    NA  
1986/2359SeqSQC 1.31.0  (landing page)Qian Liu  OK    OK    NA  
1987/2359seqTools 1.43.1  (landing page)Wolfgang Kaisers  ERROR    ERROR  skipped
1988/2359SeqVarTools 1.47.0  (landing page)Stephanie M. Gogarten  OK    OK    NA  
1989/2359SEraster 1.1.0  (landing page)Gohta Aihara  OK    OK    NA  
1990/2359sesame 1.27.1  (landing page)Wanding Zhou  OK    OK    NA  
1991/2359SETA 0.99.7  (landing page)Kyle Kimler  OK    OK    NA  
1992/2359SEtools 1.23.3  (landing page)Pierre-Luc Germain  OK    OK    NA  
1993/2359sevenbridges 1.39.0  (landing page)Phil Webster  OK    OK    NA  
1994/2359sevenC 1.29.2  (landing page)Jonas Ibn-Salem  OK    OK    NA  
1995/2359SGCP 1.9.0  (landing page)Niloofar AghaieAbiane  OK    ERROR  skipped
1996/2359SGSeq 1.43.1  (landing page)Leonard Goldstein  OK    OK    NA  
1997/2359SharedObject 1.23.0  (landing page)Jiefei Wang  OK    OK    NA  
1998/2359shiny.gosling 1.5.0  (landing page)Appsilon  OK    ERROR  skipped
1999/2359shinybiocloader 0.99.1  (landing page)Marcel Ramos  OK    OK    NA  
2000/2359shinyDSP 1.1.2  (landing page)Seung J. Kim  OK    OK    NA  
2001/2359shinyepico 1.17.0  (landing page)Octavio Morante-Palacios  OK    OK    NA  
2002/2359shinyMethyl 1.45.0  (landing page)Jean-Philippe Fortin  OK    OK    NA  
2003/2359ShortRead 1.67.1  (landing page)Bioconductor Package Maintainer  OK    OK    NA  
2004/2359SIAMCAT 2.13.0  (landing page)Jakob Wirbel  OK    OK    NA  
2005/2359SICtools 1.39.0  (landing page)Xiaobin Xing  OK    OK    NA  
2006/2359SigCheck 2.41.0  (landing page)Rory Stark  OK    OK    NA  
2007/2359sigFeature 1.27.0  (landing page)Pijush Das Developer  OK    OK    NA  
2008/2359SigFuge 1.47.0  (landing page)Patrick Kimes  OK    ERROR  skipped
2009/2359siggenes 1.83.0  (landing page)Holger Schwender  OK    OK    NA  
2010/2359sights 1.35.0  (landing page)Elika Garg  OK    OK    NA  
2011/2359signatureSearch 1.23.0  (landing page)Brendan Gongol  OK    OK    NA  
2012/2359signeR 2.11.2  (landing page)Renan Valieris  OK    OK    NA  
2013/2359signifinder 1.11.0  (landing page)Stefania Pirrotta  OK    OK    NA  
2014/2359SigsPack 1.23.0  (landing page)Franziska Schumann  OK    OK    NA  
2015/2359sigsquared 1.41.0  (landing page)UnJin Lee  OK    OK    NA  
2016/2359SIM 1.79.0  (landing page)Renee X. de Menezes  OK    OK    NA  
2017/2359SIMAT 1.41.0  (landing page)M. R. Nezami Ranjbar  OK    OK    NA  
2018/2359SimBu 1.11.0  (landing page)Alexander Dietrich  OK    OK    NA  
2019/2359SIMD 1.27.0  (landing page)Jiadi Zhu  OK    OK    NA  
2020/2359SimFFPE 1.21.0  (landing page)Lanying Wei  OK    OK    NA  
2021/2359similaRpeak 1.41.0  (landing page)Astrid Deschênes  OK    OK    NA  
2022/2359SIMLR 1.35.1  (landing page)Luca De Sano  OK    OK    NA  
2023/2359simona 1.7.1  (landing page)Zuguang Gu  OK    OK    NA  
2024/2359simPIC 1.5.3  (landing page)Sagrika Chugh  OK    OK    NA  
2025/2359simpleSeg 1.11.1  (landing page)Ellis Patrick  OK    OK    NA  
2026/2359simplifyEnrichment 2.3.0  (landing page)Zuguang Gu  OK    OK    NA  
2027/2359sincell 1.41.0  (landing page)Miguel Julia , Antonio Rausell  OK    OK    NA  
2028/2359SingleCellAlleleExperiment 1.5.1  (landing page)Jonas Schuck  OK    OK    NA  
2029/2359SingleCellExperiment 1.31.1  (landing page)Davide Risso  OK    OK    NA  
2030/2359SingleCellSignalR 1.99.1  (landing page)Jean-Philippe Villemin  OK    OK    NA  
2031/2359singleCellTK 2.19.2  (landing page)Joshua David Campbell  OK    OK    NA  
2032/2359SingleMoleculeFootprinting 2.3.2  (landing page)Guido Barzaghi  OK    ERROR  skipped
2033/2359SingleR 2.11.4  (landing page)Aaron Lun  OK    OK    NA  
2034/2359singscore 1.29.1  (landing page)Malvika Kharbanda  OK    OK    NA  
2035/2359SiPSiC 1.9.0  (landing page)Daniel Davis  OK    OK    NA  
2036/2359sitadela 1.17.1  (landing page)Panagiotis Moulos  OK    OK    NA  
2037/2359Site2Target 1.1.0  (landing page)Peyman Zarrineh  OK    OK    NA  
2038/2359sitePath 1.25.1  (landing page)Chengyang Ji  OK    OK    NA  
2039/2359sizepower 1.79.0  (landing page)Weiliang Qiu  OK    OK    NA  
2040/2359sketchR 1.5.2  (landing page)Charlotte Soneson  OK    OK    NA  
2041/2359skewr 1.41.0  (landing page)Ryan Putney  OK    OK    NA  
2042/2359slalom 1.31.1  (landing page)Davis McCarthy  OK    OK    NA  
2043/2359slingshot 2.17.0  (landing page)Kelly Street  OK    ERROR  skipped
2044/2359SLqPCR 1.75.0  (landing page)Matthias Kohl  OK    OK    NA  
2045/2359SMAD 1.25.0  (landing page)Qingzhou Zhang  OK    OK    NA  
2046/2359smartid 1.5.0  (landing page)Jinjin Chen  OK    OK    NA  
2047/2359SmartPhos 0.99.30  (landing page)Shubham Agrawal  OK    OK    NA  
2048/2359SMITE 1.37.0  (landing page)Neil Ari Wijetunga  OK    OK    NA  
2049/2359smoothclust 1.5.7  (landing page)Lukas M. Weber  OK    OK    NA  
2050/2359smoppix 1.1.10  (landing page)Stijn Hawinkel  OK    OK    NA  
2051/2359SNAGEE 1.49.0  (landing page)David Venet  OK    OK    NA  
2052/2359snapcount 1.21.0  (landing page)Rone Charles  ERROR    ERROR  skipped
2053/2359snifter 1.19.3  (landing page)Alan O'Callaghan  OK    OK    NA  
2054/2359snm 1.57.0  (landing page)John D. Storey  OK    OK    NA  
2055/2359SNPediaR 1.35.0  (landing page)David Montaner  OK    OK    NA  
2056/2359SNPhood 1.39.0  (landing page)Christian Arnold  OK    OK    NA  
2057/2359SNPRelate 1.43.2  (landing page)Xiuwen Zheng  OK    OK    NA  
2058/2359snpStats 1.59.2  (landing page)David Clayton  OK    OK    NA  
2059/2359soGGi 1.41.2  (landing page)Tom Carroll  OK    OK    NA  
2060/2359SomaticSignatures 2.45.1  (landing page)Julian Gehring  OK    ERROR  skipped
2061/2359SOMNiBUS 1.17.0  (landing page)Kathleen Klein  OK    OK    NA  
2062/2359sosta 1.1.2  (landing page)Samuel Gunz  OK    OK    NA  
2063/2359SpaceMarkers 1.5.0  (landing page)Atul Deshpande  OK    OK    NA  
2064/2359SpaceTrooper 0.99.47  (landing page)Dario Righelli  OK    OK    NA  
2065/2359spacexr 1.1.1  (landing page)Gabriel Grajeda  OK    OK    NA  
2066/2359Spaniel 1.23.0  (landing page)Rachel Queen  OK    OK    NA  
2067/2359SpaNorm 1.3.1  (landing page)Dharmesh D. Bhuva  OK    OK    NA  
2068/2359spARI 0.99.17  (landing page)Yinqiao Yan  OK    OK    NA  
2069/2359sparrow 1.15.0  (landing page)Steve Lianoglou  OK    OK    NA  
2070/2359SparseArray 1.9.1  (landing page)Hervé Pagès  OK    ERROR  skipped
2071/2359sparseMatrixStats 1.21.0  (landing page)Constantin Ahlmann-Eltze  OK    OK    NA  
2072/2359sparsenetgls 1.27.0  (landing page)Irene Zeng  OK    OK    NA  
2073/2359SparseSignatures 2.19.2  (landing page)Luca De Sano  OK    ERROR  skipped
2074/2359spaSim 1.11.0  (landing page)Yuzhou Feng  OK    OK    NA  
2075/2359SpatialCPie 1.25.0  (landing page)Joseph Bergenstraahle  OK    OK    NA  
2076/2359spatialDE 1.15.1  (landing page)Gabriele Sales  OK    OK    NA  
2077/2359SpatialDecon 1.19.0  (landing page)Maddy Griswold  OK    OK    NA  
2078/2359SpatialExperiment 1.19.1  (landing page)Dario Righelli  OK    OK    NA  
2079/2359SpatialExperimentIO 1.1.0  (landing page)Yixing E. Dong  OK    OK    NA  
2080/2359spatialFDA 1.1.21  (landing page)Martin Emons  OK    OK    NA  
2081/2359SpatialFeatureExperiment 1.11.1  (landing page)Lambda Moses  OK    ERROR  skipped
2082/2359spatialHeatmap 2.15.2  (landing page)Jianhai Zhang  OK    OK    NA  
2083/2359SpatialOmicsOverlay 1.9.2  (landing page)Maddy Griswold  OK    TIMEOUT  skipped
2084/2359spatialSimGP 1.3.0  (landing page)Kinnary Shah  OK    OK    NA  
2085/2359spatzie 1.15.1  (landing page)Jennifer Hammelman  OK    OK    NA  
2086/2359speckle 1.9.1  (landing page)Belinda Phipson  OK    OK    NA  
2087/2359specL 1.43.0  (landing page)Christian Panse  OK    OK    NA  
2088/2359SpeCond 1.63.0  (landing page)Florence Cavalli  OK    OK    NA  
2089/2359Spectra 1.19.11  (landing page)RforMassSpectrometry Package Maintainer  OK    OK    NA  
2090/2359SpectralTAD 1.25.0  (landing page)Mikhail Dozmorov  OK    OK    NA  
2091/2359SpectraQL 1.3.1  (landing page)Johannes Rainer  OK    OK    NA  
2092/2359SpectriPy 0.99.13  (landing page)Johannes Rainer  OK    OK    NA  
2093/2359SPEM 1.49.0  (landing page)Xinyi YANG  OK    OK    NA  
2094/2359SPIA 2.61.0  (landing page)Adi Laurentiu Tarca  OK    OK    NA  
2095/2359SPIAT 1.11.1  (landing page)Yuzhou Feng  OK    OK    NA  
2096/2359SPICEY 0.99.5  (landing page)Georgina Fuentes-Páez  OK    OK    NA  
2097/2359spicyR 1.21.9  (landing page)Ellis Patrick  OK    OK    NA  
2098/2359spikeLI 2.69.0  (landing page)Enrico Carlon  OK    OK    NA  
2099/2359spiky 1.15.0  (landing page)Tim Triche  OK    OK    NA  
2100/2359spillR 1.5.0  (landing page)Marco Guazzini  OK    OK    NA  
2101/2359spkTools 1.65.0  (landing page)Matthew N McCall  OK    OK    NA  
2102/2359splatter 1.33.1  (landing page)Luke Zappia  OK    OK    NA  
2103/2359SpliceWiz 1.11.0  (landing page)Alex Chit Hei Wong  OK    OK    NA  
2104/2359SplicingFactory 1.17.0  (landing page)Endre Sebestyen  OK    OK    NA  
2105/2359SplicingGraphs 1.49.1  (landing page)H. Pagès  OK    ERROR  skipped
2106/2359SplineDV 1.1.1  (landing page)Shreyan Gupta  OK    OK    NA  
2107/2359splineTimeR 1.37.0  (landing page)Herbert Braselmann , Martin Selmansberger  OK    OK    NA  
2108/2359SPLINTER 1.35.1  (landing page)Diana Low  OK    ERROR  skipped
2109/2359splots 1.75.0  (landing page)Wolfgang Huber  OK    OK    NA  
2110/2359SPONGE 1.31.0  (landing page)Markus List  OK    OK    NA  
2111/2359spoon 1.5.0  (landing page)Kinnary Shah  OK    OK    NA  
2112/2359SpotClean 1.11.0  (landing page)Zijian Ni  OK    OK    NA  
2113/2359SPOTlight 1.13.2  (landing page)Marc Elosua-Bayes  OK    OK    NA  
2114/2359SpotSweeper 1.5.1  (landing page)Michael Totty  OK    OK    NA  
2115/2359spqn 1.21.0  (landing page)Yi Wang  OK    OK    NA  
2116/2359SPsimSeq 1.19.0  (landing page)Joris Meys  OK    OK    NA  
2117/2359SQLDataFrame 1.23.0  (landing page)Qian Liu  OK    OK    NA  
2118/2359squallms 1.3.0  (landing page)William Kumler  OK    OK    NA  
2119/2359sRACIPE 2.1.1  (landing page)Mingyang Lu  OK    OK    NA  
2120/2359SRAdb 1.71.0  (landing page)Jack Zhu  OK    OK    NA  
2121/2359srnadiff 1.29.1  (landing page)Zytnicki Matthias  OK    OK    NA  
2122/2359sscu 2.39.0  (landing page)Yu Sun  OK    OK    NA  
2123/2359sSeq 1.47.0  (landing page)Danni Yu  OK    OK    NA  
2124/2359ssize 1.83.0  (landing page)Gregory R. Warnes  OK    OK    NA  
2125/2359sSNAPPY 1.13.0  (landing page)Wenjun Liu  OK    OK    NA  
2126/2359ssPATHS 1.23.0  (landing page)Natalie R. Davidson  OK    OK    NA  
2127/2359ssrch 1.25.0  (landing page)VJ Carey  OK    OK    NA  
2128/2359ssviz 1.43.0  (landing page)Diana Low  OK    OK    NA  
2129/2359StabMap 1.3.0  (landing page)Shila Ghazanfar  OK    OK    NA  
2130/2359STADyUM 0.99.4  (landing page)Rebecca Hassett  OK    OK    NA  
2131/2359stageR 1.31.0  (landing page)Koen Van den Berge  OK    OK    NA  
2132/2359standR 1.13.0  (landing page)Ning Liu  OK    OK    NA  
2133/2359STATegRa 1.45.0  (landing page)David Gomez-Cabrero , Núria Planell  OK    OK    NA  
2134/2359Statial 1.11.7  (landing page)Farhan Ameen  OK    OK    NA  
2135/2359statTarget 1.39.0  (landing page)Hemi Luan  OK    OK    NA  
2136/2359stepNorm 1.81.0  (landing page)Yuanyuan Xiao  OK    OK    NA  
2137/2359stJoincount 1.11.0  (landing page)Jiarong Song  OK    OK    NA  
2138/2359stPipe 0.99.995  (landing page)Yang Xu  OK    OK    NA  
2139/2359strandCheckR 1.27.2  (landing page)Thu-Hien To  OK    OK    NA  
2140/2359Streamer 1.55.1  (landing page)Martin Morgan  OK    OK    NA  
2141/2359STRINGdb 2.21.0  (landing page)Damian Szklarczyk  OK    OK    NA  
2142/2359struct 1.21.1  (landing page)Gavin Rhys Lloyd  OK    OK    NA  
2143/2359Structstrings 1.25.3  (landing page)Felix G.M. Ernst  OK    OK    NA  
2144/2359structToolbox 1.21.0  (landing page)Gavin Rhys Lloyd  OK    OK    NA  
2145/2359StructuralVariantAnnotation 1.25.0  (landing page)Daniel Cameron  OK    OK    NA  
2146/2359SubCellBarCode 1.25.0  (landing page)Taner Arslan  OK    OK    NA  
2147/2359subSeq 1.39.0  (landing page)Andrew J. Bass , John D. Storey  OK    OK    NA  
2148/2359SUITOR 1.11.0  (landing page)Bill Wheeler  OK    OK    NA  
2149/2359SummarizedExperiment 1.39.2  (landing page)Hervé Pagès  OK    OK    NA  
2150/2359Summix 2.15.0  (landing page)Audrey Hendricks  OK    OK    NA  
2151/2359SuperCellCyto 0.99.3  (landing page)Givanna Putri  OK    OK    NA  
2152/2359supersigs 1.17.0  (landing page)Albert Kuo  OK    OK    NA  
2153/2359surfaltr 1.15.0  (landing page)Pooja Gangras  OK    OK    NA  
2154/2359SurfR 1.5.2  (landing page)Aurora Maurizio  OK    OK    NA  
2155/2359survClust 1.3.0  (landing page)Arshi Arora  OK    OK    NA  
2156/2359survcomp 1.59.0  (landing page)Benjamin Haibe-Kains  OK    OK    NA  
2157/2359survtype 1.25.0  (landing page)Dongmin Jung  OK    OK    NA  
2158/2359sva 3.57.0  (landing page)Jeffrey T. Leek , John D. Storey  OK    OK    NA  
2159/2359svaNUMT 1.15.1  (landing page)Ruining Dong  OK    OK    NA  
2160/2359svaRetro 1.15.1  (landing page)Ruining Dong  OK    ERROR  skipped
2161/2359SVMDO 1.9.0  (landing page)Mustafa Erhan Ozer  OK    OK    NA  
2162/2359SVP 1.1.1  (landing page)Shuangbin Xu  OK    ERROR  skipped
2163/2359SWATH2stats 1.39.1  (landing page)Peter Blattmann  OK    OK    NA  
2164/2359SwathXtend 2.31.0  (landing page)Jemma Wu  OK    OK    NA  
2165/2359swfdr 1.35.0  (landing page)Simina M. Boca , Jeffrey T. Leek  OK    OK    NA  
2166/2359switchBox 1.45.0  (landing page)Bahman Afsari , Luigi Marchionni  OK    OK    NA  
2167/2359switchde 1.35.0  (landing page)Kieran Campbell  OK    OK    NA  
2168/2359synapsis 1.15.0  (landing page)Lucy McNeill  OK    OK    NA  
2169/2359synergyfinder 3.17.0  (landing page)Shuyu Zheng  OK    OK    NA  
2170/2359SynExtend 1.21.2  (landing page)Nicholas Cooley  OK    OK    NA  
2171/2359synlet 2.9.0  (landing page)Chunxuan Shao  OK    OK    NA  
2172/2359SynMut 1.25.0  (landing page)Haogao Gu  OK    OK    NA  
2173/2359syntenet 1.11.2  (landing page)Fabrício Almeida-Silva  OK    OK    NA  
2174/2359systemPipeR 2.15.2  (landing page)Thomas Girke  OK    OK    NA  
2175/2359systemPipeShiny 1.19.1  (landing page)Le Zhang  OK    OK    NA  
2176/2359systemPipeTools 1.17.0  (landing page)Daniela Cassol  OK    OK    NA  
T
ABCDEFGHIJKLMNOPQRSTUVWXYZ
PackageMaintainerINSTALLBUILDCHECKBUILD BIN
2177/2359tadar 1.7.1  (landing page)Lachlan Baer  OK    OK    NA  
2178/2359TADCompare 1.19.0  (landing page)Mikhail Dozmorov  OK    OK    NA  
2179/2359tanggle 1.15.3  (landing page)Klaus Schliep  OK    OK    NA  
2180/2359TAPseq 1.21.0  (landing page)Andreas R. Gschwind  OK    OK    NA  
2181/2359target 1.23.1  (landing page)Mahmoud Ahmed  OK    OK    NA  
2182/2359TargetDecoy 1.15.0  (landing page)Elke Debrie  OK    OK    NA  
2183/2359TargetScore 1.47.0  (landing page)Yue Li  OK    OK    NA  
2184/2359TargetSearch 2.11.1  (landing page)Alvaro Cuadros-Inostroza  OK    OK    NA  
2185/2359TaxSEA 1.1.9  (landing page)Feargal Ryan  OK    OK    NA  
2186/2359TBSignatureProfiler 1.21.4  (landing page)Kiloni Quiles  OK    OK    NA  
2187/2359TCC 1.49.1  (landing page)Jianqiang Sun  OK    OK    NA  
2188/2359TCGAbiolinks 2.37.3  (landing page)Tiago Chedraoui Silva  OK    OK    NA  
2189/2359TCGAutils 1.29.5  (landing page)Marcel Ramos  OK    ERROR  skipped
2190/2359TCseq 1.33.0  (landing page)Mengjun Wu  OK    OK    NA  
2191/2359TDbasedUFE 1.9.0  (landing page)Y-h. Taguchi  OK    OK    NA  
2192/2359TDbasedUFEadv 1.9.1  (landing page)Y-h. Taguchi  OK    OK    NA  
2193/2359TEKRABber 1.13.1  (landing page)Yao-Chung Chen  OK    OK    NA  
2194/2359TENET 1.1.90  (landing page)Rhie Lab at the University of Southern California  OK    OK    NA  
2195/2359TENxIO 1.11.5  (landing page)Marcel Ramos  OK    OK    NA  
2196/2359tenXplore 1.31.0  (landing page)VJ Carey  OK    OK    NA  
2197/2359TEQC 4.31.1  (landing page)Sarah Bonnin  OK    OK    NA  
2198/2359terapadog 1.1.0  (landing page)Gionmattia Carancini  OK    OK    NA  
2199/2359ternarynet 1.53.0  (landing page)McCall N. Matthew  OK    OK    NA  
2200/2359terraTCGAdata 1.13.0  (landing page)Marcel Ramos  OK    OK    NA  
2201/2359TFARM 1.31.0  (landing page)Liuba Nausicaa Martino  OK    OK    NA  
2202/2359TFBSTools 1.47.1  (landing page)Ge Tan  OK    OK    NA  
2203/2359TFEA.ChIP 1.29.4  (landing page)Yosra Berrouayel  OK    OK    NA  
2204/2359TFHAZ 1.31.0  (landing page)Gaia Ceddia  OK    OK    NA  
2205/2359TFutils 1.29.1  (landing page)Vincent Carey  OK    OK    NA  
2206/2359tidybulk 1.99.4  (landing page)Stefano Mangiola  OK    OK    NA  
2207/2359tidyCoverage 1.5.0  (landing page)Jacques Serizay  OK    OK    NA  
2208/2359tidyFlowCore 1.3.0  (landing page)Timothy Keyes  OK    OK    NA  
2209/2359tidyomics 1.5.0  (landing page)Stefano Mangiola  OK    OK    NA  
2210/2359tidysbml 1.3.0  (landing page)Veronica Paparozzi  OK    OK    NA  
2211/2359tidySingleCellExperiment 1.19.1  (landing page)Stefano Mangiola  OK    OK    NA  
2212/2359tidySpatialExperiment 1.5.1  (landing page)William Hutchison  OK    OK    NA  
2213/2359tidySummarizedExperiment 1.19.7  (landing page)Stefano Mangiola  OK    OK    NA  
2214/2359tidytof 1.3.0  (landing page)Timothy Keyes  OK    OK    NA  
2215/2359tigre 1.63.0  (landing page)Antti Honkela  OK    OK    NA  
2216/2359TileDBArray 1.19.1  (landing page)Aaron Lun  ERROR    ERROR  skipped
2217/2359tilingArray 1.87.0  (landing page)Zhenyu Xu  OK    OK    NA  
2218/2359timecourse 1.81.0  (landing page)Yu Chuan Tai  OK    OK    NA  
2219/2359timeOmics 1.21.0  (landing page)Antoine Bodein  OK    OK    NA  
2220/2359timescape 1.33.0  (landing page)Maia Smith  OK    OK    NA  
2221/2359TIN 1.41.0  (landing page)Bjarne Johannessen  OK    OK    NA  
2222/2359TissueEnrich 1.29.0  (landing page)Ashish Jain  OK    OK    NA  
2223/2359TitanCNA 1.47.1  (landing page)Gavin Ha  OK    ERROR  skipped
2224/2359tkWidgets 1.87.0  (landing page)J. Zhang  OK    OK    NA  
2225/2359tLOH 1.17.0  (landing page)Michelle Webb  OK    OK    NA  
2226/2359TMixClust 1.31.0  (landing page)Monica Golumbeanu  OK    OK    NA  
2227/2359TMSig 1.3.0  (landing page)Tyler Sagendorf  OK    OK    NA  
2228/2359TnT 1.31.0  (landing page)Jialin Ma  OK    OK    NA  
2229/2359TOAST 1.23.0  (landing page)Ziyi Li  OK    OK    NA  
2230/2359tomoda 1.19.0  (landing page)Wendao Liu  OK    OK    NA  
2231/2359tomoseqr 1.13.0  (landing page)Ryosuke Matsuzawa  OK    OK    NA  
2232/2359TOP 1.9.0  (landing page)Harry Robertson  OK    OK    NA  
2233/2359topconfects 1.25.0  (landing page)Paul Harrison  OK    OK    NA  
2234/2359topdownr 1.31.1  (landing page)Sebastian Gibb  OK    OK    NA  
2235/2359topGO 2.61.1  (landing page)Federico Marini  OK    OK    NA  
2236/2359ToxicoGx 2.13.0  (landing page)Benjamin Haibe-Kains  OK    OK    NA  
2237/2359TPP 3.37.0  (landing page)Dorothee Childs  OK    OK    NA  
2238/2359TPP2D 1.25.2  (landing page)Nils Kurzawa  OK    OK    NA  
2239/2359tpSVG 1.5.0  (landing page)Boyi Guo  OK    OK    NA  
2240/2359tracktables 1.43.0  (landing page)Tom Carroll  OK    OK    NA  
2241/2359trackViewer 1.45.2  (landing page)Jianhong Ou  OK    OK    NA  
2242/2359tradeSeq 1.23.0  (landing page)Hector Roux de Bezieux  OK    OK    NA  
2243/2359TrajectoryGeometry 1.17.0  (landing page)Michael Shapiro  OK    OK    NA  
2244/2359TrajectoryUtils 1.17.0  (landing page)Aaron Lun  OK    OK    NA  
2245/2359transcriptogramer 1.31.0  (landing page)Diego Morais  OK    OK    NA  
2246/2359transcriptR 1.37.0  (landing page)Armen R. Karapetyan  OK    OK    NA  
2247/2359transformGamPoi 1.15.0  (landing page)Constantin Ahlmann-Eltze  OK    OK    NA  
2248/2359transite 1.27.1  (landing page)Konstantin Krismer  OK    OK    NA  
2249/2359tRanslatome 1.47.0  (landing page)Toma Tebaldi , Erik Dassi  OK    OK    NA  
2250/2359transmogR 1.5.3  (landing page)Stevie Pederson  OK    OK    NA  
2251/2359transomics2cytoscape 1.19.0  (landing page)Kozo Nishida  OK    OK    NA  
2252/2359TransView 1.53.1  (landing page)Julius Muller  OK    OK    NA  
2253/2359traseR 1.39.0  (landing page)li chen  OK    OK    NA  
2254/2359traviz 1.15.1  (landing page)Koen Van den Berge  ERROR    ERROR  skipped
2255/2359TreeAndLeaf 1.21.0  (landing page)Milena A. Cardoso  OK    OK    NA  
2256/2359treeclimbR 1.5.1  (landing page)Charlotte Soneson  OK    OK    NA  
2257/2359treeio 1.33.0  (landing page)Guangchuang Yu  OK    OK    NA  
2258/2359treekoR 1.17.0  (landing page)Adam Chan  OK    OK    NA  
2259/2359TreeSummarizedExperiment 2.17.1  (landing page)Ruizhu Huang  OK    OK    NA  
2260/2359TREG 1.13.0  (landing page)Louise Huuki-Myers  OK    OK    NA  
2261/2359Trendy 1.31.0  (landing page)Rhonda Bacher  OK    OK    NA  
2262/2359TRESS 1.15.0  (landing page)Zhenxing Guo  OK    OK    NA  
2263/2359tricycle 1.17.1  (landing page)Shijie Zheng  OK    OK    NA  
2264/2359TrIdent 1.1.5  (landing page)Jessie Maier  OK    OK    NA  
2265/2359trio 3.47.0  (landing page)Holger Schwender  OK    OK    NA  
2266/2359triplex 1.49.0  (landing page)Jiri Hon  OK    OK    NA  
2267/2359tripr 1.15.0  (landing page)Nikolaos Pechlivanis  OK    OK    NA  
2268/2359tRNA 1.27.1  (landing page)Felix GM Ernst  OK    OK    NA  
2269/2359tRNAdbImport 1.27.0  (landing page)Felix G.M. Ernst  OK    OK    NA  
2270/2359tRNAscanImport 1.29.1  (landing page)Felix G.M. Ernst  OK    OK    NA  
2271/2359TRONCO 2.41.1  (landing page)Luca De Sano  OK    OK    NA  
2272/2359TSAR 1.7.0  (landing page)Xinlin Gao  OK    OK    NA  
2273/2359TSCAN 1.47.0  (landing page)Zhicheng Ji  OK    OK    NA  
2274/2359ttgsea 1.17.0  (landing page)Dongmin Jung  OK    OK    NA  
2275/2359TTMap 1.31.0  (landing page)Rachel Jeitziner  OK    OK    NA  
2276/2359TurboNorm 1.57.0  (landing page)Maarten van Iterson  OK    OK    NA  
2277/2359TVTB 1.35.2  (landing page)Kevin Rue-Albrecht  OK    OK    NA  
2278/2359tweeDEseq 1.55.0  (landing page)Dolors Pelegri-Siso  OK    OK    NA  
2279/2359twilight 1.85.0  (landing page)Stefanie Senger  OK    OK    NA  
2280/2359twoddpcr 1.33.0  (landing page)Anthony Chiu  OK    OK    NA  
2281/2359txcutr 1.15.2  (landing page)Mervin Fansler  OK    OK    NA  
2282/2359txdbmaker 1.5.6  (landing page)H. Pagès  OK    OK    NA  
2283/2359tximeta 1.27.16  (landing page)Michael Love  OK    OK    NA  
2284/2359tximport 1.37.2  (landing page)Michael Love  OK    OK    NA  
U
ABCDEFGHIJKLMNOPQRSTUVWXYZ
PackageMaintainerINSTALLBUILDCHECKBUILD BIN
2285/2359UCell 2.13.3  (landing page)Massimo Andreatta  OK    OK    NA  
2286/2359UCSC.utils 1.5.0  (landing page)Hervé Pagès  OK    OK    NA  
2287/2359Ularcirc 1.27.2  (landing page)David Humphreys  OK    OK    NA  
2288/2359UMI4Cats 1.19.3  (landing page)Mireia Ramos-Rodriguez  OK    OK    NA  
2289/2359uncoverappLib 1.19.0  (landing page)Emanuela Iovino  OK    OK    NA  
2290/2359UNDO 1.51.0  (landing page)Niya Wang  OK    OK    NA  
2291/2359unifiedWMWqPCR 1.45.0  (landing page)Joris Meys  OK    OK    NA  
2292/2359UniProt.ws 2.49.4  (landing page)Marcel Ramos  OK    OK    NA  
2293/2359Uniquorn 2.29.2  (landing page)Raik Otto  OK    OK    NA  
2294/2359universalmotif 1.27.4  (landing page)Benjamin Jean-Marie Tremblay  OK    OK    NA  
2295/2359updateObject 1.13.0  (landing page)Hervé Pagès  OK    OK    NA  
2296/2359UPDhmm 1.5.1  (landing page)Marta Sevilla  OK    OK    NA  
2297/2359uSORT 1.35.0  (landing page)Hao Chen  OK    OK    NA  
V
ABCDEFGHIJKLMNOPQRSTUVWXYZ
PackageMaintainerINSTALLBUILDCHECKBUILD BIN
2298/2359VAExprs 1.15.0  (landing page)Dongmin Jung  OK    OK    NA  
2299/2359VanillaICE 1.71.0  (landing page)Robert Scharpf  OK    OK    NA  
2300/2359VarCon 1.17.0  (landing page)Johannes Ptok  OK    OK    NA  
2301/2359variancePartition 1.39.3  (landing page)Gabriel E. Hoffman  OK    OK    NA  
2302/2359VariantAnnotation 1.55.2  (landing page)Bioconductor Package Maintainer  OK    OK    NA  
2303/2359VariantExperiment 1.23.0  (landing page)Qian Liu  OK    OK    NA  
2304/2359VariantFiltering 1.45.3  (landing page)Robert Castelo  OK    ERROR  skipped
2305/2359VariantTools 1.51.0  (landing page)Michael Lawrence  OK    ERROR  skipped
2306/2359VaSP 1.21.0  (landing page)Huihui Yu  OK    OK    NA  
2307/2359vbmp 1.77.0  (landing page)Nicola Lama  OK    OK    NA  
2308/2359VCFArray 1.25.0  (landing page)Qian Liu  OK    OK    NA  
2309/2359VDJdive 1.11.0  (landing page)Kelly Street  OK    OK    NA  
2310/2359VegaMC 3.47.0  (landing page)Sandro Morganella  OK    OK    NA  
2311/2359velociraptor 1.19.1  (landing page)Kevin Rue-Albrecht  OK    ERROR  skipped
2312/2359veloviz 1.15.0  (landing page)Lyla Atta  OK    OK    NA  
2313/2359VennDetail 1.25.3  (landing page)Kai Guo  OK    OK    NA  
2314/2359VERSO 1.19.1  (landing page)Davide Maspero  OK    OK    NA  
2315/2359vidger 1.29.1  (landing page)Brandon Monier  OK    OK    NA  
2316/2359viper 1.43.0  (landing page)Mariano J Alvarez  OK    OK    NA  
2317/2359ViSEAGO 1.23.0  (landing page)Aurelien Brionne  OK    OK    NA  
2318/2359VisiumIO 1.5.11  (landing page)Marcel Ramos  OK    OK    NA  
2319/2359visiumStitched 1.1.3  (landing page)Nicholas J. Eagles  OK    OK    NA  
2320/2359vissE 1.17.0  (landing page)Dharmesh D. Bhuva  OK    OK    NA  
2321/2359vmrseq 1.1.2  (landing page)Ning Shen  OK    OK    NA  
2322/2359Voyager 1.11.0  (landing page)Lambda Moses  OK    OK    NA  
2323/2359VplotR 1.19.1  (landing page)Jacques Serizay  OK    ERROR  skipped
2324/2359vsclust 1.11.2  (landing page)Veit Schwammle  OK    OK    NA  
2325/2359vsn 3.77.0  (landing page)Wolfgang Huber  OK    OK    NA  
2326/2359vtpnet 0.49.0  (landing page)VJ Carey  OK    OK    NA  
2327/2359vulcan 1.31.0  (landing page)Federico M. Giorgi  OK    OK    NA  
W
ABCDEFGHIJKLMNOPQRSTUVWXYZ
PackageMaintainerINSTALLBUILDCHECKBUILD BIN
2328/2359waddR 1.23.0  (landing page)Julian Flesch  OK    OK    NA  
2329/2359wateRmelon 2.15.0  (landing page)Leo C Schalkwyk  OK    OK    NA  
2330/2359wavClusteR 2.43.0  (landing page)Federico Comoglio  OK    OK    NA  
2331/2359weaver 1.75.0  (landing page)Seth Falcon  OK    OK    NA  
2332/2359webbioc 1.81.0  (landing page)Colin A. Smith  OK    OK    NA  
2333/2359weitrix 1.21.0  (landing page)Paul Harrison  OK    OK    NA  
2334/2359widgetTools 1.87.0  (landing page)Jianhua Zhang  OK    OK    NA  
2335/2359wiggleplotr 1.33.2  (landing page)Kaur Alasoo  OK    OK    NA  
2336/2359wpm 1.19.0  (landing page)Helene Borges  OK    OK    NA  
2337/2359wppi 1.17.0  (landing page)Ana Galhoz  OK    OK    NA  
2338/2359Wrench 1.27.0  (landing page)Hector Corrada Bravo  OK    OK    NA  
X
ABCDEFGHIJKLMNOPQRSTUVWXYZ
PackageMaintainerINSTALLBUILDCHECKBUILD BIN
2339/2359XAItest 1.1.5  (landing page)Ghislain FIEVET  OK    OK    NA  
2340/2359xCell2 1.1.0  (landing page)Almog Angel  OK    OK    NA  
2341/2359xcms 4.7.3  (landing page)Steffen Neumann  OK    OK    NA  
2342/2359xcore 1.13.0  (landing page)Maciej Migdał  OK    OK    NA  
2343/2359XDE 2.55.0  (landing page)Robert Scharpf  OK    OK    NA  
2344/2359XeniumIO 1.1.3  (landing page)Marcel Ramos  OK    ERROR  skipped
2345/2359xenLite 1.3.0  (landing page)Vincent Carey  OK    ERROR  skipped
2346/2359Xeva 1.25.0  (landing page)Benjamin Haibe-Kains  OK    OK    NA  
2347/2359XINA 1.27.0  (landing page)Lang Ho Lee  OK    OK    NA  
2348/2359xmapbridge 1.67.0  (landing page)Chris Wirth  OK    OK    NA  
2349/2359XNAString 1.17.1  (landing page)Marianna Plucinska  ERROR    ERROR  skipped
2350/2359XVector 0.49.1  (landing page)Hervé Pagès  OK    OK    NA  
Y
ABCDEFGHIJKLMNOPQRSTUVWXYZ
PackageMaintainerINSTALLBUILDCHECKBUILD BIN
2351/2359yamss 1.35.0  (landing page)Leslie Myint  OK    OK    NA  
2352/2359YAPSA 1.35.1  (landing page)Zuguang Gu  OK    OK    NA  
2353/2359yarn 1.35.0  (landing page)Joseph N Paulson  OK    OK    NA  
Z
ABCDEFGHIJKLMNOPQRSTUVWXYZ
PackageMaintainerINSTALLBUILDCHECKBUILD BIN
2354/2359zellkonverter 1.19.3  (landing page)Luke Zappia  OK    OK    NA  
2355/2359zenith 1.11.0  (landing page)Gabriel Hoffman  OK    OK    NA  
2356/2359zFPKM 1.31.0  (landing page)Ron Ammar  OK    OK    NA  
2357/2359zinbwave 1.31.0  (landing page)Davide Risso  OK    OK    NA  
2358/2359zitools 1.3.0  (landing page)Carlotta Meyring  OK    OK    NA  
2359/2359ZygosityPredictor 1.9.1  (landing page)Marco Rheinnecker  OK    OK    NA