| Back to Multiple platform build/check report for BioC 3.22: simplified long |
|
This page was generated on 2025-10-21 12:07 -0400 (Tue, 21 Oct 2025).
| Hostname | OS | Arch (*) | R version | Installed pkgs |
|---|---|---|---|---|
| nebbiolo2 | Linux (Ubuntu 24.04.3 LTS) | x86_64 | 4.5.1 Patched (2025-08-23 r88802) -- "Great Square Root" | 4887 |
| lconway | macOS 12.7.6 Monterey | x86_64 | 4.5.1 Patched (2025-09-10 r88807) -- "Great Square Root" | 4677 |
| kjohnson3 | macOS 13.7.7 Ventura | arm64 | 4.5.1 Patched (2025-09-10 r88807) -- "Great Square Root" | 4622 |
| taishan | Linux (openEuler 24.03 LTS) | aarch64 | 4.5.0 (2025-04-11) -- "How About a Twenty-Six" | 4642 |
| Click on any hostname to see more info about the system (e.g. compilers) (*) as reported by 'uname -p', except on Windows and Mac OS X | ||||
| Package 834/2353 | Hostname | OS / Arch | INSTALL | BUILD | CHECK | BUILD BIN | ||||||||
| GenomAutomorphism 1.11.2 (landing page) Robersy Sanchez
| nebbiolo2 | Linux (Ubuntu 24.04.3 LTS) / x86_64 | OK | OK | OK | |||||||||
| lconway | macOS 12.7.6 Monterey / x86_64 | OK | OK | OK | OK | |||||||||
| kjohnson3 | macOS 13.7.7 Ventura / arm64 | OK | OK | OK | OK | |||||||||
| taishan | Linux (openEuler 24.03 LTS) / aarch64 | OK | OK | OK | ||||||||||
|
To the developers/maintainers of the GenomAutomorphism package: - Allow up to 24 hours (and sometimes 48 hours) for your latest push to git@git.bioconductor.org:packages/GenomAutomorphism.git to reflect on this report. See Troubleshooting Build Report for more information. - Use the following Renviron settings to reproduce errors and warnings. - If 'R CMD check' started to fail recently on the Linux builder(s) over a missing dependency, add the missing dependency to 'Suggests:' in your DESCRIPTION file. See Renviron.bioc for more information. - See Martin Grigorov's blog post for how to debug Linux ARM64 related issues on a x86_64 host. |
| Package: GenomAutomorphism |
| Version: 1.11.2 |
| Command: /home/biocbuild/R/R/bin/R CMD check --install=check:GenomAutomorphism.install-out.txt --library=/home/biocbuild/R/R/site-library --no-vignettes --timings GenomAutomorphism_1.11.2.tar.gz |
| StartedAt: 2025-10-17 09:21:47 -0000 (Fri, 17 Oct 2025) |
| EndedAt: 2025-10-17 09:25:39 -0000 (Fri, 17 Oct 2025) |
| EllapsedTime: 231.1 seconds |
| RetCode: 0 |
| Status: OK |
| CheckDir: GenomAutomorphism.Rcheck |
| Warnings: 0 |
##############################################################################
##############################################################################
###
### Running command:
###
### /home/biocbuild/R/R/bin/R CMD check --install=check:GenomAutomorphism.install-out.txt --library=/home/biocbuild/R/R/site-library --no-vignettes --timings GenomAutomorphism_1.11.2.tar.gz
###
##############################################################################
##############################################################################
* using log directory ‘/home/biocbuild/bbs-3.22-bioc/meat/GenomAutomorphism.Rcheck’
* using R version 4.5.0 (2025-04-11)
* using platform: aarch64-unknown-linux-gnu
* R was compiled by
aarch64-unknown-linux-gnu-gcc (GCC) 14.2.0
GNU Fortran (GCC) 14.2.0
* running under: openEuler 24.03 (LTS)
* using session charset: UTF-8
* using option ‘--no-vignettes’
* checking for file ‘GenomAutomorphism/DESCRIPTION’ ... OK
* this is package ‘GenomAutomorphism’ version ‘1.11.2’
* package encoding: UTF-8
* checking package namespace information ... OK
* checking package dependencies ... OK
* checking if this is a source package ... OK
* checking if there is a namespace ... OK
* checking for hidden files and directories ... OK
* checking for portable file names ... OK
* checking for sufficient/correct file permissions ... OK
* checking whether package ‘GenomAutomorphism’ can be installed ... OK
* checking installed package size ... OK
* checking package directory ... OK
* checking ‘build’ directory ... OK
* checking DESCRIPTION meta-information ... OK
* checking top-level files ... OK
* checking for left-over files ... OK
* checking index information ... OK
* checking package subdirectories ... OK
* checking code files for non-ASCII characters ... OK
* checking R files for syntax errors ... OK
* checking whether the package can be loaded ... OK
* checking whether the package can be loaded with stated dependencies ... OK
* checking whether the package can be unloaded cleanly ... OK
* checking whether the namespace can be loaded with stated dependencies ... OK
* checking whether the namespace can be unloaded cleanly ... OK
* checking loading without being on the library search path ... OK
* checking dependencies in R code ... OK
* checking S3 generic/method consistency ... OK
* checking replacement functions ... OK
* checking foreign function calls ... OK
* checking R code for possible problems ... OK
* checking Rd files ... OK
* checking Rd metadata ... OK
* checking Rd cross-references ... NOTE
Non-topic package-anchored link(s) in Rd file 'reexports.Rd':
‘[S4Vectors:S4Vectors-internals]{setValidity2}’
See section 'Cross-references' in the 'Writing R Extensions' manual.
* checking for missing documentation entries ... OK
* checking for code/documentation mismatches ... OK
* checking Rd \usage sections ... OK
* checking Rd contents ... OK
* checking for unstated dependencies in examples ... OK
* checking contents of ‘data’ directory ... OK
* checking data for non-ASCII characters ... OK
* checking data for ASCII and uncompressed saves ... OK
* checking files in ‘vignettes’ ... OK
* checking examples ... OK
Examples with CPU (user + system) or elapsed time > 5s
user system elapsed
automorphisms 4.987 1.558 5.860
aminoacid_dist 5.395 1.039 5.883
* checking for unstated dependencies in ‘tests’ ... OK
* checking tests ...
Running ‘spelling.R’
Running ‘testthat.R’
OK
* checking for unstated dependencies in vignettes ... OK
* checking package vignettes ... OK
* checking running R code from vignettes ... SKIPPED
* checking re-building of vignette outputs ... SKIPPED
* checking PDF version of manual ... OK
* DONE
Status: 1 NOTE
See
‘/home/biocbuild/bbs-3.22-bioc/meat/GenomAutomorphism.Rcheck/00check.log’
for details.
GenomAutomorphism.Rcheck/00install.out
############################################################################## ############################################################################## ### ### Running command: ### ### /home/biocbuild/R/R/bin/R CMD INSTALL GenomAutomorphism ### ############################################################################## ############################################################################## * installing to library ‘/home/biocbuild/R/R-4.5.0/site-library’ * installing *source* package ‘GenomAutomorphism’ ... ** this is package ‘GenomAutomorphism’ version ‘1.11.2’ ** using staged installation ** R ** data ** inst ** byte-compile and prepare package for lazy loading ** help *** installing help indices *** copying figures ** building package indices ** installing vignettes ** testing if installed package can be loaded from temporary location ** testing if installed package can be loaded from final location ** testing if installed package keeps a record of temporary installation path * DONE (GenomAutomorphism)
GenomAutomorphism.Rcheck/tests/spelling.Rout
R version 4.5.0 (2025-04-11) -- "How About a Twenty-Six"
Copyright (C) 2025 The R Foundation for Statistical Computing
Platform: aarch64-unknown-linux-gnu
R is free software and comes with ABSOLUTELY NO WARRANTY.
You are welcome to redistribute it under certain conditions.
Type 'license()' or 'licence()' for distribution details.
R is a collaborative project with many contributors.
Type 'contributors()' for more information and
'citation()' on how to cite R or R packages in publications.
Type 'demo()' for some demos, 'help()' for on-line help, or
'help.start()' for an HTML browser interface to help.
Type 'q()' to quit R.
> if (requireNamespace("spelling", quietly = TRUE)) {
+ spelling::spell_check_test(
+ vignettes = TRUE, error = FALSE,
+ skip_on_cran = TRUE
+ )
+ }
All Done!
>
> proc.time()
user system elapsed
0.205 0.013 0.203
GenomAutomorphism.Rcheck/tests/testthat.Rout
R version 4.5.0 (2025-04-11) -- "How About a Twenty-Six"
Copyright (C) 2025 The R Foundation for Statistical Computing
Platform: aarch64-unknown-linux-gnu
R is free software and comes with ABSOLUTELY NO WARRANTY.
You are welcome to redistribute it under certain conditions.
Type 'license()' or 'licence()' for distribution details.
R is a collaborative project with many contributors.
Type 'contributors()' for more information and
'citation()' on how to cite R or R packages in publications.
Type 'demo()' for some demos, 'help()' for on-line help, or
'help.start()' for an HTML browser interface to help.
Type 'q()' to quit R.
> library(testthat)
> library(GenomAutomorphism)
>
> test_check("GenomAutomorphism")
[ FAIL 0 | WARN 0 | SKIP 0 | PASS 34 ]
>
> proc.time()
user system elapsed
24.428 3.437 27.720
GenomAutomorphism.Rcheck/GenomAutomorphism-Ex.timings
| name | user | system | elapsed | |
| AutomorphismByCoef | 0.544 | 0.000 | 0.545 | |
| AutomorphismList | 2.757 | 0.088 | 2.853 | |
| CodonMatrix | 0.248 | 0.028 | 0.276 | |
| CodonSeq | 0.506 | 0.015 | 0.523 | |
| GRangesMatrixSeq | 0.223 | 0.019 | 0.244 | |
| ListCodonMatrix | 0.292 | 0.012 | 0.305 | |
| MatrixSeq | 0.114 | 0.004 | 0.118 | |
| aa_phychem_index | 0.089 | 0.008 | 0.098 | |
| aaindex1 | 0.029 | 0.004 | 0.033 | |
| aaindex2 | 0.014 | 0.000 | 0.014 | |
| aaindex3 | 0.009 | 0.000 | 0.009 | |
| aln | 0.056 | 0.008 | 0.065 | |
| aminoacid_dist | 5.395 | 1.039 | 5.883 | |
| as.AutomorphismList | 0.793 | 0.184 | 0.718 | |
| aut3D | 1.432 | 0.372 | 1.559 | |
| autZ125 | 2.609 | 0.781 | 2.572 | |
| autZ5 | 0.980 | 0.501 | 1.258 | |
| autZ64 | 1.747 | 0.576 | 2.083 | |
| autby_coef | 0.367 | 0.032 | 0.401 | |
| autm | 0.041 | 0.008 | 0.050 | |
| autm_3d | 0.056 | 0.008 | 0.064 | |
| autm_z125 | 0.049 | 0.008 | 0.057 | |
| automorphismByRanges | 0.131 | 0.012 | 0.144 | |
| automorphism_bycoef | 0.097 | 0.016 | 0.113 | |
| automorphism_prob | 1.373 | 0.084 | 1.461 | |
| automorphisms | 4.987 | 1.558 | 5.860 | |
| base2codon | 0.061 | 0.001 | 0.063 | |
| base2int | 0.009 | 0.002 | 0.012 | |
| base_methods | 0.548 | 0.068 | 0.618 | |
| brca1_aln | 0.080 | 0.004 | 0.083 | |
| brca1_aln2 | 0.070 | 0.011 | 0.081 | |
| brca1_autm | 0.491 | 0.008 | 0.499 | |
| cdm_z64 | 0.138 | 0.073 | 0.210 | |
| codon_coord | 0.891 | 0.095 | 0.991 | |
| codon_dist | 0.327 | 0.000 | 0.329 | |
| codon_dist_matrix | 2.666 | 0.306 | 2.983 | |
| codon_matrix | 0.838 | 0.091 | 0.933 | |
| conserved_regions | 0.455 | 0.028 | 0.485 | |
| covid_aln | 0.066 | 0.004 | 0.071 | |
| covid_autm | 0.054 | 0.000 | 0.055 | |
| cyc_aln | 0.11 | 0.00 | 0.11 | |
| cyc_autm | 0.084 | 0.000 | 0.084 | |
| dna_phyche | 0.008 | 0.000 | 0.007 | |
| dna_phychem | 0.003 | 0.000 | 0.003 | |
| extract-methods | 0.597 | 0.011 | 0.609 | |
| getAutomorphisms | 0.240 | 0.016 | 0.256 | |
| get_coord | 0.532 | 0.092 | 0.626 | |
| get_mutscore | 0.186 | 0.007 | 0.194 | |
| matrices | 0.505 | 0.001 | 0.507 | |
| mod | 0.002 | 0.000 | 0.002 | |
| modeq | 0.002 | 0.000 | 0.002 | |
| modlineq | 0.003 | 0.000 | 0.003 | |
| mut_type | 0.002 | 0.000 | 0.002 | |
| peptide_phychem_index | 0.118 | 0.000 | 0.118 | |
| reexports | 0.070 | 0.003 | 0.073 | |
| seqranges | 0.615 | 0.024 | 0.641 | |
| slapply | 0.002 | 0.000 | 0.002 | |
| sortByChromAndStart | 0.083 | 0.000 | 0.084 | |
| str2chr | 0.001 | 0.000 | 0.001 | |
| str2dig | 0 | 0 | 0 | |
| translation | 0.713 | 0.012 | 0.728 | |