| Back to Multiple platform build/check report for BioC 3.22: simplified long |
|
This page was generated on 2025-11-15 11:58 -0500 (Sat, 15 Nov 2025).
| Hostname | OS | Arch (*) | R version | Installed pkgs |
|---|---|---|---|---|
| nebbiolo2 | Linux (Ubuntu 24.04.3 LTS) | x86_64 | 4.5.1 Patched (2025-08-23 r88802) -- "Great Square Root" | 4903 |
| taishan | Linux (openEuler 24.03 LTS) | aarch64 | 4.5.0 (2025-04-11) -- "How About a Twenty-Six" | 4668 |
| Click on any hostname to see more info about the system (e.g. compilers) (*) as reported by 'uname -p', except on Windows and Mac OS X | ||||
| Package 838/2361 | Hostname | OS / Arch | INSTALL | BUILD | CHECK | BUILD BIN | ||||||||
| GenomAutomorphism 1.12.0 (landing page) Robersy Sanchez
| nebbiolo2 | Linux (Ubuntu 24.04.3 LTS) / x86_64 | OK | OK | OK | |||||||||
| taishan | Linux (openEuler 24.03 LTS) / aarch64 | OK | OK | OK | ||||||||||
|
To the developers/maintainers of the GenomAutomorphism package: - Allow up to 24 hours (and sometimes 48 hours) for your latest push to git@git.bioconductor.org:packages/GenomAutomorphism.git to reflect on this report. See Troubleshooting Build Report for more information. - Use the following Renviron settings to reproduce errors and warnings. - If 'R CMD check' started to fail recently on the Linux builder(s) over a missing dependency, add the missing dependency to 'Suggests:' in your DESCRIPTION file. See Renviron.bioc for more information. |
| Package: GenomAutomorphism |
| Version: 1.12.0 |
| Command: /home/biocbuild/bbs-3.22-bioc/R/bin/R CMD check --install=check:GenomAutomorphism.install-out.txt --library=/home/biocbuild/bbs-3.22-bioc/R/site-library --timings GenomAutomorphism_1.12.0.tar.gz |
| StartedAt: 2025-11-15 00:04:18 -0500 (Sat, 15 Nov 2025) |
| EndedAt: 2025-11-15 00:08:32 -0500 (Sat, 15 Nov 2025) |
| EllapsedTime: 253.2 seconds |
| RetCode: 0 |
| Status: OK |
| CheckDir: GenomAutomorphism.Rcheck |
| Warnings: 0 |
##############################################################################
##############################################################################
###
### Running command:
###
### /home/biocbuild/bbs-3.22-bioc/R/bin/R CMD check --install=check:GenomAutomorphism.install-out.txt --library=/home/biocbuild/bbs-3.22-bioc/R/site-library --timings GenomAutomorphism_1.12.0.tar.gz
###
##############################################################################
##############################################################################
* using log directory ‘/home/biocbuild/bbs-3.22-bioc/meat/GenomAutomorphism.Rcheck’
* using R version 4.5.1 Patched (2025-08-23 r88802)
* using platform: x86_64-pc-linux-gnu
* R was compiled by
gcc (Ubuntu 13.3.0-6ubuntu2~24.04) 13.3.0
GNU Fortran (Ubuntu 13.3.0-6ubuntu2~24.04) 13.3.0
* running under: Ubuntu 24.04.3 LTS
* using session charset: UTF-8
* checking for file ‘GenomAutomorphism/DESCRIPTION’ ... OK
* this is package ‘GenomAutomorphism’ version ‘1.12.0’
* package encoding: UTF-8
* checking package namespace information ... OK
* checking package dependencies ... OK
* checking if this is a source package ... OK
* checking if there is a namespace ... OK
* checking for hidden files and directories ... OK
* checking for portable file names ... OK
* checking for sufficient/correct file permissions ... OK
* checking whether package ‘GenomAutomorphism’ can be installed ... OK
* checking installed package size ... OK
* checking package directory ... OK
* checking ‘build’ directory ... OK
* checking DESCRIPTION meta-information ... OK
* checking top-level files ... OK
* checking for left-over files ... OK
* checking index information ... OK
* checking package subdirectories ... OK
* checking code files for non-ASCII characters ... OK
* checking R files for syntax errors ... OK
* checking whether the package can be loaded ... OK
* checking whether the package can be loaded with stated dependencies ... OK
* checking whether the package can be unloaded cleanly ... OK
* checking whether the namespace can be loaded with stated dependencies ... OK
* checking whether the namespace can be unloaded cleanly ... OK
* checking loading without being on the library search path ... OK
* checking dependencies in R code ... OK
* checking S3 generic/method consistency ... OK
* checking replacement functions ... OK
* checking foreign function calls ... OK
* checking R code for possible problems ... OK
* checking Rd files ... OK
* checking Rd metadata ... OK
* checking Rd cross-references ... NOTE
Non-topic package-anchored link(s) in Rd file 'reexports.Rd':
‘[S4Vectors:S4Vectors-internals]{setValidity2}’
See section 'Cross-references' in the 'Writing R Extensions' manual.
* checking for missing documentation entries ... OK
* checking for code/documentation mismatches ... OK
* checking Rd \usage sections ... OK
* checking Rd contents ... OK
* checking for unstated dependencies in examples ... OK
* checking contents of ‘data’ directory ... OK
* checking data for non-ASCII characters ... OK
* checking data for ASCII and uncompressed saves ... OK
* checking files in ‘vignettes’ ... OK
* checking examples ... OK
Examples with CPU (user + system) or elapsed time > 5s
user system elapsed
aminoacid_dist 4.643 0.943 5.024
automorphisms 4.595 0.841 4.888
* checking for unstated dependencies in ‘tests’ ... OK
* checking tests ...
Running ‘spelling.R’
Running ‘testthat.R’
OK
* checking for unstated dependencies in vignettes ... OK
* checking package vignettes ... OK
* checking re-building of vignette outputs ... OK
* checking PDF version of manual ... OK
* DONE
Status: 1 NOTE
See
‘/home/biocbuild/bbs-3.22-bioc/meat/GenomAutomorphism.Rcheck/00check.log’
for details.
GenomAutomorphism.Rcheck/00install.out
############################################################################## ############################################################################## ### ### Running command: ### ### /home/biocbuild/bbs-3.22-bioc/R/bin/R CMD INSTALL GenomAutomorphism ### ############################################################################## ############################################################################## * installing to library ‘/home/biocbuild/bbs-3.22-bioc/R/site-library’ * installing *source* package ‘GenomAutomorphism’ ... ** this is package ‘GenomAutomorphism’ version ‘1.12.0’ ** using staged installation ** R ** data ** inst ** byte-compile and prepare package for lazy loading ** help *** installing help indices *** copying figures ** building package indices ** installing vignettes ** testing if installed package can be loaded from temporary location ** testing if installed package can be loaded from final location ** testing if installed package keeps a record of temporary installation path * DONE (GenomAutomorphism)
GenomAutomorphism.Rcheck/tests/spelling.Rout
R version 4.5.1 Patched (2025-08-23 r88802) -- "Great Square Root"
Copyright (C) 2025 The R Foundation for Statistical Computing
Platform: x86_64-pc-linux-gnu
R is free software and comes with ABSOLUTELY NO WARRANTY.
You are welcome to redistribute it under certain conditions.
Type 'license()' or 'licence()' for distribution details.
R is a collaborative project with many contributors.
Type 'contributors()' for more information and
'citation()' on how to cite R or R packages in publications.
Type 'demo()' for some demos, 'help()' for on-line help, or
'help.start()' for an HTML browser interface to help.
Type 'q()' to quit R.
> if (requireNamespace("spelling", quietly = TRUE)) {
+ spelling::spell_check_test(
+ vignettes = TRUE, error = FALSE,
+ skip_on_cran = TRUE
+ )
+ }
All Done!
>
> proc.time()
user system elapsed
0.143 0.037 0.165
GenomAutomorphism.Rcheck/tests/testthat.Rout
R version 4.5.1 Patched (2025-08-23 r88802) -- "Great Square Root"
Copyright (C) 2025 The R Foundation for Statistical Computing
Platform: x86_64-pc-linux-gnu
R is free software and comes with ABSOLUTELY NO WARRANTY.
You are welcome to redistribute it under certain conditions.
Type 'license()' or 'licence()' for distribution details.
R is a collaborative project with many contributors.
Type 'contributors()' for more information and
'citation()' on how to cite R or R packages in publications.
Type 'demo()' for some demos, 'help()' for on-line help, or
'help.start()' for an HTML browser interface to help.
Type 'q()' to quit R.
> library(testthat)
> library(GenomAutomorphism)
>
> test_check("GenomAutomorphism")
[ FAIL 0 | WARN 0 | SKIP 0 | PASS 34 ]
>
> proc.time()
user system elapsed
23.474 3.649 26.851
GenomAutomorphism.Rcheck/GenomAutomorphism-Ex.timings
| name | user | system | elapsed | |
| AutomorphismByCoef | 0.417 | 0.009 | 0.426 | |
| AutomorphismList | 2.320 | 0.116 | 2.435 | |
| CodonMatrix | 0.166 | 0.009 | 0.176 | |
| CodonSeq | 0.342 | 0.011 | 0.354 | |
| GRangesMatrixSeq | 0.176 | 0.024 | 0.200 | |
| ListCodonMatrix | 0.199 | 0.008 | 0.207 | |
| MatrixSeq | 0.105 | 0.018 | 0.122 | |
| aa_phychem_index | 0.089 | 0.005 | 0.093 | |
| aaindex1 | 0.033 | 0.001 | 0.033 | |
| aaindex2 | 0.014 | 0.001 | 0.015 | |
| aaindex3 | 0.01 | 0.00 | 0.01 | |
| aln | 0.051 | 0.004 | 0.055 | |
| aminoacid_dist | 4.643 | 0.943 | 5.024 | |
| as.AutomorphismList | 0.597 | 0.110 | 0.579 | |
| aut3D | 1.349 | 0.373 | 1.506 | |
| autZ125 | 2.522 | 0.811 | 2.542 | |
| autZ5 | 0.888 | 0.325 | 1.036 | |
| autZ64 | 1.624 | 0.302 | 1.736 | |
| autby_coef | 0.292 | 0.013 | 0.305 | |
| autm | 0.034 | 0.005 | 0.039 | |
| autm_3d | 0.050 | 0.002 | 0.051 | |
| autm_z125 | 0.042 | 0.004 | 0.046 | |
| automorphismByRanges | 0.095 | 0.011 | 0.106 | |
| automorphism_bycoef | 0.082 | 0.008 | 0.089 | |
| automorphism_prob | 1.071 | 0.056 | 1.127 | |
| automorphisms | 4.595 | 0.841 | 4.888 | |
| base2codon | 0.047 | 0.006 | 0.052 | |
| base2int | 0.005 | 0.004 | 0.009 | |
| base_methods | 0.395 | 0.048 | 0.443 | |
| brca1_aln | 0.054 | 0.011 | 0.065 | |
| brca1_aln2 | 0.057 | 0.008 | 0.065 | |
| brca1_autm | 0.409 | 0.014 | 0.423 | |
| cdm_z64 | 0.110 | 0.062 | 0.172 | |
| codon_coord | 0.858 | 0.107 | 0.965 | |
| codon_dist | 0.256 | 0.003 | 0.259 | |
| codon_dist_matrix | 2.031 | 0.236 | 2.260 | |
| codon_matrix | 0.623 | 0.155 | 0.778 | |
| conserved_regions | 0.349 | 0.038 | 0.388 | |
| covid_aln | 0.059 | 0.001 | 0.061 | |
| covid_autm | 0.045 | 0.002 | 0.046 | |
| cyc_aln | 0.081 | 0.002 | 0.083 | |
| cyc_autm | 0.067 | 0.003 | 0.070 | |
| dna_phyche | 0.007 | 0.000 | 0.006 | |
| dna_phychem | 0.003 | 0.000 | 0.002 | |
| extract-methods | 0.498 | 0.059 | 0.557 | |
| getAutomorphisms | 0.170 | 0.090 | 0.259 | |
| get_coord | 0.514 | 0.208 | 0.723 | |
| get_mutscore | 0.156 | 0.003 | 0.159 | |
| matrices | 0.470 | 0.000 | 0.469 | |
| mod | 0.002 | 0.000 | 0.001 | |
| modeq | 0.001 | 0.000 | 0.001 | |
| modlineq | 0.002 | 0.000 | 0.002 | |
| mut_type | 0.002 | 0.000 | 0.001 | |
| peptide_phychem_index | 0.108 | 0.003 | 0.112 | |
| reexports | 0.062 | 0.002 | 0.063 | |
| seqranges | 0.549 | 0.054 | 0.603 | |
| slapply | 0.001 | 0.000 | 0.002 | |
| sortByChromAndStart | 0.060 | 0.001 | 0.061 | |
| str2chr | 0 | 0 | 0 | |
| str2dig | 0.000 | 0.000 | 0.001 | |
| translation | 0.813 | 0.000 | 0.814 | |