| Back to Multiple platform build/check report for BioC 3.22: simplified long |
|
This page was generated on 2025-10-21 12:07 -0400 (Tue, 21 Oct 2025).
| Hostname | OS | Arch (*) | R version | Installed pkgs |
|---|---|---|---|---|
| nebbiolo2 | Linux (Ubuntu 24.04.3 LTS) | x86_64 | 4.5.1 Patched (2025-08-23 r88802) -- "Great Square Root" | 4887 |
| lconway | macOS 12.7.6 Monterey | x86_64 | 4.5.1 Patched (2025-09-10 r88807) -- "Great Square Root" | 4677 |
| kjohnson3 | macOS 13.7.7 Ventura | arm64 | 4.5.1 Patched (2025-09-10 r88807) -- "Great Square Root" | 4622 |
| taishan | Linux (openEuler 24.03 LTS) | aarch64 | 4.5.0 (2025-04-11) -- "How About a Twenty-Six" | 4642 |
| Click on any hostname to see more info about the system (e.g. compilers) (*) as reported by 'uname -p', except on Windows and Mac OS X | ||||
| Package 1234/2353 | Hostname | OS / Arch | INSTALL | BUILD | CHECK | BUILD BIN | ||||||||
| MetaboCoreUtils 1.17.1 (landing page) Johannes Rainer
| nebbiolo2 | Linux (Ubuntu 24.04.3 LTS) / x86_64 | OK | OK | OK | |||||||||
| lconway | macOS 12.7.6 Monterey / x86_64 | OK | OK | OK | OK | |||||||||
| kjohnson3 | macOS 13.7.7 Ventura / arm64 | OK | OK | OK | OK | |||||||||
| taishan | Linux (openEuler 24.03 LTS) / aarch64 | OK | OK | OK | ||||||||||
|
To the developers/maintainers of the MetaboCoreUtils package: - Allow up to 24 hours (and sometimes 48 hours) for your latest push to git@git.bioconductor.org:packages/MetaboCoreUtils.git to reflect on this report. See Troubleshooting Build Report for more information. - Use the following Renviron settings to reproduce errors and warnings. - If 'R CMD check' started to fail recently on the Linux builder(s) over a missing dependency, add the missing dependency to 'Suggests:' in your DESCRIPTION file. See Renviron.bioc for more information. - See Martin Grigorov's blog post for how to debug Linux ARM64 related issues on a x86_64 host. |
| Package: MetaboCoreUtils |
| Version: 1.17.1 |
| Command: /home/biocbuild/R/R/bin/R CMD check --install=check:MetaboCoreUtils.install-out.txt --library=/home/biocbuild/R/R/site-library --no-vignettes --timings MetaboCoreUtils_1.17.1.tar.gz |
| StartedAt: 2025-10-17 10:49:00 -0000 (Fri, 17 Oct 2025) |
| EndedAt: 2025-10-17 10:50:06 -0000 (Fri, 17 Oct 2025) |
| EllapsedTime: 66.1 seconds |
| RetCode: 0 |
| Status: OK |
| CheckDir: MetaboCoreUtils.Rcheck |
| Warnings: 0 |
##############################################################################
##############################################################################
###
### Running command:
###
### /home/biocbuild/R/R/bin/R CMD check --install=check:MetaboCoreUtils.install-out.txt --library=/home/biocbuild/R/R/site-library --no-vignettes --timings MetaboCoreUtils_1.17.1.tar.gz
###
##############################################################################
##############################################################################
* using log directory ‘/home/biocbuild/bbs-3.22-bioc/meat/MetaboCoreUtils.Rcheck’
* using R version 4.5.0 (2025-04-11)
* using platform: aarch64-unknown-linux-gnu
* R was compiled by
aarch64-unknown-linux-gnu-gcc (GCC) 14.2.0
GNU Fortran (GCC) 14.2.0
* running under: openEuler 24.03 (LTS)
* using session charset: UTF-8
* using option ‘--no-vignettes’
* checking for file ‘MetaboCoreUtils/DESCRIPTION’ ... OK
* this is package ‘MetaboCoreUtils’ version ‘1.17.1’
* checking package namespace information ... OK
* checking package dependencies ... OK
* checking if this is a source package ... OK
* checking if there is a namespace ... OK
* checking for hidden files and directories ... OK
* checking for portable file names ... OK
* checking for sufficient/correct file permissions ... OK
* checking whether package ‘MetaboCoreUtils’ can be installed ... OK
* checking installed package size ... OK
* checking package directory ... OK
* checking ‘build’ directory ... OK
* checking DESCRIPTION meta-information ... OK
* checking top-level files ... OK
* checking for left-over files ... OK
* checking index information ... OK
* checking package subdirectories ... OK
* checking code files for non-ASCII characters ... OK
* checking R files for syntax errors ... OK
* checking whether the package can be loaded ... OK
* checking whether the package can be loaded with stated dependencies ... OK
* checking whether the package can be unloaded cleanly ... OK
* checking whether the namespace can be loaded with stated dependencies ... OK
* checking whether the namespace can be unloaded cleanly ... OK
* checking loading without being on the library search path ... OK
* checking whether startup messages can be suppressed ... OK
* checking dependencies in R code ... OK
* checking S3 generic/method consistency ... OK
* checking replacement functions ... OK
* checking foreign function calls ... OK
* checking R code for possible problems ... OK
* checking Rd files ... OK
* checking Rd metadata ... OK
* checking Rd cross-references ... NOTE
Non-topic package-anchored link(s) in Rd file 'isotopologues.Rd':
‘[MsCoreUtils:matching]{MsCoreUtils::closest()}’
See section 'Cross-references' in the 'Writing R Extensions' manual.
Found the following Rd file(s) with Rd \link{} targets missing package
anchors:
fit_lm.Rd: bpparam
Please provide package anchors for all Rd \link{} targets not in the
package itself and the base packages.
* checking for missing documentation entries ... OK
* checking for code/documentation mismatches ... OK
* checking Rd \usage sections ... OK
* checking Rd contents ... OK
* checking for unstated dependencies in examples ... OK
* checking files in ‘vignettes’ ... OK
* checking examples ... OK
* checking for unstated dependencies in ‘tests’ ... OK
* checking tests ...
Running ‘testthat.R’
OK
* checking for unstated dependencies in vignettes ... OK
* checking package vignettes ... OK
* checking running R code from vignettes ... SKIPPED
* checking re-building of vignette outputs ... SKIPPED
* checking PDF version of manual ... OK
* DONE
Status: 1 NOTE
See
‘/home/biocbuild/bbs-3.22-bioc/meat/MetaboCoreUtils.Rcheck/00check.log’
for details.
MetaboCoreUtils.Rcheck/00install.out
############################################################################## ############################################################################## ### ### Running command: ### ### /home/biocbuild/R/R/bin/R CMD INSTALL MetaboCoreUtils ### ############################################################################## ############################################################################## * installing to library ‘/home/biocbuild/R/R-4.5.0/site-library’ * installing *source* package ‘MetaboCoreUtils’ ... ** this is package ‘MetaboCoreUtils’ version ‘1.17.1’ ** using staged installation ** R ** inst ** byte-compile and prepare package for lazy loading ** help *** installing help indices *** copying figures ** building package indices ** installing vignettes ** testing if installed package can be loaded from temporary location ** testing if installed package can be loaded from final location ** testing if installed package keeps a record of temporary installation path * DONE (MetaboCoreUtils)
MetaboCoreUtils.Rcheck/tests/testthat.Rout
R version 4.5.0 (2025-04-11) -- "How About a Twenty-Six"
Copyright (C) 2025 The R Foundation for Statistical Computing
Platform: aarch64-unknown-linux-gnu
R is free software and comes with ABSOLUTELY NO WARRANTY.
You are welcome to redistribute it under certain conditions.
Type 'license()' or 'licence()' for distribution details.
R is a collaborative project with many contributors.
Type 'contributors()' for more information and
'citation()' on how to cite R or R packages in publications.
Type 'demo()' for some demos, 'help()' for on-line help, or
'help.start()' for an HTML browser interface to help.
Type 'q()' to quit R.
> library("testthat")
>
> test_check("MetaboCoreUtils")
Loading required package: MetaboCoreUtils
[ FAIL 0 | WARN 2 | SKIP 0 | PASS 265 ]
[ FAIL 0 | WARN 2 | SKIP 0 | PASS 265 ]
>
> proc.time()
user system elapsed
16.977 0.421 17.408
MetaboCoreUtils.Rcheck/MetaboCoreUtils-Ex.timings
| name | user | system | elapsed | |
| addElements | 0.003 | 0.000 | 0.003 | |
| adductFormula | 0.009 | 0.000 | 0.008 | |
| adductNames | 0.000 | 0.000 | 0.001 | |
| calculateKendrickMass | 0 | 0 | 0 | |
| calculateMass | 0.002 | 0.000 | 0.002 | |
| containsElements | 0.002 | 0.000 | 0.002 | |
| convertMtime | 0.000 | 0.000 | 0.001 | |
| correctRindex | 0.000 | 0.000 | 0.001 | |
| countElements | 0.001 | 0.000 | 0.000 | |
| fit_lm | 0.631 | 0.060 | 0.695 | |
| formula2mz | 0.008 | 0.000 | 0.008 | |
| indexRtime | 0.002 | 0.000 | 0.001 | |
| internalStandardMixNames | 0.002 | 0.000 | 0.002 | |
| internalStandards | 0.019 | 0.004 | 0.026 | |
| isotopicSubstitutionMatrix | 0.001 | 0.000 | 0.000 | |
| isotopologues | 0.017 | 0.000 | 0.017 | |
| mass2mz | 0.002 | 0.000 | 0.002 | |
| mclosest | 0.005 | 0.000 | 0.005 | |
| multiplyElements | 0.001 | 0.000 | 0.001 | |
| mz2mass | 0.001 | 0.000 | 0.001 | |
| pasteElements | 0 | 0 | 0 | |
| quality_assessment | 0.001 | 0.000 | 0.002 | |
| standardizeFormula | 0.001 | 0.000 | 0.001 | |
| subtractElements | 0.001 | 0.000 | 0.002 | |