| Back to Multiple platform build/check report for BioC 3.22: simplified long |
|
This page was generated on 2025-10-24 12:07 -0400 (Fri, 24 Oct 2025).
| Hostname | OS | Arch (*) | R version | Installed pkgs |
|---|---|---|---|---|
| nebbiolo2 | Linux (Ubuntu 24.04.3 LTS) | x86_64 | 4.5.1 Patched (2025-08-23 r88802) -- "Great Square Root" | 4898 |
| lconway | macOS 12.7.6 Monterey | x86_64 | 4.5.1 Patched (2025-09-10 r88807) -- "Great Square Root" | 4688 |
| kjohnson3 | macOS 13.7.7 Ventura | arm64 | 4.5.1 Patched (2025-09-10 r88807) -- "Great Square Root" | 4634 |
| taishan | Linux (openEuler 24.03 LTS) | aarch64 | 4.5.0 (2025-04-11) -- "How About a Twenty-Six" | 4658 |
| Click on any hostname to see more info about the system (e.g. compilers) (*) as reported by 'uname -p', except on Windows and Mac OS X | ||||
| Package 147/2359 | Hostname | OS / Arch | INSTALL | BUILD | CHECK | BUILD BIN | ||||||||
| BatchQC 2.5.14 (landing page) Jessica Anderson
| nebbiolo2 | Linux (Ubuntu 24.04.3 LTS) / x86_64 | OK | OK | OK | |||||||||
| lconway | macOS 12.7.6 Monterey / x86_64 | OK | OK | OK | OK | |||||||||
| kjohnson3 | macOS 13.7.7 Ventura / arm64 | OK | OK | OK | OK | |||||||||
| taishan | Linux (openEuler 24.03 LTS) / aarch64 | OK | OK | OK | ||||||||||
|
To the developers/maintainers of the BatchQC package: - Allow up to 24 hours (and sometimes 48 hours) for your latest push to git@git.bioconductor.org:packages/BatchQC.git to reflect on this report. See Troubleshooting Build Report for more information. - Use the following Renviron settings to reproduce errors and warnings. - If 'R CMD check' started to fail recently on the Linux builder(s) over a missing dependency, add the missing dependency to 'Suggests:' in your DESCRIPTION file. See Renviron.bioc for more information. - See Martin Grigorov's blog post for how to debug Linux ARM64 related issues on a x86_64 host. |
| Package: BatchQC |
| Version: 2.5.14 |
| Command: /home/biocbuild/R/R/bin/R CMD check --install=check:BatchQC.install-out.txt --library=/home/biocbuild/R/R/site-library --no-vignettes --timings BatchQC_2.5.14.tar.gz |
| StartedAt: 2025-10-21 04:44:34 -0000 (Tue, 21 Oct 2025) |
| EndedAt: 2025-10-21 04:55:22 -0000 (Tue, 21 Oct 2025) |
| EllapsedTime: 648.1 seconds |
| RetCode: 0 |
| Status: OK |
| CheckDir: BatchQC.Rcheck |
| Warnings: 0 |
##############################################################################
##############################################################################
###
### Running command:
###
### /home/biocbuild/R/R/bin/R CMD check --install=check:BatchQC.install-out.txt --library=/home/biocbuild/R/R/site-library --no-vignettes --timings BatchQC_2.5.14.tar.gz
###
##############################################################################
##############################################################################
* using log directory ‘/home/biocbuild/bbs-3.22-bioc/meat/BatchQC.Rcheck’
* using R version 4.5.0 (2025-04-11)
* using platform: aarch64-unknown-linux-gnu
* R was compiled by
aarch64-unknown-linux-gnu-gcc (GCC) 14.2.0
GNU Fortran (GCC) 14.2.0
* running under: openEuler 24.03 (LTS)
* using session charset: UTF-8
* using option ‘--no-vignettes’
* checking for file ‘BatchQC/DESCRIPTION’ ... OK
* checking extension type ... Package
* this is package ‘BatchQC’ version ‘2.5.14’
* package encoding: UTF-8
* checking package namespace information ... OK
* checking package dependencies ... INFO
Imports includes 27 non-default packages.
Importing from so many packages makes the package vulnerable to any of
them becoming unavailable. Move as many as possible to Suggests and
use conditionally.
* checking if this is a source package ... OK
* checking if there is a namespace ... OK
* checking for hidden files and directories ... OK
* checking for portable file names ... OK
* checking for sufficient/correct file permissions ... OK
* checking whether package ‘BatchQC’ can be installed ... OK
* checking installed package size ... OK
* checking package directory ... OK
* checking ‘build’ directory ... OK
* checking DESCRIPTION meta-information ... OK
* checking top-level files ... OK
* checking for left-over files ... OK
* checking index information ... OK
* checking package subdirectories ... OK
* checking code files for non-ASCII characters ... OK
* checking R files for syntax errors ... OK
* checking whether the package can be loaded ... OK
* checking whether the package can be loaded with stated dependencies ... OK
* checking whether the package can be unloaded cleanly ... OK
* checking whether the namespace can be loaded with stated dependencies ... OK
* checking whether the namespace can be unloaded cleanly ... OK
* checking loading without being on the library search path ... OK
* checking dependencies in R code ... OK
* checking S3 generic/method consistency ... OK
* checking replacement functions ... OK
* checking foreign function calls ... OK
* checking R code for possible problems ... OK
* checking Rd files ... OK
* checking Rd metadata ... OK
* checking Rd cross-references ... OK
* checking for missing documentation entries ... OK
* checking for code/documentation mismatches ... OK
* checking Rd \usage sections ... OK
* checking Rd contents ... OK
* checking for unstated dependencies in examples ... OK
* checking contents of ‘data’ directory ... OK
* checking data for non-ASCII characters ... OK
* checking data for ASCII and uncompressed saves ... OK
* checking files in ‘vignettes’ ... OK
* checking examples ... OK
Examples with CPU (user + system) or elapsed time > 5s
user system elapsed
compute_aic 53.277 0.678 54.290
volcano_plot 34.455 0.431 34.974
DE_analyze 25.973 0.578 26.686
tb_data_upload 24.759 1.508 60.772
pval_plotter 22.613 0.342 23.079
pval_summary 21.965 0.334 22.418
batch_correct 19.072 0.214 19.394
PCA_plotter 18.442 0.254 18.792
compute_lambda 9.474 0.191 9.722
goodness_of_fit_DESeq2 5.815 0.039 5.889
* checking for unstated dependencies in ‘tests’ ... OK
* checking tests ...
Running ‘spelling.R’
Running ‘testthat.R’
OK
* checking for unstated dependencies in vignettes ... OK
* checking package vignettes ... OK
* checking running R code from vignettes ... SKIPPED
* checking re-building of vignette outputs ... SKIPPED
* checking PDF version of manual ... OK
* DONE
Status: OK
BatchQC.Rcheck/00install.out
############################################################################## ############################################################################## ### ### Running command: ### ### /home/biocbuild/R/R/bin/R CMD INSTALL BatchQC ### ############################################################################## ############################################################################## * installing to library ‘/home/biocbuild/R/R-4.5.0/site-library’ * installing *source* package ‘BatchQC’ ... ** this is package ‘BatchQC’ version ‘2.5.14’ ** using staged installation ** R ** data ** inst ** byte-compile and prepare package for lazy loading ** help *** installing help indices ** building package indices ** installing vignettes ** testing if installed package can be loaded from temporary location ** testing if installed package can be loaded from final location ** testing if installed package keeps a record of temporary installation path * DONE (BatchQC)
BatchQC.Rcheck/tests/spelling.Rout
R version 4.5.0 (2025-04-11) -- "How About a Twenty-Six"
Copyright (C) 2025 The R Foundation for Statistical Computing
Platform: aarch64-unknown-linux-gnu
R is free software and comes with ABSOLUTELY NO WARRANTY.
You are welcome to redistribute it under certain conditions.
Type 'license()' or 'licence()' for distribution details.
R is a collaborative project with many contributors.
Type 'contributors()' for more information and
'citation()' on how to cite R or R packages in publications.
Type 'demo()' for some demos, 'help()' for on-line help, or
'help.start()' for an HTML browser interface to help.
Type 'q()' to quit R.
> if (requireNamespace('spelling', quietly = TRUE))
+ spelling::spell_check_test(vignettes = TRUE, error = FALSE,
+ skip_on_cran = TRUE)
All Done!
>
> proc.time()
user system elapsed
0.180 0.043 0.212
BatchQC.Rcheck/tests/testthat.Rout
R version 4.5.0 (2025-04-11) -- "How About a Twenty-Six"
Copyright (C) 2025 The R Foundation for Statistical Computing
Platform: aarch64-unknown-linux-gnu
R is free software and comes with ABSOLUTELY NO WARRANTY.
You are welcome to redistribute it under certain conditions.
Type 'license()' or 'licence()' for distribution details.
R is a collaborative project with many contributors.
Type 'contributors()' for more information and
'citation()' on how to cite R or R packages in publications.
Type 'demo()' for some demos, 'help()' for on-line help, or
'help.start()' for an HTML browser interface to help.
Type 'q()' to quit R.
> library(testthat)
> library(BatchQC)
>
> test_check("BatchQC")
[ FAIL 0 | WARN 0 | SKIP 1 | PASS 0 ]
══ Skipped tests (1) ═══════════════════════════════════════════════════════════
• On CRAN (1): 'test-lintr.R:3:5'
[ FAIL 0 | WARN 0 | SKIP 1 | PASS 0 ]
>
> proc.time()
user system elapsed
14.782 0.894 15.715
BatchQC.Rcheck/BatchQC-Ex.timings
| name | user | system | elapsed | |
| BatchQC | 0 | 0 | 0 | |
| DE_analyze | 25.973 | 0.578 | 26.686 | |
| EV_plotter | 1.285 | 0.028 | 1.319 | |
| EV_table | 0.866 | 0.028 | 0.899 | |
| PCA_plotter | 18.442 | 0.254 | 18.792 | |
| batch_correct | 19.072 | 0.214 | 19.394 | |
| batch_design | 0.671 | 0.016 | 0.690 | |
| batchqc_explained_variation | 0.871 | 0.036 | 0.912 | |
| bisect | 0.005 | 0.000 | 0.006 | |
| bladder_data_upload | 0.299 | 0.020 | 0.321 | |
| color_palette | 0.306 | 0.008 | 0.316 | |
| compute_aic | 53.277 | 0.678 | 54.290 | |
| compute_lambda | 9.474 | 0.191 | 9.722 | |
| confound_metrics | 0.698 | 0.000 | 0.702 | |
| cor_props | 0.626 | 0.000 | 0.629 | |
| covariates_not_confounded | 0.710 | 0.004 | 0.719 | |
| cramers_v | 0.649 | 0.012 | 0.665 | |
| dendrogram_alpha_numeric_check | 0.616 | 0.016 | 0.636 | |
| dendrogram_color_palette | 1.318 | 0.012 | 1.337 | |
| dendrogram_plotter | 2.563 | 0.044 | 2.623 | |
| goodness_of_fit_DESeq2 | 5.815 | 0.039 | 5.889 | |
| heatmap_num_to_char_converter | 0.612 | 0.000 | 0.616 | |
| heatmap_plotter | 1.870 | 0.036 | 1.914 | |
| is_design_balanced | 0.664 | 0.004 | 0.673 | |
| kBET | 4.143 | 0.040 | 4.209 | |
| normalize_SE | 0.887 | 0.015 | 0.907 | |
| plot_kBET | 4.609 | 0.048 | 4.694 | |
| process_dendrogram | 1.190 | 0.012 | 1.211 | |
| pval_plotter | 22.613 | 0.342 | 23.079 | |
| pval_summary | 21.965 | 0.334 | 22.418 | |
| ratio_plotter | 1.217 | 0.019 | 1.244 | |
| run_kBET | 4.107 | 0.068 | 4.203 | |
| run_lambda | 0.631 | 0.028 | 0.663 | |
| std_pearson_corr_coef | 0.633 | 0.027 | 0.664 | |
| summarized_experiment | 0.025 | 0.000 | 0.025 | |
| tb_data_upload | 24.759 | 1.508 | 60.772 | |
| umap | 2.528 | 0.092 | 2.627 | |
| variation_ratios | 0.862 | 0.035 | 0.899 | |
| volcano_plot | 34.455 | 0.431 | 34.974 | |