| Back to Multiple platform build/check report for BioC 3.22: simplified long |
|
This page was generated on 2025-10-24 12:07 -0400 (Fri, 24 Oct 2025).
| Hostname | OS | Arch (*) | R version | Installed pkgs |
|---|---|---|---|---|
| nebbiolo2 | Linux (Ubuntu 24.04.3 LTS) | x86_64 | 4.5.1 Patched (2025-08-23 r88802) -- "Great Square Root" | 4898 |
| lconway | macOS 12.7.6 Monterey | x86_64 | 4.5.1 Patched (2025-09-10 r88807) -- "Great Square Root" | 4688 |
| kjohnson3 | macOS 13.7.7 Ventura | arm64 | 4.5.1 Patched (2025-09-10 r88807) -- "Great Square Root" | 4634 |
| taishan | Linux (openEuler 24.03 LTS) | aarch64 | 4.5.0 (2025-04-11) -- "How About a Twenty-Six" | 4658 |
| Click on any hostname to see more info about the system (e.g. compilers) (*) as reported by 'uname -p', except on Windows and Mac OS X | ||||
| Package 271/2359 | Hostname | OS / Arch | INSTALL | BUILD | CHECK | BUILD BIN | ||||||||
| CAGEfightR 1.29.1 (landing page) Malte Thodberg
| nebbiolo2 | Linux (Ubuntu 24.04.3 LTS) / x86_64 | OK | OK | OK | |||||||||
| lconway | macOS 12.7.6 Monterey / x86_64 | OK | OK | OK | OK | |||||||||
| kjohnson3 | macOS 13.7.7 Ventura / arm64 | OK | OK | OK | OK | |||||||||
| taishan | Linux (openEuler 24.03 LTS) / aarch64 | OK | OK | OK | ||||||||||
|
To the developers/maintainers of the CAGEfightR package: - Allow up to 24 hours (and sometimes 48 hours) for your latest push to git@git.bioconductor.org:packages/CAGEfightR.git to reflect on this report. See Troubleshooting Build Report for more information. - Use the following Renviron settings to reproduce errors and warnings. - If 'R CMD check' started to fail recently on the Linux builder(s) over a missing dependency, add the missing dependency to 'Suggests:' in your DESCRIPTION file. See Renviron.bioc for more information. - See Martin Grigorov's blog post for how to debug Linux ARM64 related issues on a x86_64 host. |
| Package: CAGEfightR |
| Version: 1.29.1 |
| Command: /home/biocbuild/R/R/bin/R CMD check --install=check:CAGEfightR.install-out.txt --library=/home/biocbuild/R/R/site-library --no-vignettes --timings CAGEfightR_1.29.1.tar.gz |
| StartedAt: 2025-10-21 06:09:23 -0000 (Tue, 21 Oct 2025) |
| EndedAt: 2025-10-21 06:18:17 -0000 (Tue, 21 Oct 2025) |
| EllapsedTime: 534.4 seconds |
| RetCode: 0 |
| Status: OK |
| CheckDir: CAGEfightR.Rcheck |
| Warnings: 0 |
##############################################################################
##############################################################################
###
### Running command:
###
### /home/biocbuild/R/R/bin/R CMD check --install=check:CAGEfightR.install-out.txt --library=/home/biocbuild/R/R/site-library --no-vignettes --timings CAGEfightR_1.29.1.tar.gz
###
##############################################################################
##############################################################################
* using log directory ‘/home/biocbuild/bbs-3.22-bioc/meat/CAGEfightR.Rcheck’
* using R version 4.5.0 (2025-04-11)
* using platform: aarch64-unknown-linux-gnu
* R was compiled by
aarch64-unknown-linux-gnu-gcc (GCC) 14.2.0
GNU Fortran (GCC) 14.2.0
* running under: openEuler 24.03 (LTS)
* using session charset: UTF-8
* using option ‘--no-vignettes’
* checking for file ‘CAGEfightR/DESCRIPTION’ ... OK
* checking extension type ... Package
* this is package ‘CAGEfightR’ version ‘1.29.1’
* package encoding: UTF-8
* checking package namespace information ... OK
* checking package dependencies ... OK
* checking if this is a source package ... OK
* checking if there is a namespace ... OK
* checking for hidden files and directories ... OK
* checking for portable file names ... OK
* checking for sufficient/correct file permissions ... OK
* checking whether package ‘CAGEfightR’ can be installed ... OK
* checking installed package size ... OK
* checking package directory ... OK
* checking ‘build’ directory ... OK
* checking DESCRIPTION meta-information ... OK
* checking top-level files ... OK
* checking for left-over files ... OK
* checking index information ... OK
* checking package subdirectories ... OK
* checking code files for non-ASCII characters ... OK
* checking R files for syntax errors ... OK
* checking whether the package can be loaded ... OK
* checking whether the package can be loaded with stated dependencies ... OK
* checking whether the package can be unloaded cleanly ... OK
* checking whether the namespace can be loaded with stated dependencies ... OK
* checking whether the namespace can be unloaded cleanly ... OK
* checking loading without being on the library search path ... OK
* checking whether startup messages can be suppressed ... OK
* checking dependencies in R code ... OK
* checking S3 generic/method consistency ... OK
* checking replacement functions ... OK
* checking foreign function calls ... OK
* checking R code for possible problems ... OK
* checking Rd files ... OK
* checking Rd metadata ... OK
* checking Rd cross-references ... OK
* checking for missing documentation entries ... OK
* checking for code/documentation mismatches ... OK
* checking Rd \usage sections ... OK
* checking Rd contents ... OK
* checking for unstated dependencies in examples ... OK
* checking contents of ‘data’ directory ... OK
* checking data for non-ASCII characters ... OK
* checking LazyData ... OK
* checking data for ASCII and uncompressed saves ... OK
* checking files in ‘vignettes’ ... OK
* checking examples ... OK
Examples with CPU (user + system) or elapsed time > 5s
user system elapsed
findLinks 6.276 1.281 6.819
* checking for unstated dependencies in vignettes ... OK
* checking package vignettes ... OK
* checking running R code from vignettes ... SKIPPED
* checking re-building of vignette outputs ... SKIPPED
* checking PDF version of manual ... OK
* DONE
Status: OK
CAGEfightR.Rcheck/00install.out
############################################################################## ############################################################################## ### ### Running command: ### ### /home/biocbuild/R/R/bin/R CMD INSTALL CAGEfightR ### ############################################################################## ############################################################################## * installing to library ‘/home/biocbuild/R/R-4.5.0/site-library’ * installing *source* package ‘CAGEfightR’ ... ** this is package ‘CAGEfightR’ version ‘1.29.1’ ** using staged installation ** R ** data *** moving datasets to lazyload DB ** inst ** byte-compile and prepare package for lazy loading ** help *** installing help indices ** building package indices ** installing vignettes ** testing if installed package can be loaded from temporary location ** testing if installed package can be loaded from final location ** testing if installed package keeps a record of temporary installation path * DONE (CAGEfightR)
CAGEfightR.Rcheck/CAGEfightR-Ex.timings
| name | user | system | elapsed | |
| assignGeneID | 4.226 | 0.065 | 4.326 | |
| assignMissingID | 1.331 | 0.011 | 1.348 | |
| assignTxID | 1.079 | 0.052 | 1.134 | |
| assignTxType | 0 | 0 | 0 | |
| balanceBC | 0.001 | 0.000 | 0.001 | |
| balanceD | 0.001 | 0.000 | 0.001 | |
| bwCommonGenome | 0.046 | 0.000 | 0.051 | |
| bwGenomeCompatibility | 0.022 | 0.000 | 0.023 | |
| bwValid | 0.011 | 0.000 | 0.011 | |
| calcBidirectionality | 0.597 | 0.000 | 0.599 | |
| calcComposition | 2.681 | 0.140 | 2.829 | |
| calcPooled | 0.139 | 0.008 | 0.148 | |
| calcShape | 3.385 | 0.123 | 3.519 | |
| calcSupport | 0.129 | 0.007 | 0.137 | |
| calcTPM | 0.163 | 0.008 | 0.171 | |
| calcTotalTags | 0.08 | 0.00 | 0.08 | |
| checkCTSSs | 0.317 | 0.008 | 0.329 | |
| checkPeaked | 0.080 | 0.004 | 0.085 | |
| checkPooled | 0.069 | 0.008 | 0.077 | |
| clusterBidirectionally | 0.001 | 0.000 | 0.000 | |
| clusterUnidirectionally | 2.155 | 0.024 | 2.185 | |
| combineClusters | 1.123 | 0.016 | 1.143 | |
| convertBAM2BigWig | 0 | 0 | 0 | |
| convertBED2BigWig | 0 | 0 | 0 | |
| convertGRanges2GPos | 0.111 | 0.008 | 0.120 | |
| exampleDesign | 0.002 | 0.004 | 0.006 | |
| findLinks | 6.276 | 1.281 | 6.819 | |
| findStretches | 0.474 | 0.111 | 0.588 | |
| quantifyCTSSs | 0 | 0 | 0 | |
| quantifyCTSSs2 | 0.000 | 0.001 | 0.000 | |
| quantifyClusters | 0.455 | 0.102 | 0.558 | |
| quantifyGenes | 1.530 | 0.183 | 1.719 | |
| quickEnhancers | 0 | 0 | 0 | |
| quickGenes | 0 | 0 | 0 | |
| quickTSSs | 0 | 0 | 0 | |
| shapeEntropy | 0 | 0 | 0 | |
| shapeIQR | 0.001 | 0.000 | 0.001 | |
| shapeMean | 0.001 | 0.000 | 0.001 | |
| shapeMultimodality | 0 | 0 | 0 | |
| subsetByBidirectionality | 0.578 | 0.064 | 0.644 | |
| subsetByComposition | 1.584 | 0.128 | 1.717 | |
| subsetBySupport | 0.091 | 0.028 | 0.119 | |
| swapRanges | 0.271 | 0.027 | 0.300 | |
| swapScores | 0.129 | 0.008 | 0.137 | |
| trackBalance | 0 | 0 | 0 | |
| trackCTSS | 4.005 | 0.543 | 4.564 | |
| trackClusters | 2.628 | 0.191 | 2.830 | |
| trackLinks | 1.271 | 0.582 | 1.495 | |
| trimToPeak | 1.205 | 0.207 | 1.418 | |
| trimToPercentiles | 3.288 | 0.260 | 3.559 | |
| tuneTagClustering | 0 | 0 | 0 | |
| utilsAggregateRows | 0.339 | 0.107 | 0.448 | |
| utilsDeStrand | 0.172 | 0.012 | 0.185 | |
| utilsScoreOverlaps | 0.109 | 0.000 | 0.110 | |
| utilsSimplifyTxDb | 0 | 0 | 0 | |