Back to Multiple platform build/check report for BioC 3.22:   simplified   long
AB[C]DEFGHIJKLMNOPQRSTUVWXYZ

This page was generated on 2025-11-20 12:05 -0500 (Thu, 20 Nov 2025).

HostnameOSArch (*)R versionInstalled pkgs
nebbiolo2Linux (Ubuntu 24.04.3 LTS)x86_644.5.2 (2025-10-31) -- "[Not] Part in a Rumble" 4615
merida1macOS 12.7.6 Montereyx86_644.5.2 Patched (2025-11-05 r88990) -- "[Not] Part in a Rumble" 4610
kjohnson1macOS 13.7.5 Venturaarm644.5.2 Patched (2025-11-04 r88984) -- "[Not] Part in a Rumble" 4598
taishanLinux (openEuler 24.03 LTS)aarch644.5.0 (2025-04-11) -- "How About a Twenty-Six" 4668
Click on any hostname to see more info about the system (e.g. compilers)      (*) as reported by 'uname -p', except on Windows and Mac OS X

Package 271/2361HostnameOS / ArchINSTALLBUILDCHECKBUILD BIN
CAGEfightR 1.30.0  (landing page)
Malte Thodberg
Snapshot Date: 2025-11-17 13:45 -0500 (Mon, 17 Nov 2025)
git_url: https://git.bioconductor.org/packages/CAGEfightR
git_branch: RELEASE_3_22
git_last_commit: eda75c3
git_last_commit_date: 2025-10-29 10:45:17 -0500 (Wed, 29 Oct 2025)
nebbiolo2Linux (Ubuntu 24.04.3 LTS) / x86_64  OK    OK    OK  UNNEEDED, same version is already published
merida1macOS 12.7.6 Monterey / x86_64  OK    OK    OK    OK  UNNEEDED, same version is already published
kjohnson1macOS 13.7.5 Ventura / arm64  OK    OK    OK    OK  UNNEEDED, same version is already published
taishanLinux (openEuler 24.03 LTS) / aarch64  OK    OK    OK  


CHECK results for CAGEfightR on kjohnson1

To the developers/maintainers of the CAGEfightR package:
- Allow up to 24 hours (and sometimes 48 hours) for your latest push to git@git.bioconductor.org:packages/CAGEfightR.git to reflect on this report. See Troubleshooting Build Report for more information.
- Use the following Renviron settings to reproduce errors and warnings.
- If 'R CMD check' started to fail recently on the Linux builder(s) over a missing dependency, add the missing dependency to 'Suggests:' in your DESCRIPTION file. See Renviron.bioc for more information.

raw results


Summary

Package: CAGEfightR
Version: 1.30.0
Command: /Library/Frameworks/R.framework/Resources/bin/R CMD check --install=check:CAGEfightR.install-out.txt --library=/Library/Frameworks/R.framework/Resources/library --no-vignettes --timings CAGEfightR_1.30.0.tar.gz
StartedAt: 2025-11-18 03:32:05 -0500 (Tue, 18 Nov 2025)
EndedAt: 2025-11-18 03:35:09 -0500 (Tue, 18 Nov 2025)
EllapsedTime: 184.5 seconds
RetCode: 0
Status:   OK  
CheckDir: CAGEfightR.Rcheck
Warnings: 0

Command output

##############################################################################
##############################################################################
###
### Running command:
###
###   /Library/Frameworks/R.framework/Resources/bin/R CMD check --install=check:CAGEfightR.install-out.txt --library=/Library/Frameworks/R.framework/Resources/library --no-vignettes --timings CAGEfightR_1.30.0.tar.gz
###
##############################################################################
##############################################################################


* using log directory ‘/Users/biocbuild/bbs-3.22-bioc/meat/CAGEfightR.Rcheck’
* using R version 4.5.2 Patched (2025-11-04 r88984)
* using platform: aarch64-apple-darwin20
* R was compiled by
    Apple clang version 16.0.0 (clang-1600.0.26.6)
    GNU Fortran (GCC) 14.2.0
* running under: macOS Ventura 13.7.8
* using session charset: UTF-8
* using option ‘--no-vignettes’
* checking for file ‘CAGEfightR/DESCRIPTION’ ... OK
* checking extension type ... Package
* this is package ‘CAGEfightR’ version ‘1.30.0’
* package encoding: UTF-8
* checking package namespace information ... OK
* checking package dependencies ... OK
* checking if this is a source package ... OK
* checking if there is a namespace ... OK
* checking for hidden files and directories ... OK
* checking for portable file names ... OK
* checking for sufficient/correct file permissions ... OK
* checking whether package ‘CAGEfightR’ can be installed ... OK
* checking installed package size ... OK
* checking package directory ... OK
* checking ‘build’ directory ... OK
* checking DESCRIPTION meta-information ... OK
* checking top-level files ... OK
* checking for left-over files ... OK
* checking index information ... OK
* checking package subdirectories ... OK
* checking code files for non-ASCII characters ... OK
* checking R files for syntax errors ... OK
* checking whether the package can be loaded ... OK
* checking whether the package can be loaded with stated dependencies ... OK
* checking whether the package can be unloaded cleanly ... OK
* checking whether the namespace can be loaded with stated dependencies ... OK
* checking whether the namespace can be unloaded cleanly ... OK
* checking whether startup messages can be suppressed ... OK
* checking dependencies in R code ... OK
* checking S3 generic/method consistency ... OK
* checking replacement functions ... OK
* checking foreign function calls ... OK
* checking R code for possible problems ... OK
* checking Rd files ... OK
* checking Rd metadata ... OK
* checking Rd cross-references ... OK
* checking for missing documentation entries ... OK
* checking for code/documentation mismatches ... OK
* checking Rd \usage sections ... OK
* checking Rd contents ... OK
* checking for unstated dependencies in examples ... OK
* checking contents of ‘data’ directory ... OK
* checking data for non-ASCII characters ... OK
* checking LazyData ... OK
* checking data for ASCII and uncompressed saves ... OK
* checking files in ‘vignettes’ ... OK
* checking examples ... OK
* checking for unstated dependencies in vignettes ... OK
* checking package vignettes ... OK
* checking running R code from vignettes ... SKIPPED
* checking re-building of vignette outputs ... SKIPPED
* checking PDF version of manual ... OK
* DONE

Status: OK


Installation output

CAGEfightR.Rcheck/00install.out

##############################################################################
##############################################################################
###
### Running command:
###
###   /Library/Frameworks/R.framework/Resources/bin/R CMD INSTALL CAGEfightR
###
##############################################################################
##############################################################################


* installing to library ‘/Library/Frameworks/R.framework/Versions/4.5-arm64/Resources/library’
* installing *source* package ‘CAGEfightR’ ...
** this is package ‘CAGEfightR’ version ‘1.30.0’
** using staged installation
** R
** data
*** moving datasets to lazyload DB
** inst
** byte-compile and prepare package for lazy loading
** help
*** installing help indices
** building package indices
** installing vignettes
** testing if installed package can be loaded from temporary location
** testing if installed package can be loaded from final location
** testing if installed package keeps a record of temporary installation path
* DONE (CAGEfightR)

Tests output


Example timings

CAGEfightR.Rcheck/CAGEfightR-Ex.timings

nameusersystemelapsed
assignGeneID1.5880.0341.836
assignMissingID0.4050.0130.478
assignTxID0.3900.0110.470
assignTxType000
balanceBC000
balanceD000
bwCommonGenome0.0130.0030.017
bwGenomeCompatibility0.0070.0020.008
bwValid0.0030.0010.004
calcBidirectionality0.1640.0070.193
calcComposition1.0310.0211.176
calcPooled0.0370.0020.042
calcShape0.8350.0210.962
calcSupport0.0450.0010.047
calcTPM0.0580.0020.062
calcTotalTags0.0260.0020.036
checkCTSSs0.0910.0020.112
checkPeaked0.0290.0020.043
checkPooled0.0210.0020.026
clusterBidirectionally0.0000.0000.001
clusterUnidirectionally0.5290.0100.608
combineClusters0.3010.0060.333
convertBAM2BigWig000
convertBED2BigWig000
convertGRanges2GPos0.0260.0000.025
exampleDesign0.0010.0050.008
findLinks2.7680.2553.242
findStretches0.1440.0410.196
quantifyCTSSs000
quantifyCTSSs2000
quantifyClusters0.1530.0270.213
quantifyGenes0.5120.0610.609
quickEnhancers0.0000.0010.000
quickGenes000
quickTSSs000
shapeEntropy0.0000.0000.001
shapeIQR000
shapeMean0.0000.0000.001
shapeMultimodality000
subsetByBidirectionality0.1560.0140.200
subsetByComposition0.4730.0170.573
subsetBySupport0.0250.0020.026
swapRanges0.0780.0050.083
swapScores0.0340.0010.038
trackBalance000
trackCTSS1.3500.0831.612
trackClusters0.9010.0091.012
trackLinks0.3410.1270.465
trimToPeak0.2900.0410.376
trimToPercentiles0.7120.0320.856
tuneTagClustering0.0010.0000.000
utilsAggregateRows0.1390.1570.332
utilsDeStrand0.0500.0020.059
utilsScoreOverlaps0.0230.0010.026
utilsSimplifyTxDb000