| Back to Multiple platform build/check report for BioC 3.22: simplified long |
|
This page was generated on 2025-10-21 12:07 -0400 (Tue, 21 Oct 2025).
| Hostname | OS | Arch (*) | R version | Installed pkgs |
|---|---|---|---|---|
| nebbiolo2 | Linux (Ubuntu 24.04.3 LTS) | x86_64 | 4.5.1 Patched (2025-08-23 r88802) -- "Great Square Root" | 4887 |
| lconway | macOS 12.7.6 Monterey | x86_64 | 4.5.1 Patched (2025-09-10 r88807) -- "Great Square Root" | 4677 |
| kjohnson3 | macOS 13.7.7 Ventura | arm64 | 4.5.1 Patched (2025-09-10 r88807) -- "Great Square Root" | 4622 |
| taishan | Linux (openEuler 24.03 LTS) | aarch64 | 4.5.0 (2025-04-11) -- "How About a Twenty-Six" | 4642 |
| Click on any hostname to see more info about the system (e.g. compilers) (*) as reported by 'uname -p', except on Windows and Mac OS X | ||||
| Package 1138/2353 | Hostname | OS / Arch | INSTALL | BUILD | CHECK | BUILD BIN | ||||||||
| Linnorm 2.33.0 (landing page) Shun Hang Yip
| nebbiolo2 | Linux (Ubuntu 24.04.3 LTS) / x86_64 | OK | OK | OK | |||||||||
| lconway | macOS 12.7.6 Monterey / x86_64 | OK | OK | OK | OK | |||||||||
| kjohnson3 | macOS 13.7.7 Ventura / arm64 | OK | OK | OK | OK | |||||||||
| taishan | Linux (openEuler 24.03 LTS) / aarch64 | OK | OK | OK | ||||||||||
|
To the developers/maintainers of the Linnorm package: - Allow up to 24 hours (and sometimes 48 hours) for your latest push to git@git.bioconductor.org:packages/Linnorm.git to reflect on this report. See Troubleshooting Build Report for more information. - Use the following Renviron settings to reproduce errors and warnings. - If 'R CMD check' started to fail recently on the Linux builder(s) over a missing dependency, add the missing dependency to 'Suggests:' in your DESCRIPTION file. See Renviron.bioc for more information. - See Martin Grigorov's blog post for how to debug Linux ARM64 related issues on a x86_64 host. |
| Package: Linnorm |
| Version: 2.33.0 |
| Command: /home/biocbuild/R/R/bin/R CMD check --install=check:Linnorm.install-out.txt --library=/home/biocbuild/R/R/site-library --no-vignettes --timings Linnorm_2.33.0.tar.gz |
| StartedAt: 2025-10-17 10:33:25 -0000 (Fri, 17 Oct 2025) |
| EndedAt: 2025-10-17 10:41:14 -0000 (Fri, 17 Oct 2025) |
| EllapsedTime: 469.5 seconds |
| RetCode: 0 |
| Status: OK |
| CheckDir: Linnorm.Rcheck |
| Warnings: 0 |
##############################################################################
##############################################################################
###
### Running command:
###
### /home/biocbuild/R/R/bin/R CMD check --install=check:Linnorm.install-out.txt --library=/home/biocbuild/R/R/site-library --no-vignettes --timings Linnorm_2.33.0.tar.gz
###
##############################################################################
##############################################################################
* using log directory ‘/home/biocbuild/bbs-3.22-bioc/meat/Linnorm.Rcheck’
* using R version 4.5.0 (2025-04-11)
* using platform: aarch64-unknown-linux-gnu
* R was compiled by
aarch64-unknown-linux-gnu-gcc (GCC) 14.2.0
GNU Fortran (GCC) 14.2.0
* running under: openEuler 24.03 (LTS)
* using session charset: UTF-8
* using option ‘--no-vignettes’
* checking for file ‘Linnorm/DESCRIPTION’ ... OK
* checking extension type ... Package
* this is package ‘Linnorm’ version ‘2.33.0’
* checking package namespace information ... OK
* checking package dependencies ... OK
* checking if this is a source package ... OK
* checking if there is a namespace ... OK
* checking for hidden files and directories ... OK
* checking for portable file names ... OK
* checking for sufficient/correct file permissions ... OK
* checking whether package ‘Linnorm’ can be installed ... OK
* used C++ compiler: ‘aarch64-unknown-linux-gnu-g++ (GCC) 14.2.0’
* checking installed package size ... OK
* checking package directory ... OK
* checking ‘build’ directory ... OK
* checking DESCRIPTION meta-information ... NOTE
License stub is invalid DCF.
* checking top-level files ... OK
* checking for left-over files ... OK
* checking index information ... OK
* checking package subdirectories ... OK
* checking code files for non-ASCII characters ... OK
* checking R files for syntax errors ... OK
* checking whether the package can be loaded ... OK
* checking whether the package can be loaded with stated dependencies ... OK
* checking whether the package can be unloaded cleanly ... OK
* checking whether the namespace can be loaded with stated dependencies ... OK
* checking whether the namespace can be unloaded cleanly ... OK
* checking loading without being on the library search path ... OK
* checking dependencies in R code ... OK
* checking S3 generic/method consistency ... OK
* checking replacement functions ... OK
* checking foreign function calls ... OK
* checking R code for possible problems ... NOTE
Linnorm.HClust: no visible binding for global variable ‘y’
Linnorm.HClust: no visible binding for global variable ‘xend’
Linnorm.HClust: no visible binding for global variable ‘yend’
Linnorm.HClust: no visible binding for global variable ‘cluster’
Linnorm.HClust: no visible binding for global variable ‘X1’
Linnorm.HClust: no visible binding for global variable ‘X2’
Linnorm.HVar: no visible binding for global variable ‘SD’
Linnorm.HVar: no visible binding for global variable ‘group’
Undefined global functions or variables:
SD X1 X2 cluster group xend y yend
* checking Rd files ... NOTE
checkRd: (-1) Linnorm.Cor.Rd:71: Lost braces in \itemize; \value handles \item{}{} directly
checkRd: (-1) Linnorm.Cor.Rd:72: Lost braces in \itemize; \value handles \item{}{} directly
checkRd: (-1) Linnorm.Cor.Rd:73: Lost braces in \itemize; \value handles \item{}{} directly
checkRd: (-1) Linnorm.Cor.Rd:74: Lost braces in \itemize; \value handles \item{}{} directly
checkRd: (-1) Linnorm.Cor.Rd:75: Lost braces in \itemize; \value handles \item{}{} directly
checkRd: (-1) Linnorm.Cor.Rd:76: Lost braces in \itemize; \value handles \item{}{} directly
checkRd: (-1) Linnorm.Cor.Rd:81: Lost braces in \itemize; \value handles \item{}{} directly
checkRd: (-1) Linnorm.Cor.Rd:82: Lost braces in \itemize; \value handles \item{}{} directly
checkRd: (-1) Linnorm.Cor.Rd:83: Lost braces in \itemize; \value handles \item{}{} directly
checkRd: (-1) Linnorm.Cor.Rd:84: Lost braces in \itemize; \value handles \item{}{} directly
checkRd: (-1) Linnorm.Cor.Rd:85: Lost braces in \itemize; \value handles \item{}{} directly
checkRd: (-1) Linnorm.HClust.Rd:37: Lost braces; missing escapes or markup?
37 | \item{method_hclust}{Charcter. Method to be used in hierarchical clustering. (From hclust {fastcluster}: the agglomeration method to be used. This should be (an unambiguous abbreviation of) one of "ward.D", "ward.D2", "single", "complete", "average", "mcquitty", "median" or "centroid".) Defaults to "ward.D".}
| ^
checkRd: (-1) Linnorm.HClust.Rd:39: Lost braces; missing escapes or markup?
39 | \item{method_dist}{Charcter. Method to be used in hierarchical clustering. (From Dist {amap}: the distance measure to be used. This must be one of "euclidean", "maximum", "manhattan", "canberra", "binary", "pearson", "correlation", "spearman" or "kendall". Any unambiguous substring can be given.) Defaults to "pearson".}
| ^
checkRd: (-1) Linnorm.HClust.Rd:62: Lost braces in \itemize; \value handles \item{}{} directly
checkRd: (-1) Linnorm.HClust.Rd:63: Lost braces in \itemize; \value handles \item{}{} directly
checkRd: (-1) Linnorm.HClust.Rd:64: Lost braces in \itemize; \value handles \item{}{} directly
checkRd: (-1) Linnorm.HVar.Rd:47: Lost braces in \itemize; \value handles \item{}{} directly
checkRd: (-1) Linnorm.HVar.Rd:48: Lost braces in \itemize; \value handles \item{}{} directly
checkRd: (-1) Linnorm.HVar.Rd:49: Lost braces in \itemize; \value handles \item{}{} directly
checkRd: (-1) Linnorm.HVar.Rd:54: Lost braces in \itemize; \value handles \item{}{} directly
checkRd: (-1) Linnorm.HVar.Rd:55: Lost braces in \itemize; \value handles \item{}{} directly
checkRd: (-1) Linnorm.HVar.Rd:56: Lost braces in \itemize; \value handles \item{}{} directly
checkRd: (-1) Linnorm.HVar.Rd:57: Lost braces in \itemize; \value handles \item{}{} directly
checkRd: (-1) Linnorm.HVar.Rd:58: Lost braces in \itemize; \value handles \item{}{} directly
checkRd: (-1) Linnorm.PCA.Rd:56: Lost braces in \itemize; \value handles \item{}{} directly
checkRd: (-1) Linnorm.PCA.Rd:57: Lost braces in \itemize; \value handles \item{}{} directly
checkRd: (-1) Linnorm.PCA.Rd:58: Lost braces in \itemize; \value handles \item{}{} directly
checkRd: (-1) Linnorm.PCA.Rd:59: Lost braces in \itemize; \value handles \item{}{} directly
checkRd: (-1) Linnorm.Rd:70: Lost braces in \itemize; \value handles \item{}{} directly
checkRd: (-1) Linnorm.Rd:71: Lost braces in \itemize; \value handles \item{}{} directly
checkRd: (-1) Linnorm.limma.Rd:38: Lost braces in \itemize; \value handles \item{}{} directly
checkRd: (-1) Linnorm.limma.Rd:39: Lost braces in \itemize; \value handles \item{}{} directly
checkRd: (-1) Linnorm.limma.Rd:40: Lost braces in \itemize; \value handles \item{}{} directly
checkRd: (-1) Linnorm.limma.Rd:41: Lost braces in \itemize; \value handles \item{}{} directly
checkRd: (-1) Linnorm.limma.Rd:42: Lost braces in \itemize; \value handles \item{}{} directly
checkRd: (-1) Linnorm.limma.Rd:43: Lost braces in \itemize; \value handles \item{}{} directly
checkRd: (-1) Linnorm.limma.Rd:48: Lost braces in \itemize; \value handles \item{}{} directly
checkRd: (-1) Linnorm.limma.Rd:49: Lost braces in \itemize; \value handles \item{}{} directly
checkRd: (-1) Linnorm.tSNE.Rd:50: Lost braces in \itemize; \value handles \item{}{} directly
checkRd: (-1) Linnorm.tSNE.Rd:51: Lost braces in \itemize; \value handles \item{}{} directly
checkRd: (-1) Linnorm.tSNE.Rd:52: Lost braces in \itemize; \value handles \item{}{} directly
checkRd: (-1) Linnorm.tSNE.Rd:53: Lost braces in \itemize; \value handles \item{}{} directly
* checking Rd metadata ... OK
* checking Rd cross-references ... OK
* checking for missing documentation entries ... OK
* checking for code/documentation mismatches ... OK
* checking Rd \usage sections ... OK
* checking Rd contents ... OK
* checking for unstated dependencies in examples ... OK
* checking contents of ‘data’ directory ... OK
* checking data for non-ASCII characters ... OK
* checking data for ASCII and uncompressed saves ... OK
* checking line endings in C/C++/Fortran sources/headers ... OK
* checking line endings in Makefiles ... OK
* checking compilation flags in Makevars ... OK
* checking for GNU extensions in Makefiles ... OK
* checking for portable use of $(BLAS_LIBS) and $(LAPACK_LIBS) ... OK
* checking use of PKG_*FLAGS in Makefiles ... OK
* checking compiled code ... NOTE
Note: information on .o files is not available
* checking files in ‘vignettes’ ... OK
* checking examples ... OK
Examples with CPU (user + system) or elapsed time > 5s
user system elapsed
RnaXSim 112.164 0.140 112.665
Linnorm.Cor 56.658 0.120 56.882
Linnorm.limma 45.571 0.040 45.724
Linnorm.Norm 45.112 0.000 45.209
Linnorm 44.974 0.000 45.070
Linnorm.tSNE 5.439 0.016 5.469
* checking for unstated dependencies in ‘tests’ ... OK
* checking tests ...
Running ‘testthat.R’
OK
* checking for unstated dependencies in vignettes ... OK
* checking package vignettes ... OK
* checking running R code from vignettes ... SKIPPED
* checking re-building of vignette outputs ... SKIPPED
* checking PDF version of manual ... OK
* DONE
Status: 4 NOTEs
See
‘/home/biocbuild/bbs-3.22-bioc/meat/Linnorm.Rcheck/00check.log’
for details.
Linnorm.Rcheck/00install.out
############################################################################## ############################################################################## ### ### Running command: ### ### /home/biocbuild/R/R/bin/R CMD INSTALL Linnorm ### ############################################################################## ############################################################################## * installing to library ‘/home/biocbuild/R/R-4.5.0/site-library’ * installing *source* package ‘Linnorm’ ... ** this is package ‘Linnorm’ version ‘2.33.0’ ** using staged installation ** libs using C++ compiler: ‘aarch64-unknown-linux-gnu-g++ (GCC) 14.2.0’ /opt/ohpc/pub/compiler/gcc/14.2.0/bin/aarch64-unknown-linux-gnu-g++ -std=gnu++17 -I"/home/biocbuild/R/R-4.5.0/include" -DNDEBUG -I'/home/biocbuild/R/R-4.5.0/site-library/Rcpp/include' -I'/home/biocbuild/R/R-4.5.0/site-library/RcppArmadillo/include' -I/usr/local/include -fPIC -g -O2 -Wall -Werror=format-security -c Misc.cpp -o Misc.o /opt/ohpc/pub/compiler/gcc/14.2.0/bin/aarch64-unknown-linux-gnu-g++ -std=gnu++17 -shared -L/home/biocbuild/R/R-4.5.0/lib -L/usr/local/lib -o Linnorm.so Misc.o -std=c++11 -lopenblas -lgfortran -lm -DARMA_64BIT_WORD=1 -L/home/biocbuild/R/R-4.5.0/lib -lR installing to /home/biocbuild/R/R-4.5.0/site-library/00LOCK-Linnorm/00new/Linnorm/libs ** R ** data ** inst ** byte-compile and prepare package for lazy loading ** help *** installing help indices ** building package indices ** installing vignettes ** testing if installed package can be loaded from temporary location ** checking absolute paths in shared objects and dynamic libraries ** testing if installed package can be loaded from final location ** testing if installed package keeps a record of temporary installation path * DONE (Linnorm)
Linnorm.Rcheck/tests/testthat.Rout
R version 4.5.0 (2025-04-11) -- "How About a Twenty-Six"
Copyright (C) 2025 The R Foundation for Statistical Computing
Platform: aarch64-unknown-linux-gnu
R is free software and comes with ABSOLUTELY NO WARRANTY.
You are welcome to redistribute it under certain conditions.
Type 'license()' or 'licence()' for distribution details.
R is a collaborative project with many contributors.
Type 'contributors()' for more information and
'citation()' on how to cite R or R packages in publications.
Type 'demo()' for some demos, 'help()' for on-line help, or
'help.start()' for an HTML browser interface to help.
Type 'q()' to quit R.
> library(testthat)
> library(Linnorm)
>
> test_check("Linnorm")
[ FAIL 0 | WARN 0 | SKIP 0 | PASS 26 ]
>
> proc.time()
user system elapsed
30.639 0.495 31.180
Linnorm.Rcheck/Linnorm-Ex.timings
| name | user | system | elapsed | |
| LinearRegression | 0.001 | 0.000 | 0.001 | |
| LinearRegressionFP | 0 | 0 | 0 | |
| Linnorm.Cor | 56.658 | 0.120 | 56.882 | |
| Linnorm.DataImput | 2.093 | 0.031 | 2.132 | |
| Linnorm.HClust | 3.702 | 0.012 | 2.543 | |
| Linnorm.HVar | 1.426 | 0.004 | 1.434 | |
| Linnorm.Norm | 45.112 | 0.000 | 45.209 | |
| Linnorm.PCA | 4.155 | 0.008 | 4.176 | |
| Linnorm | 44.974 | 0.000 | 45.070 | |
| Linnorm.SGenes | 0.344 | 0.004 | 0.348 | |
| Linnorm.limma | 45.571 | 0.040 | 45.724 | |
| Linnorm.tSNE | 5.439 | 0.016 | 5.469 | |
| RnaXSim | 112.164 | 0.140 | 112.665 | |