| Back to Multiple platform build/check report for BioC 3.22: simplified long |
|
This page was generated on 2025-11-17 11:58 -0500 (Mon, 17 Nov 2025).
| Hostname | OS | Arch (*) | R version | Installed pkgs |
|---|---|---|---|---|
| nebbiolo2 | Linux (Ubuntu 24.04.3 LTS) | x86_64 | 4.5.1 Patched (2025-08-23 r88802) -- "Great Square Root" | 4903 |
| taishan | Linux (openEuler 24.03 LTS) | aarch64 | 4.5.0 (2025-04-11) -- "How About a Twenty-Six" | 4668 |
| Click on any hostname to see more info about the system (e.g. compilers) (*) as reported by 'uname -p', except on Windows and Mac OS X | ||||
| Package 676/2361 | Hostname | OS / Arch | INSTALL | BUILD | CHECK | BUILD BIN | ||||||||
| EpiCompare 1.14.0 (landing page) Hiranyamaya Dash
| nebbiolo2 | Linux (Ubuntu 24.04.3 LTS) / x86_64 | OK | OK | OK | |||||||||
| taishan | Linux (openEuler 24.03 LTS) / aarch64 | OK | OK | TIMEOUT | ||||||||||
|
To the developers/maintainers of the EpiCompare package: - Allow up to 24 hours (and sometimes 48 hours) for your latest push to git@git.bioconductor.org:packages/EpiCompare.git to reflect on this report. See Troubleshooting Build Report for more information. - Use the following Renviron settings to reproduce errors and warnings. - If 'R CMD check' started to fail recently on the Linux builder(s) over a missing dependency, add the missing dependency to 'Suggests:' in your DESCRIPTION file. See Renviron.bioc for more information. - See Martin Grigorov's blog post for how to debug Linux ARM64 related issues on a x86_64 host. |
| Package: EpiCompare |
| Version: 1.14.0 |
| Command: /home/biocbuild/R/R/bin/R CMD check --install=check:EpiCompare.install-out.txt --library=/home/biocbuild/R/R/site-library --no-vignettes --timings EpiCompare_1.14.0.tar.gz |
| StartedAt: 2025-11-14 09:14:43 -0000 (Fri, 14 Nov 2025) |
| EndedAt: 2025-11-14 09:54:44 -0000 (Fri, 14 Nov 2025) |
| EllapsedTime: 2400.8 seconds |
| RetCode: None |
| Status: TIMEOUT |
| CheckDir: EpiCompare.Rcheck |
| Warnings: NA |
##############################################################################
##############################################################################
###
### Running command:
###
### /home/biocbuild/R/R/bin/R CMD check --install=check:EpiCompare.install-out.txt --library=/home/biocbuild/R/R/site-library --no-vignettes --timings EpiCompare_1.14.0.tar.gz
###
##############################################################################
##############################################################################
* using log directory ‘/home/biocbuild/bbs-3.22-bioc/meat/EpiCompare.Rcheck’
* using R version 4.5.0 (2025-04-11)
* using platform: aarch64-unknown-linux-gnu
* R was compiled by
aarch64-unknown-linux-gnu-gcc (GCC) 14.2.0
GNU Fortran (GCC) 14.2.0
* running under: openEuler 24.03 (LTS)
* using session charset: UTF-8
* using option ‘--no-vignettes’
* checking for file ‘EpiCompare/DESCRIPTION’ ... OK
* checking extension type ... Package
* this is package ‘EpiCompare’ version ‘1.14.0’
* package encoding: UTF-8
* checking package namespace information ... OK
* checking package dependencies ... OK
* checking if this is a source package ... OK
* checking if there is a namespace ... OK
* checking for hidden files and directories ... OK
* checking for portable file names ... OK
* checking for sufficient/correct file permissions ... OK
* checking whether package ‘EpiCompare’ can be installed ... OK
* checking installed package size ... OK
* checking package directory ... OK
* checking ‘build’ directory ... OK
* checking DESCRIPTION meta-information ... OK
* checking top-level files ... OK
* checking for left-over files ... OK
* checking index information ... OK
* checking package subdirectories ... OK
* checking code files for non-ASCII characters ... OK
* checking R files for syntax errors ... OK
* checking whether the package can be loaded ... OK
* checking whether the package can be loaded with stated dependencies ... OK
* checking whether the package can be unloaded cleanly ... OK
* checking whether the namespace can be loaded with stated dependencies ... OK
* checking whether the namespace can be unloaded cleanly ... OK
* checking loading without being on the library search path ... OK
* checking dependencies in R code ... OK
* checking S3 generic/method consistency ... OK
* checking replacement functions ... OK
* checking foreign function calls ... OK
* checking R code for possible problems ... OK
* checking Rd files ... NOTE
checkRd: (-1) EpiCompare.Rd:51-53: Lost braces in \itemize; meant \describe ?
checkRd: (-1) EpiCompare.Rd:54: Lost braces in \itemize; meant \describe ?
checkRd: (-1) EpiCompare.Rd:55: Lost braces in \itemize; meant \describe ?
checkRd: (-1) EpiCompare.Rd:76-77: Lost braces in \itemize; meant \describe ?
checkRd: (-1) EpiCompare.Rd:78-79: Lost braces in \itemize; meant \describe ?
checkRd: (-1) EpiCompare.Rd:80-81: Lost braces in \itemize; meant \describe ?
checkRd: (-1) EpiCompare.Rd:82-83: Lost braces in \itemize; meant \describe ?
checkRd: (-1) EpiCompare.Rd:84-86: Lost braces in \itemize; meant \describe ?
checkRd: (-1) EpiCompare.Rd:87-88: Lost braces in \itemize; meant \describe ?
checkRd: (-1) EpiCompare.Rd:181: Lost braces in \itemize; meant \describe ?
checkRd: (-1) EpiCompare.Rd:182: Lost braces in \itemize; meant \describe ?
checkRd: (-1) EpiCompare.Rd:183: Lost braces in \itemize; meant \describe ?
checkRd: (-1) compute_consensus_peaks.Rd:45-47: Lost braces in \itemize; meant \describe ?
checkRd: (-1) compute_consensus_peaks.Rd:48-51: Lost braces in \itemize; meant \describe ?
checkRd: (-1) compute_corr.Rd:62-65: Lost braces in \itemize; meant \describe ?
checkRd: (-1) compute_corr.Rd:66-69: Lost braces in \itemize; meant \describe ?
checkRd: (-1) compute_corr.Rd:70-72: Lost braces in \itemize; meant \describe ?
checkRd: (-1) gather_files.Rd:22-23: Lost braces in \itemize; meant \describe ?
checkRd: (-1) gather_files.Rd:24: Lost braces in \itemize; meant \describe ?
checkRd: (-1) gather_files.Rd:25: Lost braces in \itemize; meant \describe ?
checkRd: (-1) gather_files.Rd:26-27: Lost braces in \itemize; meant \describe ?
checkRd: (-1) gather_files.Rd:28-29: Lost braces in \itemize; meant \describe ?
checkRd: (-1) gather_files.Rd:60: Lost braces in \itemize; meant \describe ?
checkRd: (-1) gather_files.Rd:61-62: Lost braces in \itemize; meant \describe ?
checkRd: (-1) gather_files.Rd:63-65: Lost braces in \itemize; meant \describe ?
checkRd: (-1) gather_files_names.Rd:14-15: Lost braces in \itemize; meant \describe ?
checkRd: (-1) gather_files_names.Rd:16: Lost braces in \itemize; meant \describe ?
checkRd: (-1) gather_files_names.Rd:17: Lost braces in \itemize; meant \describe ?
checkRd: (-1) gather_files_names.Rd:18-19: Lost braces in \itemize; meant \describe ?
checkRd: (-1) gather_files_names.Rd:20-21: Lost braces in \itemize; meant \describe ?
checkRd: (-1) liftover_grlist.Rd:31: Lost braces in \itemize; meant \describe ?
checkRd: (-1) liftover_grlist.Rd:32: Lost braces in \itemize; meant \describe ?
checkRd: (-1) overlap_stat_plot.Rd:42-43: Lost braces in \itemize; \value handles \item{}{} directly
checkRd: (-1) overlap_stat_plot.Rd:44: Lost braces in \itemize; \value handles \item{}{} directly
checkRd: (-1) plot_corr.Rd:64-67: Lost braces in \itemize; meant \describe ?
checkRd: (-1) plot_corr.Rd:68-71: Lost braces in \itemize; meant \describe ?
checkRd: (-1) plot_corr.Rd:72-74: Lost braces in \itemize; meant \describe ?
checkRd: (-1) plot_precision_recall.Rd:48-51: Lost braces in \itemize; meant \describe ?
checkRd: (-1) plot_precision_recall.Rd:52-55: Lost braces in \itemize; meant \describe ?
checkRd: (-1) plot_precision_recall.Rd:56-58: Lost braces in \itemize; meant \describe ?
checkRd: (-1) precision_recall.Rd:42-45: Lost braces in \itemize; meant \describe ?
checkRd: (-1) precision_recall.Rd:46-49: Lost braces in \itemize; meant \describe ?
checkRd: (-1) precision_recall.Rd:50-52: Lost braces in \itemize; meant \describe ?
checkRd: (-1) prepare_genome_builds.Rd:13-15: Lost braces in \itemize; meant \describe ?
checkRd: (-1) prepare_genome_builds.Rd:16: Lost braces in \itemize; meant \describe ?
checkRd: (-1) prepare_genome_builds.Rd:17: Lost braces in \itemize; meant \describe ?
checkRd: (-1) prepare_genome_builds.Rd:33-34: Lost braces in \itemize; meant \describe ?
checkRd: (-1) prepare_genome_builds.Rd:35-36: Lost braces in \itemize; meant \describe ?
checkRd: (-1) prepare_genome_builds.Rd:37-38: Lost braces in \itemize; meant \describe ?
checkRd: (-1) prepare_genome_builds.Rd:39-40: Lost braces in \itemize; meant \describe ?
checkRd: (-1) prepare_genome_builds.Rd:41-43: Lost braces in \itemize; meant \describe ?
checkRd: (-1) prepare_genome_builds.Rd:44-45: Lost braces in \itemize; meant \describe ?
checkRd: (-1) read_peaks.Rd:14-15: Lost braces in \itemize; meant \describe ?
checkRd: (-1) read_peaks.Rd:16: Lost braces in \itemize; meant \describe ?
checkRd: (-1) read_peaks.Rd:17: Lost braces in \itemize; meant \describe ?
checkRd: (-1) read_peaks.Rd:18-19: Lost braces in \itemize; meant \describe ?
checkRd: (-1) read_peaks.Rd:20-21: Lost braces in \itemize; meant \describe ?
checkRd: (-1) rebin_peaks.Rd:39-42: Lost braces in \itemize; meant \describe ?
checkRd: (-1) rebin_peaks.Rd:43-46: Lost braces in \itemize; meant \describe ?
checkRd: (-1) rebin_peaks.Rd:47-49: Lost braces in \itemize; meant \describe ?
* checking Rd metadata ... OK
* checking Rd cross-references ... OK
* checking for missing documentation entries ... OK
* checking for code/documentation mismatches ... OK
* checking Rd \usage sections ... OK
* checking Rd contents ... OK
* checking for unstated dependencies in examples ... OK
* checking contents of ‘data’ directory ... OK
* checking data for non-ASCII characters ... OK
* checking data for ASCII and uncompressed saves ... OK
* checking files in ‘vignettes’ ... OK
* checking examples ...
EpiCompare.Rcheck/00install.out
############################################################################## ############################################################################## ### ### Running command: ### ### /home/biocbuild/R/R/bin/R CMD INSTALL EpiCompare ### ############################################################################## ############################################################################## * installing to library ‘/home/biocbuild/R/R-4.5.0/site-library’ * installing *source* package ‘EpiCompare’ ... ** this is package ‘EpiCompare’ version ‘1.14.0’ ** using staged installation ** R ** data ** inst ** byte-compile and prepare package for lazy loading Warning: replacing previous import ‘Biostrings::pattern’ by ‘grid::pattern’ when loading ‘genomation’ ** help *** installing help indices ** building package indices ** installing vignettes ** testing if installed package can be loaded from temporary location Warning: replacing previous import ‘Biostrings::pattern’ by ‘grid::pattern’ when loading ‘genomation’ ** testing if installed package can be loaded from final location Warning: replacing previous import ‘Biostrings::pattern’ by ‘grid::pattern’ when loading ‘genomation’ ** testing if installed package keeps a record of temporary installation path * DONE (EpiCompare)
EpiCompare.Rcheck/EpiCompare-Ex.timings
| name | user | system | elapsed | |
| EpiCompare | 13.471 | 1.174 | 15.769 | |
| bpplapply | 0.007 | 0.059 | 0.067 | |
| check_workers | 0.007 | 0.000 | 0.005 | |
| compute_consensus_peaks | 0.748 | 0.244 | 0.890 | |
| compute_corr | 1.644 | 0.852 | 3.367 | |
| download_button | 2.226 | 0.531 | 0.010 | |
| fragment_info | 0.000 | 0.004 | 0.004 | |
| gather_files | 0.527 | 0.233 | 0.850 | |
| group_files | 0.275 | 0.187 | 0.071 | |
| liftover_grlist | 4.445 | 0.964 | 10.229 | |
| overlap_heatmap | 3.641 | 0.585 | 4.247 | |
| overlap_percent | 0.425 | 0.036 | 0.464 | |
| overlap_stat_plot | 0.276 | 0.032 | 0.309 | |
| overlap_upset_plot | 2.020 | 0.194 | 2.234 | |
| peak_info | 0.967 | 0.044 | 1.016 | |
| plot_ChIPseeker_annotation | 81.673 | 1.156 | 84.459 | |
| plot_chromHMM | 3.648 | 0.349 | 11.075 | |
| plot_corr | 8.664 | 2.248 | 8.584 | |
| plot_enrichment | 108.003 | 2.977 | 116.356 | |
| plot_precision_recall | 11.326 | 2.132 | 7.916 | |
| precision_recall | 4.873 | 0.844 | 6.051 | |
| predict_precision_recall | 5.027 | 1.225 | 5.705 | |