| Back to Multiple platform build/check report for BioC 3.22: simplified long |
|
This page was generated on 2025-10-21 12:07 -0400 (Tue, 21 Oct 2025).
| Hostname | OS | Arch (*) | R version | Installed pkgs |
|---|---|---|---|---|
| nebbiolo2 | Linux (Ubuntu 24.04.3 LTS) | x86_64 | 4.5.1 Patched (2025-08-23 r88802) -- "Great Square Root" | 4887 |
| lconway | macOS 12.7.6 Monterey | x86_64 | 4.5.1 Patched (2025-09-10 r88807) -- "Great Square Root" | 4677 |
| kjohnson3 | macOS 13.7.7 Ventura | arm64 | 4.5.1 Patched (2025-09-10 r88807) -- "Great Square Root" | 4622 |
| taishan | Linux (openEuler 24.03 LTS) | aarch64 | 4.5.0 (2025-04-11) -- "How About a Twenty-Six" | 4642 |
| Click on any hostname to see more info about the system (e.g. compilers) (*) as reported by 'uname -p', except on Windows and Mac OS X | ||||
| Package 1549/2353 | Hostname | OS / Arch | INSTALL | BUILD | CHECK | BUILD BIN | ||||||||
| pathMED 1.1.6 (landing page) Jordi Martorell-Marugán
| nebbiolo2 | Linux (Ubuntu 24.04.3 LTS) / x86_64 | OK | OK | OK | |||||||||
| lconway | macOS 12.7.6 Monterey / x86_64 | OK | OK | ERROR | OK | |||||||||
| kjohnson3 | macOS 13.7.7 Ventura / arm64 | OK | OK | ERROR | OK | |||||||||
| taishan | Linux (openEuler 24.03 LTS) / aarch64 | OK | OK | OK | ||||||||||
|
To the developers/maintainers of the pathMED package: - Allow up to 24 hours (and sometimes 48 hours) for your latest push to git@git.bioconductor.org:packages/pathMED.git to reflect on this report. See Troubleshooting Build Report for more information. - Use the following Renviron settings to reproduce errors and warnings. - If 'R CMD check' started to fail recently on the Linux builder(s) over a missing dependency, add the missing dependency to 'Suggests:' in your DESCRIPTION file. See Renviron.bioc for more information. - See Martin Grigorov's blog post for how to debug Linux ARM64 related issues on a x86_64 host. |
| Package: pathMED |
| Version: 1.1.6 |
| Command: /home/biocbuild/R/R/bin/R CMD check --install=check:pathMED.install-out.txt --library=/home/biocbuild/R/R/site-library --no-vignettes --timings pathMED_1.1.6.tar.gz |
| StartedAt: 2025-10-17 12:02:21 -0000 (Fri, 17 Oct 2025) |
| EndedAt: 2025-10-17 12:08:11 -0000 (Fri, 17 Oct 2025) |
| EllapsedTime: 349.4 seconds |
| RetCode: 0 |
| Status: OK |
| CheckDir: pathMED.Rcheck |
| Warnings: 0 |
##############################################################################
##############################################################################
###
### Running command:
###
### /home/biocbuild/R/R/bin/R CMD check --install=check:pathMED.install-out.txt --library=/home/biocbuild/R/R/site-library --no-vignettes --timings pathMED_1.1.6.tar.gz
###
##############################################################################
##############################################################################
* using log directory ‘/home/biocbuild/bbs-3.22-bioc/meat/pathMED.Rcheck’
* using R version 4.5.0 (2025-04-11)
* using platform: aarch64-unknown-linux-gnu
* R was compiled by
aarch64-unknown-linux-gnu-gcc (GCC) 14.2.0
GNU Fortran (GCC) 14.2.0
* running under: openEuler 24.03 (LTS)
* using session charset: UTF-8
* using option ‘--no-vignettes’
* checking for file ‘pathMED/DESCRIPTION’ ... OK
* this is package ‘pathMED’ version ‘1.1.6’
* package encoding: UTF-8
* checking package namespace information ... OK
* checking package dependencies ... OK
* checking if this is a source package ... OK
* checking if there is a namespace ... OK
* checking for hidden files and directories ... OK
* checking for portable file names ... OK
* checking for sufficient/correct file permissions ... OK
* checking whether package ‘pathMED’ can be installed ... OK
* checking installed package size ... INFO
installed size is 5.9Mb
sub-directories of 1Mb or more:
R 1.0Mb
data 4.8Mb
* checking package directory ... OK
* checking ‘build’ directory ... OK
* checking DESCRIPTION meta-information ... OK
* checking top-level files ... OK
* checking for left-over files ... OK
* checking index information ... OK
* checking package subdirectories ... OK
* checking code files for non-ASCII characters ... OK
* checking R files for syntax errors ... OK
* checking whether the package can be loaded ... OK
* checking whether the package can be loaded with stated dependencies ... OK
* checking whether the package can be unloaded cleanly ... OK
* checking whether the namespace can be loaded with stated dependencies ... OK
* checking whether the namespace can be unloaded cleanly ... OK
* checking loading without being on the library search path ... OK
* checking dependencies in R code ... OK
* checking S3 generic/method consistency ... OK
* checking replacement functions ... OK
* checking foreign function calls ... OK
* checking R code for possible problems ... OK
* checking Rd files ... OK
* checking Rd metadata ... OK
* checking Rd cross-references ... OK
* checking for missing documentation entries ... OK
* checking for code/documentation mismatches ... OK
* checking Rd \usage sections ... OK
* checking Rd contents ... OK
* checking for unstated dependencies in examples ... OK
* checking contents of ‘data’ directory ... OK
* checking data for non-ASCII characters ... OK
* checking data for ASCII and uncompressed saves ... OK
* checking R/sysdata.rda ... OK
* checking files in ‘vignettes’ ... OK
* checking examples ... OK
Examples with CPU (user + system) or elapsed time > 5s
user system elapsed
mScores_filterPaths 34.041 0.204 34.351
mScores_imputeFromReference 30.472 0.267 30.829
mScores_createReference 29.641 0.167 29.902
predictExternal 18.445 0.115 18.641
ann2term 15.919 0.574 16.538
trainModel 14.651 0.072 14.766
* checking for unstated dependencies in ‘tests’ ... OK
* checking tests ...
Running ‘runTests.R’
OK
* checking for unstated dependencies in vignettes ... OK
* checking package vignettes ... OK
* checking running R code from vignettes ... SKIPPED
* checking re-building of vignette outputs ... SKIPPED
* checking PDF version of manual ... OK
* DONE
Status: OK
pathMED.Rcheck/00install.out
############################################################################## ############################################################################## ### ### Running command: ### ### /home/biocbuild/R/R/bin/R CMD INSTALL pathMED ### ############################################################################## ############################################################################## * installing to library ‘/home/biocbuild/R/R-4.5.0/site-library’ * installing *source* package ‘pathMED’ ... ** this is package ‘pathMED’ version ‘1.1.6’ ** using staged installation ** R ** data ** inst ** byte-compile and prepare package for lazy loading ** help *** installing help indices ** building package indices ** installing vignettes ** testing if installed package can be loaded from temporary location ** testing if installed package can be loaded from final location ** testing if installed package keeps a record of temporary installation path * DONE (pathMED)
pathMED.Rcheck/tests/runTests.Rout
R version 4.5.0 (2025-04-11) -- "How About a Twenty-Six"
Copyright (C) 2025 The R Foundation for Statistical Computing
Platform: aarch64-unknown-linux-gnu
R is free software and comes with ABSOLUTELY NO WARRANTY.
You are welcome to redistribute it under certain conditions.
Type 'license()' or 'licence()' for distribution details.
R is a collaborative project with many contributors.
Type 'contributors()' for more information and
'citation()' on how to cite R or R packages in publications.
Type 'demo()' for some demos, 'help()' for on-line help, or
'help.start()' for an HTML browser interface to help.
Type 'q()' to quit R.
> BiocGenerics:::testPackage("pathMED")
Healthy samples supplied. Calculating M-Scores using healthy samples as reference for 30 samples
|
| | 0%
|
|== | 3%
|
|===== | 7%
|
|======= | 10%
|
|========= | 13%
|
|============ | 17%
|
|============== | 20%
|
|================ | 23%
|
|=================== | 27%
|
|===================== | 30%
|
|======================= | 33%
|
|========================== | 37%
|
|============================ | 40%
|
|============================== | 43%
|
|================================= | 47%
|
|=================================== | 50%
|
|===================================== | 53%
|
|======================================== | 57%
|
|========================================== | 60%
|
|============================================ | 63%
|
|=============================================== | 67%
|
|================================================= | 70%
|
|=================================================== | 73%
|
|====================================================== | 77%
|
|======================================================== | 80%
|
|========================================================== | 83%
|
|============================================================= | 87%
|
|=============================================================== | 90%
|
|================================================================= | 93%
|
|==================================================================== | 97%
|
|======================================================================| 100%
ℹ GSVA version 2.3.4
ℹ Using a SnowParam parallel back-end with 1 workers
ℹ Calculating GSVA ranks
ℹ GSVA dense (classical) algorithm
ℹ Row-wise ECDF estimation with Gaussian kernels
ℹ Calculating GSVA column ranks
ℹ Using a SnowParam parallel back-end with 1 workers
ℹ Calculating GSVA scores
✔ Calculations finished
ℹ GSVA version 2.3.4
ℹ Using a SnowParam parallel back-end with 1 workers
ℹ Calculating ssGSEA scores for 5 gene sets
ℹ Calculating ranks
ℹ Calculating rank weights
ℹ Normalizing ssGSEA scores
✔ Calculations finished
ℹ GSVA version 2.3.4
ℹ Using a SnowParam parallel back-end with 1 workers
ℹ Calculating PLAGE scores for 5 gene sets
ℹ Centering and scaling values
✔ Calculations finished
ℹ GSVA version 2.3.4
ℹ Using a SnowParam parallel back-end with 1 workers
ℹ Calculating Z-scores for 5 gene sets
ℹ Centering and scaling values
✔ Calculations finished
Filtering collinear pathways...
Loading required namespace: fgsea
|
| | 0%
|
|======================= | 33%
|
|=============================================== | 67%
|
|======================================================================| 100%
|
| | 0%
|
|======================= | 33%
|
|=============================================== | 67%
|
|======================================================================| 100%
|
| | 0%
|
|======================= | 33%
|
|=============================================== | 67%
|
|======================================================================| 100%
|
| | 0%
|
|======================= | 33%
|
|=============================================== | 67%
|
|======================================================================| 100%
|
| | 0%
|
|======================= | 33%
|
|=============================================== | 67%
|
|======================================================================| 100%
|
| | 0%
|
|======================= | 33%
|
|=============================================== | 67%
|
|======================================================================| 100%
|
| | 0%
|
|======================= | 33%
|
|=============================================== | 67%
|
|======================================================================| 100%
|
| | 0%
|
|======================= | 33%
|
|=============================================== | 67%
|
|======================================================================| 100%
|
| | 0%
|
|======================= | 33%
|
|=============================================== | 67%
|
|======================================================================| 100%
|
| | 0%
|
|======================= | 33%
|
|=============================================== | 67%
|
|======================================================================| 100%
ℹ GSVA version 2.3.4
! Some gene sets have size one. Consider setting minSize > 1
ℹ Using a SnowParam parallel back-end with 1 workers
ℹ Calculating Z-scores for 408 gene sets
ℹ Centering and scaling values
✔ Calculations finished
Loading required namespace: randomForest
Loading required namespace: gam
Loading required namespace: xgboost
Loading required namespace: ada
Training models...
|
| | 0%
|
|=================================== | 50%
|
|======================================================================| 100%
Done
Calculating performance metrics...
Done
Training final model with all samples...
Done
ℹ GSVA version 2.3.4
! Some gene sets have size one. Consider setting minSize > 1
ℹ Using a SnowParam parallel back-end with 1 workers
ℹ Calculating Z-scores for 408 gene sets
ℹ Centering and scaling values
✔ Calculations finished
Positive class not provided, selected: 'Healthy_sample'
ℹ GSVA version 2.3.4
! Some gene sets have size one. Consider setting minSize > 1
ℹ Using a SnowParam parallel back-end with 1 workers
ℹ Calculating Z-scores for 427 gene sets
ℹ Centering and scaling values
✔ Calculations finished
Training models...
|
| | 0%
|
|=================================== | 50%
|
|======================================================================| 100%
Done
Calculating performance metrics...
Done
Training final model with all samples...
Done
RUNIT TEST PROTOCOL -- Fri Oct 17 12:08:07 2025
***********************************************
Number of test functions: 3
Number of errors: 0
Number of failures: 0
1 Test Suite :
pathMED RUnit Tests - 3 test functions, 0 errors, 0 failures
Number of test functions: 3
Number of errors: 0
Number of failures: 0
There were 50 or more warnings (use warnings() to see the first 50)
>
> proc.time()
user system elapsed
78.226 2.243 80.792
pathMED.Rcheck/pathMED-Ex.timings
| name | user | system | elapsed | |
| ann2term | 15.919 | 0.574 | 16.538 | |
| buildRefObject | 0.107 | 0.004 | 0.111 | |
| dissectDB | 2.811 | 0.100 | 2.921 | |
| getScores | 3.468 | 0.084 | 3.563 | |
| mScores_createReference | 29.641 | 0.167 | 29.902 | |
| mScores_filterPaths | 34.041 | 0.204 | 34.351 | |
| mScores_imputeFromReference | 30.472 | 0.267 | 30.829 | |
| methodsML | 0.056 | 0.008 | 0.079 | |
| predictExternal | 18.445 | 0.115 | 18.641 | |
| trainModel | 14.651 | 0.072 | 14.766 | |