| Back to Multiple platform build/check report for BioC 3.22: simplified long |
|
This page was generated on 2025-11-15 11:58 -0500 (Sat, 15 Nov 2025).
| Hostname | OS | Arch (*) | R version | Installed pkgs |
|---|---|---|---|---|
| nebbiolo2 | Linux (Ubuntu 24.04.3 LTS) | x86_64 | 4.5.1 Patched (2025-08-23 r88802) -- "Great Square Root" | 4903 |
| taishan | Linux (openEuler 24.03 LTS) | aarch64 | 4.5.0 (2025-04-11) -- "How About a Twenty-Six" | 4668 |
| Click on any hostname to see more info about the system (e.g. compilers) (*) as reported by 'uname -p', except on Windows and Mac OS X | ||||
| Package 1473/2361 | Hostname | OS / Arch | INSTALL | BUILD | CHECK | BUILD BIN | ||||||||
| notame 1.0.0 (landing page) Vilhelm Suksi
| nebbiolo2 | Linux (Ubuntu 24.04.3 LTS) / x86_64 | OK | OK | OK | |||||||||
| taishan | Linux (openEuler 24.03 LTS) / aarch64 | OK | OK | OK | ||||||||||
|
To the developers/maintainers of the notame package: - Allow up to 24 hours (and sometimes 48 hours) for your latest push to git@git.bioconductor.org:packages/notame.git to reflect on this report. See Troubleshooting Build Report for more information. - Use the following Renviron settings to reproduce errors and warnings. - If 'R CMD check' started to fail recently on the Linux builder(s) over a missing dependency, add the missing dependency to 'Suggests:' in your DESCRIPTION file. See Renviron.bioc for more information. - See Martin Grigorov's blog post for how to debug Linux ARM64 related issues on a x86_64 host. |
| Package: notame |
| Version: 1.0.0 |
| Command: /home/biocbuild/R/R/bin/R CMD check --install=check:notame.install-out.txt --library=/home/biocbuild/R/R/site-library --no-vignettes --timings notame_1.0.0.tar.gz |
| StartedAt: 2025-11-14 12:20:51 -0000 (Fri, 14 Nov 2025) |
| EndedAt: 2025-11-14 12:27:37 -0000 (Fri, 14 Nov 2025) |
| EllapsedTime: 405.7 seconds |
| RetCode: 0 |
| Status: OK |
| CheckDir: notame.Rcheck |
| Warnings: 0 |
##############################################################################
##############################################################################
###
### Running command:
###
### /home/biocbuild/R/R/bin/R CMD check --install=check:notame.install-out.txt --library=/home/biocbuild/R/R/site-library --no-vignettes --timings notame_1.0.0.tar.gz
###
##############################################################################
##############################################################################
* using log directory ‘/home/biocbuild/bbs-3.22-bioc/meat/notame.Rcheck’
* using R version 4.5.0 (2025-04-11)
* using platform: aarch64-unknown-linux-gnu
* R was compiled by
aarch64-unknown-linux-gnu-gcc (GCC) 14.2.0
GNU Fortran (GCC) 14.2.0
* running under: openEuler 24.03 (LTS)
* using session charset: UTF-8
* using option ‘--no-vignettes’
* checking for file ‘notame/DESCRIPTION’ ... OK
* checking extension type ... Package
* this is package ‘notame’ version ‘1.0.0’
* package encoding: UTF-8
* checking package namespace information ... OK
* checking package dependencies ... OK
* checking if this is a source package ... OK
* checking if there is a namespace ... OK
* checking for hidden files and directories ... OK
* checking for portable file names ... OK
* checking for sufficient/correct file permissions ... OK
* checking whether package ‘notame’ can be installed ... OK
* checking installed package size ... OK
* checking package directory ... OK
* checking ‘build’ directory ... OK
* checking DESCRIPTION meta-information ... NOTE
License stub is invalid DCF.
* checking top-level files ... OK
* checking for left-over files ... OK
* checking index information ... OK
* checking package subdirectories ... OK
* checking code files for non-ASCII characters ... OK
* checking R files for syntax errors ... OK
* checking whether the package can be loaded ... OK
* checking whether the package can be loaded with stated dependencies ... OK
* checking whether the package can be unloaded cleanly ... OK
* checking whether the namespace can be loaded with stated dependencies ... OK
* checking whether the namespace can be unloaded cleanly ... OK
* checking loading without being on the library search path ... OK
* checking whether startup messages can be suppressed ... OK
* checking dependencies in R code ... OK
* checking S3 generic/method consistency ... OK
* checking replacement functions ... OK
* checking foreign function calls ... OK
* checking R code for possible problems ... OK
* checking Rd files ... OK
* checking Rd metadata ... OK
* checking Rd cross-references ... OK
* checking for missing documentation entries ... OK
* checking for code/documentation mismatches ... OK
* checking Rd \usage sections ... OK
* checking Rd contents ... OK
* checking for unstated dependencies in examples ... OK
* checking contents of ‘data’ directory ... OK
* checking data for non-ASCII characters ... OK
* checking data for ASCII and uncompressed saves ... OK
* checking files in ‘vignettes’ ... OK
* checking examples ... OK
Examples with CPU (user + system) or elapsed time > 5s
user system elapsed
pca_bhattacharyya_dist 8.776 0.838 10.051
impute_rf 1.558 0.101 12.666
* checking for unstated dependencies in ‘tests’ ... OK
* checking tests ...
Running ‘testthat.R’
OK
* checking for unstated dependencies in vignettes ... OK
* checking package vignettes ... OK
* checking running R code from vignettes ... SKIPPED
* checking re-building of vignette outputs ... SKIPPED
* checking PDF version of manual ... OK
* DONE
Status: 1 NOTE
See
‘/home/biocbuild/bbs-3.22-bioc/meat/notame.Rcheck/00check.log’
for details.
notame.Rcheck/00install.out
############################################################################## ############################################################################## ### ### Running command: ### ### /home/biocbuild/R/R/bin/R CMD INSTALL notame ### ############################################################################## ############################################################################## * installing to library ‘/home/biocbuild/R/R-4.5.0/site-library’ * installing *source* package ‘notame’ ... ** this is package ‘notame’ version ‘1.0.0’ ** using staged installation ** R ** data ** inst ** byte-compile and prepare package for lazy loading ** help *** installing help indices ** building package indices ** installing vignettes ** testing if installed package can be loaded from temporary location ** testing if installed package can be loaded from final location ** testing if installed package keeps a record of temporary installation path * DONE (notame)
notame.Rcheck/tests/testthat.Rout
R version 4.5.0 (2025-04-11) -- "How About a Twenty-Six"
Copyright (C) 2025 The R Foundation for Statistical Computing
Platform: aarch64-unknown-linux-gnu
R is free software and comes with ABSOLUTELY NO WARRANTY.
You are welcome to redistribute it under certain conditions.
Type 'license()' or 'licence()' for distribution details.
R is a collaborative project with many contributors.
Type 'contributors()' for more information and
'citation()' on how to cite R or R packages in publications.
Type 'demo()' for some demos, 'help()' for on-line help, or
'help.start()' for an HTML browser interface to help.
Type 'q()' to quit R.
> library(testthat)
> library(notame)
Loading required package: ggplot2
Loading required package: SummarizedExperiment
Loading required package: MatrixGenerics
Loading required package: matrixStats
Attaching package: 'MatrixGenerics'
The following objects are masked from 'package:matrixStats':
colAlls, colAnyNAs, colAnys, colAvgsPerRowSet, colCollapse,
colCounts, colCummaxs, colCummins, colCumprods, colCumsums,
colDiffs, colIQRDiffs, colIQRs, colLogSumExps, colMadDiffs,
colMads, colMaxs, colMeans2, colMedians, colMins, colOrderStats,
colProds, colQuantiles, colRanges, colRanks, colSdDiffs, colSds,
colSums2, colTabulates, colVarDiffs, colVars, colWeightedMads,
colWeightedMeans, colWeightedMedians, colWeightedSds,
colWeightedVars, rowAlls, rowAnyNAs, rowAnys, rowAvgsPerColSet,
rowCollapse, rowCounts, rowCummaxs, rowCummins, rowCumprods,
rowCumsums, rowDiffs, rowIQRDiffs, rowIQRs, rowLogSumExps,
rowMadDiffs, rowMads, rowMaxs, rowMeans2, rowMedians, rowMins,
rowOrderStats, rowProds, rowQuantiles, rowRanges, rowRanks,
rowSdDiffs, rowSds, rowSums2, rowTabulates, rowVarDiffs, rowVars,
rowWeightedMads, rowWeightedMeans, rowWeightedMedians,
rowWeightedSds, rowWeightedVars
Loading required package: GenomicRanges
Loading required package: stats4
Loading required package: BiocGenerics
Loading required package: generics
Attaching package: 'generics'
The following objects are masked from 'package:base':
as.difftime, as.factor, as.ordered, intersect, is.element, setdiff,
setequal, union
Attaching package: 'BiocGenerics'
The following objects are masked from 'package:stats':
IQR, mad, sd, var, xtabs
The following objects are masked from 'package:base':
Filter, Find, Map, Position, Reduce, anyDuplicated, aperm, append,
as.data.frame, basename, cbind, colnames, dirname, do.call,
duplicated, eval, evalq, get, grep, grepl, is.unsorted, lapply,
mapply, match, mget, order, paste, pmax, pmax.int, pmin, pmin.int,
rank, rbind, rownames, sapply, saveRDS, table, tapply, unique,
unsplit, which.max, which.min
Loading required package: S4Vectors
Attaching package: 'S4Vectors'
The following object is masked from 'package:utils':
findMatches
The following objects are masked from 'package:base':
I, expand.grid, unname
Loading required package: IRanges
Loading required package: Seqinfo
Loading required package: Biobase
Welcome to Bioconductor
Vignettes contain introductory material; view with
'browseVignettes()'. To cite Bioconductor, see
'citation("Biobase")', and for packages 'citation("pkgname")'.
Attaching package: 'Biobase'
The following object is masked from 'package:MatrixGenerics':
rowMedians
The following objects are masked from 'package:matrixStats':
anyMissing, rowMedians
>
> test_check("notame")
Running tests in parallel requires the 3rd edition
INFO [2025-11-14 12:26:03] Pheno data was cleaned
INFO [2025-11-14 12:26:03] Checking provided sample ID column
INFO [2025-11-14 12:26:03] Column 'Sample_ID' created from id
INFO [2025-11-14 12:26:03] Pheno data was cleaned
INFO [2025-11-14 12:26:03] Sample ID generated from injection orders and prefix ID_
INFO [2025-11-14 12:26:03] Pheno data was cleaned
INFO [2025-11-14 12:26:03] Pheno data was cleaned
INFO [2025-11-14 12:26:03] Adding running index to 'QC' sample IDs
INFO [2025-11-14 12:26:03] Pheno data was cleaned
INFO [2025-11-14 12:26:03] Initializing 'Flag' column with unflagged features
INFO [2025-11-14 12:26:03] Assigning HILIC_pos as the value of the Split column for each feature
INFO [2025-11-14 12:26:04] Feature data was cleaned
INFO [2025-11-14 12:26:04] Initializing 'Flag' column with unflagged features
INFO [2025-11-14 12:26:04] Feature_ID column not found, creating feature IDs
INFO [2025-11-14 12:26:04] Initializing 'Flag' column with unflagged features
INFO [2025-11-14 12:26:04] Feature_ID column not found, creating feature IDs
INFO [2025-11-14 12:26:04] Initializing 'Flag' column with unflagged features
INFO [2025-11-14 12:26:04] Feature_ID column not found, creating feature IDs
INFO [2025-11-14 12:26:04] Identified m/z column Average_Mz and retention time column Average_Rt_min
INFO [2025-11-14 12:26:04] Identified m/z column Average_Mz and retention time column Average_Rt_min
INFO [2025-11-14 12:26:04] Creating feature IDs from Split, m/z and retention time
INFO [2025-11-14 12:26:04] Feature data was cleaned
INFO [2025-11-14 12:26:04] Identified m/z column Mass and retention time column RetentionTime
INFO [2025-11-14 12:26:04] Identified m/z column Mass and retention time column RetentionTime
INFO [2025-11-14 12:26:04] Creating feature IDs from Split, m/z and retention time
INFO [2025-11-14 12:26:04] Corner detected correctly at row 4, column D
INFO [2025-11-14 12:26:04]
Extracting sample information from rows 1 to 4 and columns E to P
INFO [2025-11-14 12:26:04] Replacing spaces in sample information column names with underscores (_)
INFO [2025-11-14 12:26:04] Naming the last column of sample information "easy_Datafile"
INFO [2025-11-14 12:26:04]
Extracting feature information from rows 5 to 14 and columns A to D
INFO [2025-11-14 12:26:04]
Extracting feature abundances from rows 5 to 14 and columns E to P
INFO [2025-11-14 12:26:04] Sample ID generated from injection orders and prefix TEST_
INFO [2025-11-14 12:26:04] Pheno data was cleaned
INFO [2025-11-14 12:26:04] Initializing 'Flag' column with unflagged features
INFO [2025-11-14 12:26:04] Assigning easy as the value of the Split column for each feature
INFO [2025-11-14 12:26:04] Feature_ID column not found, creating feature IDs
INFO [2025-11-14 12:26:04] Identified m/z column Mass and retention time column RetentionTime
INFO [2025-11-14 12:26:04] Identified m/z column Mass and retention time column RetentionTime
INFO [2025-11-14 12:26:04] Creating feature IDs from Split, m/z and retention time
INFO [2025-11-14 12:26:04] Feature data was cleaned
INFO [2025-11-14 12:26:04]
Checking sample information
INFO [2025-11-14 12:26:04] Checking 'Injection_order' column in feature data
INFO [2025-11-14 12:26:04] Checking 'Sample_ID' column in pheno data
INFO [2025-11-14 12:26:04] Checking 'QC' column in feature data
INFO [2025-11-14 12:26:04] Checking that feature abundances only contain numeric values
INFO [2025-11-14 12:26:04]
Checking feature information
INFO [2025-11-14 12:26:04] Checking that feature IDs are unique and not storedas numbers
INFO [2025-11-14 12:26:04] Checking that m/z and retention time values are reasonable.
INFO [2025-11-14 12:26:04] Identified m/z column Mass and retention time column RetentionTime
INFO [2025-11-14 12:26:04] Identified m/z column Mass and retention time column RetentionTime
INFO [2025-11-14 12:26:04] Checking that feature data includes a 'Split' column
INFO [2025-11-14 12:26:04] Checking that feature data includes a 'Flag' column
INFO [2025-11-14 12:26:04] Identified m/z column Mass and retention time column RetentionTime
INFO [2025-11-14 12:26:04] Identified m/z column Mass and retention time column RetentionTime
INFO [2025-11-14 12:26:04] Creating feature IDs from Split, m/z and retention time
INFO [2025-11-14 12:26:04] Corner detected correctly at row 4, column F
INFO [2025-11-14 12:26:04]
Extracting sample information from rows 1 to 4 and columns G to R
INFO [2025-11-14 12:26:04] Replacing spaces in sample information column names with underscores (_)
INFO [2025-11-14 12:26:04] Naming the last column of sample information "Datafile"
INFO [2025-11-14 12:26:04]
Extracting feature information from rows 5 to 20 and columns A to F
INFO [2025-11-14 12:26:04]
Extracting feature abundances from rows 5 to 20 and columns G to R
INFO [2025-11-14 12:26:04] Sample ID generated from injection orders and prefix TEST_
INFO [2025-11-14 12:26:04] Pheno data was cleaned
INFO [2025-11-14 12:26:04] Initializing 'Flag' column with unflagged features
INFO [2025-11-14 12:26:04] Creating Split column from Column, Mode
INFO [2025-11-14 12:26:05] Feature_ID column not found, creating feature IDs
INFO [2025-11-14 12:26:05] Identified m/z column Mass and retention time column RetentionTime
INFO [2025-11-14 12:26:05] Identified m/z column Mass and retention time column RetentionTime
INFO [2025-11-14 12:26:05] Creating feature IDs from Split, m/z and retention time
INFO [2025-11-14 12:26:05] Feature data was cleaned
INFO [2025-11-14 12:26:05]
Checking sample information
INFO [2025-11-14 12:26:05] Checking 'Injection_order' column in feature data
INFO [2025-11-14 12:26:05] Checking 'Sample_ID' column in pheno data
INFO [2025-11-14 12:26:05] Checking 'QC' column in feature data
INFO [2025-11-14 12:26:05] Checking that feature abundances only contain numeric values
INFO [2025-11-14 12:26:05]
Checking feature information
INFO [2025-11-14 12:26:05] Checking that feature IDs are unique and not storedas numbers
INFO [2025-11-14 12:26:05] Checking that m/z and retention time values are reasonable.
INFO [2025-11-14 12:26:05] Identified m/z column Mass and retention time column RetentionTime
INFO [2025-11-14 12:26:05] Identified m/z column Mass and retention time column RetentionTime
INFO [2025-11-14 12:26:05] Checking that feature data includes a 'Split' column
INFO [2025-11-14 12:26:05] Checking that feature data includes a 'Flag' column
INFO [2025-11-14 12:26:05] Pheno data was cleaned
INFO [2025-11-14 12:26:05] Feature data was cleaned
INFO [2025-11-14 12:26:05] Pheno data was cleaned
INFO [2025-11-14 12:26:05] Feature data was cleaned
INFO [2025-11-14 12:26:05] Detecting corner position
INFO [2025-11-14 12:26:05] Corner detected correctly at row 11, column H
INFO [2025-11-14 12:26:05]
Extracting sample information from rows 1 to 11 and columns I to BF
INFO [2025-11-14 12:26:05] Replacing spaces in sample information column names with underscores (_)
INFO [2025-11-14 12:26:05] Naming the last column of sample information "hilic_neg_Datafile"
INFO [2025-11-14 12:26:05]
Extracting feature information from rows 12 to 31 and columns A to H
INFO [2025-11-14 12:26:05]
Extracting feature abundances from rows 12 to 31 and columns I to BF
INFO [2025-11-14 12:26:05] Pheno data was cleaned
INFO [2025-11-14 12:26:05] Feature data was cleaned
INFO [2025-11-14 12:26:05]
Checking sample information
INFO [2025-11-14 12:26:05] Checking 'Injection_order' column in feature data
INFO [2025-11-14 12:26:05] Checking 'Sample_ID' column in pheno data
INFO [2025-11-14 12:26:05] Checking 'QC' column in feature data
INFO [2025-11-14 12:26:05] Checking that feature abundances only contain numeric values
INFO [2025-11-14 12:26:05]
Checking feature information
INFO [2025-11-14 12:26:06] Checking that feature IDs are unique and not storedas numbers
INFO [2025-11-14 12:26:06] Checking that m/z and retention time values are reasonable.
INFO [2025-11-14 12:26:06] Identified m/z column Average_Mz and retention time column Average_Rt_min
INFO [2025-11-14 12:26:06] Identified m/z column Average_Mz and retention time column Average_Rt_min
INFO [2025-11-14 12:26:06] Checking that feature data includes a 'Split' column
INFO [2025-11-14 12:26:06] Checking that feature data includes a 'Flag' column
INFO [2025-11-14 12:26:06] Detecting corner position
INFO [2025-11-14 12:26:06] Corner detected correctly at row 11, column H
INFO [2025-11-14 12:26:06]
Extracting sample information from rows 1 to 11 and columns I to BF
INFO [2025-11-14 12:26:06] Replacing spaces in sample information column names with underscores (_)
INFO [2025-11-14 12:26:06] Naming the last column of sample information "hilic_pos_Datafile"
INFO [2025-11-14 12:26:06]
Extracting feature information from rows 12 to 31 and columns A to H
INFO [2025-11-14 12:26:06]
Extracting feature abundances from rows 12 to 31 and columns I to BF
INFO [2025-11-14 12:26:06] Pheno data was cleaned
INFO [2025-11-14 12:26:06] Feature data was cleaned
INFO [2025-11-14 12:26:06]
Checking sample information
INFO [2025-11-14 12:26:06] Checking 'Injection_order' column in feature data
INFO [2025-11-14 12:26:06] Checking 'Sample_ID' column in pheno data
INFO [2025-11-14 12:26:06] Checking 'QC' column in feature data
INFO [2025-11-14 12:26:06] Checking that feature abundances only contain numeric values
INFO [2025-11-14 12:26:06]
Checking feature information
INFO [2025-11-14 12:26:06] Checking that feature IDs are unique and not storedas numbers
INFO [2025-11-14 12:26:06] Checking that m/z and retention time values are reasonable.
INFO [2025-11-14 12:26:06] Identified m/z column Average_Mz and retention time column Average_Rt_min
INFO [2025-11-14 12:26:06] Identified m/z column Average_Mz and retention time column Average_Rt_min
INFO [2025-11-14 12:26:06] Checking that feature data includes a 'Split' column
INFO [2025-11-14 12:26:06] Checking that feature data includes a 'Flag' column
INFO [2025-11-14 12:26:06] Detecting corner position
INFO [2025-11-14 12:26:06] Corner detected correctly at row 11, column H
INFO [2025-11-14 12:26:06]
Extracting sample information from rows 1 to 11 and columns I to BF
INFO [2025-11-14 12:26:06] Replacing spaces in sample information column names with underscores (_)
INFO [2025-11-14 12:26:06] Naming the last column of sample information "rp_neg_Datafile"
INFO [2025-11-14 12:26:06]
Extracting feature information from rows 12 to 31 and columns A to H
INFO [2025-11-14 12:26:06]
Extracting feature abundances from rows 12 to 31 and columns I to BF
INFO [2025-11-14 12:26:06] Pheno data was cleaned
INFO [2025-11-14 12:26:06] Feature data was cleaned
INFO [2025-11-14 12:26:06]
Checking sample information
INFO [2025-11-14 12:26:06] Checking 'Injection_order' column in feature data
INFO [2025-11-14 12:26:06] Checking 'Sample_ID' column in pheno data
INFO [2025-11-14 12:26:06] Checking 'QC' column in feature data
INFO [2025-11-14 12:26:06] Checking that feature abundances only contain numeric values
INFO [2025-11-14 12:26:06]
Checking feature information
INFO [2025-11-14 12:26:06] Checking that feature IDs are unique and not storedas numbers
INFO [2025-11-14 12:26:06] Checking that m/z and retention time values are reasonable.
INFO [2025-11-14 12:26:06] Identified m/z column Average_Mz and retention time column Average_Rt_min
INFO [2025-11-14 12:26:06] Identified m/z column Average_Mz and retention time column Average_Rt_min
INFO [2025-11-14 12:26:06] Checking that feature data includes a 'Split' column
INFO [2025-11-14 12:26:06] Checking that feature data includes a 'Flag' column
INFO [2025-11-14 12:26:06] Detecting corner position
INFO [2025-11-14 12:26:06] Corner detected correctly at row 11, column H
INFO [2025-11-14 12:26:06]
Extracting sample information from rows 1 to 11 and columns I to BF
INFO [2025-11-14 12:26:06] Replacing spaces in sample information column names with underscores (_)
INFO [2025-11-14 12:26:06] Naming the last column of sample information "rp_pos_Datafile"
INFO [2025-11-14 12:26:06]
Extracting feature information from rows 12 to 31 and columns A to H
INFO [2025-11-14 12:26:06]
Extracting feature abundances from rows 12 to 31 and columns I to BF
INFO [2025-11-14 12:26:06] Pheno data was cleaned
INFO [2025-11-14 12:26:06] Feature data was cleaned
INFO [2025-11-14 12:26:06]
Checking sample information
INFO [2025-11-14 12:26:06] Checking 'Injection_order' column in feature data
INFO [2025-11-14 12:26:06] Checking 'Sample_ID' column in pheno data
INFO [2025-11-14 12:26:06] Checking 'QC' column in feature data
INFO [2025-11-14 12:26:06] Checking that feature abundances only contain numeric values
INFO [2025-11-14 12:26:06]
Checking feature information
INFO [2025-11-14 12:26:06] Checking that feature IDs are unique and not storedas numbers
INFO [2025-11-14 12:26:06] Checking that m/z and retention time values are reasonable.
INFO [2025-11-14 12:26:06] Identified m/z column Average_Mz and retention time column Average_Rt_min
INFO [2025-11-14 12:26:06] Identified m/z column Average_Mz and retention time column Average_Rt_min
INFO [2025-11-14 12:26:06] Checking that feature data includes a 'Split' column
INFO [2025-11-14 12:26:06] Checking that feature data includes a 'Flag' column
INFO [2025-11-14 12:26:07] Injection order differs between modes.Creating dummy injection order
INFO [2025-11-14 12:26:07] Dummy injection order (row numbers) created
INFO [2025-11-14 12:26:07] Merging objects with unequal amounts of samples.
INFO [2025-11-14 12:26:07] Samples only in first object:
INFO [2025-11-14 12:26:07] ID_666
INFO [2025-11-14 12:26:07] Samples only in second object:
INFO [2025-11-14 12:26:07] Demo_2
INFO [2025-11-14 12:26:08] Injection order differs between modes.Creating dummy injection order
INFO [2025-11-14 12:26:08] Dummy injection order (row numbers) created
INFO [2025-11-14 12:26:08] Merging objects with unequal amounts of samples.
INFO [2025-11-14 12:26:08] Samples only in first object:
INFO [2025-11-14 12:26:08] ID_666
INFO [2025-11-14 12:26:08] Samples only in second object:
INFO [2025-11-14 12:26:08]
INFO [2025-11-14 12:26:08] Injection order differs between modes.Creating dummy injection order
INFO [2025-11-14 12:26:08] Dummy injection order (row numbers) created
INFO [2025-11-14 12:26:08] Merging objects with unequal amounts of samples.
INFO [2025-11-14 12:26:08] Samples only in first object:
INFO [2025-11-14 12:26:08] ID_666, Demo_22
INFO [2025-11-14 12:26:08] Samples only in second object:
INFO [2025-11-14 12:26:08] ID_999
INFO [2025-11-14 12:26:08] Starting logging
INFO [2025-11-14 12:26:08] Finished analysis. Fri Nov 14 12:26:08 2025
Session info:
INFO [2025-11-14 12:26:08] R version 4.5.0 (2025-04-11)
INFO [2025-11-14 12:26:08] Platform: aarch64-unknown-linux-gnu
INFO [2025-11-14 12:26:08] Running under: openEuler 24.03 (LTS)
INFO [2025-11-14 12:26:08]
INFO [2025-11-14 12:26:08] Matrix products: default
INFO [2025-11-14 12:26:08] BLAS/LAPACK: /usr/lib64/libopenblas-r0.3.25.so; LAPACK version 3.11.0
INFO [2025-11-14 12:26:08]
INFO [2025-11-14 12:26:08] locale:
INFO [2025-11-14 12:26:08] [1] LC_CTYPE=en_US.UTF-8 LC_NUMERIC=C
INFO [2025-11-14 12:26:08] [3] LC_TIME=en_GB LC_COLLATE=C
INFO [2025-11-14 12:26:08] [5] LC_MONETARY=en_US.UTF-8 LC_MESSAGES=en_US.UTF-8
INFO [2025-11-14 12:26:08] [7] LC_PAPER=en_US.UTF-8 LC_NAME=C
INFO [2025-11-14 12:26:08] [9] LC_ADDRESS=C LC_TELEPHONE=C
INFO [2025-11-14 12:26:08] [11] LC_MEASUREMENT=en_US.UTF-8 LC_IDENTIFICATION=C
INFO [2025-11-14 12:26:08]
INFO [2025-11-14 12:26:08] time zone: UTC
INFO [2025-11-14 12:26:08] tzcode source: system (glibc)
INFO [2025-11-14 12:26:08]
INFO [2025-11-14 12:26:08] attached base packages:
INFO [2025-11-14 12:26:08] [1] stats4 stats graphics grDevices utils datasets methods
INFO [2025-11-14 12:26:08] [8] base
INFO [2025-11-14 12:26:08]
INFO [2025-11-14 12:26:08] other attached packages:
INFO [2025-11-14 12:26:08] [1] notame_1.0.0 SummarizedExperiment_1.40.0
INFO [2025-11-14 12:26:08] [3] Biobase_2.70.0 GenomicRanges_1.62.0
INFO [2025-11-14 12:26:08] [5] Seqinfo_1.0.0 IRanges_2.44.0
INFO [2025-11-14 12:26:08] [7] S4Vectors_0.48.0 BiocGenerics_0.56.0
INFO [2025-11-14 12:26:08] [9] generics_0.1.4 MatrixGenerics_1.22.0
INFO [2025-11-14 12:26:08] [11] matrixStats_1.5.0 ggplot2_4.0.0
INFO [2025-11-14 12:26:08] [13] testthat_3.2.3
INFO [2025-11-14 12:26:08]
INFO [2025-11-14 12:26:08] loaded via a namespace (and not attached):
INFO [2025-11-14 12:26:08] [1] Matrix_1.7-4 gtable_0.3.6 futile.logger_1.4.3
INFO [2025-11-14 12:26:08] [4] dplyr_1.1.4 compiler_4.5.0 brio_1.1.5
INFO [2025-11-14 12:26:08] [7] zip_2.3.3 Rcpp_1.1.0 tidyselect_1.2.1
INFO [2025-11-14 12:26:08] [10] tidyr_1.3.1 scales_1.4.0 lattice_0.22-7
INFO [2025-11-14 12:26:08] [13] XVector_0.50.0 R6_2.6.1 S4Arrays_1.10.0
INFO [2025-11-14 12:26:08] [16] openxlsx_4.2.8.1 tibble_3.3.0 DelayedArray_0.36.0
INFO [2025-11-14 12:26:08] [19] desc_1.4.3 pillar_1.11.1 RColorBrewer_1.1-3
INFO [2025-11-14 12:26:08] [22] rlang_1.1.6 stringi_1.8.7 S7_0.2.0
INFO [2025-11-14 12:26:08] [25] viridisLite_0.4.2 SparseArray_1.10.1 cli_3.6.5
INFO [2025-11-14 12:26:08] [28] formatR_1.14 withr_3.0.2 magrittr_2.0.4
INFO [2025-11-14 12:26:08] [31] futile.options_1.0.1 grid_4.5.0 lifecycle_1.0.4
INFO [2025-11-14 12:26:08] [34] waldo_0.6.2 vctrs_0.6.5 glue_1.8.0
INFO [2025-11-14 12:26:08] [37] lambda.r_1.2.4 farver_2.1.2 abind_1.4-8
INFO [2025-11-14 12:26:08] [40] purrr_1.1.0 tools_4.5.0 pkgconfig_2.0.3
INFO [2025-11-14 12:26:09] New line
INFO [2025-11-14 12:26:09] Starting logging
INFO [2025-11-14 12:26:09] New line
INFO [2025-11-14 12:26:09] Finished analysis. Fri Nov 14 12:26:09 2025
Session info:
INFO [2025-11-14 12:26:09] R version 4.5.0 (2025-04-11)
INFO [2025-11-14 12:26:09] Platform: aarch64-unknown-linux-gnu
INFO [2025-11-14 12:26:09] Running under: openEuler 24.03 (LTS)
INFO [2025-11-14 12:26:09]
INFO [2025-11-14 12:26:09] Matrix products: default
INFO [2025-11-14 12:26:09] BLAS/LAPACK: /usr/lib64/libopenblas-r0.3.25.so; LAPACK version 3.11.0
INFO [2025-11-14 12:26:09]
INFO [2025-11-14 12:26:09] locale:
INFO [2025-11-14 12:26:09] [1] LC_CTYPE=en_US.UTF-8 LC_NUMERIC=C
INFO [2025-11-14 12:26:09] [3] LC_TIME=en_GB LC_COLLATE=C
INFO [2025-11-14 12:26:09] [5] LC_MONETARY=en_US.UTF-8 LC_MESSAGES=en_US.UTF-8
INFO [2025-11-14 12:26:09] [7] LC_PAPER=en_US.UTF-8 LC_NAME=C
INFO [2025-11-14 12:26:09] [9] LC_ADDRESS=C LC_TELEPHONE=C
INFO [2025-11-14 12:26:09] [11] LC_MEASUREMENT=en_US.UTF-8 LC_IDENTIFICATION=C
INFO [2025-11-14 12:26:09]
INFO [2025-11-14 12:26:09] time zone: UTC
INFO [2025-11-14 12:26:09] tzcode source: system (glibc)
INFO [2025-11-14 12:26:09]
INFO [2025-11-14 12:26:09] attached base packages:
INFO [2025-11-14 12:26:09] [1] stats4 stats graphics grDevices utils datasets methods
INFO [2025-11-14 12:26:09] [8] base
INFO [2025-11-14 12:26:09]
INFO [2025-11-14 12:26:09] other attached packages:
INFO [2025-11-14 12:26:09] [1] notame_1.0.0 SummarizedExperiment_1.40.0
INFO [2025-11-14 12:26:09] [3] Biobase_2.70.0 GenomicRanges_1.62.0
INFO [2025-11-14 12:26:09] [5] Seqinfo_1.0.0 IRanges_2.44.0
INFO [2025-11-14 12:26:09] [7] S4Vectors_0.48.0 BiocGenerics_0.56.0
INFO [2025-11-14 12:26:09] [9] generics_0.1.4 MatrixGenerics_1.22.0
INFO [2025-11-14 12:26:09] [11] matrixStats_1.5.0 ggplot2_4.0.0
INFO [2025-11-14 12:26:09] [13] testthat_3.2.3
INFO [2025-11-14 12:26:09]
INFO [2025-11-14 12:26:09] loaded via a namespace (and not attached):
INFO [2025-11-14 12:26:09] [1] Matrix_1.7-4 gtable_0.3.6 futile.logger_1.4.3
INFO [2025-11-14 12:26:09] [4] dplyr_1.1.4 compiler_4.5.0 brio_1.1.5
INFO [2025-11-14 12:26:09] [7] zip_2.3.3 Rcpp_1.1.0 tidyselect_1.2.1
INFO [2025-11-14 12:26:09] [10] tidyr_1.3.1 scales_1.4.0 lattice_0.22-7
INFO [2025-11-14 12:26:09] [13] XVector_0.50.0 R6_2.6.1 S4Arrays_1.10.0
INFO [2025-11-14 12:26:09] [16] openxlsx_4.2.8.1 tibble_3.3.0 DelayedArray_0.36.0
INFO [2025-11-14 12:26:09] [19] desc_1.4.3 pillar_1.11.1 RColorBrewer_1.1-3
INFO [2025-11-14 12:26:09] [22] rlang_1.1.6 stringi_1.8.7 S7_0.2.0
INFO [2025-11-14 12:26:09] [25] viridisLite_0.4.2 SparseArray_1.10.1 cli_3.6.5
INFO [2025-11-14 12:26:09] [28] formatR_1.14 withr_3.0.2 magrittr_2.0.4
INFO [2025-11-14 12:26:09] [31] futile.options_1.0.1 grid_4.5.0 lifecycle_1.0.4
INFO [2025-11-14 12:26:09] [34] waldo_0.6.2 vctrs_0.6.5 glue_1.8.0
INFO [2025-11-14 12:26:09] [37] lambda.r_1.2.4 farver_2.1.2 abind_1.4-8
INFO [2025-11-14 12:26:09] [40] purrr_1.1.0 tools_4.5.0 pkgconfig_2.0.3
INFO [2025-11-14 12:26:09] New line
INFO [2025-11-14 12:26:10]
Starting random forest imputation at 2025-11-14 12:26:10.103866
INFO [2025-11-14 12:26:27] Out-of-bag error in random forest imputation: 0.471
INFO [2025-11-14 12:26:27] Random forest imputation finished at 2025-11-14 12:26:27.249744
INFO [2025-11-14 12:26:27]
Starting random forest imputation at 2025-11-14 12:26:27.638092
INFO [2025-11-14 12:26:48] Out-of-bag error in random forest imputation: 0.472
INFO [2025-11-14 12:26:48] Random forest imputation finished at 2025-11-14 12:26:48.824605
INFO [2025-11-14 12:26:48]
Starting random forest imputation at 2025-11-14 12:26:48.848573
INFO [2025-11-14 12:27:06] Out-of-bag error in random forest imputation: 0.469
INFO [2025-11-14 12:27:06] Random forest imputation finished at 2025-11-14 12:27:06.848566
INFO [2025-11-14 12:27:06]
Starting random forest imputation at 2025-11-14 12:27:06.99006
INFO [2025-11-14 12:27:23] Out-of-bag error in random forest imputation: 0.468
INFO [2025-11-14 12:27:24] Random forest imputation finished at 2025-11-14 12:27:24.015129
INFO [2025-11-14 12:27:24] Starting PQN normalization
INFO [2025-11-14 12:27:24] Using median of qc samples as reference spectrum
INFO [2025-11-14 12:27:25] Starting PQN normalization
INFO [2025-11-14 12:27:25] Using median of all samples as reference spectrum
INFO [2025-11-14 12:27:25] Starting PQN normalization
INFO [2025-11-14 12:27:25] Using mean of qc samples as reference spectrum
INFO [2025-11-14 12:27:25] Starting PQN normalization
INFO [2025-11-14 12:27:25] Using mean of all samples as reference spectrum
INFO [2025-11-14 12:27:25]
92% of features flagged for low quality
INFO [2025-11-14 12:27:25] Starting PQN normalization
INFO [2025-11-14 12:27:26] Using median of qc samples as reference spectrum
INFO [2025-11-14 12:27:26] Starting drift correction
INFO [2025-11-14 12:27:26] Zero values in feature abundances detected. Zeroes will be replaced with 1.1.
INFO [2025-11-14 12:27:29] Recomputing quality metrics for drift corrected data
INFO [2025-11-14 12:27:30] Drift correction performed
INFO [2025-11-14 12:27:30] Inspecting drift correction results
INFO [2025-11-14 12:27:30] Original quality metrics missing, recomputing
INFO [2025-11-14 12:27:30] Drift correction results inspected: Drift_corrected: 100%
[ FAIL 0 | WARN 5 | SKIP 0 | PASS 84 ]
[ FAIL 0 | WARN 5 | SKIP 0 | PASS 84 ]
>
> proc.time()
user system elapsed
30.582 2.895 100.413
notame.Rcheck/notame-Ex.timings
| name | user | system | elapsed | |
| assess_quality | 0.248 | 0.008 | 0.256 | |
| citations | 0.384 | 0.000 | 0.384 | |
| cluster_features | 0.327 | 0.027 | 0.642 | |
| combined_data | 0.062 | 0.016 | 0.154 | |
| compress_clusters | 0.217 | 0.009 | 0.450 | |
| correct_drift | 2.933 | 0.330 | 3.474 | |
| drop_flagged | 0.138 | 0.028 | 0.167 | |
| drop_qcs | 0.05 | 0.00 | 0.05 | |
| finish_log | 0.033 | 0.012 | 0.091 | |
| fix_MSMS | 0.117 | 0.016 | 0.133 | |
| fix_object | 0.140 | 0.036 | 0.176 | |
| flag | 0.037 | 0.000 | 0.038 | |
| flag_contaminants | 0.217 | 0.036 | 0.253 | |
| flag_detection | 0.324 | 0.000 | 0.466 | |
| flag_quality | 0.284 | 0.004 | 0.288 | |
| flag_report | 0.405 | 0.008 | 0.414 | |
| import_from_excel | 0.318 | 0.023 | 0.384 | |
| impute_rf | 1.558 | 0.101 | 12.666 | |
| impute_simple | 0.120 | 0.000 | 0.121 | |
| init_log | 0.004 | 0.000 | 0.004 | |
| inverse_normalize | 0.055 | 0.003 | 0.059 | |
| join_colData | 0.041 | 0.000 | 0.041 | |
| join_rowData | 0.031 | 0.000 | 0.030 | |
| log_text | 0.006 | 0.000 | 0.005 | |
| mark_nas | 0.049 | 0.000 | 0.048 | |
| merge_notame_sets | 0.692 | 0.088 | 0.822 | |
| pca_bhattacharyya_dist | 8.776 | 0.838 | 10.051 | |
| perform_repeatability | 0.251 | 0.007 | 0.260 | |
| pqn_normalization | 0.096 | 0.000 | 0.097 | |
| quality | 0.178 | 0.020 | 0.200 | |
| ruvs_qc | 0.244 | 0.025 | 0.269 | |
| write_to_excel | 0.266 | 0.020 | 0.287 | |