| Back to Multiple platform build/check report for BioC 3.22: simplified long |
|
This page was generated on 2025-10-09 12:07 -0400 (Thu, 09 Oct 2025).
| Hostname | OS | Arch (*) | R version | Installed pkgs |
|---|---|---|---|---|
| nebbiolo2 | Linux (Ubuntu 24.04.3 LTS) | x86_64 | 4.5.1 Patched (2025-08-23 r88802) -- "Great Square Root" | 4854 |
| lconway | macOS 12.7.1 Monterey | x86_64 | 4.5.1 Patched (2025-09-10 r88807) -- "Great Square Root" | 4642 |
| kjohnson3 | macOS 13.7.7 Ventura | arm64 | 4.5.1 Patched (2025-09-10 r88807) -- "Great Square Root" | 4587 |
| taishan | Linux (openEuler 24.03 LTS) | aarch64 | 4.5.0 (2025-04-11) -- "How About a Twenty-Six" | 4584 |
| Click on any hostname to see more info about the system (e.g. compilers) (*) as reported by 'uname -p', except on Windows and Mac OS X | ||||
| Package 805/2341 | Hostname | OS / Arch | INSTALL | BUILD | CHECK | BUILD BIN | ||||||||
| gemma.R 3.5.11 (landing page) Ogan Mancarci
| nebbiolo2 | Linux (Ubuntu 24.04.3 LTS) / x86_64 | OK | OK | ERROR | |||||||||
| lconway | macOS 12.7.1 Monterey / x86_64 | OK | OK | ERROR | OK | |||||||||
| kjohnson3 | macOS 13.7.7 Ventura / arm64 | OK | OK | ERROR | OK | |||||||||
| taishan | Linux (openEuler 24.03 LTS) / aarch64 | OK | OK | ERROR | ||||||||||
|
To the developers/maintainers of the gemma.R package: - Allow up to 24 hours (and sometimes 48 hours) for your latest push to git@git.bioconductor.org:packages/gemma.R.git to reflect on this report. See Troubleshooting Build Report for more information. - Use the following Renviron settings to reproduce errors and warnings. - If 'R CMD check' started to fail recently on the Linux builder(s) over a missing dependency, add the missing dependency to 'Suggests:' in your DESCRIPTION file. See Renviron.bioc for more information. - See Martin Grigorov's blog post for how to debug Linux ARM64 related issues on a x86_64 host. |
| Package: gemma.R |
| Version: 3.5.11 |
| Command: /home/biocbuild/R/R/bin/R CMD check --install=check:gemma.R.install-out.txt --library=/home/biocbuild/R/R/site-library --no-vignettes --timings gemma.R_3.5.11.tar.gz |
| StartedAt: 2025-10-07 08:01:02 -0000 (Tue, 07 Oct 2025) |
| EndedAt: 2025-10-07 08:10:41 -0000 (Tue, 07 Oct 2025) |
| EllapsedTime: 578.5 seconds |
| RetCode: 1 |
| Status: ERROR |
| CheckDir: gemma.R.Rcheck |
| Warnings: NA |
##############################################################################
##############################################################################
###
### Running command:
###
### /home/biocbuild/R/R/bin/R CMD check --install=check:gemma.R.install-out.txt --library=/home/biocbuild/R/R/site-library --no-vignettes --timings gemma.R_3.5.11.tar.gz
###
##############################################################################
##############################################################################
* using log directory ‘/home/biocbuild/bbs-3.22-bioc/meat/gemma.R.Rcheck’
* using R version 4.5.0 (2025-04-11)
* using platform: aarch64-unknown-linux-gnu
* R was compiled by
aarch64-unknown-linux-gnu-gcc (GCC) 14.2.0
GNU Fortran (GCC) 14.2.0
* running under: openEuler 24.03 (LTS)
* using session charset: UTF-8
* using option ‘--no-vignettes’
* checking for file ‘gemma.R/DESCRIPTION’ ... OK
* this is package ‘gemma.R’ version ‘3.5.11’
* package encoding: UTF-8
* checking package namespace information ... OK
* checking package dependencies ... INFO
Imports includes 21 non-default packages.
Importing from so many packages makes the package vulnerable to any of
them becoming unavailable. Move as many as possible to Suggests and
use conditionally.
* checking if this is a source package ... OK
* checking if there is a namespace ... OK
* checking for hidden files and directories ... OK
* checking for portable file names ... OK
* checking for sufficient/correct file permissions ... OK
* checking whether package ‘gemma.R’ can be installed ... OK
* checking installed package size ... OK
* checking package directory ... OK
* checking ‘build’ directory ... OK
* checking DESCRIPTION meta-information ... OK
* checking top-level files ... OK
* checking for left-over files ... OK
* checking index information ... OK
* checking package subdirectories ... OK
* checking code files for non-ASCII characters ... OK
* checking R files for syntax errors ... OK
* checking whether the package can be loaded ... OK
* checking whether the package can be loaded with stated dependencies ... OK
* checking whether the package can be unloaded cleanly ... OK
* checking whether the namespace can be loaded with stated dependencies ... OK
* checking whether the namespace can be unloaded cleanly ... OK
* checking loading without being on the library search path ... OK
* checking dependencies in R code ... OK
* checking S3 generic/method consistency ... OK
* checking replacement functions ... OK
* checking foreign function calls ... OK
* checking R code for possible problems ... OK
* checking Rd files ... OK
* checking Rd metadata ... OK
* checking Rd cross-references ... OK
* checking for missing documentation entries ... OK
* checking for code/documentation mismatches ... OK
* checking Rd \usage sections ... OK
* checking Rd contents ... OK
* checking for unstated dependencies in examples ... OK
* checking files in ‘vignettes’ ... OK
* checking examples ... OK
Examples with CPU (user + system) or elapsed time > 5s
user system elapsed
get_dataset_object 9.637 0.348 15.235
get_gene_differential_expression_values 2.088 0.068 7.225
dot-get_gene_differential_expression_values 1.615 0.080 7.138
get_dataset_processed_expression 1.174 0.036 5.327
get_dataset_expression 0.921 0.055 7.263
get_dataset_differential_expression_analyses 0.591 0.024 6.363
* checking for unstated dependencies in ‘tests’ ... OK
* checking tests ...
Running ‘testthat.R’
ERROR
Running the tests in ‘tests/testthat.R’ failed.
Last 13 lines of output:
══ Skipped tests (4) ═══════════════════════════════════════════════════════════
• On Bioconductor (4): 'testCaches.R:37:3', 'testConvenience.R:15:5',
'testConvenience.R:37:5', 'testDatasetEndpoints.R:88:5'
══ Failed tests ════════════════════════════════════════════════════════════════
── Failure ('testConvenience.R:4:5'): getPlatformAnnotation queries work ───────
all(...) is not TRUE
`actual`: FALSE
`expected`: TRUE
[ FAIL 1 | WARN 0 | SKIP 4 | PASS 195 ]
Error: Test failures
Execution halted
* checking for unstated dependencies in vignettes ... OK
* checking package vignettes ... OK
* checking running R code from vignettes ... SKIPPED
* checking re-building of vignette outputs ... SKIPPED
* checking PDF version of manual ... OK
* DONE
Status: 1 ERROR
See
‘/home/biocbuild/bbs-3.22-bioc/meat/gemma.R.Rcheck/00check.log’
for details.
gemma.R.Rcheck/00install.out
############################################################################## ############################################################################## ### ### Running command: ### ### /home/biocbuild/R/R/bin/R CMD INSTALL gemma.R ### ############################################################################## ############################################################################## * installing to library ‘/home/biocbuild/R/R-4.5.0/site-library’ * installing *source* package ‘gemma.R’ ... ** this is package ‘gemma.R’ version ‘3.5.11’ ** using staged installation ** R ** inst ** byte-compile and prepare package for lazy loading ** help *** installing help indices *** copying figures ** building package indices ** installing vignettes ** testing if installed package can be loaded from temporary location ** testing if installed package can be loaded from final location ** testing if installed package keeps a record of temporary installation path * DONE (gemma.R)
gemma.R.Rcheck/tests/testthat.Rout.fail
R version 4.5.0 (2025-04-11) -- "How About a Twenty-Six"
Copyright (C) 2025 The R Foundation for Statistical Computing
Platform: aarch64-unknown-linux-gnu
R is free software and comes with ABSOLUTELY NO WARRANTY.
You are welcome to redistribute it under certain conditions.
Type 'license()' or 'licence()' for distribution details.
R is a collaborative project with many contributors.
Type 'contributors()' for more information and
'citation()' on how to cite R or R packages in publications.
Type 'demo()' for some demos, 'help()' for on-line help, or
'help.start()' for an HTML browser interface to help.
Type 'q()' to quit R.
> library(testthat)
> library(dplyr)
Attaching package: 'dplyr'
The following object is masked from 'package:testthat':
matches
The following objects are masked from 'package:stats':
filter, lag
The following objects are masked from 'package:base':
intersect, setdiff, setequal, union
>
> # Prevent certificate issues for GitHub actions
> options(gemma.SSL = FALSE)
> # get gemma api path if it's set in the environment
> gemma.R:::setGemmaPath('prod')
[1] "https://gemma.msl.ubc.ca/rest/v2/"
> print(gemma.R:::gemmaPath())
[1] "https://gemma.msl.ubc.ca/rest/v2/"
> test_check("gemma.R")
Loading required package: gemma.R
[ FAIL 1 | WARN 0 | SKIP 4 | PASS 195 ]
══ Skipped tests (4) ═══════════════════════════════════════════════════════════
• On Bioconductor (4): 'testCaches.R:37:3', 'testConvenience.R:15:5',
'testConvenience.R:37:5', 'testDatasetEndpoints.R:88:5'
══ Failed tests ════════════════════════════════════════════════════════════════
── Failure ('testConvenience.R:4:5'): getPlatformAnnotation queries work ───────
all(...) is not TRUE
`actual`: FALSE
`expected`: TRUE
[ FAIL 1 | WARN 0 | SKIP 4 | PASS 195 ]
Error: Test failures
Execution halted
gemma.R.Rcheck/gemma.R-Ex.timings
| name | user | system | elapsed | |
| dot-getResultSets | 0 | 0 | 0 | |
| dot-get_dataset_expression_for_genes | 1.270 | 0.131 | 3.821 | |
| dot-get_gene_differential_expression_values | 1.615 | 0.080 | 7.138 | |
| filter_properties | 0.038 | 0.000 | 0.042 | |
| forget_gemma_memoised | 0.014 | 0.016 | 0.095 | |
| gemma_call | 0.008 | 0.000 | 0.202 | |
| get_annotation_children | 0.011 | 0.000 | 0.193 | |
| get_annotation_parents | 0.013 | 0.000 | 0.198 | |
| get_child_terms | 0.034 | 0.000 | 0.223 | |
| get_dataset_annotations | 0.011 | 0.000 | 0.201 | |
| get_dataset_differential_expression_analyses | 0.591 | 0.024 | 6.363 | |
| get_dataset_expression | 0.921 | 0.055 | 7.263 | |
| get_dataset_expression_for_genes | 0.321 | 0.000 | 1.559 | |
| get_dataset_object | 9.637 | 0.348 | 15.235 | |
| get_dataset_platforms | 0.017 | 0.000 | 0.587 | |
| get_dataset_processed_expression | 1.174 | 0.036 | 5.327 | |
| get_dataset_publications | 0.011 | 0.000 | 0.202 | |
| get_dataset_quantitation_types | 0.013 | 0.000 | 0.322 | |
| get_dataset_raw_expression | 0.989 | 0.023 | 3.319 | |
| get_dataset_samples | 0.236 | 0.012 | 0.739 | |
| get_datasets | 0.206 | 0.020 | 1.369 | |
| get_datasets_by_ids | 0.050 | 0.000 | 0.434 | |
| get_differential_expression_values | 0.289 | 0.004 | 3.883 | |
| get_gene_differential_expression_values | 2.088 | 0.068 | 7.225 | |
| get_gene_go_terms | 0.05 | 0.00 | 0.80 | |
| get_gene_locations | 0.026 | 0.000 | 0.463 | |
| get_gene_probes | 0.028 | 0.000 | 0.354 | |
| get_genes | 0.027 | 0.003 | 0.456 | |
| get_platform_annotations | 0.529 | 0.008 | 2.939 | |
| get_platform_datasets | 0.043 | 0.000 | 0.576 | |
| get_platform_element_genes | 0.015 | 0.000 | 0.231 | |
| get_platforms_by_ids | 0.031 | 0.000 | 0.421 | |
| get_result_sets | 0.043 | 0.008 | 0.453 | |
| get_taxa | 0.012 | 0.000 | 0.200 | |
| get_taxa_by_ids | 0.011 | 0.000 | 0.198 | |
| get_taxon_datasets | 0.040 | 0.004 | 0.244 | |
| make_design | 0.819 | 0.024 | 1.330 | |
| search_annotations | 0.013 | 0.000 | 0.202 | |
| search_datasets | 0.046 | 0.000 | 0.311 | |
| search_gemma | 0.101 | 0.007 | 0.658 | |
| update_result | 0.652 | 0.012 | 4.691 | |