| Back to Multiple platform build/check report for BioC 3.22: simplified long | 
 | 
This page was generated on 2025-10-24 12:07 -0400 (Fri, 24 Oct 2025).
| Hostname | OS | Arch (*) | R version | Installed pkgs | 
|---|---|---|---|---|
| nebbiolo2 | Linux (Ubuntu 24.04.3 LTS) | x86_64 | 4.5.1 Patched (2025-08-23 r88802) -- "Great Square Root" | 4898 | 
| lconway | macOS 12.7.6 Monterey | x86_64 | 4.5.1 Patched (2025-09-10 r88807) -- "Great Square Root" | 4688 | 
| kjohnson3 | macOS 13.7.7 Ventura | arm64 | 4.5.1 Patched (2025-09-10 r88807) -- "Great Square Root" | 4634 | 
| taishan | Linux (openEuler 24.03 LTS) | aarch64 | 4.5.0 (2025-04-11) -- "How About a Twenty-Six" | 4658 | 
| Click on any hostname to see more info about the system (e.g. compilers) (*) as reported by 'uname -p', except on Windows and Mac OS X | ||||
| Package 54/2359 | Hostname | OS / Arch | INSTALL | BUILD | CHECK | BUILD BIN | ||||||||
| ALDEx2 1.41.0  (landing page) Greg Gloor 
 | nebbiolo2 | Linux (Ubuntu 24.04.3 LTS) / x86_64 | OK | OK | OK |  | ||||||||
| lconway | macOS 12.7.6 Monterey / x86_64 | OK | OK | OK | OK |  | ||||||||
| kjohnson3 | macOS 13.7.7 Ventura / arm64 | OK | OK | OK | OK |  | ||||||||
| taishan | Linux (openEuler 24.03 LTS) / aarch64 | OK | OK | OK | ||||||||||
| To the developers/maintainers of the ALDEx2 package: - Allow up to 24 hours (and sometimes 48 hours) for your latest push to git@git.bioconductor.org:packages/ALDEx2.git to reflect on this report. See Troubleshooting Build Report for more information. - Use the following Renviron settings to reproduce errors and warnings. - If 'R CMD check' started to fail recently on the Linux builder(s) over a missing dependency, add the missing dependency to 'Suggests:' in your DESCRIPTION file. See Renviron.bioc for more information. - See Martin Grigorov's blog post for how to debug Linux ARM64 related issues on a x86_64 host. | 
| Package: ALDEx2 | 
| Version: 1.41.0 | 
| Command: /home/biocbuild/R/R/bin/R CMD check --install=check:ALDEx2.install-out.txt --library=/home/biocbuild/R/R/site-library --no-vignettes --timings ALDEx2_1.41.0.tar.gz | 
| StartedAt: 2025-10-21 04:24:47 -0000 (Tue, 21 Oct 2025) | 
| EndedAt: 2025-10-21 04:29:44 -0000 (Tue, 21 Oct 2025) | 
| EllapsedTime: 297.2 seconds | 
| RetCode: 0 | 
| Status: OK | 
| CheckDir: ALDEx2.Rcheck | 
| Warnings: 0 | 
##############################################################################
##############################################################################
###
### Running command:
###
###   /home/biocbuild/R/R/bin/R CMD check --install=check:ALDEx2.install-out.txt --library=/home/biocbuild/R/R/site-library --no-vignettes --timings ALDEx2_1.41.0.tar.gz
###
##############################################################################
##############################################################################
* using log directory ‘/home/biocbuild/bbs-3.22-bioc/meat/ALDEx2.Rcheck’
* using R version 4.5.0 (2025-04-11)
* using platform: aarch64-unknown-linux-gnu
* R was compiled by
    aarch64-unknown-linux-gnu-gcc (GCC) 14.2.0
    GNU Fortran (GCC) 14.2.0
* running under: openEuler 24.03 (LTS)
* using session charset: UTF-8
* using option ‘--no-vignettes’
* checking for file ‘ALDEx2/DESCRIPTION’ ... OK
* checking extension type ... Package
* this is package ‘ALDEx2’ version ‘1.41.0’
* checking package namespace information ... OK
* checking package dependencies ... OK
* checking if this is a source package ... OK
* checking if there is a namespace ... OK
* checking for hidden files and directories ... OK
* checking for portable file names ... OK
* checking for sufficient/correct file permissions ... OK
* checking whether package ‘ALDEx2’ can be installed ... OK
* checking installed package size ... OK
* checking package directory ... OK
* checking ‘build’ directory ... OK
* checking DESCRIPTION meta-information ... OK
* checking top-level files ... OK
* checking for left-over files ... OK
* checking index information ... OK
* checking package subdirectories ... OK
* checking code files for non-ASCII characters ... OK
* checking R files for syntax errors ... OK
* checking whether the package can be loaded ... OK
* checking whether the package can be loaded with stated dependencies ... OK
* checking whether the package can be unloaded cleanly ... OK
* checking whether the namespace can be loaded with stated dependencies ... OK
* checking whether the namespace can be unloaded cleanly ... OK
* checking loading without being on the library search path ... OK
* checking dependencies in R code ... OK
* checking S3 generic/method consistency ... OK
* checking replacement functions ... OK
* checking foreign function calls ... OK
* checking R code for possible problems ... OK
* checking Rd files ... OK
* checking Rd metadata ... NOTE
Invalid package aliases in Rd file 'ALDEx2m-package.Rd':
  ‘ALDEx2m-package’
* checking Rd cross-references ... OK
* checking for missing documentation entries ... OK
* checking for code/documentation mismatches ... OK
* checking Rd \usage sections ... OK
* checking Rd contents ... OK
* checking for unstated dependencies in examples ... OK
* checking contents of ‘data’ directory ... OK
* checking data for non-ASCII characters ... OK
* checking data for ASCII and uncompressed saves ... OK
* checking files in ‘vignettes’ ... OK
* checking examples ... OK
Examples with CPU (user + system) or elapsed time > 5s
           user system elapsed
aldex.glm 5.186  0.008   5.211
* checking for unstated dependencies in ‘tests’ ... OK
* checking tests ...
  Running ‘testthat.R’
 OK
* checking for unstated dependencies in vignettes ... OK
* checking package vignettes ... OK
* checking running R code from vignettes ... SKIPPED
* checking re-building of vignette outputs ... SKIPPED
* checking PDF version of manual ... OK
* DONE
Status: 1 NOTE
See
  ‘/home/biocbuild/bbs-3.22-bioc/meat/ALDEx2.Rcheck/00check.log’
for details.
ALDEx2.Rcheck/00install.out
############################################################################## ############################################################################## ### ### Running command: ### ### /home/biocbuild/R/R/bin/R CMD INSTALL ALDEx2 ### ############################################################################## ############################################################################## * installing to library ‘/home/biocbuild/R/R-4.5.0/site-library’ * installing *source* package ‘ALDEx2’ ... ** this is package ‘ALDEx2’ version ‘1.41.0’ ** using staged installation ** R ** data ** inst ** byte-compile and prepare package for lazy loading ** help *** installing help indices ** building package indices ** installing vignettes ** testing if installed package can be loaded from temporary location ** testing if installed package can be loaded from final location ** testing if installed package keeps a record of temporary installation path * DONE (ALDEx2)
ALDEx2.Rcheck/tests/testthat.Rout
R version 4.5.0 (2025-04-11) -- "How About a Twenty-Six"
Copyright (C) 2025 The R Foundation for Statistical Computing
Platform: aarch64-unknown-linux-gnu
R is free software and comes with ABSOLUTELY NO WARRANTY.
You are welcome to redistribute it under certain conditions.
Type 'license()' or 'licence()' for distribution details.
R is a collaborative project with many contributors.
Type 'contributors()' for more information and
'citation()' on how to cite R or R packages in publications.
Type 'demo()' for some demos, 'help()' for on-line help, or
'help.start()' for an HTML browser interface to help.
Type 'q()' to quit R.
> library(testthat)
> library(ALDEx2)
Loading required package: zCompositions
Loading required package: MASS
Loading required package: truncnorm
Loading required package: survival
Loading required package: lattice
Loading required package: latticeExtra
> 
> test_check("ALDEx2")
[ FAIL 0 | WARN 5 | SKIP 0 | PASS 34 ]
[ FAIL 0 | WARN 5 | SKIP 0 | PASS 34 ]
> 
> proc.time()
   user  system elapsed 
 92.775   1.417  94.456 
ALDEx2.Rcheck/ALDEx2-Ex.timings
| name | user | system | elapsed | |
| ALDEx2m-package | 0 | 0 | 0 | |
| aldex | 0.931 | 0.043 | 0.978 | |
| aldex.clr-class | 0.03 | 0.00 | 0.03 | |
| aldex.corr | 1.455 | 0.104 | 1.563 | |
| aldex.effect | 0.191 | 0.000 | 0.192 | |
| aldex.expectedDistance | 0.425 | 0.008 | 0.434 | |
| aldex.glm | 5.186 | 0.008 | 5.211 | |
| aldex.glm.effect | 0.469 | 0.000 | 0.470 | |
| aldex.glm.plot | 0 | 0 | 0 | |
| aldex.kw | 2.668 | 0.000 | 2.677 | |
| aldex.makeScaleMatrix | 0.014 | 0.000 | 0.014 | |
| aldex.plot | 0 | 0 | 0 | |
| aldex.plotFeature | 0.077 | 0.000 | 0.078 | |
| aldex.set.mode | 0.022 | 0.004 | 0.026 | |
| aldex.ttest | 0.128 | 0.000 | 0.129 | |
| getConditions-method | 0.021 | 0.004 | 0.026 | |
| getDenom-method | 0.061 | 0.000 | 0.062 | |
| getDirichletInstances-method | 0.025 | 0.000 | 0.026 | |
| getDirichletReplicate-method | 0.025 | 0.000 | 0.026 | |
| getDirichletSample-method | 0.026 | 0.000 | 0.026 | |
| getFeatureNames-method | 0.025 | 0.000 | 0.025 | |
| getFeatures-method | 0.017 | 0.008 | 0.026 | |
| getMonteCarloInstances-method | 0.020 | 0.008 | 0.028 | |
| getMonteCarloReplicate-method | 0.028 | 0.000 | 0.027 | |
| getMonteCarloSample-method | 0.028 | 0.000 | 0.028 | |
| getReads-method | 0.028 | 0.000 | 0.029 | |
| getSampleIDs-method | 0.024 | 0.004 | 0.028 | |
| getScaleSamples-method | 0.040 | 0.000 | 0.039 | |
| numConditions-method | 0.026 | 0.000 | 0.026 | |
| numFeatures-method | 0.026 | 0.000 | 0.026 | |
| numMCInstances-method | 0.026 | 0.000 | 0.026 | |