Back to Multiple platform build/check report for BioC 3.22:   simplified   long
AB[C]DEFGHIJKLMNOPQRSTUVWXYZ

This page was generated on 2025-11-15 11:58 -0500 (Sat, 15 Nov 2025).

HostnameOSArch (*)R versionInstalled pkgs
nebbiolo2Linux (Ubuntu 24.04.3 LTS)x86_644.5.1 Patched (2025-08-23 r88802) -- "Great Square Root" 4903
taishanLinux (openEuler 24.03 LTS)aarch644.5.0 (2025-04-11) -- "How About a Twenty-Six" 4668
Click on any hostname to see more info about the system (e.g. compilers)      (*) as reported by 'uname -p', except on Windows and Mac OS X

Package 273/2361HostnameOS / ArchINSTALLBUILDCHECKBUILD BIN
CAGEr 2.16.0  (landing page)
Charles Plessy
Snapshot Date: 2025-11-14 13:45 -0500 (Fri, 14 Nov 2025)
git_url: https://git.bioconductor.org/packages/CAGEr
git_branch: RELEASE_3_22
git_last_commit: b717389
git_last_commit_date: 2025-10-29 10:13:45 -0500 (Wed, 29 Oct 2025)
nebbiolo2Linux (Ubuntu 24.04.3 LTS) / x86_64  OK    OK    OK  UNNEEDED, same version is already published
taishanLinux (openEuler 24.03 LTS) / aarch64  OK    OK    OK  


CHECK results for CAGEr on taishan

To the developers/maintainers of the CAGEr package:
- Allow up to 24 hours (and sometimes 48 hours) for your latest push to git@git.bioconductor.org:packages/CAGEr.git to reflect on this report. See Troubleshooting Build Report for more information.
- Use the following Renviron settings to reproduce errors and warnings.
- If 'R CMD check' started to fail recently on the Linux builder(s) over a missing dependency, add the missing dependency to 'Suggests:' in your DESCRIPTION file. See Renviron.bioc for more information.
- See Martin Grigorov's blog post for how to debug Linux ARM64 related issues on a x86_64 host.

raw results


Summary

Package: CAGEr
Version: 2.16.0
Command: /home/biocbuild/R/R/bin/R CMD check --install=check:CAGEr.install-out.txt --library=/home/biocbuild/R/R/site-library --no-vignettes --timings CAGEr_2.16.0.tar.gz
StartedAt: 2025-11-14 07:31:56 -0000 (Fri, 14 Nov 2025)
EndedAt: 2025-11-14 07:45:48 -0000 (Fri, 14 Nov 2025)
EllapsedTime: 831.7 seconds
RetCode: 0
Status:   OK  
CheckDir: CAGEr.Rcheck
Warnings: 0

Command output

##############################################################################
##############################################################################
###
### Running command:
###
###   /home/biocbuild/R/R/bin/R CMD check --install=check:CAGEr.install-out.txt --library=/home/biocbuild/R/R/site-library --no-vignettes --timings CAGEr_2.16.0.tar.gz
###
##############################################################################
##############################################################################


* using log directory ‘/home/biocbuild/bbs-3.22-bioc/meat/CAGEr.Rcheck’
* using R version 4.5.0 (2025-04-11)
* using platform: aarch64-unknown-linux-gnu
* R was compiled by
    aarch64-unknown-linux-gnu-gcc (GCC) 14.2.0
    GNU Fortran (GCC) 14.2.0
* running under: openEuler 24.03 (LTS)
* using session charset: UTF-8
* using option ‘--no-vignettes’
* checking for file ‘CAGEr/DESCRIPTION’ ... OK
* this is package ‘CAGEr’ version ‘2.16.0’
* package encoding: UTF-8
* checking package namespace information ... OK
* checking package dependencies ... INFO
Imports includes 30 non-default packages.
Importing from so many packages makes the package vulnerable to any of
them becoming unavailable.  Move as many as possible to Suggests and
use conditionally.
* checking if this is a source package ... OK
* checking if there is a namespace ... OK
* checking for hidden files and directories ... OK
* checking for portable file names ... OK
* checking for sufficient/correct file permissions ... OK
* checking whether package ‘CAGEr’ can be installed ... OK
* checking installed package size ... OK
* checking package directory ... OK
* checking ‘build’ directory ... OK
* checking DESCRIPTION meta-information ... OK
* checking top-level files ... OK
* checking for left-over files ... OK
* checking index information ... OK
* checking package subdirectories ... OK
* checking code files for non-ASCII characters ... OK
* checking R files for syntax errors ... OK
* checking whether the package can be loaded ... OK
* checking whether the package can be loaded with stated dependencies ... OK
* checking whether the package can be unloaded cleanly ... OK
* checking whether the namespace can be loaded with stated dependencies ... OK
* checking whether the namespace can be unloaded cleanly ... OK
* checking loading without being on the library search path ... OK
* checking dependencies in R code ... OK
* checking S3 generic/method consistency ... OK
* checking replacement functions ... OK
* checking foreign function calls ... OK
* checking R code for possible problems ... OK
* checking Rd files ... OK
* checking Rd metadata ... OK
* checking Rd cross-references ... OK
* checking for missing documentation entries ... OK
* checking for code/documentation mismatches ... OK
* checking Rd \usage sections ... OK
* checking Rd contents ... OK
* checking for unstated dependencies in examples ... OK
* checking contents of ‘data’ directory ... OK
* checking data for non-ASCII characters ... OK
* checking LazyData ... OK
* checking data for ASCII and uncompressed saves ... OK
* checking files in ‘vignettes’ ... OK
* checking examples ... OK
Examples with CPU (user + system) or elapsed time > 5s
                             user system elapsed
paraclu                    71.695  0.390  72.328
exportToTrack              59.141  0.195  59.530
scoreShift                 34.023  0.287  34.397
aggregateTagClusters       31.442  0.032  31.585
annotateCTSS               19.912  0.075  20.056
quantilePositions          19.724  0.088  19.860
distclu                    16.148  0.136  16.335
plotExpressionProfiles     13.118  0.111  13.270
getExpressionProfiles       7.886  0.071   7.989
CustomConsensusClusters     7.436  0.008   7.468
cumulativeCTSSdistribution  5.830  0.112   5.960
* checking for unstated dependencies in vignettes ... OK
* checking package vignettes ... OK
* checking running R code from vignettes ... SKIPPED
* checking re-building of vignette outputs ... SKIPPED
* checking PDF version of manual ... OK
* DONE

Status: OK


Installation output

CAGEr.Rcheck/00install.out

##############################################################################
##############################################################################
###
### Running command:
###
###   /home/biocbuild/R/R/bin/R CMD INSTALL CAGEr
###
##############################################################################
##############################################################################


* installing to library ‘/home/biocbuild/R/R-4.5.0/site-library’
* installing *source* package ‘CAGEr’ ...
** this is package ‘CAGEr’ version ‘2.16.0’
** using staged installation
** R
** data
*** moving datasets to lazyload DB
** inst
** byte-compile and prepare package for lazy loading
** help
*** installing help indices
** building package indices
** installing vignettes
** testing if installed package can be loaded from temporary location
** testing if installed package can be loaded from final location
** testing if installed package keeps a record of temporary installation path
* DONE (CAGEr)

Tests output


Example timings

CAGEr.Rcheck/CAGEr-Ex.timings

nameusersystemelapsed
CAGEexp-class3.5050.0913.639
CAGEr_Multicore3.2590.0003.267
CTSS-class0.3860.0000.388
CTSScoordinates0.1210.0040.126
CTSSnormalizedTpm1.0740.0121.090
CTSStagCount0.9540.1161.074
CTSStoGenes0.5290.0680.600
CustomConsensusClusters7.4360.0087.468
GeneExpDESeq20.7110.0080.721
GeneExpSE0.0060.0000.006
QuantileWidthFunctions0.1940.0000.195
TSSlogo4.3050.0394.379
aggregateTagClusters31.442 0.03231.585
annotateCTSS19.912 0.07520.056
byCtss0.0160.0040.021
consensusClusters0.2310.0040.235
consensusClustersDESeq23.2870.0003.298
consensusClustersTpm0.0090.0000.009
cumulativeCTSSdistribution5.8300.1125.960
distclu16.148 0.13616.335
dot-ctss_summary_for_clusters1.3420.0041.352
exampleCAGEexp000
exportToTrack59.141 0.19559.530
expressionClasses3.0480.0163.074
filteredCTSSidx0.0140.0000.014
flagLowExpCTSS0.0500.0000.051
genomeName0.0000.0000.001
getCTSS1.3730.0361.413
getExpressionProfiles7.8860.0717.989
getShiftingPromoters3.2240.0003.235
hanabi0.3400.0000.341
hanabiPlot0.4030.0200.424
import.CAGEscanMolecule000
import.CTSS0.1160.0000.116
import.bam000
import.bedCTSS000
import.bedScore0.0010.0000.000
import.bedmolecule000
import.bigwig0.4570.0040.465
importPublicData000
inputFiles0.0020.0000.001
inputFilesType0.0010.0000.001
librarySizes0.0010.0000.001
mapStats0.110.000.11
mergeCAGEsets2.9960.0203.028
mergeSamples0.6420.0000.645
moleculesGR2CTSS0.1840.0000.184
normalizeTagCount0.6900.0000.689
paraclu71.695 0.39072.328
parseCAGEscanBlocksToGrangeTSS0.0300.0000.031
plotAnnot4.9480.0324.995
plotCorrelation0.3880.0040.392
plotExpressionProfiles13.118 0.11113.270
plotInterquantileWidth3.6310.0643.706
plotReverseCumulatives4.0480.0044.056
quantilePositions19.724 0.08819.860
quickEnhancers000
ranges2annot0.5370.0000.538
ranges2genes0.0970.0040.102
ranges2names0.0840.0000.084
resetCAGEexp0.4860.0000.487
rowSums.RleDataFrame0.0310.0000.032
rowsum.RleDataFrame0.0370.0000.037
sampleLabels0.0050.0000.006
scoreShift34.023 0.28734.397
seqNameTotalsSE0.0050.0000.006
setColors0.4450.0200.465
strandInvaders0.8770.0400.916
summariseChrExpr0.5910.0160.609
tagClusters0.5770.0120.590