Back to Multiple platform build/check report for BioC 3.22:   simplified   long
AB[C]DEFGHIJKLMNOPQRSTUVWXYZ

This page was generated on 2025-10-25 12:03 -0400 (Sat, 25 Oct 2025).

HostnameOSArch (*)R versionInstalled pkgs
nebbiolo2Linux (Ubuntu 24.04.3 LTS)x86_644.5.1 Patched (2025-08-23 r88802) -- "Great Square Root" 4901
lconwaymacOS 12.7.6 Montereyx86_644.5.1 Patched (2025-09-10 r88807) -- "Great Square Root" 4691
kjohnson3macOS 13.7.7 Venturaarm644.5.1 Patched (2025-09-10 r88807) -- "Great Square Root" 4637
taishanLinux (openEuler 24.03 LTS)aarch644.5.0 (2025-04-11) -- "How About a Twenty-Six" 4658
Click on any hostname to see more info about the system (e.g. compilers)      (*) as reported by 'uname -p', except on Windows and Mac OS X

Package 273/2361HostnameOS / ArchINSTALLBUILDCHECKBUILD BIN
CAGEr 2.15.2  (landing page)
Charles Plessy
Snapshot Date: 2025-10-24 13:45 -0400 (Fri, 24 Oct 2025)
git_url: https://git.bioconductor.org/packages/CAGEr
git_branch: devel
git_last_commit: 679bef9
git_last_commit_date: 2025-10-14 05:35:27 -0400 (Tue, 14 Oct 2025)
nebbiolo2Linux (Ubuntu 24.04.3 LTS) / x86_64  OK    OK    OK  UNNEEDED, same version is already published
lconwaymacOS 12.7.6 Monterey / x86_64  OK    OK    OK    OK  UNNEEDED, same version is already published
kjohnson3macOS 13.7.7 Ventura / arm64  OK    OK    OK    OK  UNNEEDED, same version is already published
taishanLinux (openEuler 24.03 LTS) / aarch64  OK    NA    NA  


CHECK results for CAGEr on nebbiolo2

To the developers/maintainers of the CAGEr package:
- Allow up to 24 hours (and sometimes 48 hours) for your latest push to git@git.bioconductor.org:packages/CAGEr.git to reflect on this report. See Troubleshooting Build Report for more information.
- Use the following Renviron settings to reproduce errors and warnings.
- If 'R CMD check' started to fail recently on the Linux builder(s) over a missing dependency, add the missing dependency to 'Suggests:' in your DESCRIPTION file. See Renviron.bioc for more information.

raw results


Summary

Package: CAGEr
Version: 2.15.2
Command: /home/biocbuild/bbs-3.22-bioc/R/bin/R CMD check --install=check:CAGEr.install-out.txt --library=/home/biocbuild/bbs-3.22-bioc/R/site-library --timings CAGEr_2.15.2.tar.gz
StartedAt: 2025-10-24 21:50:48 -0400 (Fri, 24 Oct 2025)
EndedAt: 2025-10-24 22:03:27 -0400 (Fri, 24 Oct 2025)
EllapsedTime: 758.8 seconds
RetCode: 0
Status:   OK  
CheckDir: CAGEr.Rcheck
Warnings: 0

Command output

##############################################################################
##############################################################################
###
### Running command:
###
###   /home/biocbuild/bbs-3.22-bioc/R/bin/R CMD check --install=check:CAGEr.install-out.txt --library=/home/biocbuild/bbs-3.22-bioc/R/site-library --timings CAGEr_2.15.2.tar.gz
###
##############################################################################
##############################################################################


* using log directory ‘/home/biocbuild/bbs-3.22-bioc/meat/CAGEr.Rcheck’
* using R version 4.5.1 Patched (2025-08-23 r88802)
* using platform: x86_64-pc-linux-gnu
* R was compiled by
    gcc (Ubuntu 13.3.0-6ubuntu2~24.04) 13.3.0
    GNU Fortran (Ubuntu 13.3.0-6ubuntu2~24.04) 13.3.0
* running under: Ubuntu 24.04.3 LTS
* using session charset: UTF-8
* checking for file ‘CAGEr/DESCRIPTION’ ... OK
* this is package ‘CAGEr’ version ‘2.15.2’
* package encoding: UTF-8
* checking package namespace information ... OK
* checking package dependencies ... INFO
Imports includes 30 non-default packages.
Importing from so many packages makes the package vulnerable to any of
them becoming unavailable.  Move as many as possible to Suggests and
use conditionally.
* checking if this is a source package ... OK
* checking if there is a namespace ... OK
* checking for hidden files and directories ... OK
* checking for portable file names ... OK
* checking for sufficient/correct file permissions ... OK
* checking whether package ‘CAGEr’ can be installed ... OK
* checking installed package size ... OK
* checking package directory ... OK
* checking ‘build’ directory ... OK
* checking DESCRIPTION meta-information ... OK
* checking top-level files ... OK
* checking for left-over files ... OK
* checking index information ... OK
* checking package subdirectories ... OK
* checking code files for non-ASCII characters ... OK
* checking R files for syntax errors ... OK
* checking whether the package can be loaded ... OK
* checking whether the package can be loaded with stated dependencies ... OK
* checking whether the package can be unloaded cleanly ... OK
* checking whether the namespace can be loaded with stated dependencies ... OK
* checking whether the namespace can be unloaded cleanly ... OK
* checking loading without being on the library search path ... OK
* checking dependencies in R code ... OK
* checking S3 generic/method consistency ... OK
* checking replacement functions ... OK
* checking foreign function calls ... OK
* checking R code for possible problems ... OK
* checking Rd files ... OK
* checking Rd metadata ... OK
* checking Rd cross-references ... OK
* checking for missing documentation entries ... OK
* checking for code/documentation mismatches ... OK
* checking Rd \usage sections ... OK
* checking Rd contents ... OK
* checking for unstated dependencies in examples ... OK
* checking contents of ‘data’ directory ... OK
* checking data for non-ASCII characters ... OK
* checking LazyData ... OK
* checking data for ASCII and uncompressed saves ... OK
* checking files in ‘vignettes’ ... OK
* checking examples ... OK
Examples with CPU (user + system) or elapsed time > 5s
                         user system elapsed
paraclu                43.057  0.162  43.218
exportToTrack          36.393  0.211  36.605
scoreShift             22.536  0.208  22.744
aggregateTagClusters   20.642  0.115  20.757
quantilePositions      12.702  0.023  12.726
annotateCTSS           12.085  0.139  12.223
distclu                 9.403  0.022   9.425
plotExpressionProfiles  8.309  0.046   8.355
getExpressionProfiles   5.013  0.015   5.028
* checking for unstated dependencies in vignettes ... OK
* checking package vignettes ... OK
* checking re-building of vignette outputs ... OK
* checking PDF version of manual ... OK
* DONE

Status: OK


Installation output

CAGEr.Rcheck/00install.out

##############################################################################
##############################################################################
###
### Running command:
###
###   /home/biocbuild/bbs-3.22-bioc/R/bin/R CMD INSTALL CAGEr
###
##############################################################################
##############################################################################


* installing to library ‘/home/biocbuild/bbs-3.22-bioc/R/site-library’
* installing *source* package ‘CAGEr’ ...
** this is package ‘CAGEr’ version ‘2.15.2’
** using staged installation
** R
** data
*** moving datasets to lazyload DB
** inst
** byte-compile and prepare package for lazy loading
** help
*** installing help indices
** building package indices
** installing vignettes
** testing if installed package can be loaded from temporary location
** testing if installed package can be loaded from final location
** testing if installed package keeps a record of temporary installation path
* DONE (CAGEr)

Tests output


Example timings

CAGEr.Rcheck/CAGEr-Ex.timings

nameusersystemelapsed
CAGEexp-class2.9800.1753.157
CAGEr_Multicore3.4580.0633.522
CTSS-class0.2420.0010.244
CTSScoordinates0.0800.0000.079
CTSSnormalizedTpm0.6980.0460.743
CTSStagCount0.6350.1010.737
CTSStoGenes0.3620.0620.425
CustomConsensusClusters4.6260.1014.728
GeneExpDESeq20.4630.0230.487
GeneExpSE0.0040.0000.004
QuantileWidthFunctions0.1340.0080.141
TSSlogo2.5780.0392.619
aggregateTagClusters20.642 0.11520.757
annotateCTSS12.085 0.13912.223
byCtss0.0130.0020.015
consensusClusters0.1670.0020.169
consensusClustersDESeq21.9620.0021.963
consensusClustersTpm0.0050.0000.005
cumulativeCTSSdistribution3.7330.0533.786
distclu9.4030.0229.425
dot-ctss_summary_for_clusters0.8250.0010.826
exampleCAGEexp000
exportToTrack36.393 0.21136.605
expressionClasses1.8800.0021.882
filteredCTSSidx0.0110.0000.011
flagLowExpCTSS0.0380.0000.038
genomeName000
getCTSS0.9070.0120.919
getExpressionProfiles5.0130.0155.028
getShiftingPromoters1.8580.0011.860
hanabi0.2110.0030.215
hanabiPlot0.2690.0190.288
import.CAGEscanMolecule0.0010.0000.000
import.CTSS0.0760.0010.077
import.bam0.0000.0000.001
import.bedCTSS000
import.bedScore0.0000.0010.000
import.bedmolecule000
import.bigwig0.3180.0030.322
importPublicData0.0000.0000.001
inputFiles0.0010.0000.001
inputFilesType0.0010.0000.001
librarySizes0.0010.0000.001
mapStats0.0470.0010.047
mergeCAGEsets1.9220.0031.925
mergeSamples0.4270.0000.427
moleculesGR2CTSS0.1220.0020.124
normalizeTagCount0.5450.0010.523
paraclu43.057 0.16243.218
parseCAGEscanBlocksToGrangeTSS0.0200.0010.020
plotAnnot3.1980.0763.274
plotCorrelation0.2410.0000.240
plotExpressionProfiles8.3090.0468.355
plotInterquantileWidth3.7610.1353.895
plotReverseCumulatives2.6670.0012.606
quantilePositions12.702 0.02312.726
quickEnhancers000
ranges2annot0.3580.0010.359
ranges2genes0.0810.0000.081
ranges2names0.0620.0000.062
resetCAGEexp0.3300.0070.337
rowSums.RleDataFrame0.0200.0010.021
rowsum.RleDataFrame0.0260.0000.026
sampleLabels0.0040.0000.004
scoreShift22.536 0.20822.744
seqNameTotalsSE0.0040.0000.004
setColors0.3400.0010.341
strandInvaders0.6380.0230.648
summariseChrExpr0.4330.0000.433
tagClusters0.4270.0000.427