| Back to Multiple platform build/check report for BioC 3.22: simplified long |
|
This page was generated on 2025-10-21 12:08 -0400 (Tue, 21 Oct 2025).
| Hostname | OS | Arch (*) | R version | Installed pkgs |
|---|---|---|---|---|
| nebbiolo2 | Linux (Ubuntu 24.04.3 LTS) | x86_64 | 4.5.1 Patched (2025-08-23 r88802) -- "Great Square Root" | 4887 |
| lconway | macOS 12.7.6 Monterey | x86_64 | 4.5.1 Patched (2025-09-10 r88807) -- "Great Square Root" | 4677 |
| kjohnson3 | macOS 13.7.7 Ventura | arm64 | 4.5.1 Patched (2025-09-10 r88807) -- "Great Square Root" | 4622 |
| taishan | Linux (openEuler 24.03 LTS) | aarch64 | 4.5.0 (2025-04-11) -- "How About a Twenty-Six" | 4642 |
| Click on any hostname to see more info about the system (e.g. compilers) (*) as reported by 'uname -p', except on Windows and Mac OS X | ||||
| Package 2081/2353 | Hostname | OS / Arch | INSTALL | BUILD | CHECK | BUILD BIN | ||||||||
| specL 1.43.0 (landing page) Christian Panse
| nebbiolo2 | Linux (Ubuntu 24.04.3 LTS) / x86_64 | OK | OK | OK | |||||||||
| lconway | macOS 12.7.6 Monterey / x86_64 | OK | OK | OK | OK | |||||||||
| kjohnson3 | macOS 13.7.7 Ventura / arm64 | OK | OK | OK | OK | |||||||||
| taishan | Linux (openEuler 24.03 LTS) / aarch64 | OK | OK | OK | ||||||||||
|
To the developers/maintainers of the specL package: - Allow up to 24 hours (and sometimes 48 hours) for your latest push to git@git.bioconductor.org:packages/specL.git to reflect on this report. See Troubleshooting Build Report for more information. - Use the following Renviron settings to reproduce errors and warnings. - If 'R CMD check' started to fail recently on the Linux builder(s) over a missing dependency, add the missing dependency to 'Suggests:' in your DESCRIPTION file. See Renviron.bioc for more information. - See Martin Grigorov's blog post for how to debug Linux ARM64 related issues on a x86_64 host. |
| Package: specL |
| Version: 1.43.0 |
| Command: /home/biocbuild/R/R/bin/R CMD check --install=check:specL.install-out.txt --library=/home/biocbuild/R/R/site-library --no-vignettes --timings specL_1.43.0.tar.gz |
| StartedAt: 2025-10-17 13:58:20 -0000 (Fri, 17 Oct 2025) |
| EndedAt: 2025-10-17 13:59:18 -0000 (Fri, 17 Oct 2025) |
| EllapsedTime: 58.1 seconds |
| RetCode: 0 |
| Status: OK |
| CheckDir: specL.Rcheck |
| Warnings: 0 |
##############################################################################
##############################################################################
###
### Running command:
###
### /home/biocbuild/R/R/bin/R CMD check --install=check:specL.install-out.txt --library=/home/biocbuild/R/R/site-library --no-vignettes --timings specL_1.43.0.tar.gz
###
##############################################################################
##############################################################################
* using log directory ‘/home/biocbuild/bbs-3.22-bioc/meat/specL.Rcheck’
* using R version 4.5.0 (2025-04-11)
* using platform: aarch64-unknown-linux-gnu
* R was compiled by
aarch64-unknown-linux-gnu-gcc (GCC) 14.2.0
GNU Fortran (GCC) 14.2.0
* running under: openEuler 24.03 (LTS)
* using session charset: UTF-8
* using option ‘--no-vignettes’
* checking for file ‘specL/DESCRIPTION’ ... OK
* checking extension type ... Package
* this is package ‘specL’ version ‘1.43.0’
* checking package namespace information ... OK
* checking package dependencies ... OK
* checking if this is a source package ... OK
* checking if there is a namespace ... OK
* checking for hidden files and directories ... OK
* checking for portable file names ... OK
* checking for sufficient/correct file permissions ... OK
* checking whether package ‘specL’ can be installed ... OK
* checking installed package size ... OK
* checking package directory ... OK
* checking ‘build’ directory ... OK
* checking DESCRIPTION meta-information ... OK
* checking top-level files ... OK
* checking for left-over files ... OK
* checking index information ... OK
* checking package subdirectories ... OK
* checking code files for non-ASCII characters ... OK
* checking R files for syntax errors ... OK
* checking whether the package can be loaded ... OK
* checking whether the package can be loaded with stated dependencies ... OK
* checking whether the package can be unloaded cleanly ... OK
* checking whether the namespace can be loaded with stated dependencies ... OK
* checking whether the namespace can be unloaded cleanly ... OK
* checking loading without being on the library search path ... OK
* checking whether startup messages can be suppressed ... OK
* checking dependencies in R code ... OK
* checking S3 generic/method consistency ... OK
* checking replacement functions ... OK
* checking foreign function calls ... OK
* checking R code for possible problems ... NOTE
.retentiontimePlotFile : <anonymous>: no visible global function
definition for ‘head’
summary,specLSet : <anonymous>: no visible binding for global variable
‘iRTpeptides’
Undefined global functions or variables:
head iRTpeptides
Consider adding
importFrom("utils", "head")
to your NAMESPACE file.
* checking Rd files ... OK
* checking Rd metadata ... OK
* checking Rd cross-references ... OK
* checking for missing documentation entries ... OK
* checking for code/documentation mismatches ... OK
* checking Rd \usage sections ... OK
* checking Rd contents ... OK
* checking for unstated dependencies in examples ... OK
* checking contents of ‘data’ directory ... OK
* checking data for non-ASCII characters ... OK
* checking LazyData ... OK
* checking data for ASCII and uncompressed saves ... OK
* checking files in ‘vignettes’ ... OK
* checking examples ... OK
* checking for unstated dependencies in ‘tests’ ... OK
* checking tests ...
Running ‘runTests.R’
OK
* checking for unstated dependencies in vignettes ... OK
* checking package vignettes ... OK
* checking running R code from vignettes ... SKIPPED
* checking re-building of vignette outputs ... SKIPPED
* checking PDF version of manual ... OK
* DONE
Status: 1 NOTE
See
‘/home/biocbuild/bbs-3.22-bioc/meat/specL.Rcheck/00check.log’
for details.
specL.Rcheck/00install.out
############################################################################## ############################################################################## ### ### Running command: ### ### /home/biocbuild/R/R/bin/R CMD INSTALL specL ### ############################################################################## ############################################################################## * installing to library ‘/home/biocbuild/R/R-4.5.0/site-library’ * installing *source* package ‘specL’ ... ** this is package ‘specL’ version ‘1.43.0’ ** using staged installation ** R ** data *** moving datasets to lazyload DB ** inst ** byte-compile and prepare package for lazy loading ** help *** installing help indices ** building package indices ** installing vignettes ** testing if installed package can be loaded from temporary location ** testing if installed package can be loaded from final location ** testing if installed package keeps a record of temporary installation path * DONE (specL)
specL.Rcheck/tests/runTests.Rout
R version 4.5.0 (2025-04-11) -- "How About a Twenty-Six"
Copyright (C) 2025 The R Foundation for Statistical Computing
Platform: aarch64-unknown-linux-gnu
R is free software and comes with ABSOLUTELY NO WARRANTY.
You are welcome to redistribute it under certain conditions.
Type 'license()' or 'licence()' for distribution details.
R is a collaborative project with many contributors.
Type 'contributors()' for more information and
'citation()' on how to cite R or R packages in publications.
Type 'demo()' for some demos, 'help()' for on-line help, or
'help.start()' for an HTML browser interface to help.
Type 'q()' to quit R.
> BiocGenerics:::testPackage("specL")
Attaching package: 'specL'
The following objects are masked from 'package:protViz':
plot.psm, plot.psmSet, summary.psmSet
start protein annotation ...
time taken: 0.00049060583114624 minutes
start protein annotation ...
time taken: 0.00026473601659139 minutes
normalizing RT ...
found 7 iRT peptide(s) in s:\p1239\Proteomics\QEXACTIVE_3\ctrachse_20140910_Nuclei_diff_extraction_methods\20140910_01_fetuin_400amol_1.raw
found 7 iRT peptide(s) in s:\p1239\Proteomics\QEXACTIVE_3\ctrachse_20140910_Nuclei_diff_extraction_methods\20140910_07_fetuin_400amol_2.raw
building model ...
generating ion library ...
start generating specLSet object ...
length of findNN idx 137
length of genSwathIonLibSpecL 137
time taken: 0.558281421661377 secs
length of genSwathIonLibSpecL after fragmentIonRange filtering 137
normalizing RT ...
found 7 iRT peptide(s) in s:\p1239\Proteomics\QEXACTIVE_3\ctrachse_20140910_Nuclei_diff_extraction_methods\20140910_01_fetuin_400amol_1.raw
found 7 iRT peptide(s) in s:\p1239\Proteomics\QEXACTIVE_3\ctrachse_20140910_Nuclei_diff_extraction_methods\20140910_07_fetuin_400amol_2.raw
building model ...
generating ion library ...
start generating specLSet object ...
length of findNN idx 137
length of genSwathIonLibSpecL 137
time taken: 0.358995676040649 secs
length of genSwathIonLibSpecL after fragmentIonRange filtering 137
normalizing RT ...
found 7 iRT peptide(s) in s:\p1239\Proteomics\QEXACTIVE_3\ctrachse_20140910_Nuclei_diff_extraction_methods\20140910_01_fetuin_400amol_1.raw
found 7 iRT peptide(s) in s:\p1239\Proteomics\QEXACTIVE_3\ctrachse_20140910_Nuclei_diff_extraction_methods\20140910_07_fetuin_400amol_2.raw
building model ...
generating ion library ...
start generating specLSet object ...
length of findNN idx 137
length of genSwathIonLibSpecL 137
time taken: 0.267542362213135 secs
length of genSwathIonLibSpecL after fragmentIonRange filtering 137
normalizing RT ...
no iRT peptides found for building the model.
=> no iRT regression applied, using orgiginal rt instead!
generating ion library ...
start generating specLSet object ...
length of findNN idx 137
length of genSwathIonLibSpecL 137
time taken: 0.375296592712402 secs
length of genSwathIonLibSpecL after fragmentIonRange filtering 137
normalizing RT ...
found 7 iRT peptide(s) in s:\p1239\Proteomics\QEXACTIVE_3\ctrachse_20140910_Nuclei_diff_extraction_methods\20140910_01_fetuin_400amol_1.raw
found 7 iRT peptide(s) in s:\p1239\Proteomics\QEXACTIVE_3\ctrachse_20140910_Nuclei_diff_extraction_methods\20140910_07_fetuin_400amol_2.raw
building model ...
model with only one file.
generating ion library ...
start generating specLSet object ...
length of findNN idx 1
length of genSwathIonLibSpecL 1
time taken: 0.0172579288482666 secs
length of genSwathIonLibSpecL after fragmentIonRange filtering 1
normalizing RT ...
found 7 iRT peptide(s) in s:\p1239\Proteomics\QEXACTIVE_3\ctrachse_20140910_Nuclei_diff_extraction_methods\20140910_01_fetuin_400amol_1.raw
found 7 iRT peptide(s) in s:\p1239\Proteomics\QEXACTIVE_3\ctrachse_20140910_Nuclei_diff_extraction_methods\20140910_07_fetuin_400amol_2.raw
building model ...
model with only one file.
generating ion library ...
start generating specLSet object ...
length of findNN idx 1
length of genSwathIonLibSpecL 1
time taken: 0.0224471092224121 secs
length of genSwathIonLibSpecL after fragmentIonRange filtering 1
normalizing RT ...
found 7 iRT peptide(s) in s:\p1239\Proteomics\QEXACTIVE_3\ctrachse_20140910_Nuclei_diff_extraction_methods\20140910_01_fetuin_400amol_1.raw
found 7 iRT peptide(s) in s:\p1239\Proteomics\QEXACTIVE_3\ctrachse_20140910_Nuclei_diff_extraction_methods\20140910_07_fetuin_400amol_2.raw
building model ...
generating ion library ...
start generating specLSet object ...
length of findNN idx 137
length of genSwathIonLibSpecL 137
time taken: 0.500349760055542 secs
length of genSwathIonLibSpecL after fragmentIonRange filtering 137
normalizing RT ...
no iRT peptides found for building the model.
=> no iRT regression applied, using orgiginal rt instead!
generating ion library ...
start generating specLSet object ...
length of findNN idx 137
length of genSwathIonLibSpecL 137
time taken: 0.310304164886475 secs
length of genSwathIonLibSpecL after fragmentIonRange filtering 137
normalizing RT ...
found 7 iRT peptide(s) in s:\p1239\Proteomics\QEXACTIVE_3\ctrachse_20140910_Nuclei_diff_extraction_methods\20140910_01_fetuin_400amol_1.raw
found 7 iRT peptide(s) in s:\p1239\Proteomics\QEXACTIVE_3\ctrachse_20140910_Nuclei_diff_extraction_methods\20140910_07_fetuin_400amol_2.raw
building model ...
model with only one file.
generating ion library ...
start generating specLSet object ...
length of findNN idx 1
length of genSwathIonLibSpecL 1
time taken: 0.00784897804260254 secs
length of genSwathIonLibSpecL after fragmentIonRange filtering 1
normalizing RT ...
found 7 iRT peptide(s) in s:\p1239\Proteomics\QEXACTIVE_3\ctrachse_20140910_Nuclei_diff_extraction_methods\20140910_01_fetuin_400amol_1.raw
found 7 iRT peptide(s) in s:\p1239\Proteomics\QEXACTIVE_3\ctrachse_20140910_Nuclei_diff_extraction_methods\20140910_07_fetuin_400amol_2.raw
building model ...
model with only one file.
generating ion library ...
start generating specLSet object ...
length of findNN idx 1
length of genSwathIonLibSpecL 1
time taken: 0.00711584091186523 secs
length of genSwathIonLibSpecL after fragmentIonRange filtering 1
normalizing RT ...
found 7 iRT peptide(s) in s:\p1239\Proteomics\QEXACTIVE_3\ctrachse_20140910_Nuclei_diff_extraction_methods\20140910_01_fetuin_400amol_1.raw
found 7 iRT peptide(s) in s:\p1239\Proteomics\QEXACTIVE_3\ctrachse_20140910_Nuclei_diff_extraction_methods\20140910_07_fetuin_400amol_2.raw
building model ...
generating ion library ...
start generating specLSet object ...
length of findNN idx 69
length of genSwathIonLibSpecL 69
time taken: 0.154192686080933 secs
length of genSwathIonLibSpecL after fragmentIonRange filtering 69
normalizing RT ...
found 7 iRT peptide(s) in s:\p1239\Proteomics\QEXACTIVE_3\ctrachse_20140910_Nuclei_diff_extraction_methods\20140910_01_fetuin_400amol_1.raw
found 7 iRT peptide(s) in s:\p1239\Proteomics\QEXACTIVE_3\ctrachse_20140910_Nuclei_diff_extraction_methods\20140910_07_fetuin_400amol_2.raw
building model ...
generating ion library ...
start generating specLSet object ...
length of findNN idx 68
length of genSwathIonLibSpecL 68
time taken: 0.162869453430176 secs
length of genSwathIonLibSpecL after fragmentIonRange filtering 68
normalizing RT ...
found 7 iRT peptide(s) in s:\p1239\Proteomics\QEXACTIVE_3\ctrachse_20140910_Nuclei_diff_extraction_methods\20140910_01_fetuin_400amol_1.raw
found 7 iRT peptide(s) in s:\p1239\Proteomics\QEXACTIVE_3\ctrachse_20140910_Nuclei_diff_extraction_methods\20140910_07_fetuin_400amol_2.raw
building model ...
generating ion library ...
start generating specLSet object ...
length of findNN idx 137
length of genSwathIonLibSpecL 137
time taken: 0.372242212295532 secs
length of genSwathIonLibSpecL after fragmentIonRange filtering 137
normalizing RT ...
found 7 iRT peptide(s) in s:\p1239\Proteomics\QEXACTIVE_3\ctrachse_20140910_Nuclei_diff_extraction_methods\20140910_01_fetuin_400amol_1.raw
found 7 iRT peptide(s) in s:\p1239\Proteomics\QEXACTIVE_3\ctrachse_20140910_Nuclei_diff_extraction_methods\20140910_07_fetuin_400amol_2.raw
building model ...
generating ion library ...
start generating specLSet object ...
length of findNN idx 69
length of genSwathIonLibSpecL 69
time taken: 0.280915975570679 secs
length of genSwathIonLibSpecL after fragmentIonRange filtering 69
normalizing RT ...
found 7 iRT peptide(s) in s:\p1239\Proteomics\QEXACTIVE_3\ctrachse_20140910_Nuclei_diff_extraction_methods\20140910_01_fetuin_400amol_1.raw
found 7 iRT peptide(s) in s:\p1239\Proteomics\QEXACTIVE_3\ctrachse_20140910_Nuclei_diff_extraction_methods\20140910_07_fetuin_400amol_2.raw
building model ...
generating ion library ...
start generating specLSet object ...
length of findNN idx 68
length of genSwathIonLibSpecL 68
time taken: 0.239042282104492 secs
length of genSwathIonLibSpecL after fragmentIonRange filtering 68
normalizing RT ...
found 7 iRT peptide(s) in s:\p1239\Proteomics\QEXACTIVE_3\ctrachse_20140910_Nuclei_diff_extraction_methods\20140910_01_fetuin_400amol_1.raw
found 7 iRT peptide(s) in s:\p1239\Proteomics\QEXACTIVE_3\ctrachse_20140910_Nuclei_diff_extraction_methods\20140910_07_fetuin_400amol_2.raw
building model ...
generating ion library ...
start generating specLSet object ...
length of findNN idx 137
length of genSwathIonLibSpecL 137
time taken: 0.345591306686401 secs
length of genSwathIonLibSpecL after fragmentIonRange filtering 137
fetched 137 rows.
assigning 28 modifications ...
fetched 184 rows.
assigning 37 modifications ...
normalizing RT ...
found 7 iRT peptide(s) in s:\p1239\Proteomics\QEXACTIVE_3\ctrachse_20140910_Nuclei_diff_extraction_methods\20140910_01_fetuin_400amol_1.raw
found 7 iRT peptide(s) in s:\p1239\Proteomics\QEXACTIVE_3\ctrachse_20140910_Nuclei_diff_extraction_methods\20140910_07_fetuin_400amol_2.raw
building model ...
generating ion library ...
start generating specLSet object ...
length of findNN idx 137
length of genSwathIonLibSpecL 137
time taken: 0.415165901184082 secs
length of genSwathIonLibSpecL after fragmentIonRange filtering 137
fetched 137 rows.
assigning 28 modifications ...
fetched 184 rows.
assigning 37 modifications ...
normalizing RT ...
found 7 iRT peptide(s) in s:\p1239\Proteomics\QEXACTIVE_3\ctrachse_20140910_Nuclei_diff_extraction_methods\20140910_01_fetuin_400amol_1.raw
found 7 iRT peptide(s) in s:\p1239\Proteomics\QEXACTIVE_3\ctrachse_20140910_Nuclei_diff_extraction_methods\20140910_07_fetuin_400amol_2.raw
building model ...
generating ion library ...
start generating specLSet object ...
length of findNN idx 137
length of genSwathIonLibSpecL 137
time taken: 0.464483022689819 secs
length of genSwathIonLibSpecL after fragmentIonRange filtering 137
RUNIT TEST PROTOCOL -- Fri Oct 17 13:59:12 2025
***********************************************
Number of test functions: 9
Number of errors: 0
Number of failures: 0
1 Test Suite :
specL RUnit Tests - 9 test functions, 0 errors, 0 failures
Number of test functions: 9
Number of errors: 0
Number of failures: 0
There were 13 warnings (use warnings() to see them)
>
>
> proc.time()
user system elapsed
7.047 0.262 8.528
specL.Rcheck/specL-Ex.timings
| name | user | system | elapsed | |
| annotate.protein_id | 0.025 | 0.004 | 0.030 | |
| cdsw | 0.018 | 0.000 | 0.017 | |
| genSwathIonLib | 0.503 | 0.000 | 0.504 | |
| iRTpeptides | 0.005 | 0.000 | 0.005 | |
| peptideStd | 0.009 | 0.000 | 0.009 | |
| read.bibliospec | 0.001 | 0.000 | 0.000 | |
| specL-class | 0.001 | 0.000 | 0.001 | |
| specLSet-class | 0.001 | 0.000 | 0.001 | |