| Back to Multiple platform build/check report for BioC 3.22: simplified long |
|
This page was generated on 2025-10-21 12:07 -0400 (Tue, 21 Oct 2025).
| Hostname | OS | Arch (*) | R version | Installed pkgs |
|---|---|---|---|---|
| nebbiolo2 | Linux (Ubuntu 24.04.3 LTS) | x86_64 | 4.5.1 Patched (2025-08-23 r88802) -- "Great Square Root" | 4887 |
| lconway | macOS 12.7.6 Monterey | x86_64 | 4.5.1 Patched (2025-09-10 r88807) -- "Great Square Root" | 4677 |
| kjohnson3 | macOS 13.7.7 Ventura | arm64 | 4.5.1 Patched (2025-09-10 r88807) -- "Great Square Root" | 4622 |
| taishan | Linux (openEuler 24.03 LTS) | aarch64 | 4.5.0 (2025-04-11) -- "How About a Twenty-Six" | 4642 |
| Click on any hostname to see more info about the system (e.g. compilers) (*) as reported by 'uname -p', except on Windows and Mac OS X | ||||
| Package 1159/2353 | Hostname | OS / Arch | INSTALL | BUILD | CHECK | BUILD BIN | ||||||||
| LymphoSeq 1.37.0 (landing page) David Coffey
| nebbiolo2 | Linux (Ubuntu 24.04.3 LTS) / x86_64 | OK | OK | OK | |||||||||
| lconway | macOS 12.7.6 Monterey / x86_64 | OK | OK | OK | OK | |||||||||
| kjohnson3 | macOS 13.7.7 Ventura / arm64 | OK | OK | OK | OK | |||||||||
| taishan | Linux (openEuler 24.03 LTS) / aarch64 | OK | OK | OK | ||||||||||
|
To the developers/maintainers of the LymphoSeq package: - Allow up to 24 hours (and sometimes 48 hours) for your latest push to git@git.bioconductor.org:packages/LymphoSeq.git to reflect on this report. See Troubleshooting Build Report for more information. - Use the following Renviron settings to reproduce errors and warnings. - If 'R CMD check' started to fail recently on the Linux builder(s) over a missing dependency, add the missing dependency to 'Suggests:' in your DESCRIPTION file. See Renviron.bioc for more information. - See Martin Grigorov's blog post for how to debug Linux ARM64 related issues on a x86_64 host. |
| Package: LymphoSeq |
| Version: 1.37.0 |
| Command: /home/biocbuild/R/R/bin/R CMD check --install=check:LymphoSeq.install-out.txt --library=/home/biocbuild/R/R/site-library --no-vignettes --timings LymphoSeq_1.37.0.tar.gz |
| StartedAt: 2025-10-17 10:37:16 -0000 (Fri, 17 Oct 2025) |
| EndedAt: 2025-10-17 10:41:28 -0000 (Fri, 17 Oct 2025) |
| EllapsedTime: 252.3 seconds |
| RetCode: 0 |
| Status: OK |
| CheckDir: LymphoSeq.Rcheck |
| Warnings: 0 |
##############################################################################
##############################################################################
###
### Running command:
###
### /home/biocbuild/R/R/bin/R CMD check --install=check:LymphoSeq.install-out.txt --library=/home/biocbuild/R/R/site-library --no-vignettes --timings LymphoSeq_1.37.0.tar.gz
###
##############################################################################
##############################################################################
* using log directory ‘/home/biocbuild/bbs-3.22-bioc/meat/LymphoSeq.Rcheck’
* using R version 4.5.0 (2025-04-11)
* using platform: aarch64-unknown-linux-gnu
* R was compiled by
aarch64-unknown-linux-gnu-gcc (GCC) 14.2.0
GNU Fortran (GCC) 14.2.0
* running under: openEuler 24.03 (LTS)
* using session charset: UTF-8
* using option ‘--no-vignettes’
* checking for file ‘LymphoSeq/DESCRIPTION’ ... OK
* this is package ‘LymphoSeq’ version ‘1.37.0’
* checking package namespace information ... OK
* checking package dependencies ... OK
* checking if this is a source package ... OK
* checking if there is a namespace ... OK
* checking for hidden files and directories ... OK
* checking for portable file names ... OK
* checking for sufficient/correct file permissions ... OK
* checking whether package ‘LymphoSeq’ can be installed ... OK
* checking installed package size ... INFO
installed size is 5.7Mb
sub-directories of 1Mb or more:
extdata 5.5Mb
* checking package directory ... OK
* checking ‘build’ directory ... OK
* checking DESCRIPTION meta-information ... OK
* checking top-level files ... OK
* checking for left-over files ... OK
* checking index information ... OK
* checking package subdirectories ... OK
* checking code files for non-ASCII characters ... OK
* checking R files for syntax errors ... OK
* checking whether the package can be loaded ... OK
* checking whether the package can be loaded with stated dependencies ... OK
* checking whether the package can be unloaded cleanly ... OK
* checking whether the namespace can be loaded with stated dependencies ... OK
* checking whether the namespace can be unloaded cleanly ... OK
* checking loading without being on the library search path ... OK
* checking dependencies in R code ... OK
* checking S3 generic/method consistency ... OK
* checking replacement functions ... OK
* checking foreign function calls ... OK
* checking R code for possible problems ... OK
* checking Rd files ... OK
* checking Rd metadata ... OK
* checking Rd cross-references ... OK
* checking for missing documentation entries ... OK
* checking for code/documentation mismatches ... OK
* checking Rd \usage sections ... OK
* checking Rd contents ... OK
* checking for unstated dependencies in examples ... OK
* checking files in ‘vignettes’ ... OK
* checking examples ... OK
Examples with CPU (user + system) or elapsed time > 5s
user system elapsed
cloneTrack 33.085 1.235 34.508
productiveSeq 24.497 0.415 24.984
phyloTree 6.759 0.087 6.870
* checking for unstated dependencies in vignettes ... OK
* checking package vignettes ... OK
* checking running R code from vignettes ... SKIPPED
* checking re-building of vignette outputs ... SKIPPED
* checking PDF version of manual ... OK
* DONE
Status: OK
LymphoSeq.Rcheck/00install.out
############################################################################## ############################################################################## ### ### Running command: ### ### /home/biocbuild/R/R/bin/R CMD INSTALL LymphoSeq ### ############################################################################## ############################################################################## * installing to library ‘/home/biocbuild/R/R-4.5.0/site-library’ * installing *source* package ‘LymphoSeq’ ... ** this is package ‘LymphoSeq’ version ‘1.37.0’ ** using staged installation ** R ** inst ** byte-compile and prepare package for lazy loading ** help *** installing help indices ** building package indices ** installing vignettes ** testing if installed package can be loaded from temporary location ** testing if installed package can be loaded from final location ** testing if installed package keeps a record of temporary installation path * DONE (LymphoSeq)
LymphoSeq.Rcheck/LymphoSeq-Ex.timings
| name | user | system | elapsed | |
| alignSeq | 0.845 | 0.012 | 0.898 | |
| bhattacharyyaCoefficient | 0.327 | 0.016 | 0.385 | |
| bhattacharyyaMatrix | 0.576 | 0.016 | 0.594 | |
| chordDiagramVDJ | 1.111 | 0.072 | 1.187 | |
| clonalRelatedness | 1.249 | 0.016 | 0.672 | |
| clonality | 0.065 | 0.004 | 0.069 | |
| cloneTrack | 33.085 | 1.235 | 34.508 | |
| commonSeqs | 0.184 | 0.016 | 0.201 | |
| commonSeqsBar | 1.546 | 0.183 | 1.736 | |
| commonSeqsPlot | 2.780 | 0.104 | 2.894 | |
| commonSeqsVenn | 0.868 | 0.020 | 0.893 | |
| differentialAbundance | 2.925 | 0.099 | 3.041 | |
| exportFasta | 0.240 | 0.039 | 0.283 | |
| geneFreq | 3.598 | 0.163 | 3.778 | |
| lorenzCurve | 1.748 | 0.000 | 1.756 | |
| mergeFiles | 0.072 | 0.012 | 0.084 | |
| pairwisePlot | 1.484 | 0.012 | 1.501 | |
| phyloTree | 6.759 | 0.087 | 6.870 | |
| productive | 0.060 | 0.004 | 0.065 | |
| productiveSeq | 24.497 | 0.415 | 24.984 | |
| readImmunoSeq | 0.042 | 0.016 | 0.058 | |
| removeSeq | 0.066 | 0.004 | 0.070 | |
| searchPublished | 0.191 | 0.012 | 0.204 | |
| searchSeq | 0.462 | 0.016 | 0.479 | |
| seqMatrix | 4.329 | 0.164 | 4.505 | |
| similarityMatrix | 0.189 | 0.004 | 0.195 | |
| similarityScore | 0.170 | 0.004 | 0.175 | |
| topFreq | 1.609 | 0.051 | 1.666 | |
| topSeqs | 0.180 | 0.004 | 0.184 | |
| topSeqsPlot | 0.865 | 0.016 | 0.884 | |
| uniqueSeqs | 0.213 | 0.000 | 0.213 | |