Back to Multiple platform build/check report for BioC 3.22:   simplified   long
ABCDEFGHIJKLMNOPQR[S]TUVWXYZ

This page was generated on 2025-11-17 11:59 -0500 (Mon, 17 Nov 2025).

HostnameOSArch (*)R versionInstalled pkgs
nebbiolo2Linux (Ubuntu 24.04.3 LTS)x86_644.5.1 Patched (2025-08-23 r88802) -- "Great Square Root" 4903
taishanLinux (openEuler 24.03 LTS)aarch644.5.0 (2025-04-11) -- "How About a Twenty-Six" 4668
Click on any hostname to see more info about the system (e.g. compilers)      (*) as reported by 'uname -p', except on Windows and Mac OS X

Package 2078/2361HostnameOS / ArchINSTALLBUILDCHECKBUILD BIN
spatialDE 1.16.0  (landing page)
Gabriele Sales
Snapshot Date: 2025-11-16 13:45 -0500 (Sun, 16 Nov 2025)
git_url: https://git.bioconductor.org/packages/spatialDE
git_branch: RELEASE_3_22
git_last_commit: dfd143b
git_last_commit_date: 2025-10-29 11:11:31 -0500 (Wed, 29 Oct 2025)
nebbiolo2Linux (Ubuntu 24.04.3 LTS) / x86_64  OK    OK    OK  UNNEEDED, same version is already published
taishanLinux (openEuler 24.03 LTS) / aarch64  OK    OK    OK  


CHECK results for spatialDE on taishan

To the developers/maintainers of the spatialDE package:
- Allow up to 24 hours (and sometimes 48 hours) for your latest push to git@git.bioconductor.org:packages/spatialDE.git to reflect on this report. See Troubleshooting Build Report for more information.
- Use the following Renviron settings to reproduce errors and warnings.
- If 'R CMD check' started to fail recently on the Linux builder(s) over a missing dependency, add the missing dependency to 'Suggests:' in your DESCRIPTION file. See Renviron.bioc for more information.
- See Martin Grigorov's blog post for how to debug Linux ARM64 related issues on a x86_64 host.

raw results


Summary

Package: spatialDE
Version: 1.16.0
Command: /home/biocbuild/R/R/bin/R CMD check --install=check:spatialDE.install-out.txt --library=/home/biocbuild/R/R/site-library --no-vignettes --timings spatialDE_1.16.0.tar.gz
StartedAt: 2025-11-14 15:03:10 -0000 (Fri, 14 Nov 2025)
EndedAt: 2025-11-14 15:11:00 -0000 (Fri, 14 Nov 2025)
EllapsedTime: 469.7 seconds
RetCode: 0
Status:   OK  
CheckDir: spatialDE.Rcheck
Warnings: 0

Command output

##############################################################################
##############################################################################
###
### Running command:
###
###   /home/biocbuild/R/R/bin/R CMD check --install=check:spatialDE.install-out.txt --library=/home/biocbuild/R/R/site-library --no-vignettes --timings spatialDE_1.16.0.tar.gz
###
##############################################################################
##############################################################################


* using log directory ‘/home/biocbuild/bbs-3.22-bioc/meat/spatialDE.Rcheck’
* using R version 4.5.0 (2025-04-11)
* using platform: aarch64-unknown-linux-gnu
* R was compiled by
    aarch64-unknown-linux-gnu-gcc (GCC) 14.2.0
    GNU Fortran (GCC) 14.2.0
* running under: openEuler 24.03 (LTS)
* using session charset: UTF-8
* using option ‘--no-vignettes’
* checking for file ‘spatialDE/DESCRIPTION’ ... OK
* this is package ‘spatialDE’ version ‘1.16.0’
* package encoding: UTF-8
* checking package namespace information ... OK
* checking package dependencies ... OK
* checking if this is a source package ... OK
* checking if there is a namespace ... OK
* checking for hidden files and directories ... OK
* checking for portable file names ... OK
* checking for sufficient/correct file permissions ... OK
* checking whether package ‘spatialDE’ can be installed ... NOTE
Found the following notes/warnings:
  Non-staged installation was used
See ‘/home/biocbuild/bbs-3.22-bioc/meat/spatialDE.Rcheck/00install.out’ for details.
* checking installed package size ... OK
* checking package directory ... OK
* checking ‘build’ directory ... OK
* checking DESCRIPTION meta-information ... OK
* checking top-level files ... OK
* checking for left-over files ... OK
* checking index information ... OK
* checking package subdirectories ... OK
* checking code files for non-ASCII characters ... OK
* checking R files for syntax errors ... OK
* checking whether the package can be loaded ... OK
* checking whether the package can be loaded with stated dependencies ... OK
* checking whether the package can be unloaded cleanly ... OK
* checking whether the namespace can be loaded with stated dependencies ... OK
* checking whether the namespace can be unloaded cleanly ... OK
* checking loading without being on the library search path ... OK
* checking dependencies in R code ... OK
* checking S3 generic/method consistency ... OK
* checking replacement functions ... OK
* checking foreign function calls ... OK
* checking R code for possible problems ... OK
* checking Rd files ... OK
* checking Rd metadata ... OK
* checking Rd cross-references ... NOTE
Found the following Rd file(s) with Rd \link{} targets missing package
anchors:
  mockSVG.Rd: SpatialExperiment-class
  modelSearch.Rd: SpatialExperiment-class
  multiGenePlots.Rd: SpatialExperiment-class
  spatialDE.Rd: SpatialExperiment-class
  spatialPatterns.Rd: SpatialExperiment-class
Please provide package anchors for all Rd \link{} targets not in the
package itself and the base packages.
* checking for missing documentation entries ... OK
* checking for code/documentation mismatches ... OK
* checking Rd \usage sections ... OK
* checking Rd contents ... OK
* checking for unstated dependencies in examples ... OK
* checking contents of ‘data’ directory ... OK
* checking data for non-ASCII characters ... OK
* checking data for ASCII and uncompressed saves ... OK
* checking line endings in shell scripts ... OK
* checking files in ‘vignettes’ ... OK
* checking examples ... OK
Examples with CPU (user + system) or elapsed time > 5s
                   user system elapsed
spatial_patterns 44.487  0.026  28.776
FSV_sig           9.413  0.416  15.399
modelSearch       5.745  0.026   4.845
multiGenePlots    3.920  0.161   5.232
* checking for unstated dependencies in ‘tests’ ... OK
* checking tests ...
  Running ‘testthat.R’
 OK
* checking for unstated dependencies in vignettes ... OK
* checking package vignettes ... OK
* checking running R code from vignettes ... SKIPPED
* checking re-building of vignette outputs ... SKIPPED
* checking PDF version of manual ... OK
* DONE

Status: 2 NOTEs
See
  ‘/home/biocbuild/bbs-3.22-bioc/meat/spatialDE.Rcheck/00check.log’
for details.


Installation output

spatialDE.Rcheck/00install.out

##############################################################################
##############################################################################
###
### Running command:
###
###   /home/biocbuild/R/R/bin/R CMD INSTALL spatialDE
###
##############################################################################
##############################################################################


* installing to library ‘/home/biocbuild/R/R-4.5.0/site-library’
* installing *source* package ‘spatialDE’ ...
** this is package ‘spatialDE’ version ‘1.16.0’
** using non-staged installation via StagedInstall field
** R
** data
** inst
** byte-compile and prepare package for lazy loading
** help
*** installing help indices
** building package indices
** installing vignettes
** testing if installed package can be loaded
* DONE (spatialDE)

Tests output

spatialDE.Rcheck/tests/testthat.Rout


R version 4.5.0 (2025-04-11) -- "How About a Twenty-Six"
Copyright (C) 2025 The R Foundation for Statistical Computing
Platform: aarch64-unknown-linux-gnu

R is free software and comes with ABSOLUTELY NO WARRANTY.
You are welcome to redistribute it under certain conditions.
Type 'license()' or 'licence()' for distribution details.

R is a collaborative project with many contributors.
Type 'contributors()' for more information and
'citation()' on how to cite R or R packages in publications.

Type 'demo()' for some demos, 'help()' for on-line help, or
'help.start()' for an HTML browser interface to help.
Type 'q()' to quit R.

> library(testthat)
> library(spatialDE)
> 
> test_check("spatialDE")
Loading required package: SingleCellExperiment
Loading required package: SummarizedExperiment
Loading required package: MatrixGenerics
Loading required package: matrixStats

Attaching package: 'MatrixGenerics'

The following objects are masked from 'package:matrixStats':

    colAlls, colAnyNAs, colAnys, colAvgsPerRowSet, colCollapse,
    colCounts, colCummaxs, colCummins, colCumprods, colCumsums,
    colDiffs, colIQRDiffs, colIQRs, colLogSumExps, colMadDiffs,
    colMads, colMaxs, colMeans2, colMedians, colMins, colOrderStats,
    colProds, colQuantiles, colRanges, colRanks, colSdDiffs, colSds,
    colSums2, colTabulates, colVarDiffs, colVars, colWeightedMads,
    colWeightedMeans, colWeightedMedians, colWeightedSds,
    colWeightedVars, rowAlls, rowAnyNAs, rowAnys, rowAvgsPerColSet,
    rowCollapse, rowCounts, rowCummaxs, rowCummins, rowCumprods,
    rowCumsums, rowDiffs, rowIQRDiffs, rowIQRs, rowLogSumExps,
    rowMadDiffs, rowMads, rowMaxs, rowMeans2, rowMedians, rowMins,
    rowOrderStats, rowProds, rowQuantiles, rowRanges, rowRanks,
    rowSdDiffs, rowSds, rowSums2, rowTabulates, rowVarDiffs, rowVars,
    rowWeightedMads, rowWeightedMeans, rowWeightedMedians,
    rowWeightedSds, rowWeightedVars

Loading required package: GenomicRanges
Loading required package: stats4
Loading required package: BiocGenerics
Loading required package: generics

Attaching package: 'generics'

The following objects are masked from 'package:base':

    as.difftime, as.factor, as.ordered, intersect, is.element, setdiff,
    setequal, union


Attaching package: 'BiocGenerics'

The following objects are masked from 'package:stats':

    IQR, mad, sd, var, xtabs

The following objects are masked from 'package:base':

    Filter, Find, Map, Position, Reduce, anyDuplicated, aperm, append,
    as.data.frame, basename, cbind, colnames, dirname, do.call,
    duplicated, eval, evalq, get, grep, grepl, is.unsorted, lapply,
    mapply, match, mget, order, paste, pmax, pmax.int, pmin, pmin.int,
    rank, rbind, rownames, sapply, saveRDS, table, tapply, unique,
    unsplit, which.max, which.min

Loading required package: S4Vectors

Attaching package: 'S4Vectors'

The following object is masked from 'package:utils':

    findMatches

The following objects are masked from 'package:base':

    I, expand.grid, unname

Loading required package: IRanges
Loading required package: Seqinfo
Loading required package: Biobase
Welcome to Bioconductor

    Vignettes contain introductory material; view with
    'browseVignettes()'. To cite Bioconductor, see
    'citation("Biobase")', and for packages 'citation("pkgname")'.


Attaching package: 'Biobase'

The following object is masked from 'package:MatrixGenerics':

    rowMedians

The following objects are masked from 'package:matrixStats':

    anyMissing, rowMedians


Models:   0%|          | 0/10 [00:00<?, ?it/s]

  0%|          | 0/100 [00:00<?, ?it/s]

 36%|███▌      | 36/100 [00:00<00:00, 346.41it/s]

 71%|███████   | 71/100 [00:00<00:00, 345.22it/s]

                                                 
Models:  10%|█         | 1/10 [00:00<00:02,  3.36it/s]

  0%|          | 0/100 [00:00<?, ?it/s]

 27%|██▋       | 27/100 [00:00<00:00, 265.95it/s]

 54%|█████▍    | 54/100 [00:00<00:00, 194.48it/s]

 75%|███████▌  | 75/100 [00:00<00:00, 165.87it/s]

100%|██████████| 100/100 [00:00<00:00, 191.55it/s]

                                                  
Models:  20%|██        | 2/10 [00:00<00:03,  2.32it/s]

  0%|          | 0/100 [00:00<?, ?it/s]

 26%|██▌       | 26/100 [00:00<00:00, 256.84it/s]

 52%|█████▏    | 52/100 [00:00<00:00, 235.00it/s]

 76%|███████▌  | 76/100 [00:00<00:00, 234.94it/s]

100%|██████████| 100/100 [00:00<00:00, 199.71it/s]

                                                  
Models:  30%|███       | 3/10 [00:01<00:03,  2.22it/s]

  0%|          | 0/100 [00:00<?, ?it/s]

 12%|█▏        | 12/100 [00:00<00:00, 115.11it/s]

 24%|██▍       | 24/100 [00:00<00:00, 111.38it/s]

 36%|███▌      | 36/100 [00:00<00:00, 106.13it/s]

 48%|████▊     | 48/100 [00:00<00:00, 106.96it/s]

 60%|██████    | 60/100 [00:00<00:00, 106.66it/s]

 72%|███████▏  | 72/100 [00:00<00:00, 108.70it/s]

 83%|████████▎ | 83/100 [00:00<00:00, 104.89it/s]

 94%|█████████▍| 94/100 [00:00<00:00, 104.76it/s]

                                                 
Models:  40%|████      | 4/10 [00:02<00:03,  1.55it/s]

  0%|          | 0/100 [00:00<?, ?it/s]

 12%|█▏        | 12/100 [00:00<00:00, 114.49it/s]

 24%|██▍       | 24/100 [00:00<00:00, 110.09it/s]

 36%|███▌      | 36/100 [00:00<00:00, 102.84it/s]

 47%|████▋     | 47/100 [00:00<00:00, 103.62it/s]

 58%|█████▊    | 58/100 [00:00<00:00, 102.32it/s]

 69%|██████▉   | 69/100 [00:00<00:00, 102.75it/s]

 81%|████████  | 81/100 [00:00<00:00, 104.89it/s]

 92%|█████████▏| 92/100 [00:00<00:00, 104.61it/s]

                                                 
Models:  50%|█████     | 5/10 [00:03<00:03,  1.32it/s]

  0%|          | 0/100 [00:00<?, ?it/s]

 11%|█         | 11/100 [00:00<00:00, 106.78it/s]

 22%|██▏       | 22/100 [00:00<00:00, 106.72it/s]

 33%|███▎      | 33/100 [00:00<00:00, 105.17it/s]

 44%|████▍     | 44/100 [00:00<00:00, 103.13it/s]

 55%|█████▌    | 55/100 [00:00<00:00, 101.58it/s]

 66%|██████▌   | 66/100 [00:00<00:00, 102.55it/s]

 78%|███████▊  | 78/100 [00:00<00:00, 106.64it/s]

 89%|████████▉ | 89/100 [00:00<00:00, 103.83it/s]

100%|██████████| 100/100 [00:00<00:00, 104.55it/s]

                                                  
Models:  60%|██████    | 6/10 [00:04<00:03,  1.21it/s]

  0%|          | 0/100 [00:00<?, ?it/s]

 12%|█▏        | 12/100 [00:00<00:00, 114.12it/s]

 24%|██▍       | 24/100 [00:00<00:00, 109.42it/s]

 35%|███▌      | 35/100 [00:00<00:00, 101.57it/s]

 49%|████▉     | 49/100 [00:00<00:00, 114.47it/s]

 72%|███████▏  | 72/100 [00:00<00:00, 152.15it/s]

 95%|█████████▌| 95/100 [00:00<00:00, 176.81it/s]

                                                 
Models:  70%|███████   | 7/10 [00:04<00:02,  1.29it/s]

  0%|          | 0/100 [00:00<?, ?it/s]

 25%|██▌       | 25/100 [00:00<00:00, 242.01it/s]

 50%|█████     | 50/100 [00:00<00:00, 227.70it/s]

 74%|███████▍  | 74/100 [00:00<00:00, 228.73it/s]

 97%|█████████▋| 97/100 [00:00<00:00, 226.31it/s]

                                                 
Models:  80%|████████  | 8/10 [00:05<00:01,  1.49it/s]

  0%|          | 0/100 [00:00<?, ?it/s]

 25%|██▌       | 25/100 [00:00<00:00, 244.96it/s]

 50%|█████     | 50/100 [00:00<00:00, 231.73it/s]

 74%|███████▍  | 74/100 [00:00<00:00, 126.08it/s]

 91%|█████████ | 91/100 [00:00<00:00, 117.79it/s]

                                                 
Models:  90%|█████████ | 9/10 [00:06<00:00,  1.43it/s]

  0%|          | 0/100 [00:00<?, ?it/s]

 14%|█▍        | 14/100 [00:00<00:00, 132.33it/s]

 28%|██▊       | 28/100 [00:00<00:00, 122.99it/s]

 41%|████      | 41/100 [00:00<00:00, 119.44it/s]

 53%|█████▎    | 53/100 [00:00<00:00, 115.13it/s]

 65%|██████▌   | 65/100 [00:00<00:00, 114.83it/s]

 77%|███████▋  | 77/100 [00:00<00:00, 112.08it/s]

 89%|████████▉ | 89/100 [00:00<00:00, 108.96it/s]

                                                 
Models: 100%|██████████| 10/10 [00:06<00:00,  1.32it/s]
Models: 100%|██████████| 10/10 [00:06<00:00,  1.45it/s]

Models:   0%|          | 0/10 [00:00<?, ?it/s]

  0%|          | 0/100 [00:00<?, ?it/s]

 36%|███▌      | 36/100 [00:00<00:00, 349.41it/s]

 71%|███████   | 71/100 [00:00<00:00, 341.22it/s]

                                                 
Models:  10%|█         | 1/10 [00:00<00:02,  3.39it/s]

  0%|          | 0/100 [00:00<?, ?it/s]

 29%|██▉       | 29/100 [00:00<00:00, 276.39it/s]

 57%|█████▋    | 57/100 [00:00<00:00, 182.04it/s]

 77%|███████▋  | 77/100 [00:00<00:00, 177.57it/s]

 99%|█████████▉| 99/100 [00:00<00:00, 189.66it/s]

                                                 
Models:  20%|██        | 2/10 [00:00<00:03,  2.33it/s]

  0%|          | 0/100 [00:00<?, ?it/s]

 26%|██▌       | 26/100 [00:00<00:00, 259.32it/s]

 52%|█████▏    | 52/100 [00:00<00:00, 219.25it/s]

 75%|███████▌  | 75/100 [00:00<00:00, 217.58it/s]

 97%|█████████▋| 97/100 [00:00<00:00, 204.77it/s]

                                                 
Models:  30%|███       | 3/10 [00:01<00:03,  2.22it/s]

  0%|          | 0/100 [00:00<?, ?it/s]

 26%|██▌       | 26/100 [00:00<00:00, 255.45it/s]

 52%|█████▏    | 52/100 [00:00<00:00, 218.06it/s]

 75%|███████▌  | 75/100 [00:00<00:00, 215.61it/s]

 97%|█████████▋| 97/100 [00:00<00:00, 213.56it/s]

                                                 
Models:  40%|████      | 4/10 [00:01<00:02,  2.19it/s]

  0%|          | 0/100 [00:00<?, ?it/s]

 25%|██▌       | 25/100 [00:00<00:00, 248.01it/s]

 50%|█████     | 50/100 [00:00<00:00, 213.58it/s]

 72%|███████▏  | 72/100 [00:00<00:00, 209.59it/s]

 94%|█████████▍| 94/100 [00:00<00:00, 207.33it/s]

                                                 
Models:  50%|█████     | 5/10 [00:02<00:02,  2.16it/s]

  0%|          | 0/100 [00:00<?, ?it/s]

 26%|██▌       | 26/100 [00:00<00:00, 257.85it/s]

 52%|█████▏    | 52/100 [00:00<00:00, 206.67it/s]

 74%|███████▍  | 74/100 [00:00<00:00, 207.84it/s]

 96%|█████████▌| 96/100 [00:00<00:00, 208.84it/s]

                                                 
Models:  60%|██████    | 6/10 [00:02<00:01,  2.14it/s]

  0%|          | 0/100 [00:00<?, ?it/s]

 27%|██▋       | 27/100 [00:00<00:00, 257.11it/s]

 53%|█████▎    | 53/100 [00:00<00:00, 230.93it/s]

 77%|███████▋  | 77/100 [00:00<00:00, 223.73it/s]

100%|██████████| 100/100 [00:00<00:00, 203.87it/s]

                                                  
Models:  70%|███████   | 7/10 [00:03<00:01,  2.14it/s]

  0%|          | 0/100 [00:00<?, ?it/s]

 13%|█▎        | 13/100 [00:00<00:00, 127.49it/s]

 26%|██▌       | 26/100 [00:00<00:00, 110.61it/s]

 38%|███▊      | 38/100 [00:00<00:00, 106.89it/s]

 59%|█████▉    | 59/100 [00:00<00:00, 142.78it/s]

 80%|████████  | 80/100 [00:00<00:00, 163.95it/s]

                                                 
Models:  80%|████████  | 8/10 [00:03<00:01,  1.90it/s]

  0%|          | 0/100 [00:00<?, ?it/s]

 26%|██▌       | 26/100 [00:00<00:00, 250.47it/s]

 52%|█████▏    | 52/100 [00:00<00:00, 228.08it/s]

 75%|███████▌  | 75/100 [00:00<00:00, 221.64it/s]

 99%|█████████▉| 99/100 [00:00<00:00, 225.77it/s]

                                                 
Models:  90%|█████████ | 9/10 [00:04<00:00,  2.00it/s]

  0%|          | 0/100 [00:00<?, ?it/s]

 26%|██▌       | 26/100 [00:00<00:00, 256.27it/s]

 52%|█████▏    | 52/100 [00:00<00:00, 230.61it/s]

 76%|███████▌  | 76/100 [00:00<00:00, 193.87it/s]

 98%|█████████▊| 98/100 [00:00<00:00, 199.53it/s]

                                                 
Models: 100%|██████████| 10/10 [00:04<00:00,  2.01it/s]
Models: 100%|██████████| 10/10 [00:04<00:00,  2.10it/s]
/home/biocbuild/.cache/R/basilisk/1.22.0/spatialDE/1.16.0/env/lib/python3.11/site-packages/pandas/core/internals/blocks.py:351: RuntimeWarning: invalid value encountered in log
  result = func(self.values, **kwargs)

Models:   0%|          | 0/10 [00:00<?, ?it/s]

  0%|          | 0/100 [00:00<?, ?it/s]

 17%|█▋        | 17/100 [00:00<00:00, 166.34it/s]

 34%|███▍      | 34/100 [00:00<00:00, 150.12it/s]

 50%|█████     | 50/100 [00:00<00:00, 146.75it/s]

 67%|██████▋   | 67/100 [00:00<00:00, 153.88it/s]

 84%|████████▍ | 84/100 [00:00<00:00, 157.14it/s]

                                                 
Models:  10%|█         | 1/10 [00:00<00:05,  1.55it/s]

  0%|          | 0/100 [00:00<?, ?it/s]

 15%|█▌        | 15/100 [00:00<00:00, 146.17it/s]

 30%|███       | 30/100 [00:00<00:00, 104.70it/s]

 42%|████▏     | 42/100 [00:00<00:00, 95.70it/s] 

 54%|█████▍    | 54/100 [00:00<00:00, 101.53it/s]

 65%|██████▌   | 65/100 [00:00<00:00, 103.94it/s]

 77%|███████▋  | 77/100 [00:00<00:00, 106.80it/s]

 89%|████████▉ | 89/100 [00:00<00:00, 107.52it/s]

                                                 
Models:  20%|██        | 2/10 [00:01<00:06,  1.22it/s]

  0%|          | 0/100 [00:00<?, ?it/s]

 14%|█▍        | 14/100 [00:00<00:00, 137.82it/s]

 28%|██▊       | 28/100 [00:00<00:00, 113.44it/s]

 40%|████      | 40/100 [00:00<00:00, 108.06it/s]

 51%|█████     | 51/100 [00:00<00:00, 107.38it/s]

 62%|██████▏   | 62/100 [00:00<00:00, 106.71it/s]

 73%|███████▎  | 73/100 [00:00<00:00, 106.85it/s]

 84%|████████▍ | 84/100 [00:00<00:00, 105.70it/s]

 96%|█████████▌| 96/100 [00:00<00:00, 106.97it/s]

                                                 
Models:  30%|███       | 3/10 [00:02<00:06,  1.16it/s]

  0%|          | 0/100 [00:00<?, ?it/s]

 14%|█▍        | 14/100 [00:00<00:00, 128.47it/s]

 27%|██▋       | 27/100 [00:00<00:00, 114.31it/s]

 49%|████▉     | 49/100 [00:00<00:00, 155.67it/s]

 72%|███████▏  | 72/100 [00:00<00:00, 179.80it/s]

 91%|█████████ | 91/100 [00:00<00:00, 147.01it/s]

                                                 
Models:  40%|████      | 4/10 [00:03<00:04,  1.25it/s]

  0%|          | 0/100 [00:00<?, ?it/s]

 25%|██▌       | 25/100 [00:00<00:00, 244.11it/s]

 50%|█████     | 50/100 [00:00<00:00, 228.75it/s]

 73%|███████▎  | 73/100 [00:00<00:00, 222.43it/s]

 96%|█████████▌| 96/100 [00:00<00:00, 223.20it/s]

                                                 
Models:  50%|█████     | 5/10 [00:03<00:03,  1.49it/s]

  0%|          | 0/100 [00:00<?, ?it/s]

 25%|██▌       | 25/100 [00:00<00:00, 241.18it/s]

 50%|█████     | 50/100 [00:00<00:00, 226.15it/s]

 73%|███████▎  | 73/100 [00:00<00:00, 221.14it/s]

 96%|█████████▌| 96/100 [00:00<00:00, 192.62it/s]

                                                 
Models:  60%|██████    | 6/10 [00:04<00:02,  1.64it/s]

  0%|          | 0/100 [00:00<?, ?it/s]

 24%|██▍       | 24/100 [00:00<00:00, 231.26it/s]

 48%|████▊     | 48/100 [00:00<00:00, 223.21it/s]

 71%|███████   | 71/100 [00:00<00:00, 223.80it/s]

 95%|█████████▌| 95/100 [00:00<00:00, 225.75it/s]

                                                 
Models:  70%|███████   | 7/10 [00:04<00:01,  1.80it/s]

  0%|          | 0/100 [00:00<?, ?it/s]

 26%|██▌       | 26/100 [00:00<00:00, 252.12it/s]

 52%|█████▏    | 52/100 [00:00<00:00, 182.30it/s]

 72%|███████▏  | 72/100 [00:00<00:00, 153.03it/s]

 96%|█████████▌| 96/100 [00:00<00:00, 176.58it/s]

                                                 
Models:  80%|████████  | 8/10 [00:05<00:01,  1.79it/s]

  0%|          | 0/100 [00:00<?, ?it/s]

 27%|██▋       | 27/100 [00:00<00:00, 264.60it/s]

 54%|█████▍    | 54/100 [00:00<00:00, 242.63it/s]

 79%|███████▉  | 79/100 [00:00<00:00, 235.49it/s]

                                                 
Models:  90%|█████████ | 9/10 [00:05<00:00,  1.94it/s]

  0%|          | 0/100 [00:00<?, ?it/s]

 21%|██        | 21/100 [00:00<00:00, 197.51it/s]

 41%|████      | 41/100 [00:00<00:00, 142.20it/s]

 66%|██████▌   | 66/100 [00:00<00:00, 180.80it/s]

 88%|████████▊ | 88/100 [00:00<00:00, 193.35it/s]

                                                 
Models: 100%|██████████| 10/10 [00:06<00:00,  1.92it/s]
Models: 100%|██████████| 10/10 [00:06<00:00,  1.64it/s]

Models:   0%|          | 0/10 [00:00<?, ?it/s]

  0%|          | 0/100 [00:00<?, ?it/s]

 33%|███▎      | 33/100 [00:00<00:00, 328.31it/s]

 66%|██████▌   | 66/100 [00:00<00:00, 323.37it/s]

 99%|█████████▉| 99/100 [00:00<00:00, 286.51it/s]

                                                 
Models:  10%|█         | 1/10 [00:00<00:03,  2.93it/s]

  0%|          | 0/100 [00:00<?, ?it/s]

 28%|██▊       | 28/100 [00:00<00:00, 276.45it/s]

 56%|█████▌    | 56/100 [00:00<00:00, 252.18it/s]

 82%|████████▏ | 82/100 [00:00<00:00, 244.75it/s]

                                                 
Models:  20%|██        | 2/10 [00:00<00:03,  2.47it/s]

  0%|          | 0/100 [00:00<?, ?it/s]

 14%|█▍        | 14/100 [00:00<00:00, 138.16it/s]

 36%|███▌      | 36/100 [00:00<00:00, 182.56it/s]

 58%|█████▊    | 58/100 [00:00<00:00, 198.16it/s]

 81%|████████  | 81/100 [00:00<00:00, 208.96it/s]

                                                 
Models:  30%|███       | 3/10 [00:01<00:03,  2.25it/s]

  0%|          | 0/100 [00:00<?, ?it/s]

 24%|██▍       | 24/100 [00:00<00:00, 236.42it/s]

 48%|████▊     | 48/100 [00:00<00:00, 156.77it/s]

 66%|██████▌   | 66/100 [00:00<00:00, 130.13it/s]

 81%|████████  | 81/100 [00:00<00:00, 117.70it/s]

 94%|█████████▍| 94/100 [00:00<00:00, 113.10it/s]

                                                 
Models:  40%|████      | 4/10 [00:02<00:03,  1.70it/s]

  0%|          | 0/100 [00:00<?, ?it/s]

 13%|█▎        | 13/100 [00:00<00:00, 126.53it/s]

 26%|██▌       | 26/100 [00:00<00:00, 105.68it/s]

 37%|███▋      | 37/100 [00:00<00:00, 102.43it/s]

 48%|████▊     | 48/100 [00:00<00:00, 101.02it/s]

 59%|█████▉    | 59/100 [00:00<00:00, 98.22it/s] 

 70%|███████   | 70/100 [00:00<00:00, 100.18it/s]

 81%|████████  | 81/100 [00:00<00:00, 99.86it/s] 

 92%|█████████▏| 92/100 [00:00<00:00, 101.09it/s]

                                                 
Models:  50%|█████     | 5/10 [00:03<00:03,  1.37it/s]

  0%|          | 0/100 [00:00<?, ?it/s]

 14%|█▍        | 14/100 [00:00<00:00, 130.71it/s]

 28%|██▊       | 28/100 [00:00<00:00, 106.19it/s]

 39%|███▉      | 39/100 [00:00<00:00, 102.88it/s]

 50%|█████     | 50/100 [00:00<00:00, 102.94it/s]

 61%|██████    | 61/100 [00:00<00:00, 99.37it/s] 

 72%|███████▏  | 72/100 [00:00<00:00, 99.25it/s]

 82%|████████▏ | 82/100 [00:00<00:00, 97.64it/s]

 92%|█████████▏| 92/100 [00:00<00:00, 97.82it/s]

                                                
Models:  60%|██████    | 6/10 [00:04<00:03,  1.22it/s]

  0%|          | 0/100 [00:00<?, ?it/s]

 24%|██▍       | 24/100 [00:00<00:00, 229.51it/s]

 47%|████▋     | 47/100 [00:00<00:00, 220.18it/s]

 70%|███████   | 70/100 [00:00<00:00, 215.54it/s]

 92%|█████████▏| 92/100 [00:00<00:00, 215.43it/s]

                                                 
Models:  70%|███████   | 7/10 [00:04<00:02,  1.42it/s]

  0%|          | 0/100 [00:00<?, ?it/s]

 25%|██▌       | 25/100 [00:00<00:00, 243.77it/s]

 50%|█████     | 50/100 [00:00<00:00, 228.35it/s]

 73%|███████▎  | 73/100 [00:00<00:00, 223.41it/s]

 96%|█████████▌| 96/100 [00:00<00:00, 222.96it/s]

                                                 
Models:  80%|████████  | 8/10 [00:04<00:01,  1.61it/s]

  0%|          | 0/100 [00:00<?, ?it/s]

 22%|██▏       | 22/100 [00:00<00:00, 203.73it/s]

 44%|████▍     | 44/100 [00:00<00:00, 209.02it/s]

 67%|██████▋   | 67/100 [00:00<00:00, 216.14it/s]

 90%|█████████ | 90/100 [00:00<00:00, 219.71it/s]

                                                 
Models:  90%|█████████ | 9/10 [00:05<00:00,  1.75it/s]

  0%|          | 0/100 [00:00<?, ?it/s]

 25%|██▌       | 25/100 [00:00<00:00, 247.83it/s]

 51%|█████     | 51/100 [00:00<00:00, 252.69it/s]

 77%|███████▋  | 77/100 [00:00<00:00, 244.81it/s]

                                                 
Models: 100%|██████████| 10/10 [00:05<00:00,  1.92it/s]
Models: 100%|██████████| 10/10 [00:05<00:00,  1.71it/s]

Models:   0%|          | 0/10 [00:00<?, ?it/s]

  0%|          | 0/100 [00:00<?, ?it/s]

 33%|███▎      | 33/100 [00:00<00:00, 318.58it/s]

 67%|██████▋   | 67/100 [00:00<00:00, 325.26it/s]

                                                 
Models:  10%|█         | 1/10 [00:00<00:02,  3.28it/s]

  0%|          | 0/100 [00:00<?, ?it/s]

 28%|██▊       | 28/100 [00:00<00:00, 278.43it/s]

 56%|█████▌    | 56/100 [00:00<00:00, 255.10it/s]

 82%|████████▏ | 82/100 [00:00<00:00, 166.34it/s]

                                                 
Models:  20%|██        | 2/10 [00:00<00:03,  2.10it/s]

  0%|          | 0/100 [00:00<?, ?it/s]

 15%|█▌        | 15/100 [00:00<00:00, 143.97it/s]

 30%|███       | 30/100 [00:00<00:00, 116.56it/s]

 42%|████▏     | 42/100 [00:00<00:00, 115.56it/s]

 54%|█████▍    | 54/100 [00:00<00:00, 111.96it/s]

 66%|██████▌   | 66/100 [00:00<00:00, 113.06it/s]

 78%|███████▊  | 78/100 [00:00<00:00, 104.27it/s]

 90%|█████████ | 90/100 [00:00<00:00, 107.20it/s]

                                                 
Models:  30%|███       | 3/10 [00:01<00:04,  1.49it/s]

  0%|          | 0/100 [00:00<?, ?it/s]

 14%|█▍        | 14/100 [00:00<00:00, 134.56it/s]

 28%|██▊       | 28/100 [00:00<00:00, 109.87it/s]

 40%|████      | 40/100 [00:00<00:00, 105.63it/s]

 51%|█████     | 51/100 [00:00<00:00, 105.78it/s]

 62%|██████▏   | 62/100 [00:00<00:00, 105.72it/s]

 73%|███████▎  | 73/100 [00:00<00:00, 106.14it/s]

 84%|████████▍ | 84/100 [00:00<00:00, 103.83it/s]

 96%|█████████▌| 96/100 [00:00<00:00, 106.32it/s]

                                                 
Models:  40%|████      | 4/10 [00:02<00:04,  1.29it/s]

  0%|          | 0/100 [00:00<?, ?it/s]

 14%|█▍        | 14/100 [00:00<00:00, 127.98it/s]

 27%|██▋       | 27/100 [00:00<00:00, 109.64it/s]

 39%|███▉      | 39/100 [00:00<00:00, 105.84it/s]

 50%|█████     | 50/100 [00:00<00:00, 106.06it/s]

 61%|██████    | 61/100 [00:00<00:00, 105.26it/s]

 72%|███████▏  | 72/100 [00:00<00:00, 105.52it/s]

 83%|████████▎ | 83/100 [00:00<00:00, 105.81it/s]

 95%|█████████▌| 95/100 [00:00<00:00, 107.06it/s]

                                                 
Models:  50%|█████     | 5/10 [00:03<00:04,  1.20it/s]

  0%|          | 0/100 [00:00<?, ?it/s]

 14%|█▍        | 14/100 [00:00<00:00, 132.50it/s]

 28%|██▊       | 28/100 [00:00<00:00, 109.44it/s]

 40%|████      | 40/100 [00:00<00:00, 105.88it/s]

 51%|█████     | 51/100 [00:00<00:00, 105.43it/s]

 62%|██████▏   | 62/100 [00:00<00:00, 103.59it/s]

 73%|███████▎  | 73/100 [00:00<00:00, 103.89it/s]

 86%|████████▌ | 86/100 [00:00<00:00, 110.85it/s]

                                                 
Models:  60%|██████    | 6/10 [00:04<00:03,  1.19it/s]

  0%|          | 0/100 [00:00<?, ?it/s]

 25%|██▌       | 25/100 [00:00<00:00, 238.86it/s]

 49%|████▉     | 49/100 [00:00<00:00, 227.68it/s]

 72%|███████▏  | 72/100 [00:00<00:00, 221.67it/s]

 95%|█████████▌| 95/100 [00:00<00:00, 220.87it/s]

                                                 
Models:  70%|███████   | 7/10 [00:04<00:02,  1.40it/s]

  0%|          | 0/100 [00:00<?, ?it/s]

 25%|██▌       | 25/100 [00:00<00:00, 248.62it/s]

 50%|█████     | 50/100 [00:00<00:00, 226.58it/s]

 73%|███████▎  | 73/100 [00:00<00:00, 219.53it/s]

 96%|█████████▌| 96/100 [00:00<00:00, 222.98it/s]

                                                 
Models:  80%|████████  | 8/10 [00:05<00:01,  1.59it/s]

  0%|          | 0/100 [00:00<?, ?it/s]

 26%|██▌       | 26/100 [00:00<00:00, 259.15it/s]

 52%|█████▏    | 52/100 [00:00<00:00, 239.25it/s]

 77%|███████▋  | 77/100 [00:00<00:00, 235.69it/s]

                                                 
Models:  90%|█████████ | 9/10 [00:05<00:00,  1.77it/s]

  0%|          | 0/100 [00:00<?, ?it/s]

 26%|██▌       | 26/100 [00:00<00:00, 254.83it/s]

 52%|█████▏    | 52/100 [00:00<00:00, 251.66it/s]

 78%|███████▊  | 78/100 [00:00<00:00, 243.37it/s]

                                                 
Models: 100%|██████████| 10/10 [00:06<00:00,  1.93it/s]
Models: 100%|██████████| 10/10 [00:06<00:00,  1.60it/s]
[ FAIL 0 | WARN 0 | SKIP 0 | PASS 29 ]
> 
> proc.time()
   user  system elapsed 
 72.780   0.894  79.162 

Example timings

spatialDE.Rcheck/spatialDE-Ex.timings

nameusersystemelapsed
FSV_sig 9.413 0.41615.399
mockSVG0.2000.0080.209
modelSearch5.7450.0264.845
model_search3.7930.0383.038
multiGenePlots3.9200.1615.232
regress_out0.1360.0080.144
run3.4550.0142.959
spatialDE2.6040.0372.297
spatialPatterns2.6510.0062.406
spatial_patterns44.487 0.02628.776
stabilize0.1030.0000.072