Back to Multiple platform build/check report for BioC 3.22:   simplified   long
ABCDEFGHIJKLMNOPQR[S]TUVWXYZ

This page was generated on 2025-10-21 12:07 -0400 (Tue, 21 Oct 2025).

HostnameOSArch (*)R versionInstalled pkgs
nebbiolo2Linux (Ubuntu 24.04.3 LTS)x86_644.5.1 Patched (2025-08-23 r88802) -- "Great Square Root" 4887
lconwaymacOS 12.7.6 Montereyx86_644.5.1 Patched (2025-09-10 r88807) -- "Great Square Root" 4677
kjohnson3macOS 13.7.7 Venturaarm644.5.1 Patched (2025-09-10 r88807) -- "Great Square Root" 4622
taishanLinux (openEuler 24.03 LTS)aarch644.5.0 (2025-04-11) -- "How About a Twenty-Six" 4642
Click on any hostname to see more info about the system (e.g. compilers)      (*) as reported by 'uname -p', except on Windows and Mac OS X

Package 2025/2353HostnameOS / ArchINSTALLBUILDCHECKBUILD BIN
singleCellTK 2.19.2  (landing page)
Joshua David Campbell
Snapshot Date: 2025-10-20 13:45 -0400 (Mon, 20 Oct 2025)
git_url: https://git.bioconductor.org/packages/singleCellTK
git_branch: devel
git_last_commit: 238aed05
git_last_commit_date: 2025-09-26 08:22:06 -0400 (Fri, 26 Sep 2025)
nebbiolo2Linux (Ubuntu 24.04.3 LTS) / x86_64  OK    OK    OK  UNNEEDED, same version is already published
lconwaymacOS 12.7.6 Monterey / x86_64  OK    OK    OK    OK  UNNEEDED, same version is already published
kjohnson3macOS 13.7.7 Ventura / arm64  OK    OK    OK    OK  UNNEEDED, same version is already published
taishanLinux (openEuler 24.03 LTS) / aarch64  OK    OK    OK  


CHECK results for singleCellTK on taishan

To the developers/maintainers of the singleCellTK package:
- Allow up to 24 hours (and sometimes 48 hours) for your latest push to git@git.bioconductor.org:packages/singleCellTK.git to reflect on this report. See Troubleshooting Build Report for more information.
- Use the following Renviron settings to reproduce errors and warnings.
- If 'R CMD check' started to fail recently on the Linux builder(s) over a missing dependency, add the missing dependency to 'Suggests:' in your DESCRIPTION file. See Renviron.bioc for more information.
- See Martin Grigorov's blog post for how to debug Linux ARM64 related issues on a x86_64 host.

raw results


Summary

Package: singleCellTK
Version: 2.19.2
Command: /home/biocbuild/R/R/bin/R CMD check --install=check:singleCellTK.install-out.txt --library=/home/biocbuild/R/R/site-library --no-vignettes --timings singleCellTK_2.19.2.tar.gz
StartedAt: 2025-10-17 13:44:19 -0000 (Fri, 17 Oct 2025)
EndedAt: 2025-10-17 14:06:38 -0000 (Fri, 17 Oct 2025)
EllapsedTime: 1338.8 seconds
RetCode: 0
Status:   OK  
CheckDir: singleCellTK.Rcheck
Warnings: 0

Command output

##############################################################################
##############################################################################
###
### Running command:
###
###   /home/biocbuild/R/R/bin/R CMD check --install=check:singleCellTK.install-out.txt --library=/home/biocbuild/R/R/site-library --no-vignettes --timings singleCellTK_2.19.2.tar.gz
###
##############################################################################
##############################################################################


* using log directory ‘/home/biocbuild/bbs-3.22-bioc/meat/singleCellTK.Rcheck’
* using R version 4.5.0 (2025-04-11)
* using platform: aarch64-unknown-linux-gnu
* R was compiled by
    aarch64-unknown-linux-gnu-gcc (GCC) 14.2.0
    GNU Fortran (GCC) 14.2.0
* running under: openEuler 24.03 (LTS)
* using session charset: UTF-8
* using option ‘--no-vignettes’
* checking for file ‘singleCellTK/DESCRIPTION’ ... OK
* checking extension type ... Package
* this is package ‘singleCellTK’ version ‘2.19.2’
* package encoding: UTF-8
* checking package namespace information ... OK
* checking package dependencies ... INFO
Imports includes 80 non-default packages.
Importing from so many packages makes the package vulnerable to any of
them becoming unavailable.  Move as many as possible to Suggests and
use conditionally.
* checking if this is a source package ... OK
* checking if there is a namespace ... OK
* checking for hidden files and directories ... OK
* checking for portable file names ... OK
* checking for sufficient/correct file permissions ... OK
* checking whether package ‘singleCellTK’ can be installed ... OK
* checking installed package size ... INFO
  installed size is  7.0Mb
  sub-directories of 1Mb or more:
    R         1.0Mb
    extdata   1.6Mb
    shiny     3.0Mb
* checking package directory ... OK
* checking ‘build’ directory ... OK
* checking DESCRIPTION meta-information ... OK
* checking top-level files ... OK
* checking for left-over files ... OK
* checking index information ... OK
* checking package subdirectories ... OK
* checking code files for non-ASCII characters ... OK
* checking R files for syntax errors ... OK
* checking whether the package can be loaded ... OK
* checking whether the package can be loaded with stated dependencies ... OK
* checking whether the package can be unloaded cleanly ... OK
* checking whether the namespace can be loaded with stated dependencies ... OK
* checking whether the namespace can be unloaded cleanly ... OK
* checking loading without being on the library search path ... OK
* checking whether startup messages can be suppressed ... OK
* checking dependencies in R code ... OK
* checking S3 generic/method consistency ... OK
* checking replacement functions ... OK
* checking foreign function calls ... OK
* checking R code for possible problems ... OK
* checking Rd files ... OK
* checking Rd metadata ... OK
* checking Rd cross-references ... NOTE
Found the following Rd file(s) with Rd \link{} targets missing package
anchors:
  dedupRowNames.Rd: SingleCellExperiment-class
  detectCellOutlier.Rd: colData
  diffAbundanceFET.Rd: colData
  downSampleCells.Rd: SingleCellExperiment-class
  downSampleDepth.Rd: SingleCellExperiment-class
  featureIndex.Rd: SummarizedExperiment-class,
    SingleCellExperiment-class
  getBiomarker.Rd: SingleCellExperiment-class
  getDEGTopTable.Rd: SingleCellExperiment-class
  getEnrichRResult.Rd: SingleCellExperiment-class
  getFindMarkerTopTable.Rd: SingleCellExperiment-class
  getGenesetNamesFromCollection.Rd: SingleCellExperiment-class
  getPathwayResultNames.Rd: SingleCellExperiment-class
  getSampleSummaryStatsTable.Rd: SingleCellExperiment-class, assay,
    colData
  getSoupX.Rd: SingleCellExperiment-class
  getTSCANResults.Rd: SingleCellExperiment-class
  getTopHVG.Rd: SingleCellExperiment-class
  importAlevin.Rd: DelayedArray, readMM
  importAnnData.Rd: DelayedArray, readMM
  importBUStools.Rd: readMM
  importCellRanger.Rd: readMM, DelayedArray
  importCellRangerV2Sample.Rd: readMM, DelayedArray
  importCellRangerV3Sample.Rd: readMM, DelayedArray
  importDropEst.Rd: DelayedArray, readMM
  importExampleData.Rd: scRNAseq, Matrix, DelayedArray,
    ReprocessedFluidigmData, ReprocessedAllenData, NestorowaHSCData
  importFromFiles.Rd: readMM, DelayedArray, SingleCellExperiment-class
  importGeneSetsFromCollection.Rd: GeneSetCollection-class,
    SingleCellExperiment-class, GeneSetCollection, GSEABase, metadata
  importGeneSetsFromGMT.Rd: GeneSetCollection-class,
    SingleCellExperiment-class, getGmt, GSEABase, metadata
  importGeneSetsFromList.Rd: GeneSetCollection-class,
    SingleCellExperiment-class, GSEABase, metadata
  importGeneSetsFromMSigDB.Rd: SingleCellExperiment-class, msigdbr,
    GeneSetCollection-class, GSEABase, metadata
  importMitoGeneSet.Rd: SingleCellExperiment-class,
    GeneSetCollection-class, GSEABase, metadata
  importMultipleSources.Rd: DelayedArray
  importOptimus.Rd: readMM, DelayedArray
  importSEQC.Rd: readMM, DelayedArray
  importSTARsolo.Rd: readMM, DelayedArray
  iterateSimulations.Rd: SingleCellExperiment-class
  listSampleSummaryStatsTables.Rd: SingleCellExperiment-class, metadata
  plotBarcodeRankDropsResults.Rd: SingleCellExperiment-class
  plotBarcodeRankScatter.Rd: SingleCellExperiment-class
  plotBatchCorrCompare.Rd: SingleCellExperiment-class
  plotBatchVariance.Rd: SingleCellExperiment-class
  plotBcdsResults.Rd: SingleCellExperiment-class
  plotClusterAbundance.Rd: colData
  plotCxdsResults.Rd: SingleCellExperiment-class
  plotDEGHeatmap.Rd: SingleCellExperiment-class
  plotDEGRegression.Rd: SingleCellExperiment-class
  plotDEGViolin.Rd: SingleCellExperiment-class
  plotDEGVolcano.Rd: SingleCellExperiment-class
  plotDecontXResults.Rd: SingleCellExperiment-class
  plotDoubletFinderResults.Rd: SingleCellExperiment-class
  plotEmptyDropsResults.Rd: SingleCellExperiment-class
  plotEmptyDropsScatter.Rd: SingleCellExperiment-class
  plotEnrichR.Rd: SingleCellExperiment-class
  plotFindMarkerHeatmap.Rd: SingleCellExperiment-class
  plotPCA.Rd: SingleCellExperiment-class
  plotPathway.Rd: SingleCellExperiment-class
  plotRunPerCellQCResults.Rd: SingleCellExperiment-class
  plotSCEBarAssayData.Rd: SingleCellExperiment-class
  plotSCEBarColData.Rd: SingleCellExperiment-class
  plotSCEBatchFeatureMean.Rd: SingleCellExperiment-class
  plotSCEDensity.Rd: SingleCellExperiment-class
  plotSCEDensityAssayData.Rd: SingleCellExperiment-class
  plotSCEDensityColData.Rd: SingleCellExperiment-class
  plotSCEDimReduceColData.Rd: SingleCellExperiment-class
  plotSCEDimReduceFeatures.Rd: SingleCellExperiment-class
  plotSCEHeatmap.Rd: SingleCellExperiment-class
  plotSCEScatter.Rd: SingleCellExperiment-class
  plotSCEViolin.Rd: SingleCellExperiment-class
  plotSCEViolinAssayData.Rd: SingleCellExperiment-class
  plotSCEViolinColData.Rd: SingleCellExperiment-class
  plotScDblFinderResults.Rd: SingleCellExperiment-class
  plotScdsHybridResults.Rd: SingleCellExperiment-class
  plotScrubletResults.Rd: SingleCellExperiment-class
  plotSoupXResults.Rd: SingleCellExperiment-class
  plotTSCANClusterDEG.Rd: SingleCellExperiment-class
  plotTSCANClusterPseudo.Rd: SingleCellExperiment-class
  plotTSCANDimReduceFeatures.Rd: SingleCellExperiment-class
  plotTSCANPseudotimeGenes.Rd: SingleCellExperiment-class
  plotTSCANPseudotimeHeatmap.Rd: SingleCellExperiment-class
  plotTSCANResults.Rd: SingleCellExperiment-class
  plotTSNE.Rd: SingleCellExperiment-class
  plotUMAP.Rd: SingleCellExperiment-class
  readSingleCellMatrix.Rd: DelayedArray
  reportCellQC.Rd: SingleCellExperiment-class
  reportClusterAbundance.Rd: colData
  reportDiffAbundanceFET.Rd: colData
  retrieveSCEIndex.Rd: SingleCellExperiment-class
  runBBKNN.Rd: SingleCellExperiment-class
  runBarcodeRankDrops.Rd: SingleCellExperiment-class, colData
  runBcds.Rd: SingleCellExperiment-class, colData
  runCellQC.Rd: colData
  runComBatSeq.Rd: SingleCellExperiment-class
  runCxds.Rd: SingleCellExperiment-class, colData
  runCxdsBcdsHybrid.Rd: colData
  runDEAnalysis.Rd: SingleCellExperiment-class
  runDecontX.Rd: colData
  runDimReduce.Rd: SingleCellExperiment-class
  runDoubletFinder.Rd: SingleCellExperiment-class
  runDropletQC.Rd: colData
  runEmptyDrops.Rd: SingleCellExperiment-class, colData
  runEnrichR.Rd: SingleCellExperiment-class
  runFastMNN.Rd: SingleCellExperiment-class, BiocParallelParam-class
  runFeatureSelection.Rd: SingleCellExperiment-class
  runFindMarker.Rd: SingleCellExperiment-class
  runGSVA.Rd: SingleCellExperiment-class
  runHarmony.Rd: SingleCellExperiment-class
  runKMeans.Rd: SingleCellExperiment-class, colData
  runLimmaBC.Rd: SingleCellExperiment-class, assay
  runMNNCorrect.Rd: SingleCellExperiment-class, assay,
    BiocParallelParam-class
  runModelGeneVar.Rd: SingleCellExperiment-class
  runPerCellQC.Rd: SingleCellExperiment-class, BiocParallelParam,
    colData
  runSCANORAMA.Rd: SingleCellExperiment-class, assay
  runSCMerge.Rd: SingleCellExperiment-class, colData, assay,
    BiocParallelParam-class
  runScDblFinder.Rd: SingleCellExperiment-class, colData
  runScranSNN.Rd: SingleCellExperiment-class, reducedDim, assay,
    altExp, colData, igraph
  runScrublet.Rd: SingleCellExperiment-class, colData
  runSingleR.Rd: SingleCellExperiment-class
  runSoupX.Rd: SingleCellExperiment-class
  runTSCAN.Rd: SingleCellExperiment-class
  runTSCANClusterDEAnalysis.Rd: SingleCellExperiment-class
  runTSCANDEG.Rd: SingleCellExperiment-class
  runTSNE.Rd: SingleCellExperiment-class
  runUMAP.Rd: SingleCellExperiment-class, BiocParallelParam-class
  runVAM.Rd: SingleCellExperiment-class
  runZINBWaVE.Rd: SingleCellExperiment-class, colData,
    BiocParallelParam-class
  sampleSummaryStats.Rd: SingleCellExperiment-class, assay, colData
  scaterPCA.Rd: SingleCellExperiment-class, BiocParallelParam-class
  scaterlogNormCounts.Rd: logNormCounts
  sctkListGeneSetCollections.Rd: GeneSetCollection-class
  sctkPythonInstallConda.Rd: conda_install, reticulate, conda_create
  sctkPythonInstallVirtualEnv.Rd: virtualenv_install, reticulate,
    virtualenv_create
  selectSCTKConda.Rd: reticulate
  selectSCTKVirtualEnvironment.Rd: reticulate
  setRowNames.Rd: SingleCellExperiment-class
  setSCTKDisplayRow.Rd: SingleCellExperiment-class
  singleCellTK.Rd: SingleCellExperiment-class
  subsetSCECols.Rd: SingleCellExperiment-class
  subsetSCERows.Rd: SingleCellExperiment-class, altExp
  summarizeSCE.Rd: SingleCellExperiment-class
Please provide package anchors for all Rd \link{} targets not in the
package itself and the base packages.
* checking for missing documentation entries ... OK
* checking for code/documentation mismatches ... OK
* checking Rd \usage sections ... OK
* checking Rd contents ... OK
* checking for unstated dependencies in examples ... OK
* checking contents of ‘data’ directory ... OK
* checking data for non-ASCII characters ... OK
* checking data for ASCII and uncompressed saves ... OK
* checking R/sysdata.rda ... OK
* checking files in ‘vignettes’ ... OK
* checking examples ... OK
Examples with CPU (user + system) or elapsed time > 5s
                           user system elapsed
importGeneSetsFromMSigDB 49.696  0.712  52.534
runSeuratSCTransform     42.899  0.290  43.551
plotDoubletFinderResults 41.431  0.362  44.310
runDoubletFinder         35.651  0.203  36.361
plotScDblFinderResults   34.476  0.439  36.246
runScDblFinder           22.879  0.482  23.478
importExampleData        15.178  1.253  24.764
plotBatchCorrCompare     15.002  0.678  16.646
plotScdsHybridResults    12.431  0.080  12.701
plotBcdsResults          11.709  0.668  14.270
plotDecontXResults        9.755  0.140   9.941
plotCxdsResults           8.910  0.606  10.172
plotDEGViolin             8.519  0.163   8.853
runUMAP                   7.615  0.298   8.798
plotUMAP                  7.367  0.120   7.970
runDecontX                7.446  0.036   8.143
plotTSCANClusterDEG       7.042  0.012   7.250
plotDEGRegression         6.601  0.239   7.006
detectCellOutlier         6.226  0.235   6.531
convertSCEToSeurat        5.666  0.252   5.984
plotEmptyDropsResults     5.833  0.028   5.873
plotFindMarkerHeatmap     5.705  0.079   5.830
plotEmptyDropsScatter     5.683  0.052   5.747
runEmptyDrops             5.234  0.024   5.635
runEnrichR                0.426  0.101   8.904
getEnrichRResult          0.410  0.070  10.069
* checking for unstated dependencies in ‘tests’ ... OK
* checking tests ...
  Running ‘spelling.R’
  Running ‘testthat.R’
 OK
* checking for unstated dependencies in vignettes ... OK
* checking package vignettes ... OK
* checking running R code from vignettes ... SKIPPED
* checking re-building of vignette outputs ... SKIPPED
* checking PDF version of manual ... OK
* DONE

Status: 1 NOTE
See
  ‘/home/biocbuild/bbs-3.22-bioc/meat/singleCellTK.Rcheck/00check.log’
for details.


Installation output

singleCellTK.Rcheck/00install.out

##############################################################################
##############################################################################
###
### Running command:
###
###   /home/biocbuild/R/R/bin/R CMD INSTALL singleCellTK
###
##############################################################################
##############################################################################


* installing to library ‘/home/biocbuild/R/R-4.5.0/site-library’
* installing *source* package ‘singleCellTK’ ...
** this is package ‘singleCellTK’ version ‘2.19.2’
** using staged installation
** R
** data
** exec
** inst
** byte-compile and prepare package for lazy loading
** help
*** installing help indices
** building package indices
** installing vignettes
** testing if installed package can be loaded from temporary location
** testing if installed package can be loaded from final location
** testing if installed package keeps a record of temporary installation path
* DONE (singleCellTK)

Tests output

singleCellTK.Rcheck/tests/spelling.Rout


R version 4.5.0 (2025-04-11) -- "How About a Twenty-Six"
Copyright (C) 2025 The R Foundation for Statistical Computing
Platform: aarch64-unknown-linux-gnu

R is free software and comes with ABSOLUTELY NO WARRANTY.
You are welcome to redistribute it under certain conditions.
Type 'license()' or 'licence()' for distribution details.

R is a collaborative project with many contributors.
Type 'contributors()' for more information and
'citation()' on how to cite R or R packages in publications.

Type 'demo()' for some demos, 'help()' for on-line help, or
'help.start()' for an HTML browser interface to help.
Type 'q()' to quit R.

> if (requireNamespace('spelling', quietly = TRUE))
+   spelling::spell_check_test(vignettes = TRUE, error = FALSE, skip_on_cran = TRUE)
All Done!
> 
> proc.time()
   user  system elapsed 
  0.179   0.041   0.205 

singleCellTK.Rcheck/tests/testthat.Rout


R version 4.5.0 (2025-04-11) -- "How About a Twenty-Six"
Copyright (C) 2025 The R Foundation for Statistical Computing
Platform: aarch64-unknown-linux-gnu

R is free software and comes with ABSOLUTELY NO WARRANTY.
You are welcome to redistribute it under certain conditions.
Type 'license()' or 'licence()' for distribution details.

R is a collaborative project with many contributors.
Type 'contributors()' for more information and
'citation()' on how to cite R or R packages in publications.

Type 'demo()' for some demos, 'help()' for on-line help, or
'help.start()' for an HTML browser interface to help.
Type 'q()' to quit R.

> library(testthat)
> library(singleCellTK)
Loading required package: SummarizedExperiment
Loading required package: MatrixGenerics
Loading required package: matrixStats

Attaching package: 'MatrixGenerics'

The following objects are masked from 'package:matrixStats':

    colAlls, colAnyNAs, colAnys, colAvgsPerRowSet, colCollapse,
    colCounts, colCummaxs, colCummins, colCumprods, colCumsums,
    colDiffs, colIQRDiffs, colIQRs, colLogSumExps, colMadDiffs,
    colMads, colMaxs, colMeans2, colMedians, colMins, colOrderStats,
    colProds, colQuantiles, colRanges, colRanks, colSdDiffs, colSds,
    colSums2, colTabulates, colVarDiffs, colVars, colWeightedMads,
    colWeightedMeans, colWeightedMedians, colWeightedSds,
    colWeightedVars, rowAlls, rowAnyNAs, rowAnys, rowAvgsPerColSet,
    rowCollapse, rowCounts, rowCummaxs, rowCummins, rowCumprods,
    rowCumsums, rowDiffs, rowIQRDiffs, rowIQRs, rowLogSumExps,
    rowMadDiffs, rowMads, rowMaxs, rowMeans2, rowMedians, rowMins,
    rowOrderStats, rowProds, rowQuantiles, rowRanges, rowRanks,
    rowSdDiffs, rowSds, rowSums2, rowTabulates, rowVarDiffs, rowVars,
    rowWeightedMads, rowWeightedMeans, rowWeightedMedians,
    rowWeightedSds, rowWeightedVars

Loading required package: GenomicRanges
Loading required package: stats4
Loading required package: BiocGenerics
Loading required package: generics

Attaching package: 'generics'

The following objects are masked from 'package:base':

    as.difftime, as.factor, as.ordered, intersect, is.element, setdiff,
    setequal, union


Attaching package: 'BiocGenerics'

The following objects are masked from 'package:stats':

    IQR, mad, sd, var, xtabs

The following objects are masked from 'package:base':

    Filter, Find, Map, Position, Reduce, anyDuplicated, aperm, append,
    as.data.frame, basename, cbind, colnames, dirname, do.call,
    duplicated, eval, evalq, get, grep, grepl, is.unsorted, lapply,
    mapply, match, mget, order, paste, pmax, pmax.int, pmin, pmin.int,
    rank, rbind, rownames, sapply, saveRDS, table, tapply, unique,
    unsplit, which.max, which.min

Loading required package: S4Vectors

Attaching package: 'S4Vectors'

The following object is masked from 'package:utils':

    findMatches

The following objects are masked from 'package:base':

    I, expand.grid, unname

Loading required package: IRanges
Loading required package: Seqinfo
Loading required package: Biobase
Welcome to Bioconductor

    Vignettes contain introductory material; view with
    'browseVignettes()'. To cite Bioconductor, see
    'citation("Biobase")', and for packages 'citation("pkgname")'.


Attaching package: 'Biobase'

The following object is masked from 'package:MatrixGenerics':

    rowMedians

The following objects are masked from 'package:matrixStats':

    anyMissing, rowMedians

Loading required package: SingleCellExperiment
Loading required package: DelayedArray
Loading required package: Matrix

Attaching package: 'Matrix'

The following object is masked from 'package:S4Vectors':

    expand

Loading required package: S4Arrays
Loading required package: abind

Attaching package: 'S4Arrays'

The following object is masked from 'package:abind':

    abind

The following object is masked from 'package:base':

    rowsum

Loading required package: SparseArray

Attaching package: 'DelayedArray'

The following objects are masked from 'package:base':

    apply, scale, sweep


Attaching package: 'singleCellTK'

The following object is masked from 'package:BiocGenerics':

    plotPCA

> 
> test_check("singleCellTK")
Found 2 batches
Using null model in ComBat-seq.
Adjusting for 0 covariate(s) or covariate level(s)
Estimating dispersions
Fitting the GLM model
Shrinkage off - using GLM estimates for parameters
Adjusting the data
Found 2 batches
Using null model in ComBat-seq.
Adjusting for 1 covariate(s) or covariate level(s)
Estimating dispersions
Fitting the GLM model
Shrinkage off - using GLM estimates for parameters
Adjusting the data
Performing log-normalization
0%   10   20   30   40   50   60   70   80   90   100%
[----|----|----|----|----|----|----|----|----|----|
**************************************************|

  |                                                                            
  |                                                                      |   0%
  |                                                                            
  |======================================================================| 100%
Calculating gene variances
0%   10   20   30   40   50   60   70   80   90   100%
[----|----|----|----|----|----|----|----|----|----|
**************************************************|
Calculating feature variances of standardized and clipped values
0%   10   20   30   40   50   60   70   80   90   100%
[----|----|----|----|----|----|----|----|----|----|
**************************************************|

  |                                                                            
  |                                                                      |   0%
  |                                                                            
  |======================================================================| 100%

  |                                                                            
  |                                                                      |   0%
  |                                                                            
  |======================================================================| 100%
Calculating gene variances
0%   10   20   30   40   50   60   70   80   90   100%
[----|----|----|----|----|----|----|----|----|----|
**************************************************|
Calculating feature variances of standardized and clipped values
0%   10   20   30   40   50   60   70   80   90   100%
[----|----|----|----|----|----|----|----|----|----|
**************************************************|
Uploading data to Enrichr... Done.
  Querying HDSigDB_Human_2021... Done.
Parsing results... Done.
Performing log-normalization
0%   10   20   30   40   50   60   70   80   90   100%
[----|----|----|----|----|----|----|----|----|----|
**************************************************|
Calculating gene variances
0%   10   20   30   40   50   60   70   80   90   100%
[----|----|----|----|----|----|----|----|----|----|
**************************************************|
Calculating feature variances of standardized and clipped values
0%   10   20   30   40   50   60   70   80   90   100%
[----|----|----|----|----|----|----|----|----|----|
**************************************************|
Calculating gene means
0%   10   20   30   40   50   60   70   80   90   100%
[----|----|----|----|----|----|----|----|----|----|
**************************************************|
Calculating gene variance to mean ratios
0%   10   20   30   40   50   60   70   80   90   100%
[----|----|----|----|----|----|----|----|----|----|
**************************************************|
Calculating gene means
0%   10   20   30   40   50   60   70   80   90   100%
[----|----|----|----|----|----|----|----|----|----|
**************************************************|
Calculating gene variance to mean ratios
0%   10   20   30   40   50   60   70   80   90   100%
[----|----|----|----|----|----|----|----|----|----|
**************************************************|
Performing log-normalization
0%   10   20   30   40   50   60   70   80   90   100%
[----|----|----|----|----|----|----|----|----|----|
**************************************************|
Calculating gene variances
0%   10   20   30   40   50   60   70   80   90   100%
[----|----|----|----|----|----|----|----|----|----|
**************************************************|
Calculating feature variances of standardized and clipped values
0%   10   20   30   40   50   60   70   80   90   100%
[----|----|----|----|----|----|----|----|----|----|
**************************************************|

  |                                                                            
  |                                                                      |   0%
  |                                                                            
  |======================================================================| 100%
[1]	train-logloss:0.452573 
Will train until train_logloss hasn't improved in 2 rounds.

[2]	train-logloss:0.320290 
[3]	train-logloss:0.237363 
[4]	train-logloss:0.182378 
[5]	train-logloss:0.144113 
[6]	train-logloss:0.117560 
[7]	train-logloss:0.098812 
[8]	train-logloss:0.084977 
[9]	train-logloss:0.075059 
[10]	train-logloss:0.067480 
[11]	train-logloss:0.061855 
[12]	train-logloss:0.057358 
[13]	train-logloss:0.053969 
[14]	train-logloss:0.050909 
[15]	train-logloss:0.047615 
[16]	train-logloss:0.045564 
[17]	train-logloss:0.043868 
[1]	train-logloss:0.453064 
Will train until train_logloss hasn't improved in 2 rounds.

[2]	train-logloss:0.321072 
[3]	train-logloss:0.238210 
[4]	train-logloss:0.183469 
[5]	train-logloss:0.145239 
[6]	train-logloss:0.118860 
[7]	train-logloss:0.100304 
[8]	train-logloss:0.086606 
[9]	train-logloss:0.076012 
[10]	train-logloss:0.068021 
[11]	train-logloss:0.062325 
[12]	train-logloss:0.057942 
[13]	train-logloss:0.054289 
[14]	train-logloss:0.051302 
[15]	train-logloss:0.048796 
[1]	train-logloss:0.453064 
Will train until train_logloss hasn't improved in 2 rounds.

[2]	train-logloss:0.321072 
[3]	train-logloss:0.238210 
[4]	train-logloss:0.183469 
[5]	train-logloss:0.145239 
[6]	train-logloss:0.118860 
[7]	train-logloss:0.100304 
[8]	train-logloss:0.086606 
[9]	train-logloss:0.076012 
[10]	train-logloss:0.068021 
[11]	train-logloss:0.062325 
[12]	train-logloss:0.057942 
[13]	train-logloss:0.054289 
[14]	train-logloss:0.051302 
[15]	train-logloss:0.048796 
[16]	train-logloss:0.046452 
Performing log-normalization
0%   10   20   30   40   50   60   70   80   90   100%
[----|----|----|----|----|----|----|----|----|----|
**************************************************|

  |                                                                            
  |                                                                      |   0%
  |                                                                            
  |======================================================================| 100%
Calculating gene variances
0%   10   20   30   40   50   60   70   80   90   100%
[----|----|----|----|----|----|----|----|----|----|
**************************************************|
Calculating feature variances of standardized and clipped values
0%   10   20   30   40   50   60   70   80   90   100%
[----|----|----|----|----|----|----|----|----|----|
**************************************************|

  |                                                                            
  |                                                                      |   0%
  |                                                                            
  |======================================================================| 100%

  |                                                                            
  |                                                                      |   0%
  |                                                                            
  |======================================================================| 100%
Modularity Optimizer version 1.3.0 by Ludo Waltman and Nees Jan van Eck

Number of nodes: 390
Number of edges: 9849

Running Louvain algorithm...
0%   10   20   30   40   50   60   70   80   90   100%
[----|----|----|----|----|----|----|----|----|----|
**************************************************|
Maximum modularity in 10 random starts: 0.8351
Number of communities: 7
Elapsed time: 0 seconds
Using method 'umap'
0%   10   20   30   40   50   60   70   80   90   100%
[----|----|----|----|----|----|----|----|----|----|
**************************************************|

  |                                                                            
  |                                                                      |   0%
  |                                                                            
  |======================================================================| 100%

  |                                                                            
  |                                                                      |   0%
  |                                                                            
  |======================================================================| 100%
0%   10   20   30   40   50   60   70   80   90   100%
[----|----|----|----|----|----|----|----|----|----|
**************************************************|
0%   10   20   30   40   50   60   70   80   90   100%
[----|----|----|----|----|----|----|----|----|----|
**************************************************|

  |                                                                            
  |                                                                      |   0%
  |                                                                            
  |======================================================================| 100%

  |                                                                            
  |                                                                      |   0%
  |                                                                            
  |======================================================================| 100%
Performing log-normalization
0%   10   20   30   40   50   60   70   80   90   100%
[----|----|----|----|----|----|----|----|----|----|
**************************************************|
[ FAIL 0 | WARN 22 | SKIP 0 | PASS 225 ]

[ FAIL 0 | WARN 22 | SKIP 0 | PASS 225 ]
> 
> proc.time()
   user  system elapsed 
377.937  11.807 423.526 

Example timings

singleCellTK.Rcheck/singleCellTK-Ex.timings

nameusersystemelapsed
MitoGenes0.0030.0000.003
SEG0.0030.0000.002
calcEffectSizes0.2640.0080.273
combineSCE1.2000.0311.594
computeZScore0.2630.0040.270
convertSCEToSeurat5.6660.2525.984
convertSeuratToSCE0.4620.0040.468
dedupRowNames0.0690.0040.072
detectCellOutlier6.2260.2356.531
diffAbundanceFET0.0520.0080.060
discreteColorPalette0.0080.0000.008
distinctColors0.0030.0000.003
downSampleCells0.7490.0280.779
downSampleDepth0.5820.0080.591
expData-ANY-character-method0.1680.0000.168
expData-set-ANY-character-CharacterOrNullOrMissing-logical-method0.2150.0040.225
expData-set0.2070.0000.213
expData0.1750.0160.195
expDataNames-ANY-method0.1660.0000.166
expDataNames0.1560.0040.159
expDeleteDataTag0.0390.0000.039
expSetDataTag0.0230.0040.027
expTaggedData0.0270.0000.027
exportSCE0.0190.0040.022
exportSCEtoAnnData0.0690.0070.077
exportSCEtoFlatFile0.0510.0240.074
featureIndex0.0390.0040.044
generateSimulatedData0.0580.0040.063
getBiomarker0.0700.0040.075
getDEGTopTable0.9440.0881.291
getDiffAbundanceResults0.0550.0080.063
getEnrichRResult 0.410 0.07010.069
getFindMarkerTopTable2.1360.2112.466
getMSigDBTable0.0010.0030.004
getPathwayResultNames0.0290.0000.028
getSampleSummaryStatsTable0.2570.0160.274
getSoupX000
getTSCANResults1.4130.1831.603
getTopHVG1.1470.0801.231
importAnnData0.0020.0000.002
importBUStools0.2240.0160.293
importCellRanger1.0260.0841.152
importCellRangerV2Sample0.2090.0320.242
importCellRangerV3Sample0.4450.0120.462
importDropEst0.2980.0200.359
importExampleData15.178 1.25324.764
importGeneSetsFromCollection1.8640.1251.996
importGeneSetsFromGMT0.0780.0000.078
importGeneSetsFromList0.1670.0000.167
importGeneSetsFromMSigDB49.696 0.71252.534
importMitoGeneSet0.0570.0160.073
importOptimus0.0010.0000.001
importSEQC0.2260.0200.411
importSTARsolo0.2300.0070.301
iterateSimulations0.2260.0280.255
listSampleSummaryStatsTables0.4090.0320.441
mergeSCEColData0.4750.0160.491
mouseBrainSubsetSCE0.0360.0000.037
msigdb_table0.0020.0000.001
plotBarcodeRankDropsResults1.2220.0081.233
plotBarcodeRankScatter1.2240.0001.227
plotBatchCorrCompare15.002 0.67816.646
plotBatchVariance0.6390.0270.669
plotBcdsResults11.709 0.66814.270
plotBubble1.1910.0801.275
plotClusterAbundance2.1910.1352.334
plotCxdsResults 8.910 0.60610.172
plotDEGHeatmap3.0780.2073.294
plotDEGRegression6.6010.2397.006
plotDEGViolin8.5190.1638.853
plotDEGVolcano1.2500.0641.318
plotDecontXResults9.7550.1409.941
plotDimRed0.4470.0040.452
plotDoubletFinderResults41.431 0.36244.310
plotEmptyDropsResults5.8330.0285.873
plotEmptyDropsScatter5.6830.0525.747
plotFindMarkerHeatmap5.7050.0795.830
plotMASTThresholdGenes1.9570.0201.983
plotPCA0.5260.0080.536
plotPathway0.9580.0000.964
plotRunPerCellQCResults4.6950.0244.732
plotSCEBarAssayData0.4820.0040.487
plotSCEBarColData0.3380.0000.341
plotSCEBatchFeatureMean0.6150.0040.622
plotSCEDensity0.4610.0000.461
plotSCEDensityAssayData0.5190.0000.521
plotSCEDensityColData0.4680.0000.470
plotSCEDimReduceColData1.1910.0041.197
plotSCEDimReduceFeatures0.5470.0000.549
plotSCEHeatmap0.6210.0040.626
plotSCEScatter2.0790.0282.113
plotSCEViolin0.5150.0040.520
plotSCEViolinAssayData0.5470.0070.556
plotSCEViolinColData0.5120.0040.517
plotScDblFinderResults34.476 0.43936.246
plotScanpyDotPlot0.0230.0000.024
plotScanpyEmbedding0.0240.0000.023
plotScanpyHVG0.0230.0000.023
plotScanpyHeatmap0.0230.0000.023
plotScanpyMarkerGenes0.0230.0000.023
plotScanpyMarkerGenesDotPlot0.0240.0000.024
plotScanpyMarkerGenesHeatmap0.0230.0000.023
plotScanpyMarkerGenesMatrixPlot0.0230.0000.023
plotScanpyMarkerGenesViolin0.0230.0000.023
plotScanpyMatrixPlot0.0230.0000.023
plotScanpyPCA0.0230.0000.023
plotScanpyPCAGeneRanking0.0260.0000.026
plotScanpyPCAVariance0.0260.0000.026
plotScanpyViolin0.0260.0000.026
plotScdsHybridResults12.431 0.08012.701
plotScrubletResults0.0240.0000.025
plotSeuratElbow0.0240.0000.025
plotSeuratHVG0.0210.0040.024
plotSeuratJackStraw0.0250.0000.025
plotSeuratReduction0.0250.0000.025
plotSoupXResults000
plotTSCANClusterDEG7.0420.0127.250
plotTSCANClusterPseudo1.9390.0202.000
plotTSCANDimReduceFeatures2.0540.0082.096
plotTSCANPseudotimeGenes2.4800.0042.491
plotTSCANPseudotimeHeatmap1.9140.0281.952
plotTSCANResults1.8490.0081.861
plotTSNE0.5220.0040.527
plotTopHVG0.8700.0000.899
plotUMAP7.3670.1207.970
readSingleCellMatrix0.0060.0000.007
reportCellQC0.1070.0000.107
reportDropletQC0.0190.0040.023
reportQCTool0.1020.0040.106
retrieveSCEIndex0.0330.0000.033
runBBKNN000
runBarcodeRankDrops0.2990.0040.303
runBcds3.1940.0483.247
runCellQC0.1110.0000.111
runClusterSummaryMetrics0.5160.0000.516
runComBatSeq0.6380.0070.646
runCxds0.4090.0030.446
runCxdsBcdsHybrid3.1560.0643.226
runDEAnalysis0.5760.0280.605
runDecontX7.4460.0368.143
runDimReduce0.3800.0000.383
runDoubletFinder35.651 0.20336.361
runDropletQC0.0220.0040.026
runEmptyDrops5.2340.0245.635
runEnrichR0.4260.1018.904
runFastMNN2.5400.2513.224
runFeatureSelection0.2860.0160.303
runFindMarker2.0920.0722.170
runGSVA1.0160.0521.070
runHarmony0.0570.0040.061
runKMeans0.2390.0080.248
runLimmaBC0.2270.0350.263
runMNNCorrect0.6120.0321.103
runModelGeneVar0.4610.0040.481
runNormalization2.8150.2483.150
runPerCellQC0.4760.0120.489
runSCANORAMA000
runSCMerge0.0040.0000.005
runScDblFinder22.879 0.48223.478
runScanpyFindClusters0.0190.0040.023
runScanpyFindHVG0.0230.0000.023
runScanpyFindMarkers0.0220.0000.023
runScanpyNormalizeData0.1230.0040.127
runScanpyPCA0.0230.0000.022
runScanpyScaleData0.0230.0000.023
runScanpyTSNE0.0230.0000.023
runScanpyUMAP0.0250.0000.025
runScranSNN0.3970.0040.402
runScrublet0.0190.0040.023
runSeuratFindClusters0.0230.0000.023
runSeuratFindHVG0.6370.0000.643
runSeuratHeatmap0.0240.0000.025
runSeuratICA0.0230.0000.023
runSeuratJackStraw0.0230.0000.023
runSeuratNormalizeData0.0230.0000.023
runSeuratPCA0.0230.0000.024
runSeuratSCTransform42.899 0.29043.551
runSeuratScaleData0.0240.0000.023
runSeuratUMAP0.0220.0000.023
runSingleR0.0520.0000.054
runSoupX0.0000.0000.001
runTSCAN0.9460.0120.965
runTSCANClusterDEAnalysis1.0220.0001.025
runTSCANDEG1.0460.0041.057
runTSNE0.9930.0081.004
runUMAP7.6150.2988.798
runVAM0.4390.0280.469
runZINBWaVE0.0050.0000.004
sampleSummaryStats0.2240.0120.237
scaterCPM0.1300.0120.143
scaterPCA0.6480.0440.696
scaterlogNormCounts0.2010.0160.217
sce0.0240.0000.023
sctkListGeneSetCollections0.1170.0000.117
sctkPythonInstallConda0.0010.0000.000
sctkPythonInstallVirtualEnv000
selectSCTKConda000
selectSCTKVirtualEnvironment0.0000.0000.001
setRowNames0.1140.0030.118
setSCTKDisplayRow0.5780.0400.620
singleCellTK000
subDiffEx0.4150.0120.429
subsetSCECols0.1060.0080.114
subsetSCERows0.3740.0400.415
summarizeSCE0.0830.0000.083
trimCounts0.2030.0080.212