| Back to Multiple platform build/check report for BioC 3.22: simplified long |
|
This page was generated on 2025-10-21 12:07 -0400 (Tue, 21 Oct 2025).
| Hostname | OS | Arch (*) | R version | Installed pkgs |
|---|---|---|---|---|
| nebbiolo2 | Linux (Ubuntu 24.04.3 LTS) | x86_64 | 4.5.1 Patched (2025-08-23 r88802) -- "Great Square Root" | 4887 |
| lconway | macOS 12.7.6 Monterey | x86_64 | 4.5.1 Patched (2025-09-10 r88807) -- "Great Square Root" | 4677 |
| kjohnson3 | macOS 13.7.7 Ventura | arm64 | 4.5.1 Patched (2025-09-10 r88807) -- "Great Square Root" | 4622 |
| taishan | Linux (openEuler 24.03 LTS) | aarch64 | 4.5.0 (2025-04-11) -- "How About a Twenty-Six" | 4642 |
| Click on any hostname to see more info about the system (e.g. compilers) (*) as reported by 'uname -p', except on Windows and Mac OS X | ||||
| Package 1243/2353 | Hostname | OS / Arch | INSTALL | BUILD | CHECK | BUILD BIN | ||||||||
| metagenomeSeq 1.51.0 (landing page) Joseph N. Paulson
| nebbiolo2 | Linux (Ubuntu 24.04.3 LTS) / x86_64 | OK | OK | OK | |||||||||
| lconway | macOS 12.7.6 Monterey / x86_64 | OK | OK | OK | OK | |||||||||
| kjohnson3 | macOS 13.7.7 Ventura / arm64 | OK | OK | OK | OK | |||||||||
| taishan | Linux (openEuler 24.03 LTS) / aarch64 | OK | OK | OK | ||||||||||
|
To the developers/maintainers of the metagenomeSeq package: - Allow up to 24 hours (and sometimes 48 hours) for your latest push to git@git.bioconductor.org:packages/metagenomeSeq.git to reflect on this report. See Troubleshooting Build Report for more information. - Use the following Renviron settings to reproduce errors and warnings. - If 'R CMD check' started to fail recently on the Linux builder(s) over a missing dependency, add the missing dependency to 'Suggests:' in your DESCRIPTION file. See Renviron.bioc for more information. - See Martin Grigorov's blog post for how to debug Linux ARM64 related issues on a x86_64 host. |
| Package: metagenomeSeq |
| Version: 1.51.0 |
| Command: /home/biocbuild/R/R/bin/R CMD check --install=check:metagenomeSeq.install-out.txt --library=/home/biocbuild/R/R/site-library --no-vignettes --timings metagenomeSeq_1.51.0.tar.gz |
| StartedAt: 2025-10-17 10:50:06 -0000 (Fri, 17 Oct 2025) |
| EndedAt: 2025-10-17 10:54:27 -0000 (Fri, 17 Oct 2025) |
| EllapsedTime: 261.2 seconds |
| RetCode: 0 |
| Status: OK |
| CheckDir: metagenomeSeq.Rcheck |
| Warnings: 0 |
##############################################################################
##############################################################################
###
### Running command:
###
### /home/biocbuild/R/R/bin/R CMD check --install=check:metagenomeSeq.install-out.txt --library=/home/biocbuild/R/R/site-library --no-vignettes --timings metagenomeSeq_1.51.0.tar.gz
###
##############################################################################
##############################################################################
* using log directory ‘/home/biocbuild/bbs-3.22-bioc/meat/metagenomeSeq.Rcheck’
* using R version 4.5.0 (2025-04-11)
* using platform: aarch64-unknown-linux-gnu
* R was compiled by
aarch64-unknown-linux-gnu-gcc (GCC) 14.2.0
GNU Fortran (GCC) 14.2.0
* running under: openEuler 24.03 (LTS)
* using session charset: UTF-8
* using option ‘--no-vignettes’
* checking for file ‘metagenomeSeq/DESCRIPTION’ ... OK
* this is package ‘metagenomeSeq’ version ‘1.51.0’
* checking package namespace information ... OK
* checking package dependencies ... OK
* checking if this is a source package ... OK
* checking if there is a namespace ... OK
* checking for hidden files and directories ... OK
* checking for portable file names ... OK
* checking for sufficient/correct file permissions ... OK
* checking whether package ‘metagenomeSeq’ can be installed ... OK
* checking installed package size ... OK
* checking package directory ... OK
* checking ‘build’ directory ... OK
* checking DESCRIPTION meta-information ... OK
* checking top-level files ... OK
* checking for left-over files ... OK
* checking index information ... OK
* checking package subdirectories ... OK
* checking code files for non-ASCII characters ... OK
* checking R files for syntax errors ... OK
* checking whether the package can be loaded ... OK
* checking whether the package can be loaded with stated dependencies ... OK
* checking whether the package can be unloaded cleanly ... OK
* checking whether the namespace can be loaded with stated dependencies ... OK
* checking whether the namespace can be unloaded cleanly ... OK
* checking loading without being on the library search path ... OK
* checking dependencies in R code ... OK
* checking S3 generic/method consistency ... OK
* checking replacement functions ... OK
* checking foreign function calls ... OK
* checking R code for possible problems ... OK
* checking Rd files ... OK
* checking Rd metadata ... OK
* checking Rd cross-references ... OK
* checking for missing documentation entries ... OK
* checking for code/documentation mismatches ... OK
* checking Rd \usage sections ... OK
* checking Rd contents ... OK
* checking for unstated dependencies in examples ... OK
* checking contents of ‘data’ directory ... OK
* checking data for non-ASCII characters ... OK
* checking data for ASCII and uncompressed saves ... OK
* checking files in ‘vignettes’ ... OK
* checking examples ... OK
Examples with CPU (user + system) or elapsed time > 5s
user system elapsed
wrenchNorm 17.068 0.199 17.323
MRfulltable 1.209 0.030 6.662
* checking for unstated dependencies in ‘tests’ ... OK
* checking tests ...
Running ‘testthat.R’
OK
* checking for unstated dependencies in vignettes ... OK
* checking package vignettes ... OK
* checking running R code from vignettes ... SKIPPED
* checking re-building of vignette outputs ... SKIPPED
* checking PDF version of manual ... OK
* DONE
Status: OK
metagenomeSeq.Rcheck/00install.out
############################################################################## ############################################################################## ### ### Running command: ### ### /home/biocbuild/R/R/bin/R CMD INSTALL metagenomeSeq ### ############################################################################## ############################################################################## * installing to library ‘/home/biocbuild/R/R-4.5.0/site-library’ * installing *source* package ‘metagenomeSeq’ ... ** this is package ‘metagenomeSeq’ version ‘1.51.0’ ** using staged installation ** R ** data ** inst ** byte-compile and prepare package for lazy loading in method for ‘MRihw’ with signature ‘"fitFeatureModelResults"’: no definition for class “fitFeatureModelResults” in method for ‘MRihw’ with signature ‘"fitZigResults"’: no definition for class “fitZigResults” ** help *** installing help indices ** building package indices ** installing vignettes ** testing if installed package can be loaded from temporary location ** testing if installed package can be loaded from final location ** testing if installed package keeps a record of temporary installation path * DONE (metagenomeSeq)
metagenomeSeq.Rcheck/tests/testthat.Rout
R version 4.5.0 (2025-04-11) -- "How About a Twenty-Six"
Copyright (C) 2025 The R Foundation for Statistical Computing
Platform: aarch64-unknown-linux-gnu
R is free software and comes with ABSOLUTELY NO WARRANTY.
You are welcome to redistribute it under certain conditions.
Type 'license()' or 'licence()' for distribution details.
R is a collaborative project with many contributors.
Type 'contributors()' for more information and
'citation()' on how to cite R or R packages in publications.
Type 'demo()' for some demos, 'help()' for on-line help, or
'help.start()' for an HTML browser interface to help.
Type 'q()' to quit R.
> library("testthat")
> packageVersion("metagenomeSeq")
[1] '1.51.0'
> # As suggested for opt-out option on testing by users,
> # recommended by CRAN: http://adv-r.had.co.nz/Testing.html
> # Previously, best practice was to put all test files in inst/tests
> # and ensure that R CMD check ran them by putting the following code in tests/test-all.R:
> # >library(testthat)
> # >library(yourpackage)
> # >test_package("yourpackage")
> # Now, recommended practice is to put your tests in tests/testthat,
> # and ensure R CMD check runs them by putting the following code in tests/test-all.R:
> # >library(testthat)
> # >test_check("yourpackage")
> # The advantage of this new structure is that the user has control over whether or not tests are installed using the –install-tests parameter to
> # R CMD install, or INSTALL_opts = c(“–install-tests”) argument to install.packages(). I’m not sure why you wouldn’t want to install the tests,
> # but now you have the flexibility as requested by CRAN maintainers.
> test_check("metagenomeSeq")
Loading required package: metagenomeSeq
Loading required package: Biobase
Loading required package: BiocGenerics
Loading required package: generics
Attaching package: 'generics'
The following objects are masked from 'package:base':
as.difftime, as.factor, as.ordered, intersect, is.element, setdiff,
setequal, union
Attaching package: 'BiocGenerics'
The following objects are masked from 'package:stats':
IQR, mad, sd, var, xtabs
The following objects are masked from 'package:base':
Filter, Find, Map, Position, Reduce, anyDuplicated, aperm, append,
as.data.frame, basename, cbind, colnames, dirname, do.call,
duplicated, eval, evalq, get, grep, grepl, is.unsorted, lapply,
mapply, match, mget, order, paste, pmax, pmax.int, pmin, pmin.int,
rank, rbind, rownames, sapply, saveRDS, table, tapply, unique,
unsplit, which.max, which.min
Welcome to Bioconductor
Vignettes contain introductory material; view with
'browseVignettes()'. To cite Bioconductor, see
'citation("Biobase")', and for packages 'citation("pkgname")'.
Loading required package: limma
Attaching package: 'limma'
The following object is masked from 'package:BiocGenerics':
plotMA
Loading required package: glmnet
Loading required package: Matrix
Loaded glmnet 4.1-10
Loading required package: RColorBrewer
[ FAIL 0 | WARN 6 | SKIP 0 | PASS 15 ]
[ FAIL 0 | WARN 6 | SKIP 0 | PASS 15 ]
>
> proc.time()
user system elapsed
109.816 2.243 112.330
metagenomeSeq.Rcheck/metagenomeSeq-Ex.timings
| name | user | system | elapsed | |
| MRcoefs | 1.420 | 0.032 | 1.456 | |
| MRcounts | 0.457 | 0.004 | 0.462 | |
| MRexperiment-class | 0.001 | 0.000 | 0.000 | |
| MRfulltable | 1.209 | 0.030 | 6.662 | |
| MRtable | 1.323 | 0.000 | 1.328 | |
| aggregateBySample | 0.159 | 0.004 | 0.164 | |
| aggregateByTaxonomy | 0.191 | 0.067 | 0.259 | |
| biom2MRexperiment | 0.307 | 0.116 | 0.426 | |
| calcNormFactors | 0.708 | 0.151 | 0.863 | |
| correctIndices | 0.110 | 0.004 | 0.115 | |
| correlationTest | 0.219 | 0.011 | 0.231 | |
| cumNorm | 0.537 | 0.004 | 0.543 | |
| cumNormMat | 0.569 | 0.016 | 0.586 | |
| cumNormStat | 0.887 | 0.004 | 0.895 | |
| cumNormStatFast | 0.371 | 0.000 | 0.373 | |
| expSummary | 0.093 | 0.004 | 0.096 | |
| exportMat | 1.021 | 0.423 | 1.448 | |
| exportStats | 0.474 | 0.004 | 0.479 | |
| extractMR | 0.557 | 0.203 | 0.762 | |
| filterData | 0.219 | 0.004 | 0.223 | |
| fitDO | 0.462 | 0.010 | 3.587 | |
| fitFeatureModel | 1.313 | 0.048 | 1.364 | |
| fitLogNormal | 2.093 | 0.008 | 2.107 | |
| fitMultipleTimeSeries | 2.154 | 0.004 | 2.164 | |
| fitPA | 0.435 | 0.006 | 3.390 | |
| fitSSTimeSeries | 0.455 | 0.004 | 0.461 | |
| fitTimeSeries | 0.444 | 0.000 | 0.446 | |
| fitZig | 2.099 | 0.004 | 2.109 | |
| libSize-set | 0.325 | 0.008 | 0.333 | |
| libSize | 0.304 | 0.000 | 0.305 | |
| loadBiom | 0.051 | 0.000 | 0.052 | |
| loadMeta | 0.022 | 0.000 | 0.024 | |
| loadMetaQ | 0.001 | 0.000 | 0.000 | |
| loadPhenoData | 0.011 | 0.000 | 0.012 | |
| makeLabels | 0 | 0 | 0 | |
| mergeMRexperiments | 1.675 | 0.040 | 1.720 | |
| newMRexperiment | 0.040 | 0.000 | 0.041 | |
| normFactors-set | 0.303 | 0.000 | 0.304 | |
| normFactors | 0.274 | 0.000 | 0.275 | |
| plotBubble | 0.296 | 0.004 | 3.207 | |
| plotClassTimeSeries | 1.094 | 0.004 | 1.102 | |
| plotCorr | 0.747 | 0.004 | 0.753 | |
| plotFeature | 0.140 | 0.024 | 0.164 | |
| plotGenus | 0.141 | 0.008 | 0.150 | |
| plotMRheatmap | 2.639 | 0.008 | 2.655 | |
| plotOTU | 0.147 | 0.000 | 0.148 | |
| plotOrd | 0.235 | 0.008 | 0.245 | |
| plotRare | 0.143 | 0.004 | 0.148 | |
| plotTimeSeries | 1.075 | 0.008 | 1.087 | |
| posteriorProbs | 2.053 | 0.016 | 2.076 | |
| returnAppropriateObj | 0.284 | 0.000 | 0.285 | |
| ssFit | 0 | 0 | 0 | |
| ssIntervalCandidate | 0 | 0 | 0 | |
| ssPerm | 0 | 0 | 0 | |
| ssPermAnalysis | 0 | 0 | 0 | |
| trapz | 0.001 | 0.000 | 0.001 | |
| ts2MRexperiment | 1.923 | 0.004 | 1.934 | |
| uniqueFeatures | 0.109 | 0.004 | 0.113 | |
| wrenchNorm | 17.068 | 0.199 | 17.323 | |
| zigControl | 0 | 0 | 0 | |