| Back to Multiple platform build/check report for BioC 3.22: simplified long | 
 | 
This page was generated on 2025-10-21 12:07 -0400 (Tue, 21 Oct 2025).
| Hostname | OS | Arch (*) | R version | Installed pkgs | 
|---|---|---|---|---|
| nebbiolo2 | Linux (Ubuntu 24.04.3 LTS) | x86_64 | 4.5.1 Patched (2025-08-23 r88802) -- "Great Square Root" | 4887 | 
| lconway | macOS 12.7.6 Monterey | x86_64 | 4.5.1 Patched (2025-09-10 r88807) -- "Great Square Root" | 4677 | 
| kjohnson3 | macOS 13.7.7 Ventura | arm64 | 4.5.1 Patched (2025-09-10 r88807) -- "Great Square Root" | 4622 | 
| taishan | Linux (openEuler 24.03 LTS) | aarch64 | 4.5.0 (2025-04-11) -- "How About a Twenty-Six" | 4642 | 
| Click on any hostname to see more info about the system (e.g. compilers) (*) as reported by 'uname -p', except on Windows and Mac OS X | ||||
| Package 2022/2353 | Hostname | OS / Arch | INSTALL | BUILD | CHECK | BUILD BIN | ||||||||
| SingleCellAlleleExperiment 1.5.1  (landing page) Jonas Schuck 
 | nebbiolo2 | Linux (Ubuntu 24.04.3 LTS) / x86_64 | OK | OK | OK |  | ||||||||
| lconway | macOS 12.7.6 Monterey / x86_64 | OK | OK | OK | OK |  | ||||||||
| kjohnson3 | macOS 13.7.7 Ventura / arm64 | OK | OK | OK | OK |  | ||||||||
| taishan | Linux (openEuler 24.03 LTS) / aarch64 | OK | OK | OK | ||||||||||
| To the developers/maintainers of the SingleCellAlleleExperiment package: - Allow up to 24 hours (and sometimes 48 hours) for your latest push to git@git.bioconductor.org:packages/SingleCellAlleleExperiment.git to reflect on this report. See Troubleshooting Build Report for more information. - Use the following Renviron settings to reproduce errors and warnings. - If 'R CMD check' started to fail recently on the Linux builder(s) over a missing dependency, add the missing dependency to 'Suggests:' in your DESCRIPTION file. See Renviron.bioc for more information. - See Martin Grigorov's blog post for how to debug Linux ARM64 related issues on a x86_64 host. | 
| Package: SingleCellAlleleExperiment | 
| Version: 1.5.1 | 
| Command: /home/biocbuild/R/R/bin/R CMD check --install=check:SingleCellAlleleExperiment.install-out.txt --library=/home/biocbuild/R/R/site-library --no-vignettes --timings SingleCellAlleleExperiment_1.5.1.tar.gz | 
| StartedAt: 2025-10-17 13:43:44 -0000 (Fri, 17 Oct 2025) | 
| EndedAt: 2025-10-17 13:56:08 -0000 (Fri, 17 Oct 2025) | 
| EllapsedTime: 744.0 seconds | 
| RetCode: 0 | 
| Status: OK | 
| CheckDir: SingleCellAlleleExperiment.Rcheck | 
| Warnings: 0 | 
##############################################################################
##############################################################################
###
### Running command:
###
###   /home/biocbuild/R/R/bin/R CMD check --install=check:SingleCellAlleleExperiment.install-out.txt --library=/home/biocbuild/R/R/site-library --no-vignettes --timings SingleCellAlleleExperiment_1.5.1.tar.gz
###
##############################################################################
##############################################################################
* using log directory ‘/home/biocbuild/bbs-3.22-bioc/meat/SingleCellAlleleExperiment.Rcheck’
* using R version 4.5.0 (2025-04-11)
* using platform: aarch64-unknown-linux-gnu
* R was compiled by
    aarch64-unknown-linux-gnu-gcc (GCC) 14.2.0
    GNU Fortran (GCC) 14.2.0
* running under: openEuler 24.03 (LTS)
* using session charset: UTF-8
* using option ‘--no-vignettes’
* checking for file ‘SingleCellAlleleExperiment/DESCRIPTION’ ... OK
* this is package ‘SingleCellAlleleExperiment’ version ‘1.5.1’
* package encoding: UTF-8
* checking package namespace information ... OK
* checking package dependencies ... OK
* checking if this is a source package ... OK
* checking if there is a namespace ... OK
* checking for hidden files and directories ... OK
* checking for portable file names ... OK
* checking for sufficient/correct file permissions ... OK
* checking whether package ‘SingleCellAlleleExperiment’ can be installed ... OK
* checking installed package size ... OK
* checking package directory ... OK
* checking ‘build’ directory ... OK
* checking DESCRIPTION meta-information ... OK
* checking top-level files ... OK
* checking for left-over files ... OK
* checking index information ... OK
* checking package subdirectories ... OK
* checking code files for non-ASCII characters ... OK
* checking R files for syntax errors ... OK
* checking whether the package can be loaded ... OK
* checking whether the package can be loaded with stated dependencies ... OK
* checking whether the package can be unloaded cleanly ... OK
* checking whether the namespace can be loaded with stated dependencies ... OK
* checking whether the namespace can be unloaded cleanly ... OK
* checking loading without being on the library search path ... OK
* checking dependencies in R code ... OK
* checking S3 generic/method consistency ... OK
* checking replacement functions ... OK
* checking foreign function calls ... OK
* checking R code for possible problems ... OK
* checking Rd files ... OK
* checking Rd metadata ... OK
* checking Rd cross-references ... OK
* checking for missing documentation entries ... OK
* checking for code/documentation mismatches ... OK
* checking Rd \usage sections ... OK
* checking Rd contents ... OK
* checking for unstated dependencies in examples ... OK
* checking files in ‘vignettes’ ... OK
* checking examples ... OK
Examples with CPU (user + system) or elapsed time > 5s
                             user system elapsed
SingleCellAlleleExperiment 59.425  4.489  77.120
scae_subset                47.710  1.974  62.265
read_allele_counts         37.874  2.184  51.421
* checking for unstated dependencies in ‘tests’ ... OK
* checking tests ...
  Running ‘testthat.R’
 OK
* checking for unstated dependencies in vignettes ... OK
* checking package vignettes ... OK
* checking running R code from vignettes ... SKIPPED
* checking re-building of vignette outputs ... SKIPPED
* checking PDF version of manual ... OK
* DONE
Status: OK
SingleCellAlleleExperiment.Rcheck/00install.out
############################################################################## ############################################################################## ### ### Running command: ### ### /home/biocbuild/R/R/bin/R CMD INSTALL SingleCellAlleleExperiment ### ############################################################################## ############################################################################## * installing to library ‘/home/biocbuild/R/R-4.5.0/site-library’ * installing *source* package ‘SingleCellAlleleExperiment’ ... ** this is package ‘SingleCellAlleleExperiment’ version ‘1.5.1’ ** using staged installation ** R ** byte-compile and prepare package for lazy loading ** help *** installing help indices ** building package indices ** installing vignettes ** testing if installed package can be loaded from temporary location ** testing if installed package can be loaded from final location ** testing if installed package keeps a record of temporary installation path * DONE (SingleCellAlleleExperiment)
SingleCellAlleleExperiment.Rcheck/tests/testthat.Rout
R version 4.5.0 (2025-04-11) -- "How About a Twenty-Six"
Copyright (C) 2025 The R Foundation for Statistical Computing
Platform: aarch64-unknown-linux-gnu
R is free software and comes with ABSOLUTELY NO WARRANTY.
You are welcome to redistribute it under certain conditions.
Type 'license()' or 'licence()' for distribution details.
R is a collaborative project with many contributors.
Type 'contributors()' for more information and
'citation()' on how to cite R or R packages in publications.
Type 'demo()' for some demos, 'help()' for on-line help, or
'help.start()' for an HTML browser interface to help.
Type 'q()' to quit R.
> # This file is part of the standard setup for testthat.
> # It is recommended that you do not modify it.
> #
> # Where should you do additional test configuration?
> # Learn more about the roles of various files in:
> # * https://r-pkgs.org/testing-design.html#sec-tests-files-overview
> # * https://testthat.r-lib.org/articles/special-files.html
> 
> library(testthat)
> library(SingleCellAlleleExperiment)
Loading required package: SingleCellExperiment
Loading required package: SummarizedExperiment
Loading required package: MatrixGenerics
Loading required package: matrixStats
Attaching package: 'MatrixGenerics'
The following objects are masked from 'package:matrixStats':
    colAlls, colAnyNAs, colAnys, colAvgsPerRowSet, colCollapse,
    colCounts, colCummaxs, colCummins, colCumprods, colCumsums,
    colDiffs, colIQRDiffs, colIQRs, colLogSumExps, colMadDiffs,
    colMads, colMaxs, colMeans2, colMedians, colMins, colOrderStats,
    colProds, colQuantiles, colRanges, colRanks, colSdDiffs, colSds,
    colSums2, colTabulates, colVarDiffs, colVars, colWeightedMads,
    colWeightedMeans, colWeightedMedians, colWeightedSds,
    colWeightedVars, rowAlls, rowAnyNAs, rowAnys, rowAvgsPerColSet,
    rowCollapse, rowCounts, rowCummaxs, rowCummins, rowCumprods,
    rowCumsums, rowDiffs, rowIQRDiffs, rowIQRs, rowLogSumExps,
    rowMadDiffs, rowMads, rowMaxs, rowMeans2, rowMedians, rowMins,
    rowOrderStats, rowProds, rowQuantiles, rowRanges, rowRanks,
    rowSdDiffs, rowSds, rowSums2, rowTabulates, rowVarDiffs, rowVars,
    rowWeightedMads, rowWeightedMeans, rowWeightedMedians,
    rowWeightedSds, rowWeightedVars
Loading required package: GenomicRanges
Loading required package: stats4
Loading required package: BiocGenerics
Loading required package: generics
Attaching package: 'generics'
The following objects are masked from 'package:base':
    as.difftime, as.factor, as.ordered, intersect, is.element, setdiff,
    setequal, union
Attaching package: 'BiocGenerics'
The following objects are masked from 'package:stats':
    IQR, mad, sd, var, xtabs
The following objects are masked from 'package:base':
    Filter, Find, Map, Position, Reduce, anyDuplicated, aperm, append,
    as.data.frame, basename, cbind, colnames, dirname, do.call,
    duplicated, eval, evalq, get, grep, grepl, is.unsorted, lapply,
    mapply, match, mget, order, paste, pmax, pmax.int, pmin, pmin.int,
    rank, rbind, rownames, sapply, saveRDS, table, tapply, unique,
    unsplit, which.max, which.min
Loading required package: S4Vectors
Attaching package: 'S4Vectors'
The following object is masked from 'package:utils':
    findMatches
The following objects are masked from 'package:base':
    I, expand.grid, unname
Loading required package: IRanges
Loading required package: Seqinfo
Loading required package: Biobase
Welcome to Bioconductor
    Vignettes contain introductory material; view with
    'browseVignettes()'. To cite Bioconductor, see
    'citation("Biobase")', and for packages 'citation("pkgname")'.
Attaching package: 'Biobase'
The following object is masked from 'package:MatrixGenerics':
    rowMedians
The following objects are masked from 'package:matrixStats':
    anyMissing, rowMedians
> library(scaeData)
> 
> test_check("SingleCellAlleleExperiment")
Attaching package: 'Matrix'
The following object is masked from 'package:S4Vectors':
    expand
Retrieving barcode identifiers for **pbmc 5k** dataset...DONE
Retrieving feature identifiers for **pbmc 5k** dataset...DONE
Retrieving quantification matrix for **pbmc 5k** dataset...DONE
Data Read_in completed
Using org.Hs to retrieve NCBI gene identifiers.
  Generating SCAE object: Extending rowData with new classifiers
  Generating SCAE object: Filtering at 0 UMI counts.
  Generating SCAE object: Aggregating alleles corresponding to the same gene
  Generating SCAE object: Aggregating genes corresponding to the same functional groups
SingleCellAlleleExperiment object completed
class: SingleCellAlleleExperiment 
dim: 62764 884452 
metadata(0):
assays(1): counts
rownames(62764): ENSG00000279928.2 ENSG00000228037.1 ... HLA_class_I
  HLA_class_II
rowData names(4): Ensembl_ID NI_I Quant_type Symbol
colnames(884452): AAACCCAAGAAACACT AAACCCAAGAAACCCA ...
  TTTGTTGTCTTTCTAG TTTGTTGTCTTTGGAG
colData names(2): Sample Barcode
reducedDimNames(0):
mainExpName: NULL
altExpNames(0):
---------------
Including a total of 21 immune related features:
Allele-level information (12): A*02:01:01:01 A*29:02:01:01 ...
  DPB1*04:01:01:01 DPB1*15:01:01:01
Immune genes (7): HLA-A HLA-B ... HLA-DPA1 HLA-DPB1
Functional level information (2): HLA_class_I HLA_class_II
Filtering performed on default value at 0 UMI counts.
Data Read_in completed
  Generating SCAE object: Extending rowData with new classifiers
  Generating SCAE object: Filtering at 0 UMI counts.
  Generating SCAE object: Compute Library Factors before adding new layers
  Generating SCAE object: Aggregating alleles corresponding to the same gene
  Generating SCAE object: Aggregating genes corresponding to the same functional groups
SingleCellAlleleExperiment object completed
Filtering performed on default value at 0 UMI counts.
Data Read_in completed
  Generating SCAE object: Extending rowData with new classifiers
  Generating SCAE object: Filtering at 0 UMI counts.
  Generating SCAE object: Aggregating alleles corresponding to the same gene
  Generating SCAE object: Aggregating genes corresponding to the same functional groups
SingleCellAlleleExperiment object completed
Retrieving barcode identifiers for **pbmc 5k** dataset...DONE
Retrieving feature identifiers for **pbmc 5k** dataset...DONE
Retrieving quantification matrix for **pbmc 5k** dataset...DONE
Filtering performed based on the inflection point at: 608.75689161306 UMI counts.
Data Read_in completed
  Generating SCAE object: Extending rowData with new classifiers
  Generating SCAE object: Filtering at 608.75689161306 UMI counts.
  Generating SCAE object: Aggregating alleles corresponding to the same gene
  Generating SCAE object: Aggregating genes corresponding to the same functional groups
SingleCellAlleleExperiment object completed
[ FAIL 0 | WARN 0 | SKIP 0 | PASS 36 ]
> 
> proc.time()
   user  system elapsed 
280.550  22.019 335.888 
SingleCellAlleleExperiment.Rcheck/SingleCellAlleleExperiment-Ex.timings
| name | user | system | elapsed | |
| SingleCellAlleleExperiment | 59.425 | 4.489 | 77.120 | |
| read_allele_counts | 37.874 | 2.184 | 51.421 | |
| scae_subset | 47.710 | 1.974 | 62.265 | |