| Back to Multiple platform build/check report for BioC 3.22: simplified long |
|
This page was generated on 2025-10-25 12:07 -0400 (Sat, 25 Oct 2025).
| Hostname | OS | Arch (*) | R version | Installed pkgs |
|---|---|---|---|---|
| nebbiolo2 | Linux (Ubuntu 24.04.3 LTS) | x86_64 | 4.5.1 Patched (2025-08-23 r88802) -- "Great Square Root" | 4901 |
| lconway | macOS 12.7.6 Monterey | x86_64 | 4.5.1 Patched (2025-09-10 r88807) -- "Great Square Root" | 4691 |
| kjohnson3 | macOS 13.7.7 Ventura | arm64 | 4.5.1 Patched (2025-09-10 r88807) -- "Great Square Root" | 4637 |
| taishan | Linux (openEuler 24.03 LTS) | aarch64 | 4.5.0 (2025-04-11) -- "How About a Twenty-Six" | 4658 |
| Click on any hostname to see more info about the system (e.g. compilers) (*) as reported by 'uname -p', except on Windows and Mac OS X | ||||
| Package 1514/2361 | Hostname | OS / Arch | INSTALL | BUILD | CHECK | BUILD BIN | ||||||||
| openCyto 2.21.1 (landing page) Mike Jiang
| nebbiolo2 | Linux (Ubuntu 24.04.3 LTS) / x86_64 | OK | OK | WARNINGS | |||||||||
| lconway | macOS 12.7.6 Monterey / x86_64 | OK | OK | WARNINGS | OK | |||||||||
| kjohnson3 | macOS 13.7.7 Ventura / arm64 | OK | OK | WARNINGS | OK | |||||||||
| taishan | Linux (openEuler 24.03 LTS) / aarch64 | OK | NA | NA | ||||||||||
|
To the developers/maintainers of the openCyto package: - Allow up to 24 hours (and sometimes 48 hours) for your latest push to git@git.bioconductor.org:packages/openCyto.git to reflect on this report. See Troubleshooting Build Report for more information. - Use the following Renviron settings to reproduce errors and warnings. - If 'R CMD check' started to fail recently on the Linux builder(s) over a missing dependency, add the missing dependency to 'Suggests:' in your DESCRIPTION file. See Renviron.bioc for more information. - See Martin Grigorov's blog post for how to debug Linux ARM64 related issues on a x86_64 host. |
| Package: openCyto |
| Version: 2.21.1 |
| Command: /home/biocbuild/R/R/bin/R CMD INSTALL openCyto |
| StartedAt: 2025-10-23 20:38:43 -0000 (Thu, 23 Oct 2025) |
| EndedAt: 2025-10-23 20:39:26 -0000 (Thu, 23 Oct 2025) |
| EllapsedTime: 43.3 seconds |
| RetCode: 0 |
| Status: OK |
##############################################################################
##############################################################################
###
### Running command:
###
### /home/biocbuild/R/R/bin/R CMD INSTALL openCyto
###
##############################################################################
##############################################################################
* installing to library ‘/home/biocbuild/R/R-4.5.0/site-library’
* installing *source* package ‘openCyto’ ...
** this is package ‘openCyto’ version ‘2.21.1’
** using staged installation
** libs
using C++ compiler: ‘aarch64-unknown-linux-gnu-g++ (GCC) 14.2.0’
using C++17
/opt/ohpc/pub/compiler/gcc/14.2.0/bin/aarch64-unknown-linux-gnu-g++ -std=gnu++17 -I"/home/biocbuild/R/R-4.5.0/include" -DNDEBUG -I'/home/biocbuild/R/R-4.5.0/site-library/cpp11/include' -I'/home/biocbuild/R/R-4.5.0/site-library/BH/include' -I/usr/local/include -fPIC -g -O2 -Wall -Werror=format-security -c Cdqrls.cpp -o Cdqrls.o
Cdqrls.cpp: In function ‘SEXPREC* Cdqrls(SEXP, SEXP, SEXP)’:
Cdqrls.cpp:38:3: warning: this ‘for’ clause does not guard... [-Wmisleading-indentation]
38 | for (R_xlen_t i = 0 ; i < XLENGTH(x) ; i++)
| ^~~
Cdqrls.cpp:41:5: note: ...this statement, but the latter is misleadingly indented as if it were guarded by the ‘for’
41 | rptr = REAL(y);
| ^~~~
Cdqrls.cpp:42:5: warning: this ‘for’ clause does not guard... [-Wmisleading-indentation]
42 | for (R_xlen_t i = 0 ; i < XLENGTH(y) ; i++)
| ^~~
Cdqrls.cpp:45:7: note: ...this statement, but the latter is misleadingly indented as if it were guarded by the ‘for’
45 | const char *ansNms[] = {"qr", "coefficients", "residuals", "effects",
| ^~~~~
Cdqrls.cpp:67:7: warning: this ‘for’ clause does not guard... [-Wmisleading-indentation]
67 | for(int i = 0; i < p; i++)
| ^~~
Cdqrls.cpp:69:9: note: ...this statement, but the latter is misleadingly indented as if it were guarded by the ‘for’
69 | SET_VECTOR_ELT(ans, 8, Rf_ScalarLogical(pivoted));
| ^~~~~~~~~~~~~~
/opt/ohpc/pub/compiler/gcc/14.2.0/bin/aarch64-unknown-linux-gnu-g++ -std=gnu++17 -I"/home/biocbuild/R/R-4.5.0/include" -DNDEBUG -I'/home/biocbuild/R/R-4.5.0/site-library/cpp11/include' -I'/home/biocbuild/R/R-4.5.0/site-library/BH/include' -I/usr/local/include -fPIC -g -O2 -Wall -Werror=format-security -c Hungarian.cpp -o Hungarian.o
/opt/ohpc/pub/compiler/gcc/14.2.0/bin/aarch64-unknown-linux-gnu-g++ -std=gnu++17 -I"/home/biocbuild/R/R-4.5.0/include" -DNDEBUG -I'/home/biocbuild/R/R-4.5.0/site-library/cpp11/include' -I'/home/biocbuild/R/R-4.5.0/site-library/BH/include' -I/usr/local/include -fPIC -g -O2 -Wall -Werror=format-security -c cpp11.cpp -o cpp11.o
/opt/ohpc/pub/compiler/gcc/14.2.0/bin/aarch64-unknown-linux-gnu-g++ -std=gnu++17 -I"/home/biocbuild/R/R-4.5.0/include" -DNDEBUG -I'/home/biocbuild/R/R-4.5.0/site-library/cpp11/include' -I'/home/biocbuild/R/R-4.5.0/site-library/BH/include' -I/usr/local/include -fPIC -g -O2 -Wall -Werror=format-security -c lm_wfit.cpp -o lm_wfit.o
/opt/ohpc/pub/compiler/gcc/14.2.0/bin/aarch64-unknown-linux-gnu-g++ -std=gnu++17 -I"/home/biocbuild/R/R-4.5.0/include" -DNDEBUG -I'/home/biocbuild/R/R-4.5.0/site-library/cpp11/include' -I'/home/biocbuild/R/R-4.5.0/site-library/BH/include' -I/usr/local/include -fPIC -g -O2 -Wall -Werror=format-security -c misc.cpp -o misc.o
/opt/ohpc/pub/compiler/gcc/14.2.0/bin/aarch64-unknown-linux-gnu-g++ -std=gnu++17 -I"/home/biocbuild/R/R-4.5.0/include" -DNDEBUG -I'/home/biocbuild/R/R-4.5.0/site-library/cpp11/include' -I'/home/biocbuild/R/R-4.5.0/site-library/BH/include' -I/usr/local/include -fPIC -g -O2 -Wall -Werror=format-security -c rlm.cpp -o rlm.o
In file included from /home/biocbuild/R/R-4.5.0/site-library/BH/include/boost/mpl/aux_/na_assert.hpp:23,
from /home/biocbuild/R/R-4.5.0/site-library/BH/include/boost/mpl/arg.hpp:25,
from /home/biocbuild/R/R-4.5.0/site-library/BH/include/boost/mpl/placeholders.hpp:24,
from /home/biocbuild/R/R-4.5.0/site-library/BH/include/boost/accumulators/statistics/median.hpp:11,
from rlm.cpp:5:
/home/biocbuild/R/R-4.5.0/site-library/BH/include/boost/mpl/assert.hpp:194:21: warning: unnecessary parentheses in declaration of ‘assert_arg’ [-Wparentheses]
194 | failed ************ (Pred::************
| ^~~~~~~~~~~~~~~~~~~
195 | assert_arg( void (*)(Pred), typename assert_arg_pred<Pred>::type )
| ~~~~~~~~~~~~~~~~~~~~~~~~~~~~~~~~~~~~~~~~~~~~~~~~~~~~~~~~~~~~~~~~~~
196 | );
| ~
/home/biocbuild/R/R-4.5.0/site-library/BH/include/boost/mpl/assert.hpp:194:21: note: remove parentheses
194 | failed ************ (Pred::************
| ^~~~~~~~~~~~~~~~~~~
| -
195 | assert_arg( void (*)(Pred), typename assert_arg_pred<Pred>::type )
| ~~~~~~~~~~~~~~~~~~~~~~~~~~~~~~~~~~~~~~~~~~~~~~~~~~~~~~~~~~~~~~~~~~
196 | );
| ~
| -
/home/biocbuild/R/R-4.5.0/site-library/BH/include/boost/mpl/assert.hpp:199:21: warning: unnecessary parentheses in declaration of ‘assert_not_arg’ [-Wparentheses]
199 | failed ************ (boost::mpl::not_<Pred>::************
| ^~~~~~~~~~~~~~~~~~~~~~~~~~~~~~~~~~~~~
200 | assert_not_arg( void (*)(Pred), typename assert_arg_pred_not<Pred>::type )
| ~~~~~~~~~~~~~~~~~~~~~~~~~~~~~~~~~~~~~~~~~~~~~~~~~~~~~~~~~~~~~~~~~~~~~~~~~~
201 | );
| ~
/home/biocbuild/R/R-4.5.0/site-library/BH/include/boost/mpl/assert.hpp:199:21: note: remove parentheses
199 | failed ************ (boost::mpl::not_<Pred>::************
| ^~~~~~~~~~~~~~~~~~~~~~~~~~~~~~~~~~~~~
| -
200 | assert_not_arg( void (*)(Pred), typename assert_arg_pred_not<Pred>::type )
| ~~~~~~~~~~~~~~~~~~~~~~~~~~~~~~~~~~~~~~~~~~~~~~~~~~~~~~~~~~~~~~~~~~~~~~~~~~
201 | );
| ~
| -
rlm.cpp: In function ‘cpp11::list rlm_cpp(cpp11::doubles_matrix<>, cpp11::doubles, int)’:
rlm.cpp:52:10: warning: ‘scale’ may be used uninitialized [-Wmaybe-uninitialized]
52 | double scale;
| ^~~~~
/opt/ohpc/pub/compiler/gcc/14.2.0/bin/aarch64-unknown-linux-gnu-g++ -std=gnu++17 -I"/home/biocbuild/R/R-4.5.0/include" -DNDEBUG -I'/home/biocbuild/R/R-4.5.0/site-library/cpp11/include' -I'/home/biocbuild/R/R-4.5.0/site-library/BH/include' -I/usr/local/include -fPIC -g -O2 -Wall -Werror=format-security -c solve_LSAP.cpp -o solve_LSAP.o
/opt/ohpc/pub/compiler/gcc/14.2.0/bin/aarch64-unknown-linux-gnu-g++ -std=gnu++17 -I"/home/biocbuild/R/R-4.5.0/include" -DNDEBUG -I'/home/biocbuild/R/R-4.5.0/site-library/cpp11/include' -I'/home/biocbuild/R/R-4.5.0/site-library/BH/include' -I/usr/local/include -fPIC -g -O2 -Wall -Werror=format-security -c unlockNamespace.cpp -o unlockNamespace.o
/opt/ohpc/pub/compiler/gcc/14.2.0/bin/aarch64-unknown-linux-gnu-g++ -std=gnu++17 -shared -L/home/biocbuild/R/R-4.5.0/lib -L/usr/local/lib -o openCyto.so Cdqrls.o Hungarian.o cpp11.o lm_wfit.o misc.o rlm.o solve_LSAP.o unlockNamespace.o -L/home/biocbuild/R/R-4.5.0/lib -lR
installing to /home/biocbuild/R/R-4.5.0/site-library/00LOCK-openCyto/00new/openCyto/libs
** R
** inst
** byte-compile and prepare package for lazy loading
** help
*** installing help indices
** building package indices
** installing vignettes
** testing if installed package can be loaded from temporary location
** checking absolute paths in shared objects and dynamic libraries
** testing if installed package can be loaded from final location
** testing if installed package keeps a record of temporary installation path
* DONE (openCyto)