| Back to Multiple platform build/check report for BioC 3.22: simplified long |
|
This page was generated on 2025-11-15 11:58 -0500 (Sat, 15 Nov 2025).
| Hostname | OS | Arch (*) | R version | Installed pkgs |
|---|---|---|---|---|
| nebbiolo2 | Linux (Ubuntu 24.04.3 LTS) | x86_64 | 4.5.1 Patched (2025-08-23 r88802) -- "Great Square Root" | 4903 |
| taishan | Linux (openEuler 24.03 LTS) | aarch64 | 4.5.0 (2025-04-11) -- "How About a Twenty-Six" | 4668 |
| Click on any hostname to see more info about the system (e.g. compilers) (*) as reported by 'uname -p', except on Windows and Mac OS X | ||||
| Package 565/2361 | Hostname | OS / Arch | INSTALL | BUILD | CHECK | BUILD BIN | ||||||||
Arne Smits
| nebbiolo2 | Linux (Ubuntu 24.04.3 LTS) / x86_64 | OK | OK | OK | |||||||||
| taishan | Linux (openEuler 24.03 LTS) / aarch64 | OK | OK | OK | ||||||||||
|
To the developers/maintainers of the DEP package: - Allow up to 24 hours (and sometimes 48 hours) for your latest push to git@git.bioconductor.org:packages/DEP.git to reflect on this report. See Troubleshooting Build Report for more information. - Use the following Renviron settings to reproduce errors and warnings. - If 'R CMD check' started to fail recently on the Linux builder(s) over a missing dependency, add the missing dependency to 'Suggests:' in your DESCRIPTION file. See Renviron.bioc for more information. - See Martin Grigorov's blog post for how to debug Linux ARM64 related issues on a x86_64 host. |
| Package: DEP |
| Version: 1.32.0 |
| Command: /home/biocbuild/R/R/bin/R CMD check --install=check:DEP.install-out.txt --library=/home/biocbuild/R/R/site-library --no-vignettes --timings DEP_1.32.0.tar.gz |
| StartedAt: 2025-11-14 08:45:22 -0000 (Fri, 14 Nov 2025) |
| EndedAt: 2025-11-14 08:54:16 -0000 (Fri, 14 Nov 2025) |
| EllapsedTime: 533.4 seconds |
| RetCode: 0 |
| Status: OK |
| CheckDir: DEP.Rcheck |
| Warnings: 0 |
##############################################################################
##############################################################################
###
### Running command:
###
### /home/biocbuild/R/R/bin/R CMD check --install=check:DEP.install-out.txt --library=/home/biocbuild/R/R/site-library --no-vignettes --timings DEP_1.32.0.tar.gz
###
##############################################################################
##############################################################################
* using log directory ‘/home/biocbuild/bbs-3.22-bioc/meat/DEP.Rcheck’
* using R version 4.5.0 (2025-04-11)
* using platform: aarch64-unknown-linux-gnu
* R was compiled by
aarch64-unknown-linux-gnu-gcc (GCC) 14.2.0
GNU Fortran (GCC) 14.2.0
* running under: openEuler 24.03 (LTS)
* using session charset: UTF-8
* using option ‘--no-vignettes’
* checking for file ‘DEP/DESCRIPTION’ ... OK
* this is package ‘DEP’ version ‘1.32.0’
* package encoding: UTF-8
* checking package namespace information ... OK
* checking package dependencies ... INFO
Imports includes 23 non-default packages.
Importing from so many packages makes the package vulnerable to any of
them becoming unavailable. Move as many as possible to Suggests and
use conditionally.
* checking if this is a source package ... OK
* checking if there is a namespace ... OK
* checking for hidden files and directories ... OK
* checking for portable file names ... OK
* checking for sufficient/correct file permissions ... OK
* checking whether package ‘DEP’ can be installed ... OK
* checking installed package size ... OK
* checking package directory ... OK
* checking ‘build’ directory ... OK
* checking DESCRIPTION meta-information ... OK
* checking top-level files ... OK
* checking for left-over files ... OK
* checking index information ... OK
* checking package subdirectories ... OK
* checking code files for non-ASCII characters ... OK
* checking R files for syntax errors ... OK
* checking whether the package can be loaded ... OK
* checking whether the package can be loaded with stated dependencies ... OK
* checking whether the package can be unloaded cleanly ... OK
* checking whether the namespace can be loaded with stated dependencies ... OK
* checking whether the namespace can be unloaded cleanly ... OK
* checking loading without being on the library search path ... OK
* checking whether startup messages can be suppressed ... OK
* checking dependencies in R code ... OK
* checking S3 generic/method consistency ... OK
* checking replacement functions ... OK
* checking foreign function calls ... OK
* checking R code for possible problems ... OK
* checking Rd files ... OK
* checking Rd metadata ... OK
* checking Rd cross-references ... NOTE
Non-topic package-anchored link(s) in Rd file 'LFQ.Rd':
‘[MSnbase:impute]{impute}’
Non-topic package-anchored link(s) in Rd file 'TMT.Rd':
‘[MSnbase:impute]{impute}’
Non-topic package-anchored link(s) in Rd file 'impute.Rd':
‘[MSnbase:impute]{impute}’
Non-topic package-anchored link(s) in Rd file 'process.Rd':
‘[MSnbase:impute]{impute}’
See section 'Cross-references' in the 'Writing R Extensions' manual.
* checking for missing documentation entries ... OK
* checking for code/documentation mismatches ... OK
* checking Rd \usage sections ... OK
* checking Rd contents ... OK
* checking for unstated dependencies in examples ... OK
* checking contents of ‘data’ directory ... OK
* checking data for non-ASCII characters ... OK
* checking LazyData ... OK
* checking data for ASCII and uncompressed saves ... OK
* checking R/sysdata.rda ... OK
* checking files in ‘vignettes’ ... OK
* checking examples ... OK
Examples with CPU (user + system) or elapsed time > 5s
user system elapsed
impute 21.691 0.199 21.938
plot_volcano 5.768 0.044 5.825
plot_dist 5.047 0.016 5.074
* checking for unstated dependencies in ‘tests’ ... OK
* checking tests ...
Running ‘testthat.R’
OK
* checking for unstated dependencies in vignettes ... OK
* checking package vignettes ... OK
* checking running R code from vignettes ... SKIPPED
* checking re-building of vignette outputs ... SKIPPED
* checking PDF version of manual ... OK
* DONE
Status: 1 NOTE
See
‘/home/biocbuild/bbs-3.22-bioc/meat/DEP.Rcheck/00check.log’
for details.
DEP.Rcheck/00install.out
############################################################################## ############################################################################## ### ### Running command: ### ### /home/biocbuild/R/R/bin/R CMD INSTALL DEP ### ############################################################################## ############################################################################## * installing to library ‘/home/biocbuild/R/R-4.5.0/site-library’ * installing *source* package ‘DEP’ ... ** this is package ‘DEP’ version ‘1.32.0’ ** using staged installation ** R ** data *** moving datasets to lazyload DB ** inst ** byte-compile and prepare package for lazy loading ** help *** installing help indices ** building package indices ** installing vignettes ** testing if installed package can be loaded from temporary location Warning in fun(libname, pkgname) : Package 'DEP' is deprecated and will be removed from Bioconductor version 3.23 ** testing if installed package can be loaded from final location Warning in fun(libname, pkgname) : Package 'DEP' is deprecated and will be removed from Bioconductor version 3.23 ** testing if installed package keeps a record of temporary installation path * DONE (DEP)
DEP.Rcheck/tests/testthat.Rout
R version 4.5.0 (2025-04-11) -- "How About a Twenty-Six"
Copyright (C) 2025 The R Foundation for Statistical Computing
Platform: aarch64-unknown-linux-gnu
R is free software and comes with ABSOLUTELY NO WARRANTY.
You are welcome to redistribute it under certain conditions.
Type 'license()' or 'licence()' for distribution details.
R is a collaborative project with many contributors.
Type 'contributors()' for more information and
'citation()' on how to cite R or R packages in publications.
Type 'demo()' for some demos, 'help()' for on-line help, or
'help.start()' for an HTML browser interface to help.
Type 'q()' to quit R.
> library(testthat)
> library(DEP)
Warning message:
In fun(libname, pkgname) :
Package 'DEP' is deprecated and will be removed from Bioconductor
version 3.23
>
> test_check("DEP")
[ FAIL 0 | WARN 16 | SKIP 0 | PASS 333 ]
[ FAIL 0 | WARN 16 | SKIP 0 | PASS 333 ]
>
> proc.time()
user system elapsed
79.115 3.016 82.377
DEP.Rcheck/DEP-Ex.timings
| name | user | system | elapsed | |
| LFQ | 1.830 | 0.023 | 1.859 | |
| TMT | 0.001 | 0.000 | 0.000 | |
| add_rejections | 1.841 | 0.027 | 1.873 | |
| analyze_dep | 3.174 | 0.084 | 3.267 | |
| filter_missval | 0.613 | 0.036 | 0.651 | |
| filter_proteins | 0.386 | 0.004 | 0.390 | |
| get_df_long | 1.061 | 0.004 | 1.069 | |
| get_df_wide | 0.994 | 0.000 | 0.998 | |
| get_prefix | 0.003 | 0.000 | 0.002 | |
| get_results | 1.388 | 0.036 | 1.427 | |
| get_suffix | 0.000 | 0.001 | 0.002 | |
| import_IsobarQuant | 0 | 0 | 0 | |
| import_MaxQuant | 0.068 | 0.001 | 0.069 | |
| impute | 21.691 | 0.199 | 21.938 | |
| make_se | 0.050 | 0.000 | 0.051 | |
| make_se_parse | 0.076 | 0.000 | 0.076 | |
| make_unique | 0.022 | 0.000 | 0.023 | |
| manual_impute | 0.829 | 0.024 | 0.855 | |
| meanSdPlot | 0.883 | 0.028 | 0.913 | |
| normalize_vsn | 0.426 | 0.000 | 0.427 | |
| plot_all | 2.573 | 0.020 | 2.598 | |
| plot_cond | 1.536 | 0.004 | 1.543 | |
| plot_cond_freq | 1.286 | 0.024 | 1.312 | |
| plot_cond_overlap | 1.316 | 0.008 | 1.327 | |
| plot_cor | 1.613 | 0.008 | 1.624 | |
| plot_coverage | 0.794 | 0.000 | 0.796 | |
| plot_detect | 1.340 | 0.004 | 1.347 | |
| plot_dist | 5.047 | 0.016 | 5.074 | |
| plot_frequency | 0.664 | 0.004 | 0.670 | |
| plot_gsea | 0.928 | 0.008 | 0.939 | |
| plot_heatmap | 4.48 | 0.06 | 4.55 | |
| plot_imputation | 1.552 | 0.000 | 1.556 | |
| plot_missval | 2.091 | 0.000 | 2.096 | |
| plot_normalization | 2.160 | 0.020 | 2.186 | |
| plot_numbers | 0.780 | 0.020 | 0.802 | |
| plot_p_hist | 2.029 | 0.040 | 2.074 | |
| plot_pca | 1.994 | 0.004 | 2.004 | |
| plot_single | 2.785 | 0.004 | 2.796 | |
| plot_volcano | 5.768 | 0.044 | 5.825 | |
| process | 2.211 | 0.012 | 2.229 | |
| report | 0 | 0 | 0 | |
| run_app | 0 | 0 | 0 | |
| se2msn | 0.184 | 0.000 | 0.184 | |
| test_diff | 1.152 | 0.004 | 1.159 | |
| test_gsea | 0.946 | 0.008 | 0.956 | |
| theme_DEP1 | 0.685 | 0.000 | 0.686 | |
| theme_DEP2 | 0.782 | 0.000 | 0.784 | |