Back to Multiple platform build/check report for BioC 3.22:   simplified   long
[A]BCDEFGHIJKLMNOPQRSTUVWXYZ

This page was generated on 2025-11-15 11:58 -0500 (Sat, 15 Nov 2025).

HostnameOSArch (*)R versionInstalled pkgs
nebbiolo2Linux (Ubuntu 24.04.3 LTS)x86_644.5.1 Patched (2025-08-23 r88802) -- "Great Square Root" 4903
taishanLinux (openEuler 24.03 LTS)aarch644.5.0 (2025-04-11) -- "How About a Twenty-Six" 4668
Click on any hostname to see more info about the system (e.g. compilers)      (*) as reported by 'uname -p', except on Windows and Mac OS X

Package 73/2361HostnameOS / ArchINSTALLBUILDCHECKBUILD BIN
annotate 1.88.0  (landing page)
Bioconductor Package Maintainer
Snapshot Date: 2025-11-14 13:45 -0500 (Fri, 14 Nov 2025)
git_url: https://git.bioconductor.org/packages/annotate
git_branch: RELEASE_3_22
git_last_commit: bc0d5a0
git_last_commit_date: 2025-10-29 09:23:46 -0500 (Wed, 29 Oct 2025)
nebbiolo2Linux (Ubuntu 24.04.3 LTS) / x86_64  OK    OK    OK  UNNEEDED, same version is already published
taishanLinux (openEuler 24.03 LTS) / aarch64  OK    OK    OK  


CHECK results for annotate on taishan

To the developers/maintainers of the annotate package:
- Allow up to 24 hours (and sometimes 48 hours) for your latest push to git@git.bioconductor.org:packages/annotate.git to reflect on this report. See Troubleshooting Build Report for more information.
- Use the following Renviron settings to reproduce errors and warnings.
- If 'R CMD check' started to fail recently on the Linux builder(s) over a missing dependency, add the missing dependency to 'Suggests:' in your DESCRIPTION file. See Renviron.bioc for more information.
- See Martin Grigorov's blog post for how to debug Linux ARM64 related issues on a x86_64 host.

raw results


Summary

Package: annotate
Version: 1.88.0
Command: /home/biocbuild/R/R/bin/R CMD check --install=check:annotate.install-out.txt --library=/home/biocbuild/R/R/site-library --no-vignettes --timings annotate_1.88.0.tar.gz
StartedAt: 2025-11-14 06:43:09 -0000 (Fri, 14 Nov 2025)
EndedAt: 2025-11-14 06:49:24 -0000 (Fri, 14 Nov 2025)
EllapsedTime: 374.8 seconds
RetCode: 0
Status:   OK  
CheckDir: annotate.Rcheck
Warnings: 0

Command output

##############################################################################
##############################################################################
###
### Running command:
###
###   /home/biocbuild/R/R/bin/R CMD check --install=check:annotate.install-out.txt --library=/home/biocbuild/R/R/site-library --no-vignettes --timings annotate_1.88.0.tar.gz
###
##############################################################################
##############################################################################


* using log directory ‘/home/biocbuild/bbs-3.22-bioc/meat/annotate.Rcheck’
* using R version 4.5.0 (2025-04-11)
* using platform: aarch64-unknown-linux-gnu
* R was compiled by
    aarch64-unknown-linux-gnu-gcc (GCC) 14.2.0
    GNU Fortran (GCC) 14.2.0
* running under: openEuler 24.03 (LTS)
* using session charset: UTF-8
* using option ‘--no-vignettes’
* checking for file ‘annotate/DESCRIPTION’ ... OK
* this is package ‘annotate’ version ‘1.88.0’
* checking package namespace information ... OK
* checking package dependencies ... OK
* checking if this is a source package ... OK
* checking if there is a namespace ... OK
* checking for hidden files and directories ... OK
* checking for portable file names ... OK
* checking for sufficient/correct file permissions ... OK
* checking whether package ‘annotate’ can be installed ... OK
* checking installed package size ... OK
* checking package directory ... OK
* checking ‘build’ directory ... OK
* checking DESCRIPTION meta-information ... OK
* checking top-level files ... OK
* checking for left-over files ... OK
* checking index information ... OK
* checking package subdirectories ... OK
* checking code files for non-ASCII characters ... OK
* checking R files for syntax errors ... OK
* checking whether the package can be loaded ... OK
* checking whether the package can be loaded with stated dependencies ... OK
* checking whether the package can be unloaded cleanly ... OK
* checking whether the namespace can be loaded with stated dependencies ... OK
* checking whether the namespace can be unloaded cleanly ... OK
* checking loading without being on the library search path ... OK
* checking whether startup messages can be suppressed ... OK
* checking dependencies in R code ... NOTE
Unexported object imported by a ':::' call: ‘BiocGenerics:::testPackage’
  See the note in ?`:::` about the use of this operator.
* checking S3 generic/method consistency ... OK
* checking replacement functions ... OK
* checking foreign function calls ... OK
* checking R code for possible problems ... OK
* checking Rd files ... OK
* checking Rd metadata ... OK
* checking Rd cross-references ... OK
* checking for missing documentation entries ... OK
* checking for code/documentation mismatches ... OK
* checking Rd \usage sections ... OK
* checking Rd contents ... OK
* checking for unstated dependencies in examples ... OK
* checking contents of ‘data’ directory ... OK
* checking data for non-ASCII characters ... OK
* checking data for ASCII and uncompressed saves ... OK
* checking files in ‘vignettes’ ... OK
* checking examples ... OK
Examples with CPU (user + system) or elapsed time > 5s
                   user system elapsed
chrCats          15.016  0.482  15.963
pm.getabst        1.697  0.164  10.964
pm.abstGrep       1.316  0.124   6.420
pm.titles         1.218  0.064   8.586
accessionToUID    0.376  0.016  11.252
genbank           0.227  0.076  16.818
blastSequences    0.134  0.012  39.102
pubMedAbst-class  0.085  0.051  70.463
* checking for unstated dependencies in ‘tests’ ... OK
* checking tests ...
  Running ‘annotate_unit_tests.R’
 OK
* checking for unstated dependencies in vignettes ... OK
* checking package vignettes ... OK
* checking running R code from vignettes ... SKIPPED
* checking re-building of vignette outputs ... SKIPPED
* checking PDF version of manual ... OK
* DONE

Status: 1 NOTE
See
  ‘/home/biocbuild/bbs-3.22-bioc/meat/annotate.Rcheck/00check.log’
for details.


Installation output

annotate.Rcheck/00install.out

##############################################################################
##############################################################################
###
### Running command:
###
###   /home/biocbuild/R/R/bin/R CMD INSTALL annotate
###
##############################################################################
##############################################################################


* installing to library ‘/home/biocbuild/R/R-4.5.0/site-library’
* installing *source* package ‘annotate’ ...
** this is package ‘annotate’ version ‘1.88.0’
** using staged installation
** R
** data
** inst
** byte-compile and prepare package for lazy loading
** help
*** installing help indices
** building package indices
** installing vignettes
** testing if installed package can be loaded from temporary location
** testing if installed package can be loaded from final location
** testing if installed package keeps a record of temporary installation path
* DONE (annotate)

Tests output

annotate.Rcheck/tests/annotate_unit_tests.Rout


R version 4.5.0 (2025-04-11) -- "How About a Twenty-Six"
Copyright (C) 2025 The R Foundation for Statistical Computing
Platform: aarch64-unknown-linux-gnu

R is free software and comes with ABSOLUTELY NO WARRANTY.
You are welcome to redistribute it under certain conditions.
Type 'license()' or 'licence()' for distribution details.

R is a collaborative project with many contributors.
Type 'contributors()' for more information and
'citation()' on how to cite R or R packages in publications.

Type 'demo()' for some demos, 'help()' for on-line help, or
'help.start()' for an HTML browser interface to help.
Type 'q()' to quit R.

> BiocGenerics:::testPackage("annotate")

Attaching package: 'generics'

The following objects are masked from 'package:base':

    as.difftime, as.factor, as.ordered, intersect, is.element, setdiff,
    setequal, union


Attaching package: 'BiocGenerics'

The following objects are masked from 'package:stats':

    IQR, mad, sd, var, xtabs

The following objects are masked from 'package:base':

    Filter, Find, Map, Position, Reduce, anyDuplicated, aperm, append,
    as.data.frame, basename, cbind, colnames, dirname, do.call,
    duplicated, eval, evalq, get, grep, grepl, is.unsorted, lapply,
    mapply, match, mget, order, paste, pmax, pmax.int, pmin, pmin.int,
    rank, rbind, rownames, sapply, saveRDS, table, tapply, unique,
    unsplit, which.max, which.min

Welcome to Bioconductor

    Vignettes contain introductory material; view with
    'browseVignettes()'. To cite Bioconductor, see
    'citation("Biobase")', and for packages 'citation("pkgname")'.


Attaching package: 'S4Vectors'

The following object is masked from 'package:utils':

    findMatches

The following objects are masked from 'package:base':

    I, expand.grid, unname

Loading required package: org.Hs.eg.db

'select()' returned 1:many mapping between keys and columns


RUNIT TEST PROTOCOL -- Fri Nov 14 06:49:16 2025 
*********************************************** 
Number of test functions: 1 
Number of errors: 0 
Number of failures: 0 

 
1 Test Suite : 
annotate RUnit Tests - 1 test function, 0 errors, 0 failures
Number of test functions: 1 
Number of errors: 0 
Number of failures: 0 
> 
> proc.time()
   user  system elapsed 
 11.345   0.600  12.413 

Example timings

annotate.Rcheck/annotate-Ex.timings

nameusersystemelapsed
ACCNUMStats1.7390.0281.947
GO2heatmap0.1460.0160.339
GOmnplot0.0510.0040.055
HTMLPage-class000
LL2homology000
PMIDAmat0.1120.0040.127
PWAmat2.1410.0392.291
UniGeneQuery0.0030.0000.003
accessionToUID 0.376 0.01611.252
annPkgName000
aqListGOIDs0.1570.0130.354
blastSequences 0.134 0.01239.102
buildChromLocation1.2700.0591.373
buildPubMedAbst0.0550.0002.869
chrCats15.016 0.48215.963
chromLocation-class0.8460.0260.907
compatibleVersions0.0470.0010.048
dropECode0.0540.0000.055
entrezGeneByID0.0010.0000.000
entrezGeneQuery0.0010.0000.001
filterGOByOntology0.0540.0040.059
findNeighbors0.0280.0000.036
genbank 0.227 0.07616.818
getAnnMap0.0340.0000.070
getEvidence0.0720.0000.131
getGOTerm0.2320.0090.387
getOntology0.0850.0040.182
getPMInfo0.4550.0202.824
getSYMBOL0.1440.0130.367
getSeq4Acc0.0210.0003.116
hasGOannote0.0290.0000.059
hgByChroms0.0130.0040.029
hgCLengths0.0000.0010.005
hgu95Achroloc0.0560.0100.134
hgu95Achrom0.0500.0040.110
hgu95All0.0560.0040.121
hgu95Asym0.0620.0000.122
homoData-class0.0030.0000.004
htmlpage0.0240.0000.024
isValidkey000
makeAnchor0.0010.0000.001
organism0.8870.0800.969
pm.abstGrep1.3160.1246.420
pm.getabst 1.697 0.16410.964
pm.titles1.2180.0648.586
pmAbst2HTML0.0610.0041.908
pmid2MIAME000
pmidQuery0.0010.0000.001
pubMedAbst-class 0.085 0.05170.463
pubmed0.0280.0044.360
readGEOAnn000
serializeEnv0.0030.0000.002
setRepository0.0000.0010.000
updateSymbolsToValidKeys0.0000.0010.000
usedChromGenes0.0640.0210.131