Back to Multiple platform build/check report for BioC 3.22:   simplified   long
ABCDEFGHIJKL[M]NOPQRSTUVWXYZ

This page was generated on 2025-11-14 11:58 -0500 (Fri, 14 Nov 2025).

HostnameOSArch (*)R versionInstalled pkgs
nebbiolo2Linux (Ubuntu 24.04.3 LTS)x86_644.5.1 Patched (2025-08-23 r88802) -- "Great Square Root" 4903
taishanLinux (openEuler 24.03 LTS)aarch644.5.0 (2025-04-11) -- "How About a Twenty-Six" 4668
Click on any hostname to see more info about the system (e.g. compilers)      (*) as reported by 'uname -p', except on Windows and Mac OS X

Package 1356/2361HostnameOS / ArchINSTALLBUILDCHECKBUILD BIN
MOSClip 1.4.0  (landing page)
Paolo Martini
Snapshot Date: 2025-11-13 13:45 -0500 (Thu, 13 Nov 2025)
git_url: https://git.bioconductor.org/packages/MOSClip
git_branch: RELEASE_3_22
git_last_commit: b231f21
git_last_commit_date: 2025-10-29 11:32:56 -0500 (Wed, 29 Oct 2025)
nebbiolo2Linux (Ubuntu 24.04.3 LTS) / x86_64  OK    OK    OK  UNNEEDED, same version is already published
taishanLinux (openEuler 24.03 LTS) / aarch64  OK    OK    ERROR  


CHECK results for MOSClip on taishan

To the developers/maintainers of the MOSClip package:
- Allow up to 24 hours (and sometimes 48 hours) for your latest push to git@git.bioconductor.org:packages/MOSClip.git to reflect on this report. See Troubleshooting Build Report for more information.
- Use the following Renviron settings to reproduce errors and warnings.
- If 'R CMD check' started to fail recently on the Linux builder(s) over a missing dependency, add the missing dependency to 'Suggests:' in your DESCRIPTION file. See Renviron.bioc for more information.
- See Martin Grigorov's blog post for how to debug Linux ARM64 related issues on a x86_64 host.

raw results


Summary

Package: MOSClip
Version: 1.4.0
Command: /home/biocbuild/R/R/bin/R CMD check --install=check:MOSClip.install-out.txt --library=/home/biocbuild/R/R/site-library --no-vignettes --timings MOSClip_1.4.0.tar.gz
StartedAt: 2025-11-14 11:45:39 -0000 (Fri, 14 Nov 2025)
EndedAt: 2025-11-14 11:55:43 -0000 (Fri, 14 Nov 2025)
EllapsedTime: 603.8 seconds
RetCode: 1
Status:   ERROR  
CheckDir: MOSClip.Rcheck
Warnings: NA

Command output

##############################################################################
##############################################################################
###
### Running command:
###
###   /home/biocbuild/R/R/bin/R CMD check --install=check:MOSClip.install-out.txt --library=/home/biocbuild/R/R/site-library --no-vignettes --timings MOSClip_1.4.0.tar.gz
###
##############################################################################
##############################################################################


* using log directory ‘/home/biocbuild/bbs-3.22-bioc/meat/MOSClip.Rcheck’
* using R version 4.5.0 (2025-04-11)
* using platform: aarch64-unknown-linux-gnu
* R was compiled by
    aarch64-unknown-linux-gnu-gcc (GCC) 14.2.0
    GNU Fortran (GCC) 14.2.0
* running under: openEuler 24.03 (LTS)
* using session charset: UTF-8
* using option ‘--no-vignettes’
* checking for file ‘MOSClip/DESCRIPTION’ ... OK
* this is package ‘MOSClip’ version ‘1.4.0’
* package encoding: UTF-8
* checking package namespace information ... OK
* checking package dependencies ... INFO
Imports includes 27 non-default packages.
Importing from so many packages makes the package vulnerable to any of
them becoming unavailable.  Move as many as possible to Suggests and
use conditionally.
* checking if this is a source package ... OK
* checking if there is a namespace ... OK
* checking for hidden files and directories ... OK
* checking for portable file names ... OK
* checking for sufficient/correct file permissions ... OK
* checking whether package ‘MOSClip’ can be installed ... OK
* checking installed package size ... OK
* checking package directory ... OK
* checking ‘build’ directory ... OK
* checking DESCRIPTION meta-information ... OK
* checking top-level files ... OK
* checking for left-over files ... OK
* checking index information ... OK
* checking package subdirectories ... OK
* checking code files for non-ASCII characters ... OK
* checking R files for syntax errors ... OK
* checking whether the package can be loaded ... OK
* checking whether the package can be loaded with stated dependencies ... OK
* checking whether the package can be unloaded cleanly ... OK
* checking whether the namespace can be loaded with stated dependencies ... OK
* checking whether the namespace can be unloaded cleanly ... OK
* checking loading without being on the library search path ... OK
* checking dependencies in R code ... OK
* checking S3 generic/method consistency ... OK
* checking replacement functions ... OK
* checking foreign function calls ... OK
* checking R code for possible problems ... OK
* checking Rd files ... OK
* checking Rd metadata ... OK
* checking Rd cross-references ... NOTE
Found the following Rd file(s) with Rd \link{} targets missing package
anchors:
  makeOmics.Rd: ExperimentList, DataFrame-class
Please provide package anchors for all Rd \link{} targets not in the
package itself and the base packages.
* checking for missing documentation entries ... OK
* checking for code/documentation mismatches ... OK
* checking Rd \usage sections ... OK
* checking Rd contents ... OK
* checking for unstated dependencies in examples ... OK
* checking contents of ‘data’ directory ... OK
* checking data for non-ASCII characters ... OK
* checking data for ASCII and uncompressed saves ... OK
* checking files in ‘vignettes’ ... OK
* checking examples ... OK
Examples with CPU (user + system) or elapsed time > 5s
                          user system elapsed
evaluateResampling       9.048  0.212   9.277
annotePathwayToFather    7.259  0.331   7.621
plotModuleReport         7.123  0.016   7.158
resampling-Survival      6.195  0.024   6.234
resampling-TwoClass      6.060  0.032   6.106
plotModuleHeat           5.784  0.108   5.918
multiPathwayModuleReport 5.229  0.020   5.259
* checking for unstated dependencies in ‘tests’ ... OK
* checking tests ...
  Running ‘testthat.R’
 ERROR
Running the tests in ‘tests/testthat.R’ failed.
Last 13 lines of output:
  
  ══ Failed tests ════════════════════════════════════════════════════════════════
  ── Error ('test-Supertest-accessory-function.R:10:9'): generateWarn ────────────
  Error in `fetchRemote(name, path)`: cannot download pathway data: are you offline?
  Backtrace:
      ▆
   1. └─graphite::pathways("hsapiens", "reactome") at test-Supertest-accessory-function.R:10:9
   2.   └─graphite:::loadData(paste(species, database, sep = "-"))
   3.     └─graphite:::withArchiveDir(...)
   4.       └─graphite (local) func(path)
   5.         └─graphite:::fetchRemote(name, path)
  
  [ FAIL 1 | WARN 2 | SKIP 0 | PASS 197 ]
  Error: Test failures
  Execution halted
* checking for unstated dependencies in vignettes ... OK
* checking package vignettes ... OK
* checking running R code from vignettes ... SKIPPED
* checking re-building of vignette outputs ... SKIPPED
* checking PDF version of manual ... OK
* DONE

Status: 1 ERROR, 1 NOTE
See
  ‘/home/biocbuild/bbs-3.22-bioc/meat/MOSClip.Rcheck/00check.log’
for details.


Installation output

MOSClip.Rcheck/00install.out

##############################################################################
##############################################################################
###
### Running command:
###
###   /home/biocbuild/R/R/bin/R CMD INSTALL MOSClip
###
##############################################################################
##############################################################################


* installing to library ‘/home/biocbuild/R/R-4.5.0/site-library’
* installing *source* package ‘MOSClip’ ...
** this is package ‘MOSClip’ version ‘1.4.0’
** using staged installation
** R
** data
** inst
** byte-compile and prepare package for lazy loading
** help
*** installing help indices
*** copying figures
** building package indices
** installing vignettes
** testing if installed package can be loaded from temporary location
** testing if installed package can be loaded from final location
** testing if installed package keeps a record of temporary installation path
* DONE (MOSClip)

Tests output

MOSClip.Rcheck/tests/testthat.Rout.fail


R version 4.5.0 (2025-04-11) -- "How About a Twenty-Six"
Copyright (C) 2025 The R Foundation for Statistical Computing
Platform: aarch64-unknown-linux-gnu

R is free software and comes with ABSOLUTELY NO WARRANTY.
You are welcome to redistribute it under certain conditions.
Type 'license()' or 'licence()' for distribution details.

R is a collaborative project with many contributors.
Type 'contributors()' for more information and
'citation()' on how to cite R or R packages in publications.

Type 'demo()' for some demos, 'help()' for on-line help, or
'help.start()' for an HTML browser interface to help.
Type 'q()' to quit R.

> library(testthat)
> library(MOSClip)

> 
> test_check("MOSClip")
Error in curl::curl_fetch_disk(url, x$path, handle = handle) : 
  Timeout was reached [graphiteweb.bio.unipd.it]:
Resolving timed out after 10000 milliseconds
[ FAIL 1 | WARN 2 | SKIP 0 | PASS 197 ]

══ Failed tests ════════════════════════════════════════════════════════════════
── Error ('test-Supertest-accessory-function.R:10:9'): generateWarn ────────────
Error in `fetchRemote(name, path)`: cannot download pathway data: are you offline?
Backtrace:
    ▆
 1. └─graphite::pathways("hsapiens", "reactome") at test-Supertest-accessory-function.R:10:9
 2.   └─graphite:::loadData(paste(species, database, sep = "-"))
 3.     └─graphite:::withArchiveDir(...)
 4.       └─graphite (local) func(path)
 5.         └─graphite:::fetchRemote(name, path)

[ FAIL 1 | WARN 2 | SKIP 0 | PASS 197 ]
Error: Test failures
Execution halted

Example timings

MOSClip.Rcheck/MOSClip-Ex.timings

nameusersystemelapsed
annotePathwayToFather7.2590.3317.621
availableOmicMethods000
computeFreqs0.0030.0000.003
computeOmicsIntersections0.0050.0000.004
downloadPathwayRelationFromReactome0.0530.0080.061
evaluateResampling9.0480.2129.277
makeOmics0.2610.0000.261
minOrNA000
multiOmicsSurvivalModuleTest2.0760.0402.121
multiOmicsSurvivalPathwayTest0.3980.0280.426
multiOmicsTwoClassModuleTest2.0880.0762.167
multiOmicsTwoClassPathwayTest0.3690.0040.373
multiPathwayModuleReport5.2290.0205.259
multiPathwayReport0.7780.0000.780
plotFrequencies0.5510.0040.556
plotModuleHeat5.7840.1085.918
plotModuleInGraph2.9340.0713.015
plotModuleKM4.6180.0284.658
plotModuleReport7.1230.0167.158
plotMultiPathwayReport2.0130.0402.059
plotPathwayHeat2.6730.0122.692
plotPathwayKM2.3340.0002.342
resampling-Survival6.1950.0246.234
resampling-TwoClass6.0600.0326.106
runSupertest0.1530.0040.157
showMOSpalette0.0180.0000.018
showModule2.0490.0322.086
showOmics0.0450.0000.045
showPathway0.4410.0000.443
stripModulesFromPathways0.0000.0000.001
summarizeOmicsResByMinPvalue000