Back to Multiple platform build/check report for BioC 3.22:   simplified   long
ABCDEFGH[I]JKLMNOPQRSTUVWXYZ

This page was generated on 2025-11-15 11:58 -0500 (Sat, 15 Nov 2025).

HostnameOSArch (*)R versionInstalled pkgs
nebbiolo2Linux (Ubuntu 24.04.3 LTS)x86_644.5.1 Patched (2025-08-23 r88802) -- "Great Square Root" 4903
taishanLinux (openEuler 24.03 LTS)aarch644.5.0 (2025-04-11) -- "How About a Twenty-Six" 4668
Click on any hostname to see more info about the system (e.g. compilers)      (*) as reported by 'uname -p', except on Windows and Mac OS X

Package 1081/2361HostnameOS / ArchINSTALLBUILDCHECKBUILD BIN
ISAnalytics 1.20.0  (landing page)
Francesco Gazzo
Snapshot Date: 2025-11-14 13:45 -0500 (Fri, 14 Nov 2025)
git_url: https://git.bioconductor.org/packages/ISAnalytics
git_branch: RELEASE_3_22
git_last_commit: 72d44b9
git_last_commit_date: 2025-10-29 11:01:52 -0500 (Wed, 29 Oct 2025)
nebbiolo2Linux (Ubuntu 24.04.3 LTS) / x86_64  OK    OK    OK  UNNEEDED, same version is already published
taishanLinux (openEuler 24.03 LTS) / aarch64  OK    OK    OK  


CHECK results for ISAnalytics on taishan

To the developers/maintainers of the ISAnalytics package:
- Allow up to 24 hours (and sometimes 48 hours) for your latest push to git@git.bioconductor.org:packages/ISAnalytics.git to reflect on this report. See Troubleshooting Build Report for more information.
- Use the following Renviron settings to reproduce errors and warnings.
- If 'R CMD check' started to fail recently on the Linux builder(s) over a missing dependency, add the missing dependency to 'Suggests:' in your DESCRIPTION file. See Renviron.bioc for more information.
- See Martin Grigorov's blog post for how to debug Linux ARM64 related issues on a x86_64 host.

raw results


Summary

Package: ISAnalytics
Version: 1.20.0
Command: /home/biocbuild/R/R/bin/R CMD check --install=check:ISAnalytics.install-out.txt --library=/home/biocbuild/R/R/site-library --no-vignettes --timings ISAnalytics_1.20.0.tar.gz
StartedAt: 2025-11-14 10:45:11 -0000 (Fri, 14 Nov 2025)
EndedAt: 2025-11-14 10:56:25 -0000 (Fri, 14 Nov 2025)
EllapsedTime: 674.8 seconds
RetCode: 0
Status:   OK  
CheckDir: ISAnalytics.Rcheck
Warnings: 0

Command output

##############################################################################
##############################################################################
###
### Running command:
###
###   /home/biocbuild/R/R/bin/R CMD check --install=check:ISAnalytics.install-out.txt --library=/home/biocbuild/R/R/site-library --no-vignettes --timings ISAnalytics_1.20.0.tar.gz
###
##############################################################################
##############################################################################


* using log directory ‘/home/biocbuild/bbs-3.22-bioc/meat/ISAnalytics.Rcheck’
* using R version 4.5.0 (2025-04-11)
* using platform: aarch64-unknown-linux-gnu
* R was compiled by
    aarch64-unknown-linux-gnu-gcc (GCC) 14.2.0
    GNU Fortran (GCC) 14.2.0
* running under: openEuler 24.03 (LTS)
* using session charset: UTF-8
* using option ‘--no-vignettes’
* checking for file ‘ISAnalytics/DESCRIPTION’ ... OK
* this is package ‘ISAnalytics’ version ‘1.20.0’
* package encoding: UTF-8
* checking package namespace information ... OK
* checking package dependencies ... INFO
Imports includes 22 non-default packages.
Importing from so many packages makes the package vulnerable to any of
them becoming unavailable.  Move as many as possible to Suggests and
use conditionally.
* checking if this is a source package ... OK
* checking if there is a namespace ... OK
* checking for hidden files and directories ... OK
* checking for portable file names ... OK
* checking for sufficient/correct file permissions ... OK
* checking whether package ‘ISAnalytics’ can be installed ... OK
* checking installed package size ... INFO
  installed size is  8.3Mb
  sub-directories of 1Mb or more:
    data   5.8Mb
* checking package directory ... OK
* checking ‘build’ directory ... OK
* checking DESCRIPTION meta-information ... OK
* checking top-level files ... OK
* checking for left-over files ... OK
* checking index information ... OK
* checking package subdirectories ... OK
* checking code files for non-ASCII characters ... OK
* checking R files for syntax errors ... OK
* checking whether the package can be loaded ... OK
* checking whether the package can be loaded with stated dependencies ... OK
* checking whether the package can be unloaded cleanly ... OK
* checking whether the namespace can be loaded with stated dependencies ... OK
* checking whether the namespace can be unloaded cleanly ... OK
* checking loading without being on the library search path ... OK
* checking whether startup messages can be suppressed ... OK
* checking dependencies in R code ... OK
* checking S3 generic/method consistency ... OK
* checking replacement functions ... OK
* checking foreign function calls ... OK
* checking R code for possible problems ... OK
* checking Rd files ... NOTE
checkRd: (-1) refGenes_hg19.Rd:21: Lost braces; missing escapes or markup?
    21 | \item Download from {http://hgdownload.soe.ucsc.edu/goldenPath/hg19/database/}
       |                     ^
* checking Rd metadata ... OK
* checking Rd cross-references ... OK
* checking for missing documentation entries ... OK
* checking for code/documentation mismatches ... OK
* checking Rd \usage sections ... OK
* checking Rd contents ... OK
* checking for unstated dependencies in examples ... OK
* checking contents of ‘data’ directory ... OK
* checking data for non-ASCII characters ... OK
* checking data for ASCII and uncompressed saves ... OK
* checking files in ‘vignettes’ ... OK
* checking examples ... OK
Examples with CPU (user + system) or elapsed time > 5s
                                user system elapsed
sharing_venn                   5.757  0.632  48.257
integration_alluvial_plot      4.990  0.295  11.479
import_parallel_Vispa2Matrices 3.174  0.430  20.100
sharing_heatmap                2.823  0.569  15.355
top_cis_overtime_heatmap       2.257  0.165  11.344
import_Vispa2_stats            1.996  0.253  10.020
CIS_grubbs_overtime            2.010  0.172   9.395
HSC_population_plot            1.808  0.157   6.054
iss_source                     1.689  0.090  10.305
is_sharing                     1.650  0.127  11.926
realign_after_collisions       1.360  0.090   8.861
remove_collisions              1.290  0.097   9.191
HSC_population_size_estimate   1.210  0.154   8.086
compute_near_integrations      1.069  0.075   5.361
* checking for unstated dependencies in ‘tests’ ... OK
* checking tests ...
  Running ‘testthat.R’
 OK
* checking for unstated dependencies in vignettes ... OK
* checking package vignettes ... OK
* checking running R code from vignettes ... SKIPPED
* checking re-building of vignette outputs ... SKIPPED
* checking PDF version of manual ... OK
* DONE

Status: 1 NOTE
See
  ‘/home/biocbuild/bbs-3.22-bioc/meat/ISAnalytics.Rcheck/00check.log’
for details.


Installation output

ISAnalytics.Rcheck/00install.out

##############################################################################
##############################################################################
###
### Running command:
###
###   /home/biocbuild/R/R/bin/R CMD INSTALL ISAnalytics
###
##############################################################################
##############################################################################


* installing to library ‘/home/biocbuild/R/R-4.5.0/site-library’
* installing *source* package ‘ISAnalytics’ ...
** this is package ‘ISAnalytics’ version ‘1.20.0’
** using staged installation
** R
** data
** inst
** byte-compile and prepare package for lazy loading
** help
*** installing help indices
*** copying figures
** building package indices
** installing vignettes
** testing if installed package can be loaded from temporary location
** testing if installed package can be loaded from final location
** testing if installed package keeps a record of temporary installation path
* DONE (ISAnalytics)

Tests output

ISAnalytics.Rcheck/tests/testthat.Rout


R version 4.5.0 (2025-04-11) -- "How About a Twenty-Six"
Copyright (C) 2025 The R Foundation for Statistical Computing
Platform: aarch64-unknown-linux-gnu

R is free software and comes with ABSOLUTELY NO WARRANTY.
You are welcome to redistribute it under certain conditions.
Type 'license()' or 'licence()' for distribution details.

R is a collaborative project with many contributors.
Type 'contributors()' for more information and
'citation()' on how to cite R or R packages in publications.

Type 'demo()' for some demos, 'help()' for on-line help, or
'help.start()' for an HTML browser interface to help.
Type 'q()' to quit R.

> library(testthat)
> library(ISAnalytics)
> 
> test_check("ISAnalytics")
Loading required namespace: plotly
Loading required namespace: rmarkdown
Report correctly saved
i Report saved to: /home/biocbuild/tmp/RtmpLSUjWj/file313b32d817b4b/2025-11-14_collision_removal_report.html
Report correctly saved
i Report saved to: /home/biocbuild/tmp/RtmpLSUjWj/file313b327fe758d4/2025-11-14_outlier_test_pool_fragments_report.html
[ FAIL 0 | WARN 0 | SKIP 0 | PASS 834 ]
> 
> proc.time()
   user  system elapsed 
138.423   9.574 377.131 

Example timings

ISAnalytics.Rcheck/ISAnalytics-Ex.timings

nameusersystemelapsed
CIS_grubbs1.2230.0121.239
CIS_grubbs_overtime2.0100.1729.395
CIS_volcano_plot2.2130.1672.386
HSC_population_plot1.8080.1576.054
HSC_population_size_estimate1.2100.1548.086
NGSdataExplorer000
aggregate_metadata0.1460.0600.206
aggregate_values_by_key0.0910.0400.131
annotation_issues0.0370.0040.041
as_sparse_matrix0.0650.0160.081
available_outlier_tests0.0000.0000.001
available_tags0.0320.0000.033
blood_lineages_default0.0360.0120.048
circos_genomic_density000
clinical_relevant_suspicious_genes0.0180.0000.019
comparison_matrix0.0410.0000.041
compute_abundance0.0470.0000.047
compute_near_integrations1.0690.0755.361
cumulative_count_union000
cumulative_is0.2390.0000.242
date_formats000
default_af_transform0.0010.0000.001
default_iss_file_prefixes0.0010.0000.001
default_meta_agg0.0240.0000.024
default_rec_agg_lambdas0.0010.0000.001
default_report_path0.0090.0000.009
default_stats1.3440.0311.378
enable_progress_bars0.0190.0000.019
export_ISA_settings0.0960.0080.104
fisher_scatterplot1.6270.1001.731
gene_frequency_fisher1.1950.0721.270
generate_Vispa2_launch_AF0.2450.0390.283
generate_blank_association_file0.0160.0000.017
generate_default_folder_structure0.4800.0830.563
import_ISA_settings0.0810.0070.090
import_Vispa2_stats 1.996 0.25310.020
import_association_file0.7660.1440.912
import_parallel_Vispa2Matrices 3.174 0.43020.100
import_single_Vispa2Matrix1.0700.1781.251
inspect_tags0.0190.0000.018
integration_alluvial_plot 4.990 0.29511.479
is_sharing 1.650 0.12711.926
iss_source 1.689 0.09010.305
known_clinical_oncogenes0.0160.0000.015
mandatory_IS_vars0.1360.0040.141
matching_options000
outlier_filter0.1900.0150.207
outliers_by_pool_fragments0.2130.0110.226
pcr_id_column0.0250.0000.026
purity_filter0.4810.0080.491
quantification_types000
realign_after_collisions1.3600.0908.861
reduced_AF_columns0.060.000.06
refGene_table_cols0.0010.0000.000
remove_collisions1.2900.0979.191
reset_mandatory_IS_vars0.0070.0000.007
sample_statistics0.4600.0080.469
separate_quant_matrices0.0200.0000.021
set_mandatory_IS_vars0.1290.0080.138
set_matrix_file_suffixes0.0240.0040.029
sharing_heatmap 2.823 0.56915.355
sharing_venn 5.757 0.63248.257
threshold_filter000
top_abund_tableGrob1.0020.0401.044
top_cis_overtime_heatmap 2.257 0.16511.344
top_integrations0.0360.0080.044
top_targeted_genes0.7170.0240.744
transform_columns0.0250.0040.029