| Back to Multiple platform build/check report for BioC 3.22: simplified long |
|
This page was generated on 2025-10-24 12:07 -0400 (Fri, 24 Oct 2025).
| Hostname | OS | Arch (*) | R version | Installed pkgs |
|---|---|---|---|---|
| nebbiolo2 | Linux (Ubuntu 24.04.3 LTS) | x86_64 | 4.5.1 Patched (2025-08-23 r88802) -- "Great Square Root" | 4898 |
| lconway | macOS 12.7.6 Monterey | x86_64 | 4.5.1 Patched (2025-09-10 r88807) -- "Great Square Root" | 4688 |
| kjohnson3 | macOS 13.7.7 Ventura | arm64 | 4.5.1 Patched (2025-09-10 r88807) -- "Great Square Root" | 4634 |
| taishan | Linux (openEuler 24.03 LTS) | aarch64 | 4.5.0 (2025-04-11) -- "How About a Twenty-Six" | 4658 |
| Click on any hostname to see more info about the system (e.g. compilers) (*) as reported by 'uname -p', except on Windows and Mac OS X | ||||
| Package 63/2359 | Hostname | OS / Arch | INSTALL | BUILD | CHECK | BUILD BIN | ||||||||
| amplican 1.31.2 (landing page) Eivind Valen
| nebbiolo2 | Linux (Ubuntu 24.04.3 LTS) / x86_64 | ERROR | ERROR | skipped | |||||||||
| lconway | macOS 12.7.6 Monterey / x86_64 | ERROR | ERROR | skipped | skipped | |||||||||
| kjohnson3 | macOS 13.7.7 Ventura / arm64 | ERROR | ERROR | skipped | skipped | |||||||||
| taishan | Linux (openEuler 24.03 LTS) / aarch64 | OK | OK | OK | ||||||||||
|
To the developers/maintainers of the amplican package: - Allow up to 24 hours (and sometimes 48 hours) for your latest push to git@git.bioconductor.org:packages/amplican.git to reflect on this report. See Troubleshooting Build Report for more information. - Use the following Renviron settings to reproduce errors and warnings. - If 'R CMD check' started to fail recently on the Linux builder(s) over a missing dependency, add the missing dependency to 'Suggests:' in your DESCRIPTION file. See Renviron.bioc for more information. - See Martin Grigorov's blog post for how to debug Linux ARM64 related issues on a x86_64 host. |
| Package: amplican |
| Version: 1.31.2 |
| Command: /home/biocbuild/R/R/bin/R CMD check --install=check:amplican.install-out.txt --library=/home/biocbuild/R/R/site-library --no-vignettes --timings amplican_1.31.2.tar.gz |
| StartedAt: 2025-10-21 04:25:19 -0000 (Tue, 21 Oct 2025) |
| EndedAt: 2025-10-21 04:28:57 -0000 (Tue, 21 Oct 2025) |
| EllapsedTime: 218.1 seconds |
| RetCode: 0 |
| Status: OK |
| CheckDir: amplican.Rcheck |
| Warnings: 0 |
##############################################################################
##############################################################################
###
### Running command:
###
### /home/biocbuild/R/R/bin/R CMD check --install=check:amplican.install-out.txt --library=/home/biocbuild/R/R/site-library --no-vignettes --timings amplican_1.31.2.tar.gz
###
##############################################################################
##############################################################################
* using log directory ‘/home/biocbuild/bbs-3.22-bioc/meat/amplican.Rcheck’
* using R version 4.5.0 (2025-04-11)
* using platform: aarch64-unknown-linux-gnu
* R was compiled by
aarch64-unknown-linux-gnu-gcc (GCC) 14.2.0
GNU Fortran (GCC) 14.2.0
* running under: openEuler 24.03 (LTS)
* using session charset: UTF-8
* using option ‘--no-vignettes’
* checking for file ‘amplican/DESCRIPTION’ ... OK
* checking extension type ... Package
* this is package ‘amplican’ version ‘1.31.2’
* package encoding: UTF-8
* checking package namespace information ... OK
* checking package dependencies ... OK
* checking if this is a source package ... OK
* checking if there is a namespace ... OK
* checking for hidden files and directories ... OK
* checking for portable file names ... OK
* checking for sufficient/correct file permissions ... OK
* checking whether package ‘amplican’ can be installed ... OK
* used C++ compiler: ‘aarch64-unknown-linux-gnu-g++ (GCC) 14.2.0’
* checking installed package size ... OK
* checking package directory ... OK
* checking ‘build’ directory ... OK
* checking DESCRIPTION meta-information ... OK
* checking top-level files ... OK
* checking for left-over files ... OK
* checking index information ... OK
* checking package subdirectories ... OK
* checking code files for non-ASCII characters ... OK
* checking R files for syntax errors ... OK
* checking whether the package can be loaded ... OK
* checking whether the package can be loaded with stated dependencies ... OK
* checking whether the package can be unloaded cleanly ... OK
* checking whether the namespace can be loaded with stated dependencies ... OK
* checking whether the namespace can be unloaded cleanly ... OK
* checking loading without being on the library search path ... OK
* checking whether startup messages can be suppressed ... OK
* checking dependencies in R code ... NOTE
There are ::: calls to the package's namespace in its code. A package
almost never needs to use ::: for its own objects:
‘get_seq’
* checking S3 generic/method consistency ... OK
* checking replacement functions ... OK
* checking foreign function calls ... OK
* checking R code for possible problems ... OK
* checking Rd files ... NOTE
checkRd: (-1) amplicanAlign.Rd:64: Lost braces in \itemize; meant \describe ?
checkRd: (-1) amplicanAlign.Rd:65-68: Lost braces in \itemize; meant \describe ?
checkRd: (-1) amplicanAlign.Rd:69: Lost braces in \itemize; meant \describe ?
checkRd: (-1) amplicanAlign.Rd:70: Lost braces in \itemize; meant \describe ?
checkRd: (-1) amplicanPipeline.Rd:58-59: Lost braces in \itemize; meant \describe ?
checkRd: (-1) amplicanPipeline.Rd:60-70: Lost braces in \itemize; meant \describe ?
checkRd: (-1) amplicanPipeline.Rd:71: Lost braces in \itemize; meant \describe ?
checkRd: (-1) amplicanPipeline.Rd:72-73: Lost braces in \itemize; meant \describe ?
checkRd: (-1) amplicanPipeline.Rd:106: Lost braces in \itemize; meant \describe ?
checkRd: (-1) amplicanPipeline.Rd:107-110: Lost braces in \itemize; meant \describe ?
checkRd: (-1) amplicanPipeline.Rd:111: Lost braces in \itemize; meant \describe ?
checkRd: (-1) amplicanPipeline.Rd:112: Lost braces in \itemize; meant \describe ?
checkRd: (-1) amplicanPipelineConservative.Rd:58-59: Lost braces in \itemize; meant \describe ?
checkRd: (-1) amplicanPipelineConservative.Rd:60-70: Lost braces in \itemize; meant \describe ?
checkRd: (-1) amplicanPipelineConservative.Rd:71: Lost braces in \itemize; meant \describe ?
checkRd: (-1) amplicanPipelineConservative.Rd:72-73: Lost braces in \itemize; meant \describe ?
checkRd: (-1) amplicanPipelineConservative.Rd:106: Lost braces in \itemize; meant \describe ?
checkRd: (-1) amplicanPipelineConservative.Rd:107-110: Lost braces in \itemize; meant \describe ?
checkRd: (-1) amplicanPipelineConservative.Rd:111: Lost braces in \itemize; meant \describe ?
checkRd: (-1) amplicanPipelineConservative.Rd:112: Lost braces in \itemize; meant \describe ?
checkRd: (-1) amplicanSummarize.Rd:26: Lost braces in \itemize; meant \describe ?
checkRd: (-1) amplicanSummarize.Rd:27: Lost braces in \itemize; meant \describe ?
checkRd: (-1) amplicanSummarize.Rd:28: Lost braces in \itemize; meant \describe ?
checkRd: (-1) amplicanSummarize.Rd:29: Lost braces in \itemize; meant \describe ?
checkRd: (-1) amplicanSummarize.Rd:30: Lost braces in \itemize; meant \describe ?
checkRd: (-1) makeAlignment.Rd:52: Lost braces in \itemize; meant \describe ?
checkRd: (-1) makeAlignment.Rd:53-56: Lost braces in \itemize; meant \describe ?
checkRd: (-1) makeAlignment.Rd:57: Lost braces in \itemize; meant \describe ?
checkRd: (-1) makeAlignment.Rd:58: Lost braces in \itemize; meant \describe ?
checkRd: (-1) plot_variants.Rd:74-75: Lost braces in \itemize; meant \describe ?
checkRd: (-1) plot_variants.Rd:76: Lost braces in \itemize; meant \describe ?
checkRd: (-1) plot_variants.Rd:77-78: Lost braces in \itemize; meant \describe ?
* checking Rd metadata ... OK
* checking Rd cross-references ... NOTE
Found the following Rd file(s) with Rd \link{} targets missing package
anchors:
AlignmentsExperimentSet-class.Rd: PairwiseAlignmentsSingleSubject,
GRanges
amplicanAlign.Rd: nucleotideSubstitutionMatrix
amplicanMap.Rd: GRanges
amplicanPipeline.Rd: nucleotideSubstitutionMatrix
amplicanPipelineConservative.Rd: nucleotideSubstitutionMatrix
cigarsToEvents.Rd: GRanges
cumsumw.Rd: IRanges
defGR.Rd: IRanges, GRanges
extractEvents.Rd: GRanges
findPD.Rd: GRanges
fwdReads-set.Rd: PairwiseAlignmentsSingleSubject
fwdReadsType-set.Rd: PairwiseAlignmentsSingleSubject
getEventInfo.Rd: PairwiseAlignmentsSingleSubject, GRanges
getEvents.Rd: pairwiseAlignment, GRanges
makeAlignment.Rd: nucleotideSubstitutionMatrix
pairToEvents.Rd: GRanges
readCounts-set.Rd: PairwiseAlignmentsSingleSubject
rveReads-set.Rd: PairwiseAlignmentsSingleSubject
rveReadsType-set.Rd: PairwiseAlignmentsSingleSubject
unassignedData-set.Rd: PairwiseAlignmentsSingleSubject
upperGroups.Rd: IRanges
Please provide package anchors for all Rd \link{} targets not in the
package itself and the base packages.
* checking for missing documentation entries ... OK
* checking for code/documentation mismatches ... OK
* checking Rd \usage sections ... NOTE
Documented arguments not in \usage in Rd file 'getEventInfo.Rd':
‘ampl_len’
Functions with \usage entries need to have the appropriate \alias
entries, and all their arguments documented.
The \usage entries must correspond to syntactically valid R code.
See chapter ‘Writing R documentation files’ in the ‘Writing R
Extensions’ manual.
* checking Rd contents ... OK
* checking for unstated dependencies in examples ... OK
* checking line endings in C/C++/Fortran sources/headers ... OK
* checking compiled code ... NOTE
Note: information on .o files is not available
* checking files in ‘vignettes’ ... OK
* checking examples ... OK
Examples with CPU (user + system) or elapsed time > 5s
user system elapsed
amplicanAlign 9.740 0.375 10.150
amplicanPipeline 6.416 0.087 6.531
* checking for unstated dependencies in ‘tests’ ... OK
* checking tests ...
Running ‘testthat.R’
OK
* checking for unstated dependencies in vignettes ... OK
* checking package vignettes ... OK
* checking running R code from vignettes ... SKIPPED
* checking re-building of vignette outputs ... SKIPPED
* checking PDF version of manual ... OK
* DONE
Status: 5 NOTEs
See
‘/home/biocbuild/bbs-3.22-bioc/meat/amplican.Rcheck/00check.log’
for details.
amplican.Rcheck/00install.out
############################################################################## ############################################################################## ### ### Running command: ### ### /home/biocbuild/R/R/bin/R CMD INSTALL amplican ### ############################################################################## ############################################################################## * installing to library ‘/home/biocbuild/R/R-4.5.0/site-library’ * installing *source* package ‘amplican’ ... ** this is package ‘amplican’ version ‘1.31.2’ ** using staged installation ** libs using C++ compiler: ‘aarch64-unknown-linux-gnu-g++ (GCC) 14.2.0’ /opt/ohpc/pub/compiler/gcc/14.2.0/bin/aarch64-unknown-linux-gnu-g++ -std=gnu++17 -I"/home/biocbuild/R/R-4.5.0/include" -DNDEBUG -I'/home/biocbuild/R/R-4.5.0/site-library/Rcpp/include' -I/usr/local/include -fPIC -g -O2 -Wall -Werror=format-security -c RcppExports.cpp -o RcppExports.o /opt/ohpc/pub/compiler/gcc/14.2.0/bin/aarch64-unknown-linux-gnu-g++ -std=gnu++17 -I"/home/biocbuild/R/R-4.5.0/include" -DNDEBUG -I'/home/biocbuild/R/R-4.5.0/site-library/Rcpp/include' -I/usr/local/include -fPIC -g -O2 -Wall -Werror=format-security -c bezier.cpp -o bezier.o /opt/ohpc/pub/compiler/gcc/14.2.0/bin/aarch64-unknown-linux-gnu-g++ -std=gnu++17 -shared -L/home/biocbuild/R/R-4.5.0/lib -L/usr/local/lib -o amplican.so RcppExports.o bezier.o -L/home/biocbuild/R/R-4.5.0/lib -lR installing to /home/biocbuild/R/R-4.5.0/site-library/00LOCK-amplican/00new/amplican/libs ** R ** inst ** byte-compile and prepare package for lazy loading ** help *** installing help indices ** building package indices ** installing vignettes ** testing if installed package can be loaded from temporary location ** checking absolute paths in shared objects and dynamic libraries ** testing if installed package can be loaded from final location ** testing if installed package keeps a record of temporary installation path * DONE (amplican)
amplican.Rcheck/tests/testthat.Rout
R version 4.5.0 (2025-04-11) -- "How About a Twenty-Six"
Copyright (C) 2025 The R Foundation for Statistical Computing
Platform: aarch64-unknown-linux-gnu
R is free software and comes with ABSOLUTELY NO WARRANTY.
You are welcome to redistribute it under certain conditions.
Type 'license()' or 'licence()' for distribution details.
R is a collaborative project with many contributors.
Type 'contributors()' for more information and
'citation()' on how to cite R or R packages in publications.
Type 'demo()' for some demos, 'help()' for on-line help, or
'help.start()' for an HTML browser interface to help.
Type 'q()' to quit R.
> library(testthat)
> library(amplican)
Loading required package: BiocGenerics
Loading required package: generics
Attaching package: 'generics'
The following objects are masked from 'package:base':
as.difftime, as.factor, as.ordered, intersect, is.element, setdiff,
setequal, union
Attaching package: 'BiocGenerics'
The following objects are masked from 'package:stats':
IQR, mad, sd, var, xtabs
The following objects are masked from 'package:base':
Filter, Find, Map, Position, Reduce, anyDuplicated, aperm, append,
as.data.frame, basename, cbind, colnames, dirname, do.call,
duplicated, eval, evalq, get, grep, grepl, is.unsorted, lapply,
mapply, match, mget, order, paste, pmax, pmax.int, pmin, pmin.int,
rank, rbind, rownames, sapply, saveRDS, table, tapply, unique,
unsplit, which.max, which.min
Loading required package: Biostrings
Loading required package: S4Vectors
Loading required package: stats4
Attaching package: 'S4Vectors'
The following object is masked from 'package:utils':
findMatches
The following objects are masked from 'package:base':
I, expand.grid, unname
Loading required package: IRanges
Loading required package: XVector
Loading required package: Seqinfo
Attaching package: 'Biostrings'
The following object is masked from 'package:base':
strsplit
Loading required package: pwalign
Attaching package: 'pwalign'
The following objects are masked from 'package:Biostrings':
PairwiseAlignments, PairwiseAlignmentsSingleSubject, aligned,
alignedPattern, alignedSubject, compareStrings, deletion,
errorSubstitutionMatrices, indel, insertion, mismatchSummary,
mismatchTable, nedit, nindel, nucleotideSubstitutionMatrix,
pairwiseAlignment, pattern, pid, qualitySubstitutionMatrices,
stringDist, unaligned, writePairwiseAlignments
version: 1.31.2
Please consider supporting this software by citing:
Labun et al. 2019
Accurate analysis of genuine CRISPR editing events with ampliCan.
Genome Res. 2019 Mar 8
doi: 10.1101/gr.244293.118
>
> test_check("amplican")
[ FAIL 0 | WARN 0 | SKIP 0 | PASS 58 ]
>
> proc.time()
user system elapsed
31.469 0.894 32.449
amplican.Rcheck/amplican-Ex.timings
| name | user | system | elapsed | |
| AlignmentsExperimentSet-class | 1.604 | 0.068 | 1.678 | |
| amplicanAlign | 9.740 | 0.375 | 10.150 | |
| amplicanConsensus | 0.141 | 0.000 | 0.144 | |
| amplicanFilter | 0.027 | 0.004 | 0.033 | |
| amplicanMap | 0.373 | 0.004 | 0.378 | |
| amplicanNormalize | 0.036 | 0.004 | 0.039 | |
| amplicanOverlap | 0.022 | 0.000 | 0.023 | |
| amplicanPipeline | 6.416 | 0.087 | 6.531 | |
| amplicanReport | 0.015 | 0.005 | 0.019 | |
| amplicanSummarize | 0.029 | 0.000 | 0.029 | |
| amplican_print_reads | 0.349 | 0.007 | 0.359 | |
| assignedCount | 0.032 | 0.001 | 0.033 | |
| barcodeData-set | 0.000 | 0.003 | 0.004 | |
| barcodeData | 0.005 | 0.000 | 0.005 | |
| comb_along | 0.031 | 0.000 | 0.031 | |
| experimentData-set | 0.004 | 0.000 | 0.004 | |
| experimentData | 0.007 | 0.000 | 0.007 | |
| extractEvents | 3.766 | 0.063 | 3.846 | |
| findEOP | 0.005 | 0.000 | 0.005 | |
| findLQR | 0.001 | 0.003 | 0.005 | |
| findPD | 0.004 | 0.000 | 0.005 | |
| fwdReads-set | 0.004 | 0.000 | 0.004 | |
| fwdReads | 0.486 | 0.004 | 0.491 | |
| fwdReadsType-set | 0.004 | 0.000 | 0.004 | |
| fwdReadsType | 0.003 | 0.000 | 0.002 | |
| geom_bezier | 0.847 | 0.020 | 0.870 | |
| lookupAlignment | 0.315 | 0.004 | 0.320 | |
| metaplot_deletions | 0.529 | 0.004 | 0.536 | |
| metaplot_insertions | 0.770 | 0.000 | 0.773 | |
| metaplot_mismatches | 0.764 | 0.000 | 0.766 | |
| plot_cuts | 0.603 | 0.000 | 0.605 | |
| plot_deletions | 0.624 | 0.000 | 0.627 | |
| plot_height | 0.001 | 0.000 | 0.001 | |
| plot_heterogeneity | 0.569 | 0.028 | 0.599 | |
| plot_insertions | 1.160 | 0.004 | 1.168 | |
| plot_mismatches | 2.179 | 0.028 | 2.217 | |
| plot_variants | 1.851 | 0.016 | 1.874 | |
| readCounts-set | 0.004 | 0.000 | 0.004 | |
| readCounts | 0.003 | 0.000 | 0.003 | |
| rveReads-set | 0.004 | 0.000 | 0.004 | |
| rveReads | 0.495 | 0.004 | 0.500 | |
| rveReadsType-set | 0.005 | 0.000 | 0.004 | |
| rveReadsType | 0.003 | 0.000 | 0.003 | |
| unassignedCount | 0.003 | 0.000 | 0.003 | |
| unassignedData-set | 0.004 | 0.000 | 0.004 | |
| unassignedData | 0.005 | 0.000 | 0.005 | |
| writeAlignments | 0.033 | 0.000 | 0.033 | |