| Back to Multiple platform build/check report for BioC 3.22: simplified long |
|
This page was generated on 2025-10-21 12:07 -0400 (Tue, 21 Oct 2025).
| Hostname | OS | Arch (*) | R version | Installed pkgs |
|---|---|---|---|---|
| nebbiolo2 | Linux (Ubuntu 24.04.3 LTS) | x86_64 | 4.5.1 Patched (2025-08-23 r88802) -- "Great Square Root" | 4887 |
| lconway | macOS 12.7.6 Monterey | x86_64 | 4.5.1 Patched (2025-09-10 r88807) -- "Great Square Root" | 4677 |
| kjohnson3 | macOS 13.7.7 Ventura | arm64 | 4.5.1 Patched (2025-09-10 r88807) -- "Great Square Root" | 4622 |
| taishan | Linux (openEuler 24.03 LTS) | aarch64 | 4.5.0 (2025-04-11) -- "How About a Twenty-Six" | 4642 |
| Click on any hostname to see more info about the system (e.g. compilers) (*) as reported by 'uname -p', except on Windows and Mac OS X | ||||
| Package 1946/2353 | Hostname | OS / Arch | INSTALL | BUILD | CHECK | BUILD BIN | ||||||||
| ScreenR 1.11.0 (landing page) Emanuel Michele Soda
| nebbiolo2 | Linux (Ubuntu 24.04.3 LTS) / x86_64 | OK | OK | ERROR | |||||||||
| lconway | macOS 12.7.6 Monterey / x86_64 | OK | OK | ERROR | OK | |||||||||
| kjohnson3 | macOS 13.7.7 Ventura / arm64 | OK | OK | ERROR | OK | |||||||||
| taishan | Linux (openEuler 24.03 LTS) / aarch64 | OK | OK | ERROR | ||||||||||
|
To the developers/maintainers of the ScreenR package: - Allow up to 24 hours (and sometimes 48 hours) for your latest push to git@git.bioconductor.org:packages/ScreenR.git to reflect on this report. See Troubleshooting Build Report for more information. - Use the following Renviron settings to reproduce errors and warnings. - If 'R CMD check' started to fail recently on the Linux builder(s) over a missing dependency, add the missing dependency to 'Suggests:' in your DESCRIPTION file. See Renviron.bioc for more information. - See Martin Grigorov's blog post for how to debug Linux ARM64 related issues on a x86_64 host. |
| Package: ScreenR |
| Version: 1.11.0 |
| Command: /home/biocbuild/R/R/bin/R CMD check --install=check:ScreenR.install-out.txt --library=/home/biocbuild/R/R/site-library --no-vignettes --timings ScreenR_1.11.0.tar.gz |
| StartedAt: 2025-10-17 13:27:02 -0000 (Fri, 17 Oct 2025) |
| EndedAt: 2025-10-17 13:31:38 -0000 (Fri, 17 Oct 2025) |
| EllapsedTime: 276.4 seconds |
| RetCode: 1 |
| Status: ERROR |
| CheckDir: ScreenR.Rcheck |
| Warnings: NA |
##############################################################################
##############################################################################
###
### Running command:
###
### /home/biocbuild/R/R/bin/R CMD check --install=check:ScreenR.install-out.txt --library=/home/biocbuild/R/R/site-library --no-vignettes --timings ScreenR_1.11.0.tar.gz
###
##############################################################################
##############################################################################
* using log directory ‘/home/biocbuild/bbs-3.22-bioc/meat/ScreenR.Rcheck’
* using R version 4.5.0 (2025-04-11)
* using platform: aarch64-unknown-linux-gnu
* R was compiled by
aarch64-unknown-linux-gnu-gcc (GCC) 14.2.0
GNU Fortran (GCC) 14.2.0
* running under: openEuler 24.03 (LTS)
* using session charset: UTF-8
* using option ‘--no-vignettes’
* checking for file ‘ScreenR/DESCRIPTION’ ... OK
* checking extension type ... Package
* this is package ‘ScreenR’ version ‘1.11.0’
* package encoding: UTF-8
* checking package namespace information ... OK
* checking package dependencies ... OK
* checking if this is a source package ... OK
* checking if there is a namespace ... OK
* checking for hidden files and directories ... OK
* checking for portable file names ... OK
* checking for sufficient/correct file permissions ... OK
* checking whether package ‘ScreenR’ can be installed ... OK
* checking installed package size ... OK
* checking package directory ... OK
* checking ‘build’ directory ... OK
* checking DESCRIPTION meta-information ... OK
* checking top-level files ... OK
* checking for left-over files ... OK
* checking index information ... OK
* checking package subdirectories ... OK
* checking code files for non-ASCII characters ... OK
* checking R files for syntax errors ... OK
* checking whether the package can be loaded ... OK
* checking whether the package can be loaded with stated dependencies ... OK
* checking whether the package can be unloaded cleanly ... OK
* checking whether the namespace can be loaded with stated dependencies ... OK
* checking whether the namespace can be unloaded cleanly ... OK
* checking loading without being on the library search path ... OK
* checking whether startup messages can be suppressed ... OK
* checking dependencies in R code ... OK
* checking S3 generic/method consistency ... OK
* checking replacement functions ... OK
* checking foreign function calls ... OK
* checking R code for possible problems ... OK
* checking Rd files ... NOTE
checkRd: (-1) annotation_table.Rd:25: Lost braces
25 | \url{https://cellecta.com/}{cellecta}}
| ^
* checking Rd metadata ... OK
* checking Rd cross-references ... OK
* checking for missing documentation entries ... OK
* checking for code/documentation mismatches ... OK
* checking Rd \usage sections ... NOTE
Documented arguments not in \usage in Rd file 'compute_camera.Rd':
‘...’
Documented arguments not in \usage in Rd file 'select_number_barcode.Rd':
‘...’
Documented arguments not in \usage in Rd file 'unique_gene_symbols.Rd':
‘...’
Functions with \usage entries need to have the appropriate \alias
entries, and all their arguments documented.
The \usage entries must correspond to syntactically valid R code.
See chapter ‘Writing R documentation files’ in the ‘Writing R
Extensions’ manual.
* checking Rd contents ... OK
* checking for unstated dependencies in examples ... OK
* checking contents of ‘data’ directory ... OK
* checking data for non-ASCII characters ... OK
* checking data for ASCII and uncompressed saves ... OK
* checking R/sysdata.rda ... OK
* checking files in ‘vignettes’ ... OK
* checking examples ... OK
Examples with CPU (user + system) or elapsed time > 5s
user system elapsed
plot_barcode_trend 38.512 0.622 47.735
plot_zscore_distribution 36.760 0.505 45.068
compute_metrics 21.480 1.291 24.696
find_zscore_hit 17.943 0.327 18.757
find_robust_zscore_hit 17.103 0.583 18.090
* checking for unstated dependencies in ‘tests’ ... OK
* checking tests ...
Running ‘testthat.R’
ERROR
Running the tests in ‘tests/testthat.R’ failed.
Last 13 lines of output:
`expected`: "gg"
── Failure ('test-visualization.R:179:5'): plot_zscore_distribution ────────────
class(p)[1] (`actual`) not equal to "gg" (`expected`).
`actual`: "ggplot2::ggplot"
`expected`: "gg"
── Failure ('test-visualization.R:263:5'): Plot common Hit ─────────────────────
"gg" (`actual`) not equal to class(plot)[1] (`expected`).
`actual`: "gg"
`expected`: "ggplot2::ggplot"
[ FAIL 11 | WARN 253 | SKIP 0 | PASS 53 ]
Error: Test failures
Execution halted
* checking for unstated dependencies in vignettes ... OK
* checking package vignettes ... OK
* checking running R code from vignettes ... SKIPPED
* checking re-building of vignette outputs ... SKIPPED
* checking PDF version of manual ... OK
* DONE
Status: 1 ERROR, 2 NOTEs
See
‘/home/biocbuild/bbs-3.22-bioc/meat/ScreenR.Rcheck/00check.log’
for details.
ScreenR.Rcheck/00install.out
############################################################################## ############################################################################## ### ### Running command: ### ### /home/biocbuild/R/R/bin/R CMD INSTALL ScreenR ### ############################################################################## ############################################################################## * installing to library ‘/home/biocbuild/R/R-4.5.0/site-library’ * installing *source* package ‘ScreenR’ ... ** this is package ‘ScreenR’ version ‘1.11.0’ ** using staged installation ** R ** data ** inst ** byte-compile and prepare package for lazy loading ** help *** installing help indices *** copying figures ** building package indices ** installing vignettes ** testing if installed package can be loaded from temporary location ** testing if installed package can be loaded from final location ** testing if installed package keeps a record of temporary installation path * DONE (ScreenR)
ScreenR.Rcheck/tests/testthat.Rout.fail
R version 4.5.0 (2025-04-11) -- "How About a Twenty-Six"
Copyright (C) 2025 The R Foundation for Statistical Computing
Platform: aarch64-unknown-linux-gnu
R is free software and comes with ABSOLUTELY NO WARRANTY.
You are welcome to redistribute it under certain conditions.
Type 'license()' or 'licence()' for distribution details.
R is a collaborative project with many contributors.
Type 'contributors()' for more information and
'citation()' on how to cite R or R packages in publications.
Type 'demo()' for some demos, 'help()' for on-line help, or
'help.start()' for an HTML browser interface to help.
Type 'q()' to quit R.
> library(testthat)
> library(ScreenR)
Welcome to ScreenR
--------------------------
See ?ScreenR for a list of
available functions.
Enjoy!
>
> test_check("ScreenR")
ScreenR count table containing:
5320 rows
15 columns
ScreenR annotation table containing:
5320 rows
5 columns
ScreenR normalized count table containing:
5320 rows
15 columns
ScreenR normalized data table containing:
74480 rows
9 columns
ScreenR annotation table containing:
5320 rows
5 columns
ScreenR annotation table containing:
5320 rows
5 columns
ScreenR count table containing:
5320 rows
15 columns
ScreenR count table containing:
5320 rows
15 columns
ScreenR normalized count table containing:
5320 rows
15 columns
ScreenR normalized count table containing:
5320 rows
15 columns
ScreenR normalized data table containing:
74480 rows
9 columns
ScreenR normalized data table containing:
74480 rows
9 columns
Using classic mode.
[ FAIL 11 | WARN 253 | SKIP 0 | PASS 53 ]
══ Failed tests ════════════════════════════════════════════════════════════════
── Failure ('test-MDS.R:52:5'): plot_mds NULL ──────────────────────────────────
class(plot)[1] (`actual`) not equal to "gg" (`expected`).
`actual`: "ggplot2::ggplot"
`expected`: "gg"
── Failure ('test-MDS.R:61:5'): plot_mds ───────────────────────────────────────
class(plot)[1] (`actual`) not equal to "gg" (`expected`).
`actual`: "ggplot2::ggplot"
`expected`: "gg"
── Failure ('test-MDS.R:70:5'): plot_explained_variance ────────────────────────
class(plot)[[1]] (`actual`) not equal to "gg" (`expected`).
`actual`: "ggplot2::ggplot"
`expected`: "gg"
── Failure ('test-MDS.R:81:5'): plot_explained_variance CUM ────────────────────
class(plot)[[1]] (`actual`) not equal to "gg" (`expected`).
`actual`: "ggplot2::ggplot"
`expected`: "gg"
── Failure ('test-visualization.R:57:5'): plot trend hit ───────────────────────
class(plot)[[1]] (`actual`) not equal to "gg" (`expected`).
`actual`: "ggplot2::ggplot"
`expected`: "gg"
── Failure ('test-visualization.R:71:5'): Plot Boxplot violinplot ──────────────
class(p)[1] (`actual`) not equal to "gg" (`expected`).
`actual`: "ggplot2::ggplot"
`expected`: "gg"
── Failure ('test-visualization.R:85:5'): Plot Boxplot boxplot ─────────────────
class(p)[1] (`actual`) not equal to "gg" (`expected`).
`actual`: "ggplot2::ggplot"
`expected`: "gg"
── Failure ('test-visualization.R:102:5'): plot_barcode_lost_for_gene ──────────
class(p)[1] (`actual`) not equal to "gg" (`expected`).
`actual`: "ggplot2::ggplot"
`expected`: "gg"
── Failure ('test-visualization.R:108:5'): plot_barcode_lost_for_gene ──────────
class(p)[1] (`actual`) not equal to "gg" (`expected`).
`actual`: "ggplot2::ggplot"
`expected`: "gg"
── Failure ('test-visualization.R:179:5'): plot_zscore_distribution ────────────
class(p)[1] (`actual`) not equal to "gg" (`expected`).
`actual`: "ggplot2::ggplot"
`expected`: "gg"
── Failure ('test-visualization.R:263:5'): Plot common Hit ─────────────────────
"gg" (`actual`) not equal to class(plot)[1] (`expected`).
`actual`: "gg"
`expected`: "ggplot2::ggplot"
[ FAIL 11 | WARN 253 | SKIP 0 | PASS 53 ]
Error: Test failures
Execution halted
ScreenR.Rcheck/ScreenR-Ex.timings
| name | user | system | elapsed | |
| barcode_lost | 0.210 | 0.012 | 0.222 | |
| compute_data_table | 0.246 | 0.004 | 0.251 | |
| compute_explained_variance | 0.022 | 0.004 | 0.026 | |
| compute_metrics | 21.480 | 1.291 | 24.696 | |
| compute_slope | 0.059 | 0.000 | 0.059 | |
| count_mapped_reads | 0.043 | 0.000 | 0.043 | |
| create_edger_obj | 0.03 | 0.00 | 0.03 | |
| create_screenr_object | 0.063 | 0.000 | 0.063 | |
| filter_by_slope | 0.168 | 0.000 | 0.169 | |
| filter_by_variance | 1.438 | 0.004 | 1.449 | |
| find_camera_hit | 1.546 | 0.008 | 1.557 | |
| find_common_hit | 0.044 | 0.000 | 0.044 | |
| find_roast_hit | 2.426 | 0.016 | 2.520 | |
| find_robust_zscore_hit | 17.103 | 0.583 | 18.090 | |
| find_zscore_hit | 17.943 | 0.327 | 18.757 | |
| get_annotation_table | 0.021 | 0.000 | 0.021 | |
| get_count_table | 0.105 | 0.000 | 0.105 | |
| get_data_table | 0.036 | 0.004 | 0.040 | |
| get_groups | 0 | 0 | 0 | |
| get_normalized_count_table | 0.065 | 0.000 | 0.065 | |
| get_replicates | 0 | 0 | 0 | |
| mapped_reads | 0.063 | 0.000 | 0.064 | |
| normalize_data | 0.065 | 0.000 | 0.066 | |
| plot_barcode_hit | 1.768 | 0.012 | 1.784 | |
| plot_barcode_lost | 0.573 | 0.000 | 0.575 | |
| plot_barcode_lost_for_gene | 2.347 | 0.004 | 2.505 | |
| plot_barcode_trend | 38.512 | 0.622 | 47.735 | |
| plot_boxplot | 0.643 | 0.008 | 0.666 | |
| plot_common_hit | 0.352 | 0.003 | 0.429 | |
| plot_explained_variance | 0.694 | 0.000 | 0.702 | |
| plot_mapped_reads | 0.305 | 0.000 | 0.306 | |
| plot_mapped_reads_distribution | 2.522 | 0.012 | 2.721 | |
| plot_mds | 0.560 | 0.000 | 0.571 | |
| plot_trend | 2.283 | 0.012 | 3.098 | |
| plot_zscore_distribution | 36.760 | 0.505 | 45.068 | |
| remove_all_zero_row | 0.016 | 0.000 | 0.016 | |
| set_annotation_table | 0.180 | 0.000 | 0.181 | |
| set_count_table | 0.184 | 0.000 | 0.185 | |
| set_data_table | 0.193 | 0.000 | 0.193 | |
| set_groups | 0.181 | 0.000 | 0.197 | |
| set_normalized_count_table | 0.281 | 0.016 | 0.299 | |
| set_replicates | 0.203 | 0.004 | 0.208 | |