Back to Multiple platform build/check report for BioC 3.22:   simplified   long
ABCDEFGHIJKLMNOPQR[S]TUVWXYZ

This page was generated on 2025-11-15 11:58 -0500 (Sat, 15 Nov 2025).

HostnameOSArch (*)R versionInstalled pkgs
nebbiolo2Linux (Ubuntu 24.04.3 LTS)x86_644.5.1 Patched (2025-08-23 r88802) -- "Great Square Root" 4903
taishanLinux (openEuler 24.03 LTS)aarch644.5.0 (2025-04-11) -- "How About a Twenty-Six" 4668
Click on any hostname to see more info about the system (e.g. compilers)      (*) as reported by 'uname -p', except on Windows and Mac OS X

Package 1954/2361HostnameOS / ArchINSTALLBUILDCHECKBUILD BIN
ScreenR 1.12.0  (landing page)
Emanuel Michele Soda
Snapshot Date: 2025-11-14 13:45 -0500 (Fri, 14 Nov 2025)
git_url: https://git.bioconductor.org/packages/ScreenR
git_branch: RELEASE_3_22
git_last_commit: e9ee46a
git_last_commit_date: 2025-10-29 11:17:18 -0500 (Wed, 29 Oct 2025)
nebbiolo2Linux (Ubuntu 24.04.3 LTS) / x86_64  OK    OK    ERROR  
taishanLinux (openEuler 24.03 LTS) / aarch64  OK    OK    ERROR  


CHECK results for ScreenR on nebbiolo2

To the developers/maintainers of the ScreenR package:
- Allow up to 24 hours (and sometimes 48 hours) for your latest push to git@git.bioconductor.org:packages/ScreenR.git to reflect on this report. See Troubleshooting Build Report for more information.
- Use the following Renviron settings to reproduce errors and warnings.
- If 'R CMD check' started to fail recently on the Linux builder(s) over a missing dependency, add the missing dependency to 'Suggests:' in your DESCRIPTION file. See Renviron.bioc for more information.

raw results


Summary

Package: ScreenR
Version: 1.12.0
Command: /home/biocbuild/bbs-3.22-bioc/R/bin/R CMD check --install=check:ScreenR.install-out.txt --library=/home/biocbuild/bbs-3.22-bioc/R/site-library --timings ScreenR_1.12.0.tar.gz
StartedAt: 2025-11-15 04:11:25 -0500 (Sat, 15 Nov 2025)
EndedAt: 2025-11-15 04:14:29 -0500 (Sat, 15 Nov 2025)
EllapsedTime: 184.1 seconds
RetCode: 1
Status:   ERROR  
CheckDir: ScreenR.Rcheck
Warnings: NA

Command output

##############################################################################
##############################################################################
###
### Running command:
###
###   /home/biocbuild/bbs-3.22-bioc/R/bin/R CMD check --install=check:ScreenR.install-out.txt --library=/home/biocbuild/bbs-3.22-bioc/R/site-library --timings ScreenR_1.12.0.tar.gz
###
##############################################################################
##############################################################################


* using log directory ‘/home/biocbuild/bbs-3.22-bioc/meat/ScreenR.Rcheck’
* using R version 4.5.1 Patched (2025-08-23 r88802)
* using platform: x86_64-pc-linux-gnu
* R was compiled by
    gcc (Ubuntu 13.3.0-6ubuntu2~24.04) 13.3.0
    GNU Fortran (Ubuntu 13.3.0-6ubuntu2~24.04) 13.3.0
* running under: Ubuntu 24.04.3 LTS
* using session charset: UTF-8
* checking for file ‘ScreenR/DESCRIPTION’ ... OK
* checking extension type ... Package
* this is package ‘ScreenR’ version ‘1.12.0’
* package encoding: UTF-8
* checking package namespace information ... OK
* checking package dependencies ... OK
* checking if this is a source package ... OK
* checking if there is a namespace ... OK
* checking for hidden files and directories ... OK
* checking for portable file names ... OK
* checking for sufficient/correct file permissions ... OK
* checking whether package ‘ScreenR’ can be installed ... OK
* checking installed package size ... OK
* checking package directory ... OK
* checking ‘build’ directory ... OK
* checking DESCRIPTION meta-information ... OK
* checking top-level files ... OK
* checking for left-over files ... OK
* checking index information ... OK
* checking package subdirectories ... OK
* checking code files for non-ASCII characters ... OK
* checking R files for syntax errors ... OK
* checking whether the package can be loaded ... OK
* checking whether the package can be loaded with stated dependencies ... OK
* checking whether the package can be unloaded cleanly ... OK
* checking whether the namespace can be loaded with stated dependencies ... OK
* checking whether the namespace can be unloaded cleanly ... OK
* checking loading without being on the library search path ... OK
* checking whether startup messages can be suppressed ... OK
* checking dependencies in R code ... OK
* checking S3 generic/method consistency ... OK
* checking replacement functions ... OK
* checking foreign function calls ... OK
* checking R code for possible problems ... OK
* checking Rd files ... NOTE
checkRd: (-1) annotation_table.Rd:25: Lost braces
    25 |                  \url{https://cellecta.com/}{cellecta}}
       |                                             ^
* checking Rd metadata ... OK
* checking Rd cross-references ... OK
* checking for missing documentation entries ... OK
* checking for code/documentation mismatches ... OK
* checking Rd \usage sections ... NOTE
Documented arguments not in \usage in Rd file 'compute_camera.Rd':
  ‘...’

Documented arguments not in \usage in Rd file 'select_number_barcode.Rd':
  ‘...’

Documented arguments not in \usage in Rd file 'unique_gene_symbols.Rd':
  ‘...’

Functions with \usage entries need to have the appropriate \alias
entries, and all their arguments documented.
The \usage entries must correspond to syntactically valid R code.
See chapter ‘Writing R documentation files’ in the ‘Writing R
Extensions’ manual.
* checking Rd contents ... OK
* checking for unstated dependencies in examples ... OK
* checking contents of ‘data’ directory ... OK
* checking data for non-ASCII characters ... OK
* checking data for ASCII and uncompressed saves ... OK
* checking R/sysdata.rda ... OK
* checking files in ‘vignettes’ ... OK
* checking examples ... OK
Examples with CPU (user + system) or elapsed time > 5s
                           user system elapsed
plot_barcode_trend       26.986  0.595  27.582
plot_zscore_distribution 26.014  0.425  26.439
compute_metrics          15.926  1.542  17.469
find_zscore_hit          12.818  0.230  13.048
find_robust_zscore_hit   12.459  0.516  12.979
* checking for unstated dependencies in ‘tests’ ... OK
* checking tests ...
  Running ‘testthat.R’
 ERROR
Running the tests in ‘tests/testthat.R’ failed.
Last 13 lines of output:
  Differences:
  `actual`:   "ggplot2::ggplot"
  `expected`: "gg"             
  
  ── Failure ('test-visualization.R:263:5'): Plot common Hit ─────────────────────
  Expected "gg" to equal `class(plot)[1]`.
  Differences:
  `actual`:   "gg"             
  `expected`: "ggplot2::ggplot"
  
  
  [ FAIL 11 | WARN 253 | SKIP 0 | PASS 53 ]
  Error:
  ! Test failures.
  Execution halted
* checking for unstated dependencies in vignettes ... OK
* checking package vignettes ... OK
* checking re-building of vignette outputs ... OK
* checking PDF version of manual ... OK
* DONE

Status: 1 ERROR, 2 NOTEs
See
  ‘/home/biocbuild/bbs-3.22-bioc/meat/ScreenR.Rcheck/00check.log’
for details.


Installation output

ScreenR.Rcheck/00install.out

##############################################################################
##############################################################################
###
### Running command:
###
###   /home/biocbuild/bbs-3.22-bioc/R/bin/R CMD INSTALL ScreenR
###
##############################################################################
##############################################################################


* installing to library ‘/home/biocbuild/bbs-3.22-bioc/R/site-library’
* installing *source* package ‘ScreenR’ ...
** this is package ‘ScreenR’ version ‘1.12.0’
** using staged installation
** R
** data
** inst
** byte-compile and prepare package for lazy loading
** help
*** installing help indices
*** copying figures
** building package indices
** installing vignettes
** testing if installed package can be loaded from temporary location
** testing if installed package can be loaded from final location
** testing if installed package keeps a record of temporary installation path
* DONE (ScreenR)

Tests output

ScreenR.Rcheck/tests/testthat.Rout.fail


R version 4.5.1 Patched (2025-08-23 r88802) -- "Great Square Root"
Copyright (C) 2025 The R Foundation for Statistical Computing
Platform: x86_64-pc-linux-gnu

R is free software and comes with ABSOLUTELY NO WARRANTY.
You are welcome to redistribute it under certain conditions.
Type 'license()' or 'licence()' for distribution details.

R is a collaborative project with many contributors.
Type 'contributors()' for more information and
'citation()' on how to cite R or R packages in publications.

Type 'demo()' for some demos, 'help()' for on-line help, or
'help.start()' for an HTML browser interface to help.
Type 'q()' to quit R.

> library(testthat)
> library(ScreenR)

Welcome to ScreenR
--------------------------

See ?ScreenR for a list of
available functions.

Enjoy!

> 
> test_check("ScreenR")
Saving _problems/test-MDS-52.R
Saving _problems/test-MDS-61.R
Saving _problems/test-MDS-70.R
Saving _problems/test-MDS-81.R
ScreenR count table containing:
 5320 rows
 15 columns
ScreenR annotation table containing:
 5320 rows
 5 columns
ScreenR normalized count table containing:
 5320 rows
 15 columns
ScreenR normalized data table containing:
 74480 rows
 9 columns
ScreenR annotation table containing:
 5320 rows
 5 columns
ScreenR annotation table containing:
 5320 rows
 5 columns
ScreenR count table containing:
 5320 rows
 15 columns
ScreenR count table containing:
 5320 rows
 15 columns
ScreenR normalized count table containing:
 5320 rows
 15 columns
ScreenR normalized count table containing:
 5320 rows
 15 columns
ScreenR normalized data table containing:
 74480 rows
 9 columns
ScreenR normalized data table containing:
 74480 rows
 9 columns
Saving _problems/test-visualization-57.R
Saving _problems/test-visualization-71.R
Saving _problems/test-visualization-85.R
Saving _problems/test-visualization-102.R
Saving _problems/test-visualization-108.R
Saving _problems/test-visualization-179.R
Using classic mode.
Saving _problems/test-visualization-263.R
[ FAIL 11 | WARN 253 | SKIP 0 | PASS 53 ]

══ Failed tests ════════════════════════════════════════════════════════════════
── Failure ('test-MDS.R:52:5'): plot_mds NULL ──────────────────────────────────
Expected `class(plot)[1]` to equal "gg".
Differences:
`actual`:   "ggplot2::ggplot"
`expected`: "gg"             

── Failure ('test-MDS.R:61:5'): plot_mds ───────────────────────────────────────
Expected `class(plot)[1]` to equal "gg".
Differences:
`actual`:   "ggplot2::ggplot"
`expected`: "gg"             

── Failure ('test-MDS.R:70:5'): plot_explained_variance ────────────────────────
Expected `class(plot)[[1]]` to equal "gg".
Differences:
`actual`:   "ggplot2::ggplot"
`expected`: "gg"             

── Failure ('test-MDS.R:81:5'): plot_explained_variance CUM ────────────────────
Expected `class(plot)[[1]]` to equal "gg".
Differences:
`actual`:   "ggplot2::ggplot"
`expected`: "gg"             

── Failure ('test-visualization.R:57:5'): plot trend hit ───────────────────────
Expected `class(plot)[[1]]` to equal "gg".
Differences:
`actual`:   "ggplot2::ggplot"
`expected`: "gg"             

── Failure ('test-visualization.R:71:5'): Plot Boxplot violinplot ──────────────
Expected `class(p)[1]` to equal "gg".
Differences:
`actual`:   "ggplot2::ggplot"
`expected`: "gg"             

── Failure ('test-visualization.R:85:5'): Plot Boxplot boxplot ─────────────────
Expected `class(p)[1]` to equal "gg".
Differences:
`actual`:   "ggplot2::ggplot"
`expected`: "gg"             

── Failure ('test-visualization.R:102:5'): plot_barcode_lost_for_gene ──────────
Expected `class(p)[1]` to equal "gg".
Differences:
`actual`:   "ggplot2::ggplot"
`expected`: "gg"             

── Failure ('test-visualization.R:108:5'): plot_barcode_lost_for_gene ──────────
Expected `class(p)[1]` to equal "gg".
Differences:
`actual`:   "ggplot2::ggplot"
`expected`: "gg"             

── Failure ('test-visualization.R:179:5'): plot_zscore_distribution ────────────
Expected `class(p)[1]` to equal "gg".
Differences:
`actual`:   "ggplot2::ggplot"
`expected`: "gg"             

── Failure ('test-visualization.R:263:5'): Plot common Hit ─────────────────────
Expected "gg" to equal `class(plot)[1]`.
Differences:
`actual`:   "gg"             
`expected`: "ggplot2::ggplot"


[ FAIL 11 | WARN 253 | SKIP 0 | PASS 53 ]
Error:
! Test failures.
Execution halted

Example timings

ScreenR.Rcheck/ScreenR-Ex.timings

nameusersystemelapsed
barcode_lost0.1740.0140.187
compute_data_table0.1880.0240.214
compute_explained_variance0.0170.0030.021
compute_metrics15.926 1.54217.469
compute_slope0.0420.0000.044
count_mapped_reads0.0350.0010.034
create_edger_obj0.0210.0010.021
create_screenr_object0.0450.0070.053
filter_by_slope0.1120.0000.113
filter_by_variance1.0310.0021.031
find_camera_hit1.0720.0021.075
find_common_hit0.0280.0000.028
find_roast_hit1.6870.0081.694
find_robust_zscore_hit12.459 0.51612.979
find_zscore_hit12.818 0.23013.048
get_annotation_table0.0140.0000.014
get_count_table0.0750.0010.075
get_data_table0.0260.0000.025
get_groups000
get_normalized_count_table0.0410.0000.041
get_replicates000
mapped_reads0.0440.0000.044
normalize_data0.0390.0000.039
plot_barcode_hit1.1600.0011.162
plot_barcode_lost0.4420.0160.458
plot_barcode_lost_for_gene1.5170.0011.518
plot_barcode_trend26.986 0.59527.582
plot_boxplot0.4250.0000.425
plot_common_hit0.240.000.24
plot_explained_variance0.4250.0010.426
plot_mapped_reads0.1940.0010.196
plot_mapped_reads_distribution1.6580.0061.665
plot_mds0.3430.0130.357
plot_trend1.6950.0141.709
plot_zscore_distribution26.014 0.42526.439
remove_all_zero_row0.0110.0000.011
set_annotation_table0.1190.0020.122
set_count_table0.1250.0000.126
set_data_table0.1330.0000.133
set_groups0.1280.0000.128
set_normalized_count_table0.1670.0010.168
set_replicates0.1170.0010.118