| Back to Multiple platform build/check report for BioC 3.22: simplified long |
|
This page was generated on 2025-10-24 12:07 -0400 (Fri, 24 Oct 2025).
| Hostname | OS | Arch (*) | R version | Installed pkgs |
|---|---|---|---|---|
| nebbiolo2 | Linux (Ubuntu 24.04.3 LTS) | x86_64 | 4.5.1 Patched (2025-08-23 r88802) -- "Great Square Root" | 4898 |
| lconway | macOS 12.7.6 Monterey | x86_64 | 4.5.1 Patched (2025-09-10 r88807) -- "Great Square Root" | 4688 |
| kjohnson3 | macOS 13.7.7 Ventura | arm64 | 4.5.1 Patched (2025-09-10 r88807) -- "Great Square Root" | 4634 |
| taishan | Linux (openEuler 24.03 LTS) | aarch64 | 4.5.0 (2025-04-11) -- "How About a Twenty-Six" | 4658 |
| Click on any hostname to see more info about the system (e.g. compilers) (*) as reported by 'uname -p', except on Windows and Mac OS X | ||||
| Package 609/2359 | Hostname | OS / Arch | INSTALL | BUILD | CHECK | BUILD BIN | ||||||||
| DNABarcodeCompatibility 1.25.0 (landing page) Céline Trébeau
| nebbiolo2 | Linux (Ubuntu 24.04.3 LTS) / x86_64 | OK | OK | OK | |||||||||
| lconway | macOS 12.7.6 Monterey / x86_64 | OK | OK | OK | OK | |||||||||
| kjohnson3 | macOS 13.7.7 Ventura / arm64 | OK | OK | OK | OK | |||||||||
| taishan | Linux (openEuler 24.03 LTS) / aarch64 | OK | OK | OK | ||||||||||
|
To the developers/maintainers of the DNABarcodeCompatibility package: - Allow up to 24 hours (and sometimes 48 hours) for your latest push to git@git.bioconductor.org:packages/DNABarcodeCompatibility.git to reflect on this report. See Troubleshooting Build Report for more information. - Use the following Renviron settings to reproduce errors and warnings. - If 'R CMD check' started to fail recently on the Linux builder(s) over a missing dependency, add the missing dependency to 'Suggests:' in your DESCRIPTION file. See Renviron.bioc for more information. - See Martin Grigorov's blog post for how to debug Linux ARM64 related issues on a x86_64 host. |
| Package: DNABarcodeCompatibility |
| Version: 1.25.0 |
| Command: /home/biocbuild/R/R/bin/R CMD INSTALL DNABarcodeCompatibility |
| StartedAt: 2025-10-23 20:26:21 -0000 (Thu, 23 Oct 2025) |
| EndedAt: 2025-10-23 20:27:15 -0000 (Thu, 23 Oct 2025) |
| EllapsedTime: 54.0 seconds |
| RetCode: 0 |
| Status: OK |
##############################################################################
##############################################################################
###
### Running command:
###
### /home/biocbuild/R/R/bin/R CMD INSTALL DNABarcodeCompatibility
###
##############################################################################
##############################################################################
* installing to library ‘/home/biocbuild/R/R-4.5.0/site-library’
* installing *source* package ‘DNABarcodeCompatibility’ ...
** this is package ‘DNABarcodeCompatibility’ version ‘1.25.0’
** using staged installation
** libs
using C compiler: ‘aarch64-unknown-linux-gnu-gcc (GCC) 14.2.0’
using C++ compiler: ‘aarch64-unknown-linux-gnu-g++ (GCC) 14.2.0’
/opt/ohpc/pub/compiler/gcc/14.2.0/bin/aarch64-unknown-linux-gnu-gcc -std=gnu23 -I"/home/biocbuild/R/R-4.5.0/include" -DNDEBUG -I'/home/biocbuild/R/R-4.5.0/site-library/Rcpp/include' -I'/home/biocbuild/R/R-4.5.0/site-library/BH/include' -I/usr/local/include -fPIC -g -O2 -Wall -Werror=format-security -c DNABarcodes_init.c -o DNABarcodes_init.o
/opt/ohpc/pub/compiler/gcc/14.2.0/bin/aarch64-unknown-linux-gnu-g++ -std=gnu++17 -I"/home/biocbuild/R/R-4.5.0/include" -DNDEBUG -I'/home/biocbuild/R/R-4.5.0/site-library/Rcpp/include' -I'/home/biocbuild/R/R-4.5.0/site-library/BH/include' -I/usr/local/include -fPIC -g -O2 -Wall -Werror=format-security -c RcppExports.cpp -o RcppExports.o
/opt/ohpc/pub/compiler/gcc/14.2.0/bin/aarch64-unknown-linux-gnu-g++ -std=gnu++17 -I"/home/biocbuild/R/R-4.5.0/include" -DNDEBUG -I'/home/biocbuild/R/R-4.5.0/site-library/Rcpp/include' -I'/home/biocbuild/R/R-4.5.0/site-library/BH/include' -I/usr/local/include -fPIC -g -O2 -Wall -Werror=format-security -c cachedistance.cpp -o cachedistance.o
cachedistance.cpp:51: warning: ignoring ‘#pragma omp critical’ [-Wunknown-pragmas]
51 | #pragma omp critical
cachedistance.cpp:66: warning: ignoring ‘#pragma omp critical’ [-Wunknown-pragmas]
66 | #pragma omp critical
In file included from /home/biocbuild/R/R-4.5.0/site-library/BH/include/boost/smart_ptr/shared_ptr.hpp:17,
from /home/biocbuild/R/R-4.5.0/site-library/BH/include/boost/shared_ptr.hpp:17,
from sequence.h:19,
from cachedistance.cpp:7:
/home/biocbuild/R/R-4.5.0/site-library/BH/include/boost/smart_ptr/detail/shared_count.hpp:326:33: warning: ‘template<class> class std::auto_ptr’ is deprecated: use 'std::unique_ptr' instead [-Wdeprecated-declarations]
326 | explicit shared_count( std::auto_ptr<Y> & r ): pi_( new sp_counted_impl_p<Y>( r.get() ) )
| ^~~~~~~~
In file included from /opt/ohpc/pub/compiler/gcc/14.2.0/include/c++/14.2.0/memory:78,
from sequence.h:13:
/opt/ohpc/pub/compiler/gcc/14.2.0/include/c++/14.2.0/bits/unique_ptr.h:59:28: note: declared here
59 | template<typename> class auto_ptr;
| ^~~~~~~~
/home/biocbuild/R/R-4.5.0/site-library/BH/include/boost/smart_ptr/shared_ptr.hpp:354:31: warning: ‘template<class> class std::auto_ptr’ is deprecated: use 'std::unique_ptr' instead [-Wdeprecated-declarations]
354 | explicit shared_ptr( std::auto_ptr<Y> & r ): px(r.get()), pn()
| ^~~~~~~~
/opt/ohpc/pub/compiler/gcc/14.2.0/include/c++/14.2.0/bits/unique_ptr.h:59:28: note: declared here
59 | template<typename> class auto_ptr;
| ^~~~~~~~
/home/biocbuild/R/R-4.5.0/site-library/BH/include/boost/smart_ptr/shared_ptr.hpp:365:22: warning: ‘template<class> class std::auto_ptr’ is deprecated: use 'std::unique_ptr' instead [-Wdeprecated-declarations]
365 | shared_ptr( std::auto_ptr<Y> && r ): px(r.get()), pn()
| ^~~~~~~~
/opt/ohpc/pub/compiler/gcc/14.2.0/include/c++/14.2.0/bits/unique_ptr.h:59:28: note: declared here
59 | template<typename> class auto_ptr;
| ^~~~~~~~
/home/biocbuild/R/R-4.5.0/site-library/BH/include/boost/smart_ptr/shared_ptr.hpp:423:34: warning: ‘template<class> class std::auto_ptr’ is deprecated: use 'std::unique_ptr' instead [-Wdeprecated-declarations]
423 | shared_ptr & operator=( std::auto_ptr<Y> & r )
| ^~~~~~~~
/opt/ohpc/pub/compiler/gcc/14.2.0/include/c++/14.2.0/bits/unique_ptr.h:59:28: note: declared here
59 | template<typename> class auto_ptr;
| ^~~~~~~~
/home/biocbuild/R/R-4.5.0/site-library/BH/include/boost/smart_ptr/shared_ptr.hpp:430:34: warning: ‘template<class> class std::auto_ptr’ is deprecated: use 'std::unique_ptr' instead [-Wdeprecated-declarations]
430 | shared_ptr & operator=( std::auto_ptr<Y> && r )
| ^~~~~~~~
/opt/ohpc/pub/compiler/gcc/14.2.0/include/c++/14.2.0/bits/unique_ptr.h:59:28: note: declared here
59 | template<typename> class auto_ptr;
| ^~~~~~~~
/home/biocbuild/R/R-4.5.0/site-library/BH/include/boost/smart_ptr/shared_ptr.hpp: In member function ‘boost::shared_ptr<T>& boost::shared_ptr<T>::operator=(std::auto_ptr<_Up>&&)’:
/home/biocbuild/R/R-4.5.0/site-library/BH/include/boost/smart_ptr/shared_ptr.hpp:432:38: warning: ‘template<class> class std::auto_ptr’ is deprecated: use 'std::unique_ptr' instead [-Wdeprecated-declarations]
432 | this_type( static_cast< std::auto_ptr<Y> && >( r ) ).swap( *this );
| ^~~~~~~~
/opt/ohpc/pub/compiler/gcc/14.2.0/include/c++/14.2.0/bits/unique_ptr.h:59:28: note: declared here
59 | template<typename> class auto_ptr;
| ^~~~~~~~
In file included from /home/biocbuild/R/R-4.5.0/site-library/BH/include/boost/mpl/aux_/na_assert.hpp:23,
from /home/biocbuild/R/R-4.5.0/site-library/BH/include/boost/mpl/arg.hpp:25,
from /home/biocbuild/R/R-4.5.0/site-library/BH/include/boost/mpl/placeholders.hpp:24,
from /home/biocbuild/R/R-4.5.0/site-library/BH/include/boost/mpl/apply.hpp:24,
from /home/biocbuild/R/R-4.5.0/site-library/BH/include/boost/serialization/array_optimization.hpp:18,
from /home/biocbuild/R/R-4.5.0/site-library/BH/include/boost/serialization/array_wrapper.hpp:21,
from /home/biocbuild/R/R-4.5.0/site-library/BH/include/boost/serialization/array.hpp:26,
from /home/biocbuild/R/R-4.5.0/site-library/BH/include/boost/numeric/ublas/storage.hpp:22,
from /home/biocbuild/R/R-4.5.0/site-library/BH/include/boost/numeric/ublas/vector.hpp:21,
from /home/biocbuild/R/R-4.5.0/site-library/BH/include/boost/numeric/ublas/matrix.hpp:18,
from /home/biocbuild/R/R-4.5.0/site-library/BH/include/boost/numeric/ublas/symmetric.hpp:16,
from cachedistance.h:16,
from cachedistance.cpp:8:
/home/biocbuild/R/R-4.5.0/site-library/BH/include/boost/mpl/assert.hpp: At global scope:
/home/biocbuild/R/R-4.5.0/site-library/BH/include/boost/mpl/assert.hpp:194:21: warning: unnecessary parentheses in declaration of ‘assert_arg’ [-Wparentheses]
194 | failed ************ (Pred::************
| ^~~~~~~~~~~~~~~~~~~
195 | assert_arg( void (*)(Pred), typename assert_arg_pred<Pred>::type )
| ~~~~~~~~~~~~~~~~~~~~~~~~~~~~~~~~~~~~~~~~~~~~~~~~~~~~~~~~~~~~~~~~~~
196 | );
| ~
/home/biocbuild/R/R-4.5.0/site-library/BH/include/boost/mpl/assert.hpp:194:21: note: remove parentheses
194 | failed ************ (Pred::************
| ^~~~~~~~~~~~~~~~~~~
| -
195 | assert_arg( void (*)(Pred), typename assert_arg_pred<Pred>::type )
| ~~~~~~~~~~~~~~~~~~~~~~~~~~~~~~~~~~~~~~~~~~~~~~~~~~~~~~~~~~~~~~~~~~
196 | );
| ~
| -
/home/biocbuild/R/R-4.5.0/site-library/BH/include/boost/mpl/assert.hpp:199:21: warning: unnecessary parentheses in declaration of ‘assert_not_arg’ [-Wparentheses]
199 | failed ************ (boost::mpl::not_<Pred>::************
| ^~~~~~~~~~~~~~~~~~~~~~~~~~~~~~~~~~~~~
200 | assert_not_arg( void (*)(Pred), typename assert_arg_pred_not<Pred>::type )
| ~~~~~~~~~~~~~~~~~~~~~~~~~~~~~~~~~~~~~~~~~~~~~~~~~~~~~~~~~~~~~~~~~~~~~~~~~~
201 | );
| ~
/home/biocbuild/R/R-4.5.0/site-library/BH/include/boost/mpl/assert.hpp:199:21: note: remove parentheses
199 | failed ************ (boost::mpl::not_<Pred>::************
| ^~~~~~~~~~~~~~~~~~~~~~~~~~~~~~~~~~~~~
| -
200 | assert_not_arg( void (*)(Pred), typename assert_arg_pred_not<Pred>::type )
| ~~~~~~~~~~~~~~~~~~~~~~~~~~~~~~~~~~~~~~~~~~~~~~~~~~~~~~~~~~~~~~~~~~~~~~~~~~
201 | );
| ~
| -
/opt/ohpc/pub/compiler/gcc/14.2.0/bin/aarch64-unknown-linux-gnu-g++ -std=gnu++17 -I"/home/biocbuild/R/R-4.5.0/include" -DNDEBUG -I'/home/biocbuild/R/R-4.5.0/site-library/Rcpp/include' -I'/home/biocbuild/R/R-4.5.0/site-library/BH/include' -I/usr/local/include -fPIC -g -O2 -Wall -Werror=format-security -c create_distance_func.cpp -o create_distance_func.o
In file included from /home/biocbuild/R/R-4.5.0/site-library/BH/include/boost/smart_ptr/shared_ptr.hpp:17,
from /home/biocbuild/R/R-4.5.0/site-library/BH/include/boost/shared_ptr.hpp:17,
from sequence.h:19,
from distance.h:14,
from create_distance_func.cpp:5:
/home/biocbuild/R/R-4.5.0/site-library/BH/include/boost/smart_ptr/detail/shared_count.hpp:326:33: warning: ‘template<class> class std::auto_ptr’ is deprecated: use 'std::unique_ptr' instead [-Wdeprecated-declarations]
326 | explicit shared_count( std::auto_ptr<Y> & r ): pi_( new sp_counted_impl_p<Y>( r.get() ) )
| ^~~~~~~~
In file included from /opt/ohpc/pub/compiler/gcc/14.2.0/include/c++/14.2.0/memory:78,
from distance.h:11:
/opt/ohpc/pub/compiler/gcc/14.2.0/include/c++/14.2.0/bits/unique_ptr.h:59:28: note: declared here
59 | template<typename> class auto_ptr;
| ^~~~~~~~
/home/biocbuild/R/R-4.5.0/site-library/BH/include/boost/smart_ptr/shared_ptr.hpp:354:31: warning: ‘template<class> class std::auto_ptr’ is deprecated: use 'std::unique_ptr' instead [-Wdeprecated-declarations]
354 | explicit shared_ptr( std::auto_ptr<Y> & r ): px(r.get()), pn()
| ^~~~~~~~
/opt/ohpc/pub/compiler/gcc/14.2.0/include/c++/14.2.0/bits/unique_ptr.h:59:28: note: declared here
59 | template<typename> class auto_ptr;
| ^~~~~~~~
/home/biocbuild/R/R-4.5.0/site-library/BH/include/boost/smart_ptr/shared_ptr.hpp:365:22: warning: ‘template<class> class std::auto_ptr’ is deprecated: use 'std::unique_ptr' instead [-Wdeprecated-declarations]
365 | shared_ptr( std::auto_ptr<Y> && r ): px(r.get()), pn()
| ^~~~~~~~
/opt/ohpc/pub/compiler/gcc/14.2.0/include/c++/14.2.0/bits/unique_ptr.h:59:28: note: declared here
59 | template<typename> class auto_ptr;
| ^~~~~~~~
/home/biocbuild/R/R-4.5.0/site-library/BH/include/boost/smart_ptr/shared_ptr.hpp:423:34: warning: ‘template<class> class std::auto_ptr’ is deprecated: use 'std::unique_ptr' instead [-Wdeprecated-declarations]
423 | shared_ptr & operator=( std::auto_ptr<Y> & r )
| ^~~~~~~~
/opt/ohpc/pub/compiler/gcc/14.2.0/include/c++/14.2.0/bits/unique_ptr.h:59:28: note: declared here
59 | template<typename> class auto_ptr;
| ^~~~~~~~
/home/biocbuild/R/R-4.5.0/site-library/BH/include/boost/smart_ptr/shared_ptr.hpp:430:34: warning: ‘template<class> class std::auto_ptr’ is deprecated: use 'std::unique_ptr' instead [-Wdeprecated-declarations]
430 | shared_ptr & operator=( std::auto_ptr<Y> && r )
| ^~~~~~~~
/opt/ohpc/pub/compiler/gcc/14.2.0/include/c++/14.2.0/bits/unique_ptr.h:59:28: note: declared here
59 | template<typename> class auto_ptr;
| ^~~~~~~~
/home/biocbuild/R/R-4.5.0/site-library/BH/include/boost/smart_ptr/shared_ptr.hpp: In member function ‘boost::shared_ptr<T>& boost::shared_ptr<T>::operator=(std::auto_ptr<_Up>&&)’:
/home/biocbuild/R/R-4.5.0/site-library/BH/include/boost/smart_ptr/shared_ptr.hpp:432:38: warning: ‘template<class> class std::auto_ptr’ is deprecated: use 'std::unique_ptr' instead [-Wdeprecated-declarations]
432 | this_type( static_cast< std::auto_ptr<Y> && >( r ) ).swap( *this );
| ^~~~~~~~
/opt/ohpc/pub/compiler/gcc/14.2.0/include/c++/14.2.0/bits/unique_ptr.h:59:28: note: declared here
59 | template<typename> class auto_ptr;
| ^~~~~~~~
In file included from /home/biocbuild/R/R-4.5.0/site-library/BH/include/boost/mpl/aux_/na_assert.hpp:23,
from /home/biocbuild/R/R-4.5.0/site-library/BH/include/boost/mpl/arg.hpp:25,
from /home/biocbuild/R/R-4.5.0/site-library/BH/include/boost/mpl/placeholders.hpp:24,
from /home/biocbuild/R/R-4.5.0/site-library/BH/include/boost/mpl/apply.hpp:24,
from /home/biocbuild/R/R-4.5.0/site-library/BH/include/boost/serialization/array_optimization.hpp:18,
from /home/biocbuild/R/R-4.5.0/site-library/BH/include/boost/serialization/array_wrapper.hpp:21,
from /home/biocbuild/R/R-4.5.0/site-library/BH/include/boost/serialization/array.hpp:26,
from /home/biocbuild/R/R-4.5.0/site-library/BH/include/boost/numeric/ublas/storage.hpp:22,
from /home/biocbuild/R/R-4.5.0/site-library/BH/include/boost/numeric/ublas/vector.hpp:21,
from /home/biocbuild/R/R-4.5.0/site-library/BH/include/boost/numeric/ublas/matrix.hpp:18,
from /home/biocbuild/R/R-4.5.0/site-library/BH/include/boost/numeric/ublas/symmetric.hpp:16,
from cachedistance.h:16,
from create_distance_func.cpp:9:
/home/biocbuild/R/R-4.5.0/site-library/BH/include/boost/mpl/assert.hpp: At global scope:
/home/biocbuild/R/R-4.5.0/site-library/BH/include/boost/mpl/assert.hpp:194:21: warning: unnecessary parentheses in declaration of ‘assert_arg’ [-Wparentheses]
194 | failed ************ (Pred::************
| ^~~~~~~~~~~~~~~~~~~
195 | assert_arg( void (*)(Pred), typename assert_arg_pred<Pred>::type )
| ~~~~~~~~~~~~~~~~~~~~~~~~~~~~~~~~~~~~~~~~~~~~~~~~~~~~~~~~~~~~~~~~~~
196 | );
| ~
/home/biocbuild/R/R-4.5.0/site-library/BH/include/boost/mpl/assert.hpp:194:21: note: remove parentheses
194 | failed ************ (Pred::************
| ^~~~~~~~~~~~~~~~~~~
| -
195 | assert_arg( void (*)(Pred), typename assert_arg_pred<Pred>::type )
| ~~~~~~~~~~~~~~~~~~~~~~~~~~~~~~~~~~~~~~~~~~~~~~~~~~~~~~~~~~~~~~~~~~
196 | );
| ~
| -
/home/biocbuild/R/R-4.5.0/site-library/BH/include/boost/mpl/assert.hpp:199:21: warning: unnecessary parentheses in declaration of ‘assert_not_arg’ [-Wparentheses]
199 | failed ************ (boost::mpl::not_<Pred>::************
| ^~~~~~~~~~~~~~~~~~~~~~~~~~~~~~~~~~~~~
200 | assert_not_arg( void (*)(Pred), typename assert_arg_pred_not<Pred>::type )
| ~~~~~~~~~~~~~~~~~~~~~~~~~~~~~~~~~~~~~~~~~~~~~~~~~~~~~~~~~~~~~~~~~~~~~~~~~~
201 | );
| ~
/home/biocbuild/R/R-4.5.0/site-library/BH/include/boost/mpl/assert.hpp:199:21: note: remove parentheses
199 | failed ************ (boost::mpl::not_<Pred>::************
| ^~~~~~~~~~~~~~~~~~~~~~~~~~~~~~~~~~~~~
| -
200 | assert_not_arg( void (*)(Pred), typename assert_arg_pred_not<Pred>::type )
| ~~~~~~~~~~~~~~~~~~~~~~~~~~~~~~~~~~~~~~~~~~~~~~~~~~~~~~~~~~~~~~~~~~~~~~~~~~
201 | );
| ~
| -
/opt/ohpc/pub/compiler/gcc/14.2.0/bin/aarch64-unknown-linux-gnu-g++ -std=gnu++17 -I"/home/biocbuild/R/R-4.5.0/include" -DNDEBUG -I'/home/biocbuild/R/R-4.5.0/site-library/Rcpp/include' -I'/home/biocbuild/R/R-4.5.0/site-library/BH/include' -I/usr/local/include -fPIC -g -O2 -Wall -Werror=format-security -c distance_for_R.cpp -o distance_for_R.o
In file included from /home/biocbuild/R/R-4.5.0/site-library/BH/include/boost/smart_ptr/shared_ptr.hpp:17,
from /home/biocbuild/R/R-4.5.0/site-library/BH/include/boost/shared_ptr.hpp:17,
from sequence.h:19,
from distance.h:14,
from distance_for_R.cpp:9:
/home/biocbuild/R/R-4.5.0/site-library/BH/include/boost/smart_ptr/detail/shared_count.hpp:326:33: warning: ‘template<class> class std::auto_ptr’ is deprecated: use 'std::unique_ptr' instead [-Wdeprecated-declarations]
326 | explicit shared_count( std::auto_ptr<Y> & r ): pi_( new sp_counted_impl_p<Y>( r.get() ) )
| ^~~~~~~~
In file included from /opt/ohpc/pub/compiler/gcc/14.2.0/include/c++/14.2.0/memory:78,
from distance.h:11:
/opt/ohpc/pub/compiler/gcc/14.2.0/include/c++/14.2.0/bits/unique_ptr.h:59:28: note: declared here
59 | template<typename> class auto_ptr;
| ^~~~~~~~
/home/biocbuild/R/R-4.5.0/site-library/BH/include/boost/smart_ptr/shared_ptr.hpp:354:31: warning: ‘template<class> class std::auto_ptr’ is deprecated: use 'std::unique_ptr' instead [-Wdeprecated-declarations]
354 | explicit shared_ptr( std::auto_ptr<Y> & r ): px(r.get()), pn()
| ^~~~~~~~
/opt/ohpc/pub/compiler/gcc/14.2.0/include/c++/14.2.0/bits/unique_ptr.h:59:28: note: declared here
59 | template<typename> class auto_ptr;
| ^~~~~~~~
/home/biocbuild/R/R-4.5.0/site-library/BH/include/boost/smart_ptr/shared_ptr.hpp:365:22: warning: ‘template<class> class std::auto_ptr’ is deprecated: use 'std::unique_ptr' instead [-Wdeprecated-declarations]
365 | shared_ptr( std::auto_ptr<Y> && r ): px(r.get()), pn()
| ^~~~~~~~
/opt/ohpc/pub/compiler/gcc/14.2.0/include/c++/14.2.0/bits/unique_ptr.h:59:28: note: declared here
59 | template<typename> class auto_ptr;
| ^~~~~~~~
/home/biocbuild/R/R-4.5.0/site-library/BH/include/boost/smart_ptr/shared_ptr.hpp:423:34: warning: ‘template<class> class std::auto_ptr’ is deprecated: use 'std::unique_ptr' instead [-Wdeprecated-declarations]
423 | shared_ptr & operator=( std::auto_ptr<Y> & r )
| ^~~~~~~~
/opt/ohpc/pub/compiler/gcc/14.2.0/include/c++/14.2.0/bits/unique_ptr.h:59:28: note: declared here
59 | template<typename> class auto_ptr;
| ^~~~~~~~
/home/biocbuild/R/R-4.5.0/site-library/BH/include/boost/smart_ptr/shared_ptr.hpp:430:34: warning: ‘template<class> class std::auto_ptr’ is deprecated: use 'std::unique_ptr' instead [-Wdeprecated-declarations]
430 | shared_ptr & operator=( std::auto_ptr<Y> && r )
| ^~~~~~~~
/opt/ohpc/pub/compiler/gcc/14.2.0/include/c++/14.2.0/bits/unique_ptr.h:59:28: note: declared here
59 | template<typename> class auto_ptr;
| ^~~~~~~~
/home/biocbuild/R/R-4.5.0/site-library/BH/include/boost/smart_ptr/shared_ptr.hpp: In member function ‘boost::shared_ptr<T>& boost::shared_ptr<T>::operator=(std::auto_ptr<_Up>&&)’:
/home/biocbuild/R/R-4.5.0/site-library/BH/include/boost/smart_ptr/shared_ptr.hpp:432:38: warning: ‘template<class> class std::auto_ptr’ is deprecated: use 'std::unique_ptr' instead [-Wdeprecated-declarations]
432 | this_type( static_cast< std::auto_ptr<Y> && >( r ) ).swap( *this );
| ^~~~~~~~
/opt/ohpc/pub/compiler/gcc/14.2.0/include/c++/14.2.0/bits/unique_ptr.h:59:28: note: declared here
59 | template<typename> class auto_ptr;
| ^~~~~~~~
/opt/ohpc/pub/compiler/gcc/14.2.0/bin/aarch64-unknown-linux-gnu-g++ -std=gnu++17 -I"/home/biocbuild/R/R-4.5.0/include" -DNDEBUG -I'/home/biocbuild/R/R-4.5.0/site-library/Rcpp/include' -I'/home/biocbuild/R/R-4.5.0/site-library/BH/include' -I/usr/local/include -fPIC -g -O2 -Wall -Werror=format-security -c hammingdistance.cpp -o hammingdistance.o
In file included from /home/biocbuild/R/R-4.5.0/site-library/BH/include/boost/smart_ptr/shared_ptr.hpp:17,
from /home/biocbuild/R/R-4.5.0/site-library/BH/include/boost/shared_ptr.hpp:17,
from sequence.h:19,
from hammingdistance.cpp:7:
/home/biocbuild/R/R-4.5.0/site-library/BH/include/boost/smart_ptr/detail/shared_count.hpp:326:33: warning: ‘template<class> class std::auto_ptr’ is deprecated: use 'std::unique_ptr' instead [-Wdeprecated-declarations]
326 | explicit shared_count( std::auto_ptr<Y> & r ): pi_( new sp_counted_impl_p<Y>( r.get() ) )
| ^~~~~~~~
In file included from /opt/ohpc/pub/compiler/gcc/14.2.0/include/c++/14.2.0/memory:78,
from sequence.h:13:
/opt/ohpc/pub/compiler/gcc/14.2.0/include/c++/14.2.0/bits/unique_ptr.h:59:28: note: declared here
59 | template<typename> class auto_ptr;
| ^~~~~~~~
/home/biocbuild/R/R-4.5.0/site-library/BH/include/boost/smart_ptr/shared_ptr.hpp:354:31: warning: ‘template<class> class std::auto_ptr’ is deprecated: use 'std::unique_ptr' instead [-Wdeprecated-declarations]
354 | explicit shared_ptr( std::auto_ptr<Y> & r ): px(r.get()), pn()
| ^~~~~~~~
/opt/ohpc/pub/compiler/gcc/14.2.0/include/c++/14.2.0/bits/unique_ptr.h:59:28: note: declared here
59 | template<typename> class auto_ptr;
| ^~~~~~~~
/home/biocbuild/R/R-4.5.0/site-library/BH/include/boost/smart_ptr/shared_ptr.hpp:365:22: warning: ‘template<class> class std::auto_ptr’ is deprecated: use 'std::unique_ptr' instead [-Wdeprecated-declarations]
365 | shared_ptr( std::auto_ptr<Y> && r ): px(r.get()), pn()
| ^~~~~~~~
/opt/ohpc/pub/compiler/gcc/14.2.0/include/c++/14.2.0/bits/unique_ptr.h:59:28: note: declared here
59 | template<typename> class auto_ptr;
| ^~~~~~~~
/home/biocbuild/R/R-4.5.0/site-library/BH/include/boost/smart_ptr/shared_ptr.hpp:423:34: warning: ‘template<class> class std::auto_ptr’ is deprecated: use 'std::unique_ptr' instead [-Wdeprecated-declarations]
423 | shared_ptr & operator=( std::auto_ptr<Y> & r )
| ^~~~~~~~
/opt/ohpc/pub/compiler/gcc/14.2.0/include/c++/14.2.0/bits/unique_ptr.h:59:28: note: declared here
59 | template<typename> class auto_ptr;
| ^~~~~~~~
/home/biocbuild/R/R-4.5.0/site-library/BH/include/boost/smart_ptr/shared_ptr.hpp:430:34: warning: ‘template<class> class std::auto_ptr’ is deprecated: use 'std::unique_ptr' instead [-Wdeprecated-declarations]
430 | shared_ptr & operator=( std::auto_ptr<Y> && r )
| ^~~~~~~~
/opt/ohpc/pub/compiler/gcc/14.2.0/include/c++/14.2.0/bits/unique_ptr.h:59:28: note: declared here
59 | template<typename> class auto_ptr;
| ^~~~~~~~
/home/biocbuild/R/R-4.5.0/site-library/BH/include/boost/smart_ptr/shared_ptr.hpp: In member function ‘boost::shared_ptr<T>& boost::shared_ptr<T>::operator=(std::auto_ptr<_Up>&&)’:
/home/biocbuild/R/R-4.5.0/site-library/BH/include/boost/smart_ptr/shared_ptr.hpp:432:38: warning: ‘template<class> class std::auto_ptr’ is deprecated: use 'std::unique_ptr' instead [-Wdeprecated-declarations]
432 | this_type( static_cast< std::auto_ptr<Y> && >( r ) ).swap( *this );
| ^~~~~~~~
/opt/ohpc/pub/compiler/gcc/14.2.0/include/c++/14.2.0/bits/unique_ptr.h:59:28: note: declared here
59 | template<typename> class auto_ptr;
| ^~~~~~~~
/opt/ohpc/pub/compiler/gcc/14.2.0/bin/aarch64-unknown-linux-gnu-g++ -std=gnu++17 -I"/home/biocbuild/R/R-4.5.0/include" -DNDEBUG -I'/home/biocbuild/R/R-4.5.0/site-library/Rcpp/include' -I'/home/biocbuild/R/R-4.5.0/site-library/BH/include' -I/usr/local/include -fPIC -g -O2 -Wall -Werror=format-security -c levenshteindistance.cpp -o levenshteindistance.o
In file included from /home/biocbuild/R/R-4.5.0/site-library/BH/include/boost/smart_ptr/shared_ptr.hpp:17,
from /home/biocbuild/R/R-4.5.0/site-library/BH/include/boost/shared_ptr.hpp:17,
from sequence.h:19,
from levenshteindistance.cpp:7:
/home/biocbuild/R/R-4.5.0/site-library/BH/include/boost/smart_ptr/detail/shared_count.hpp:326:33: warning: ‘template<class> class std::auto_ptr’ is deprecated: use 'std::unique_ptr' instead [-Wdeprecated-declarations]
326 | explicit shared_count( std::auto_ptr<Y> & r ): pi_( new sp_counted_impl_p<Y>( r.get() ) )
| ^~~~~~~~
In file included from /opt/ohpc/pub/compiler/gcc/14.2.0/include/c++/14.2.0/memory:78,
from sequence.h:13:
/opt/ohpc/pub/compiler/gcc/14.2.0/include/c++/14.2.0/bits/unique_ptr.h:59:28: note: declared here
59 | template<typename> class auto_ptr;
| ^~~~~~~~
/home/biocbuild/R/R-4.5.0/site-library/BH/include/boost/smart_ptr/shared_ptr.hpp:354:31: warning: ‘template<class> class std::auto_ptr’ is deprecated: use 'std::unique_ptr' instead [-Wdeprecated-declarations]
354 | explicit shared_ptr( std::auto_ptr<Y> & r ): px(r.get()), pn()
| ^~~~~~~~
/opt/ohpc/pub/compiler/gcc/14.2.0/include/c++/14.2.0/bits/unique_ptr.h:59:28: note: declared here
59 | template<typename> class auto_ptr;
| ^~~~~~~~
/home/biocbuild/R/R-4.5.0/site-library/BH/include/boost/smart_ptr/shared_ptr.hpp:365:22: warning: ‘template<class> class std::auto_ptr’ is deprecated: use 'std::unique_ptr' instead [-Wdeprecated-declarations]
365 | shared_ptr( std::auto_ptr<Y> && r ): px(r.get()), pn()
| ^~~~~~~~
/opt/ohpc/pub/compiler/gcc/14.2.0/include/c++/14.2.0/bits/unique_ptr.h:59:28: note: declared here
59 | template<typename> class auto_ptr;
| ^~~~~~~~
/home/biocbuild/R/R-4.5.0/site-library/BH/include/boost/smart_ptr/shared_ptr.hpp:423:34: warning: ‘template<class> class std::auto_ptr’ is deprecated: use 'std::unique_ptr' instead [-Wdeprecated-declarations]
423 | shared_ptr & operator=( std::auto_ptr<Y> & r )
| ^~~~~~~~
/opt/ohpc/pub/compiler/gcc/14.2.0/include/c++/14.2.0/bits/unique_ptr.h:59:28: note: declared here
59 | template<typename> class auto_ptr;
| ^~~~~~~~
/home/biocbuild/R/R-4.5.0/site-library/BH/include/boost/smart_ptr/shared_ptr.hpp:430:34: warning: ‘template<class> class std::auto_ptr’ is deprecated: use 'std::unique_ptr' instead [-Wdeprecated-declarations]
430 | shared_ptr & operator=( std::auto_ptr<Y> && r )
| ^~~~~~~~
/opt/ohpc/pub/compiler/gcc/14.2.0/include/c++/14.2.0/bits/unique_ptr.h:59:28: note: declared here
59 | template<typename> class auto_ptr;
| ^~~~~~~~
/home/biocbuild/R/R-4.5.0/site-library/BH/include/boost/smart_ptr/shared_ptr.hpp: In member function ‘boost::shared_ptr<T>& boost::shared_ptr<T>::operator=(std::auto_ptr<_Up>&&)’:
/home/biocbuild/R/R-4.5.0/site-library/BH/include/boost/smart_ptr/shared_ptr.hpp:432:38: warning: ‘template<class> class std::auto_ptr’ is deprecated: use 'std::unique_ptr' instead [-Wdeprecated-declarations]
432 | this_type( static_cast< std::auto_ptr<Y> && >( r ) ).swap( *this );
| ^~~~~~~~
/opt/ohpc/pub/compiler/gcc/14.2.0/include/c++/14.2.0/bits/unique_ptr.h:59:28: note: declared here
59 | template<typename> class auto_ptr;
| ^~~~~~~~
/opt/ohpc/pub/compiler/gcc/14.2.0/bin/aarch64-unknown-linux-gnu-g++ -std=gnu++17 -I"/home/biocbuild/R/R-4.5.0/include" -DNDEBUG -I'/home/biocbuild/R/R-4.5.0/site-library/Rcpp/include' -I'/home/biocbuild/R/R-4.5.0/site-library/BH/include' -I/usr/local/include -fPIC -g -O2 -Wall -Werror=format-security -c phaseshiftdist.cpp -o phaseshiftdist.o
In file included from /home/biocbuild/R/R-4.5.0/site-library/BH/include/boost/smart_ptr/shared_ptr.hpp:17,
from /home/biocbuild/R/R-4.5.0/site-library/BH/include/boost/shared_ptr.hpp:17,
from sequence.h:19,
from phaseshiftdist.cpp:10:
/home/biocbuild/R/R-4.5.0/site-library/BH/include/boost/smart_ptr/detail/shared_count.hpp:326:33: warning: ‘template<class> class std::auto_ptr’ is deprecated: use 'std::unique_ptr' instead [-Wdeprecated-declarations]
326 | explicit shared_count( std::auto_ptr<Y> & r ): pi_( new sp_counted_impl_p<Y>( r.get() ) )
| ^~~~~~~~
In file included from /opt/ohpc/pub/compiler/gcc/14.2.0/include/c++/14.2.0/memory:78,
from sequence.h:13:
/opt/ohpc/pub/compiler/gcc/14.2.0/include/c++/14.2.0/bits/unique_ptr.h:59:28: note: declared here
59 | template<typename> class auto_ptr;
| ^~~~~~~~
/home/biocbuild/R/R-4.5.0/site-library/BH/include/boost/smart_ptr/shared_ptr.hpp:354:31: warning: ‘template<class> class std::auto_ptr’ is deprecated: use 'std::unique_ptr' instead [-Wdeprecated-declarations]
354 | explicit shared_ptr( std::auto_ptr<Y> & r ): px(r.get()), pn()
| ^~~~~~~~
/opt/ohpc/pub/compiler/gcc/14.2.0/include/c++/14.2.0/bits/unique_ptr.h:59:28: note: declared here
59 | template<typename> class auto_ptr;
| ^~~~~~~~
/home/biocbuild/R/R-4.5.0/site-library/BH/include/boost/smart_ptr/shared_ptr.hpp:365:22: warning: ‘template<class> class std::auto_ptr’ is deprecated: use 'std::unique_ptr' instead [-Wdeprecated-declarations]
365 | shared_ptr( std::auto_ptr<Y> && r ): px(r.get()), pn()
| ^~~~~~~~
/opt/ohpc/pub/compiler/gcc/14.2.0/include/c++/14.2.0/bits/unique_ptr.h:59:28: note: declared here
59 | template<typename> class auto_ptr;
| ^~~~~~~~
/home/biocbuild/R/R-4.5.0/site-library/BH/include/boost/smart_ptr/shared_ptr.hpp:423:34: warning: ‘template<class> class std::auto_ptr’ is deprecated: use 'std::unique_ptr' instead [-Wdeprecated-declarations]
423 | shared_ptr & operator=( std::auto_ptr<Y> & r )
| ^~~~~~~~
/opt/ohpc/pub/compiler/gcc/14.2.0/include/c++/14.2.0/bits/unique_ptr.h:59:28: note: declared here
59 | template<typename> class auto_ptr;
| ^~~~~~~~
/home/biocbuild/R/R-4.5.0/site-library/BH/include/boost/smart_ptr/shared_ptr.hpp:430:34: warning: ‘template<class> class std::auto_ptr’ is deprecated: use 'std::unique_ptr' instead [-Wdeprecated-declarations]
430 | shared_ptr & operator=( std::auto_ptr<Y> && r )
| ^~~~~~~~
/opt/ohpc/pub/compiler/gcc/14.2.0/include/c++/14.2.0/bits/unique_ptr.h:59:28: note: declared here
59 | template<typename> class auto_ptr;
| ^~~~~~~~
/home/biocbuild/R/R-4.5.0/site-library/BH/include/boost/smart_ptr/shared_ptr.hpp: In member function ‘boost::shared_ptr<T>& boost::shared_ptr<T>::operator=(std::auto_ptr<_Up>&&)’:
/home/biocbuild/R/R-4.5.0/site-library/BH/include/boost/smart_ptr/shared_ptr.hpp:432:38: warning: ‘template<class> class std::auto_ptr’ is deprecated: use 'std::unique_ptr' instead [-Wdeprecated-declarations]
432 | this_type( static_cast< std::auto_ptr<Y> && >( r ) ).swap( *this );
| ^~~~~~~~
/opt/ohpc/pub/compiler/gcc/14.2.0/include/c++/14.2.0/bits/unique_ptr.h:59:28: note: declared here
59 | template<typename> class auto_ptr;
| ^~~~~~~~
In file included from /home/biocbuild/R/R-4.5.0/site-library/BH/include/boost/foreach.hpp:76,
from phaseshiftdist.cpp:23:
/home/biocbuild/R/R-4.5.0/site-library/BH/include/boost/mpl/assert.hpp: At global scope:
/home/biocbuild/R/R-4.5.0/site-library/BH/include/boost/mpl/assert.hpp:194:21: warning: unnecessary parentheses in declaration of ‘assert_arg’ [-Wparentheses]
194 | failed ************ (Pred::************
| ^~~~~~~~~~~~~~~~~~~
195 | assert_arg( void (*)(Pred), typename assert_arg_pred<Pred>::type )
| ~~~~~~~~~~~~~~~~~~~~~~~~~~~~~~~~~~~~~~~~~~~~~~~~~~~~~~~~~~~~~~~~~~
196 | );
| ~
/home/biocbuild/R/R-4.5.0/site-library/BH/include/boost/mpl/assert.hpp:194:21: note: remove parentheses
194 | failed ************ (Pred::************
| ^~~~~~~~~~~~~~~~~~~
| -
195 | assert_arg( void (*)(Pred), typename assert_arg_pred<Pred>::type )
| ~~~~~~~~~~~~~~~~~~~~~~~~~~~~~~~~~~~~~~~~~~~~~~~~~~~~~~~~~~~~~~~~~~
196 | );
| ~
| -
/home/biocbuild/R/R-4.5.0/site-library/BH/include/boost/mpl/assert.hpp:199:21: warning: unnecessary parentheses in declaration of ‘assert_not_arg’ [-Wparentheses]
199 | failed ************ (boost::mpl::not_<Pred>::************
| ^~~~~~~~~~~~~~~~~~~~~~~~~~~~~~~~~~~~~
200 | assert_not_arg( void (*)(Pred), typename assert_arg_pred_not<Pred>::type )
| ~~~~~~~~~~~~~~~~~~~~~~~~~~~~~~~~~~~~~~~~~~~~~~~~~~~~~~~~~~~~~~~~~~~~~~~~~~
201 | );
| ~
/home/biocbuild/R/R-4.5.0/site-library/BH/include/boost/mpl/assert.hpp:199:21: note: remove parentheses
199 | failed ************ (boost::mpl::not_<Pred>::************
| ^~~~~~~~~~~~~~~~~~~~~~~~~~~~~~~~~~~~~
| -
200 | assert_not_arg( void (*)(Pred), typename assert_arg_pred_not<Pred>::type )
| ~~~~~~~~~~~~~~~~~~~~~~~~~~~~~~~~~~~~~~~~~~~~~~~~~~~~~~~~~~~~~~~~~~~~~~~~~~
201 | );
| ~
| -
/opt/ohpc/pub/compiler/gcc/14.2.0/bin/aarch64-unknown-linux-gnu-g++ -std=gnu++17 -I"/home/biocbuild/R/R-4.5.0/include" -DNDEBUG -I'/home/biocbuild/R/R-4.5.0/site-library/Rcpp/include' -I'/home/biocbuild/R/R-4.5.0/site-library/BH/include' -I/usr/local/include -fPIC -g -O2 -Wall -Werror=format-security -c sequence.cpp -o sequence.o
In file included from /home/biocbuild/R/R-4.5.0/site-library/BH/include/boost/foreach.hpp:76,
from sequence.cpp:3:
/home/biocbuild/R/R-4.5.0/site-library/BH/include/boost/mpl/assert.hpp:194:21: warning: unnecessary parentheses in declaration of ‘assert_arg’ [-Wparentheses]
194 | failed ************ (Pred::************
| ^~~~~~~~~~~~~~~~~~~
195 | assert_arg( void (*)(Pred), typename assert_arg_pred<Pred>::type )
| ~~~~~~~~~~~~~~~~~~~~~~~~~~~~~~~~~~~~~~~~~~~~~~~~~~~~~~~~~~~~~~~~~~
196 | );
| ~
/home/biocbuild/R/R-4.5.0/site-library/BH/include/boost/mpl/assert.hpp:194:21: note: remove parentheses
194 | failed ************ (Pred::************
| ^~~~~~~~~~~~~~~~~~~
| -
195 | assert_arg( void (*)(Pred), typename assert_arg_pred<Pred>::type )
| ~~~~~~~~~~~~~~~~~~~~~~~~~~~~~~~~~~~~~~~~~~~~~~~~~~~~~~~~~~~~~~~~~~
196 | );
| ~
| -
/home/biocbuild/R/R-4.5.0/site-library/BH/include/boost/mpl/assert.hpp:199:21: warning: unnecessary parentheses in declaration of ‘assert_not_arg’ [-Wparentheses]
199 | failed ************ (boost::mpl::not_<Pred>::************
| ^~~~~~~~~~~~~~~~~~~~~~~~~~~~~~~~~~~~~
200 | assert_not_arg( void (*)(Pred), typename assert_arg_pred_not<Pred>::type )
| ~~~~~~~~~~~~~~~~~~~~~~~~~~~~~~~~~~~~~~~~~~~~~~~~~~~~~~~~~~~~~~~~~~~~~~~~~~
201 | );
| ~
/home/biocbuild/R/R-4.5.0/site-library/BH/include/boost/mpl/assert.hpp:199:21: note: remove parentheses
199 | failed ************ (boost::mpl::not_<Pred>::************
| ^~~~~~~~~~~~~~~~~~~~~~~~~~~~~~~~~~~~~
| -
200 | assert_not_arg( void (*)(Pred), typename assert_arg_pred_not<Pred>::type )
| ~~~~~~~~~~~~~~~~~~~~~~~~~~~~~~~~~~~~~~~~~~~~~~~~~~~~~~~~~~~~~~~~~~~~~~~~~~
201 | );
| ~
| -
In file included from /home/biocbuild/R/R-4.5.0/site-library/BH/include/boost/smart_ptr/shared_ptr.hpp:17,
from /home/biocbuild/R/R-4.5.0/site-library/BH/include/boost/shared_ptr.hpp:17,
from sequence.h:19,
from sequence.cpp:13:
/home/biocbuild/R/R-4.5.0/site-library/BH/include/boost/smart_ptr/detail/shared_count.hpp:326:33: warning: ‘template<class> class std::auto_ptr’ is deprecated: use 'std::unique_ptr' instead [-Wdeprecated-declarations]
326 | explicit shared_count( std::auto_ptr<Y> & r ): pi_( new sp_counted_impl_p<Y>( r.get() ) )
| ^~~~~~~~
In file included from /opt/ohpc/pub/compiler/gcc/14.2.0/include/c++/14.2.0/memory:78,
from sequence.cpp:10:
/opt/ohpc/pub/compiler/gcc/14.2.0/include/c++/14.2.0/bits/unique_ptr.h:59:28: note: declared here
59 | template<typename> class auto_ptr;
| ^~~~~~~~
/home/biocbuild/R/R-4.5.0/site-library/BH/include/boost/smart_ptr/shared_ptr.hpp:354:31: warning: ‘template<class> class std::auto_ptr’ is deprecated: use 'std::unique_ptr' instead [-Wdeprecated-declarations]
354 | explicit shared_ptr( std::auto_ptr<Y> & r ): px(r.get()), pn()
| ^~~~~~~~
/opt/ohpc/pub/compiler/gcc/14.2.0/include/c++/14.2.0/bits/unique_ptr.h:59:28: note: declared here
59 | template<typename> class auto_ptr;
| ^~~~~~~~
/home/biocbuild/R/R-4.5.0/site-library/BH/include/boost/smart_ptr/shared_ptr.hpp:365:22: warning: ‘template<class> class std::auto_ptr’ is deprecated: use 'std::unique_ptr' instead [-Wdeprecated-declarations]
365 | shared_ptr( std::auto_ptr<Y> && r ): px(r.get()), pn()
| ^~~~~~~~
/opt/ohpc/pub/compiler/gcc/14.2.0/include/c++/14.2.0/bits/unique_ptr.h:59:28: note: declared here
59 | template<typename> class auto_ptr;
| ^~~~~~~~
/home/biocbuild/R/R-4.5.0/site-library/BH/include/boost/smart_ptr/shared_ptr.hpp:423:34: warning: ‘template<class> class std::auto_ptr’ is deprecated: use 'std::unique_ptr' instead [-Wdeprecated-declarations]
423 | shared_ptr & operator=( std::auto_ptr<Y> & r )
| ^~~~~~~~
/opt/ohpc/pub/compiler/gcc/14.2.0/include/c++/14.2.0/bits/unique_ptr.h:59:28: note: declared here
59 | template<typename> class auto_ptr;
| ^~~~~~~~
/home/biocbuild/R/R-4.5.0/site-library/BH/include/boost/smart_ptr/shared_ptr.hpp:430:34: warning: ‘template<class> class std::auto_ptr’ is deprecated: use 'std::unique_ptr' instead [-Wdeprecated-declarations]
430 | shared_ptr & operator=( std::auto_ptr<Y> && r )
| ^~~~~~~~
/opt/ohpc/pub/compiler/gcc/14.2.0/include/c++/14.2.0/bits/unique_ptr.h:59:28: note: declared here
59 | template<typename> class auto_ptr;
| ^~~~~~~~
/home/biocbuild/R/R-4.5.0/site-library/BH/include/boost/smart_ptr/shared_ptr.hpp: In member function ‘boost::shared_ptr<T>& boost::shared_ptr<T>::operator=(std::auto_ptr<_Up>&&)’:
/home/biocbuild/R/R-4.5.0/site-library/BH/include/boost/smart_ptr/shared_ptr.hpp:432:38: warning: ‘template<class> class std::auto_ptr’ is deprecated: use 'std::unique_ptr' instead [-Wdeprecated-declarations]
432 | this_type( static_cast< std::auto_ptr<Y> && >( r ) ).swap( *this );
| ^~~~~~~~
/opt/ohpc/pub/compiler/gcc/14.2.0/include/c++/14.2.0/bits/unique_ptr.h:59:28: note: declared here
59 | template<typename> class auto_ptr;
| ^~~~~~~~
/opt/ohpc/pub/compiler/gcc/14.2.0/bin/aarch64-unknown-linux-gnu-g++ -std=gnu++17 -I"/home/biocbuild/R/R-4.5.0/include" -DNDEBUG -I'/home/biocbuild/R/R-4.5.0/site-library/Rcpp/include' -I'/home/biocbuild/R/R-4.5.0/site-library/BH/include' -I/usr/local/include -fPIC -g -O2 -Wall -Werror=format-security -c sequencelevenshteindistance.cpp -o sequencelevenshteindistance.o
In file included from /home/biocbuild/R/R-4.5.0/site-library/BH/include/boost/smart_ptr/shared_ptr.hpp:17,
from /home/biocbuild/R/R-4.5.0/site-library/BH/include/boost/shared_ptr.hpp:17,
from sequence.h:19,
from sequencelevenshteindistance.cpp:3:
/home/biocbuild/R/R-4.5.0/site-library/BH/include/boost/smart_ptr/detail/shared_count.hpp:326:33: warning: ‘template<class> class std::auto_ptr’ is deprecated: use 'std::unique_ptr' instead [-Wdeprecated-declarations]
326 | explicit shared_count( std::auto_ptr<Y> & r ): pi_( new sp_counted_impl_p<Y>( r.get() ) )
| ^~~~~~~~
In file included from /opt/ohpc/pub/compiler/gcc/14.2.0/include/c++/14.2.0/memory:78,
from sequence.h:13:
/opt/ohpc/pub/compiler/gcc/14.2.0/include/c++/14.2.0/bits/unique_ptr.h:59:28: note: declared here
59 | template<typename> class auto_ptr;
| ^~~~~~~~
/home/biocbuild/R/R-4.5.0/site-library/BH/include/boost/smart_ptr/shared_ptr.hpp:354:31: warning: ‘template<class> class std::auto_ptr’ is deprecated: use 'std::unique_ptr' instead [-Wdeprecated-declarations]
354 | explicit shared_ptr( std::auto_ptr<Y> & r ): px(r.get()), pn()
| ^~~~~~~~
/opt/ohpc/pub/compiler/gcc/14.2.0/include/c++/14.2.0/bits/unique_ptr.h:59:28: note: declared here
59 | template<typename> class auto_ptr;
| ^~~~~~~~
/home/biocbuild/R/R-4.5.0/site-library/BH/include/boost/smart_ptr/shared_ptr.hpp:365:22: warning: ‘template<class> class std::auto_ptr’ is deprecated: use 'std::unique_ptr' instead [-Wdeprecated-declarations]
365 | shared_ptr( std::auto_ptr<Y> && r ): px(r.get()), pn()
| ^~~~~~~~
/opt/ohpc/pub/compiler/gcc/14.2.0/include/c++/14.2.0/bits/unique_ptr.h:59:28: note: declared here
59 | template<typename> class auto_ptr;
| ^~~~~~~~
/home/biocbuild/R/R-4.5.0/site-library/BH/include/boost/smart_ptr/shared_ptr.hpp:423:34: warning: ‘template<class> class std::auto_ptr’ is deprecated: use 'std::unique_ptr' instead [-Wdeprecated-declarations]
423 | shared_ptr & operator=( std::auto_ptr<Y> & r )
| ^~~~~~~~
/opt/ohpc/pub/compiler/gcc/14.2.0/include/c++/14.2.0/bits/unique_ptr.h:59:28: note: declared here
59 | template<typename> class auto_ptr;
| ^~~~~~~~
/home/biocbuild/R/R-4.5.0/site-library/BH/include/boost/smart_ptr/shared_ptr.hpp:430:34: warning: ‘template<class> class std::auto_ptr’ is deprecated: use 'std::unique_ptr' instead [-Wdeprecated-declarations]
430 | shared_ptr & operator=( std::auto_ptr<Y> && r )
| ^~~~~~~~
/opt/ohpc/pub/compiler/gcc/14.2.0/include/c++/14.2.0/bits/unique_ptr.h:59:28: note: declared here
59 | template<typename> class auto_ptr;
| ^~~~~~~~
/home/biocbuild/R/R-4.5.0/site-library/BH/include/boost/smart_ptr/shared_ptr.hpp: In member function ‘boost::shared_ptr<T>& boost::shared_ptr<T>::operator=(std::auto_ptr<_Up>&&)’:
/home/biocbuild/R/R-4.5.0/site-library/BH/include/boost/smart_ptr/shared_ptr.hpp:432:38: warning: ‘template<class> class std::auto_ptr’ is deprecated: use 'std::unique_ptr' instead [-Wdeprecated-declarations]
432 | this_type( static_cast< std::auto_ptr<Y> && >( r ) ).swap( *this );
| ^~~~~~~~
/opt/ohpc/pub/compiler/gcc/14.2.0/include/c++/14.2.0/bits/unique_ptr.h:59:28: note: declared here
59 | template<typename> class auto_ptr;
| ^~~~~~~~
/opt/ohpc/pub/compiler/gcc/14.2.0/bin/aarch64-unknown-linux-gnu-g++ -std=gnu++17 -shared -L/home/biocbuild/R/R-4.5.0/lib -L/usr/local/lib -o DNABarcodeCompatibility.so DNABarcodes_init.o RcppExports.o cachedistance.o create_distance_func.o distance_for_R.o hammingdistance.o levenshteindistance.o phaseshiftdist.o sequence.o sequencelevenshteindistance.o -L/home/biocbuild/R/R-4.5.0/lib -lR
installing to /home/biocbuild/R/R-4.5.0/site-library/00LOCK-DNABarcodeCompatibility/00new/DNABarcodeCompatibility/libs
** R
** data
*** moving datasets to lazyload DB
** inst
** byte-compile and prepare package for lazy loading
** help
*** installing help indices
** building package indices
** installing vignettes
** testing if installed package can be loaded from temporary location
** checking absolute paths in shared objects and dynamic libraries
** testing if installed package can be loaded from final location
** testing if installed package keeps a record of temporary installation path
* DONE (DNABarcodeCompatibility)