| Back to Multiple platform build/check report for BioC 3.22: simplified long |
|
This page was generated on 2025-10-21 12:07 -0400 (Tue, 21 Oct 2025).
| Hostname | OS | Arch (*) | R version | Installed pkgs |
|---|---|---|---|---|
| nebbiolo2 | Linux (Ubuntu 24.04.3 LTS) | x86_64 | 4.5.1 Patched (2025-08-23 r88802) -- "Great Square Root" | 4887 |
| lconway | macOS 12.7.6 Monterey | x86_64 | 4.5.1 Patched (2025-09-10 r88807) -- "Great Square Root" | 4677 |
| kjohnson3 | macOS 13.7.7 Ventura | arm64 | 4.5.1 Patched (2025-09-10 r88807) -- "Great Square Root" | 4622 |
| taishan | Linux (openEuler 24.03 LTS) | aarch64 | 4.5.0 (2025-04-11) -- "How About a Twenty-Six" | 4642 |
| Click on any hostname to see more info about the system (e.g. compilers) (*) as reported by 'uname -p', except on Windows and Mac OS X | ||||
| Package 1932/2353 | Hostname | OS / Arch | INSTALL | BUILD | CHECK | BUILD BIN | ||||||||
| scone 1.33.0 (landing page) Davide Risso
| nebbiolo2 | Linux (Ubuntu 24.04.3 LTS) / x86_64 | OK | OK | OK | |||||||||
| lconway | macOS 12.7.6 Monterey / x86_64 | OK | OK | OK | OK | |||||||||
| kjohnson3 | macOS 13.7.7 Ventura / arm64 | OK | OK | OK | OK | |||||||||
| taishan | Linux (openEuler 24.03 LTS) / aarch64 | OK | OK | OK | ||||||||||
|
To the developers/maintainers of the scone package: - Allow up to 24 hours (and sometimes 48 hours) for your latest push to git@git.bioconductor.org:packages/scone.git to reflect on this report. See Troubleshooting Build Report for more information. - Use the following Renviron settings to reproduce errors and warnings. - If 'R CMD check' started to fail recently on the Linux builder(s) over a missing dependency, add the missing dependency to 'Suggests:' in your DESCRIPTION file. See Renviron.bioc for more information. - See Martin Grigorov's blog post for how to debug Linux ARM64 related issues on a x86_64 host. |
| Package: scone |
| Version: 1.33.0 |
| Command: /home/biocbuild/R/R/bin/R CMD check --install=check:scone.install-out.txt --library=/home/biocbuild/R/R/site-library --no-vignettes --timings scone_1.33.0.tar.gz |
| StartedAt: 2025-10-17 13:22:51 -0000 (Fri, 17 Oct 2025) |
| EndedAt: 2025-10-17 13:35:41 -0000 (Fri, 17 Oct 2025) |
| EllapsedTime: 769.1 seconds |
| RetCode: 0 |
| Status: OK |
| CheckDir: scone.Rcheck |
| Warnings: 0 |
##############################################################################
##############################################################################
###
### Running command:
###
### /home/biocbuild/R/R/bin/R CMD check --install=check:scone.install-out.txt --library=/home/biocbuild/R/R/site-library --no-vignettes --timings scone_1.33.0.tar.gz
###
##############################################################################
##############################################################################
* using log directory ‘/home/biocbuild/bbs-3.22-bioc/meat/scone.Rcheck’
* using R version 4.5.0 (2025-04-11)
* using platform: aarch64-unknown-linux-gnu
* R was compiled by
aarch64-unknown-linux-gnu-gcc (GCC) 14.2.0
GNU Fortran (GCC) 14.2.0
* running under: openEuler 24.03 (LTS)
* using session charset: UTF-8
* using option ‘--no-vignettes’
* checking for file ‘scone/DESCRIPTION’ ... OK
* this is package ‘scone’ version ‘1.33.0’
* package encoding: UTF-8
* checking package namespace information ... OK
* checking package dependencies ... INFO
Imports includes 23 non-default packages.
Importing from so many packages makes the package vulnerable to any of
them becoming unavailable. Move as many as possible to Suggests and
use conditionally.
* checking if this is a source package ... OK
* checking if there is a namespace ... OK
* checking for hidden files and directories ... OK
* checking for portable file names ... OK
* checking for sufficient/correct file permissions ... OK
* checking whether package ‘scone’ can be installed ... OK
* checking installed package size ... OK
* checking package directory ... OK
* checking ‘build’ directory ... OK
* checking DESCRIPTION meta-information ... OK
* checking top-level files ... OK
* checking for left-over files ... OK
* checking index information ... OK
* checking package subdirectories ... OK
* checking code files for non-ASCII characters ... OK
* checking R files for syntax errors ... OK
* checking whether the package can be loaded ... OK
* checking whether the package can be loaded with stated dependencies ... OK
* checking whether the package can be unloaded cleanly ... OK
* checking whether the namespace can be loaded with stated dependencies ... OK
* checking whether the namespace can be unloaded cleanly ... OK
* checking loading without being on the library search path ... OK
* checking dependencies in R code ... OK
* checking S3 generic/method consistency ... OK
* checking replacement functions ... OK
* checking foreign function calls ... OK
* checking R code for possible problems ... NOTE
compute_transposed_PsiNorm_sf: no visible global function definition
for ‘type’
compute_transposed_PsiNorm_sf: no visible global function definition
for ‘type<-’
sconeReport: no visible global function definition for
‘visNetworkOutput’
sconeReport: no visible global function definition for ‘plotlyOutput’
sconeReport : server: no visible global function definition for
‘renderVisNetwork’
sconeReport : server: no visible global function definition for ‘%>%’
sconeReport : server: no visible global function definition for
‘visNetwork’
sconeReport : server: no visible global function definition for
‘visHierarchicalLayout’
sconeReport : server: no visible global function definition for
‘visGroups’
sconeReport : server: no visible global function definition for
‘visEdges’
sconeReport : server: no visible global function definition for
‘visOptions’
sconeReport : server: no visible global function definition for
‘visLegend’
sconeReport : server: no visible global function definition for
‘visNetworkProxy’
sconeReport : server: no visible global function definition for
‘visSelectNodes’
sconeReport : server: no visible global function definition for
‘plot_ly’
sconeReport : server: no visible global function definition for
‘ggplot’
sconeReport : server: no visible global function definition for ‘aes’
sconeReport : server: no visible global function definition for
‘geom_bar’
sconeReport : server: no visible global function definition for ‘ylim’
sconeReport : server: no visible global function definition for ‘labs’
sconeReport : server: no visible global function definition for ‘theme’
sconeReport : server: no visible global function definition for
‘element_blank’
sconeReport : server: no visible global function definition for
‘ggplotly’
sconeReport : server: no visible global function definition for
‘geom_violin’
sconeReport : server: no visible global function definition for
‘coord_cartesian’
sconeReport : server: no visible global function definition for
‘scale_fill_manual’
sconeReport : server: no visible global function definition for
‘geom_point’
sconeReport : server: no visible global function definition for
‘guides’
Undefined global functions or variables:
%>% aes coord_cartesian element_blank geom_bar geom_point geom_violin
ggplot ggplotly guides labs plot_ly plotlyOutput renderVisNetwork
scale_fill_manual theme type type<- visEdges visGroups
visHierarchicalLayout visLegend visNetwork visNetworkOutput
visNetworkProxy visOptions visSelectNodes ylim
* checking Rd files ... NOTE
checkRd: (-1) estimate_ziber.Rd:57: Lost braces; missing escapes or markup?
57 | expression rate (Z in {0,1}). Detection conditioned on expression is a
| ^
checkRd: (-1) estimate_ziber.Rd:42-43: Lost braces in \itemize; \value handles \item{}{} directly
checkRd: (-1) estimate_ziber.Rd:43-44: Lost braces in \itemize; \value handles \item{}{} directly
checkRd: (-1) estimate_ziber.Rd:44: Lost braces in \itemize; \value handles \item{}{} directly
checkRd: (-1) estimate_ziber.Rd:44-45: Lost braces in \itemize; \value handles \item{}{} directly
checkRd: (-1) estimate_ziber.Rd:46: Lost braces in \itemize; \value handles \item{}{} directly
checkRd: (-1) estimate_ziber.Rd:47-48: Lost braces in \itemize; \value handles \item{}{} directly
checkRd: (-1) estimate_ziber.Rd:48-49: Lost braces in \itemize; \value handles \item{}{} directly
checkRd: (-1) estimate_ziber.Rd:49: Lost braces in \itemize; \value handles \item{}{} directly
checkRd: (-1) estimate_ziber.Rd:50-51: Lost braces in \itemize; \value handles \item{}{} directly
checkRd: (-1) fast_estimate_ziber.Rd:59: Lost braces; missing escapes or markup?
59 | expression rate (Z in {0,1}). Detection conditioned on expression is a
| ^
checkRd: (-1) fast_estimate_ziber.Rd:43-44: Lost braces in \itemize; \value handles \item{}{} directly
checkRd: (-1) fast_estimate_ziber.Rd:44-45: Lost braces in \itemize; \value handles \item{}{} directly
checkRd: (-1) fast_estimate_ziber.Rd:45: Lost braces in \itemize; \value handles \item{}{} directly
checkRd: (-1) fast_estimate_ziber.Rd:45-46: Lost braces in \itemize; \value handles \item{}{} directly
checkRd: (-1) fast_estimate_ziber.Rd:47: Lost braces in \itemize; \value handles \item{}{} directly
checkRd: (-1) fast_estimate_ziber.Rd:48-49: Lost braces in \itemize; \value handles \item{}{} directly
checkRd: (-1) fast_estimate_ziber.Rd:49-50: Lost braces in \itemize; \value handles \item{}{} directly
checkRd: (-1) fast_estimate_ziber.Rd:50: Lost braces in \itemize; \value handles \item{}{} directly
checkRd: (-1) fast_estimate_ziber.Rd:51-52: Lost braces in \itemize; \value handles \item{}{} directly
checkRd: (-1) impute_expectation.Rd:23: Lost braces; missing escapes or markup?
23 | y_{ij}* = y_{ij} * Pr( No Drop | y_{ij}) + mu_{i} * Pr( Drop | y_{ij}).
| ^
checkRd: (-1) impute_expectation.Rd:23: Lost braces; missing escapes or markup?
23 | y_{ij}* = y_{ij} * Pr( No Drop | y_{ij}) + mu_{i} * Pr( Drop | y_{ij}).
| ^
checkRd: (-1) impute_expectation.Rd:23: Lost braces; missing escapes or markup?
23 | y_{ij}* = y_{ij} * Pr( No Drop | y_{ij}) + mu_{i} * Pr( Drop | y_{ij}).
| ^
checkRd: (-1) impute_expectation.Rd:23: Lost braces; missing escapes or markup?
23 | y_{ij}* = y_{ij} * Pr( No Drop | y_{ij}) + mu_{i} * Pr( Drop | y_{ij}).
| ^
checkRd: (-1) impute_expectation.Rd:23: Lost braces; missing escapes or markup?
23 | y_{ij}* = y_{ij} * Pr( No Drop | y_{ij}) + mu_{i} * Pr( Drop | y_{ij}).
| ^
checkRd: (-1) metric_sample_filter.Rd:104-105: Lost braces in \itemize; \value handles \item{}{} directly
checkRd: (-1) metric_sample_filter.Rd:105-106: Lost braces in \itemize; \value handles \item{}{} directly
checkRd: (-1) metric_sample_filter.Rd:106-107: Lost braces in \itemize; \value handles \item{}{} directly
checkRd: (-1) metric_sample_filter.Rd:107-108: Lost braces in \itemize; \value handles \item{}{} directly
checkRd: (-1) scone.Rd:126-127: Lost braces in \itemize; meant \describe ?
checkRd: (-1) scone.Rd:128: Lost braces in \itemize; meant \describe ?
checkRd: (-1) scone.Rd:129: Lost braces in \itemize; meant \describe ?
checkRd: (-1) scone.Rd:144: Lost braces in \itemize; meant \describe ?
checkRd: (-1) scone.Rd:145-146: Lost braces in \itemize; meant \describe ?
checkRd: (-1) scone.Rd:147-148: Lost braces in \itemize; meant \describe ?
checkRd: (-1) scone.Rd:149: Lost braces in \itemize; meant \describe ?
checkRd: (-1) score_matrix.Rd:98-99: Lost braces in \itemize; meant \describe ?
checkRd: (-1) score_matrix.Rd:100-101: Lost braces in \itemize; meant \describe ?
checkRd: (-1) score_matrix.Rd:76-77: Lost braces in \itemize; \value handles \item{}{} directly
checkRd: (-1) score_matrix.Rd:77-78: Lost braces in \itemize; \value handles \item{}{} directly
checkRd: (-1) score_matrix.Rd:78-79: Lost braces in \itemize; \value handles \item{}{} directly
checkRd: (-1) score_matrix.Rd:80-81: Lost braces in \itemize; \value handles \item{}{} directly
checkRd: (-1) score_matrix.Rd:81-83: Lost braces in \itemize; \value handles \item{}{} directly
checkRd: (-1) score_matrix.Rd:83-85: Lost braces in \itemize; \value handles \item{}{} directly
checkRd: (-1) score_matrix.Rd:85-87: Lost braces in \itemize; \value handles \item{}{} directly
checkRd: (-1) score_matrix.Rd:87-88: Lost braces in \itemize; \value handles \item{}{} directly
* checking Rd metadata ... OK
* checking Rd cross-references ... NOTE
Found the following Rd file(s) with Rd \link{} targets missing package
anchors:
SconeExperiment-class.Rd: SummarizedExperiment-class,
SummarizedExperiment
Please provide package anchors for all Rd \link{} targets not in the
package itself and the base packages.
* checking for missing documentation entries ... OK
* checking for code/documentation mismatches ... OK
* checking Rd \usage sections ... OK
* checking Rd contents ... OK
* checking for unstated dependencies in examples ... OK
* checking contents of ‘data’ directory ... OK
* checking data for non-ASCII characters ... OK
* checking data for ASCII and uncompressed saves ... OK
* checking files in ‘vignettes’ ... OK
* checking examples ... OK
* checking for unstated dependencies in ‘tests’ ... OK
* checking tests ...
Running ‘testthat.R’
OK
* checking for unstated dependencies in vignettes ... OK
* checking package vignettes ... OK
* checking running R code from vignettes ... SKIPPED
* checking re-building of vignette outputs ... SKIPPED
* checking PDF version of manual ... OK
* DONE
Status: 3 NOTEs
See
‘/home/biocbuild/bbs-3.22-bioc/meat/scone.Rcheck/00check.log’
for details.
scone.Rcheck/00install.out
############################################################################## ############################################################################## ### ### Running command: ### ### /home/biocbuild/R/R/bin/R CMD INSTALL scone ### ############################################################################## ############################################################################## * installing to library ‘/home/biocbuild/R/R-4.5.0/site-library’ * installing *source* package ‘scone’ ... ** this is package ‘scone’ version ‘1.33.0’ ** using staged installation ** R ** data ** inst ** byte-compile and prepare package for lazy loading ** help *** installing help indices ** building package indices ** installing vignettes ** testing if installed package can be loaded from temporary location ** testing if installed package can be loaded from final location ** testing if installed package keeps a record of temporary installation path * DONE (scone)
scone.Rcheck/tests/testthat.Rout
R version 4.5.0 (2025-04-11) -- "How About a Twenty-Six"
Copyright (C) 2025 The R Foundation for Statistical Computing
Platform: aarch64-unknown-linux-gnu
R is free software and comes with ABSOLUTELY NO WARRANTY.
You are welcome to redistribute it under certain conditions.
Type 'license()' or 'licence()' for distribution details.
R is a collaborative project with many contributors.
Type 'contributors()' for more information and
'citation()' on how to cite R or R packages in publications.
Type 'demo()' for some demos, 'help()' for on-line help, or
'help.start()' for an HTML browser interface to help.
Type 'q()' to quit R.
> Sys.setenv("R_TESTS" = "")
>
> library(testthat)
> library(scone)
Loading required package: SummarizedExperiment
Loading required package: MatrixGenerics
Loading required package: matrixStats
Attaching package: 'MatrixGenerics'
The following objects are masked from 'package:matrixStats':
colAlls, colAnyNAs, colAnys, colAvgsPerRowSet, colCollapse,
colCounts, colCummaxs, colCummins, colCumprods, colCumsums,
colDiffs, colIQRDiffs, colIQRs, colLogSumExps, colMadDiffs,
colMads, colMaxs, colMeans2, colMedians, colMins, colOrderStats,
colProds, colQuantiles, colRanges, colRanks, colSdDiffs, colSds,
colSums2, colTabulates, colVarDiffs, colVars, colWeightedMads,
colWeightedMeans, colWeightedMedians, colWeightedSds,
colWeightedVars, rowAlls, rowAnyNAs, rowAnys, rowAvgsPerColSet,
rowCollapse, rowCounts, rowCummaxs, rowCummins, rowCumprods,
rowCumsums, rowDiffs, rowIQRDiffs, rowIQRs, rowLogSumExps,
rowMadDiffs, rowMads, rowMaxs, rowMeans2, rowMedians, rowMins,
rowOrderStats, rowProds, rowQuantiles, rowRanges, rowRanks,
rowSdDiffs, rowSds, rowSums2, rowTabulates, rowVarDiffs, rowVars,
rowWeightedMads, rowWeightedMeans, rowWeightedMedians,
rowWeightedSds, rowWeightedVars
Loading required package: GenomicRanges
Loading required package: stats4
Loading required package: BiocGenerics
Loading required package: generics
Attaching package: 'generics'
The following objects are masked from 'package:base':
as.difftime, as.factor, as.ordered, intersect, is.element, setdiff,
setequal, union
Attaching package: 'BiocGenerics'
The following objects are masked from 'package:stats':
IQR, mad, sd, var, xtabs
The following objects are masked from 'package:base':
Filter, Find, Map, Position, Reduce, anyDuplicated, aperm, append,
as.data.frame, basename, cbind, colnames, dirname, do.call,
duplicated, eval, evalq, get, grep, grepl, is.unsorted, lapply,
mapply, match, mget, order, paste, pmax, pmax.int, pmin, pmin.int,
rank, rbind, rownames, sapply, saveRDS, table, tapply, unique,
unsplit, which.max, which.min
Loading required package: S4Vectors
Attaching package: 'S4Vectors'
The following object is masked from 'package:utils':
findMatches
The following objects are masked from 'package:base':
I, expand.grid, unname
Loading required package: IRanges
Loading required package: Seqinfo
Loading required package: Biobase
Welcome to Bioconductor
Vignettes contain introductory material; view with
'browseVignettes()'. To cite Bioconductor, see
'citation("Biobase")', and for packages 'citation("pkgname")'.
Attaching package: 'Biobase'
The following object is masked from 'package:MatrixGenerics':
rowMedians
The following objects are masked from 'package:matrixStats':
anyMissing, rowMedians
>
> test_check("scone")
[ FAIL 0 | WARN 0 | SKIP 0 | PASS 70 ]
>
> proc.time()
user system elapsed
75.515 9.301 310.816
scone.Rcheck/scone-Ex.timings
| name | user | system | elapsed | |
| CLR_FN | 0.001 | 0.000 | 0.002 | |
| DESEQ_FN | 0.002 | 0.000 | 0.002 | |
| FQ_FN | 0.003 | 0.000 | 0.002 | |
| PSINORM_FN | 0.006 | 0.000 | 0.006 | |
| PsiNorm | 0.334 | 0.004 | 0.375 | |
| SCRAN_FN | 0.943 | 0.051 | 1.058 | |
| SUM_FN | 0.001 | 0.000 | 0.001 | |
| SconeExperiment-class | 0.174 | 0.004 | 0.180 | |
| TMM_FN | 0.003 | 0.000 | 0.003 | |
| UQ_FN | 0.001 | 0.000 | 0.001 | |
| biplot_color | 0.011 | 0.000 | 0.011 | |
| biplot_interactive | 0.262 | 0.000 | 0.263 | |
| control_genes | 0.016 | 0.001 | 0.017 | |
| estimate_ziber | 0.048 | 0.002 | 0.102 | |
| factor_sample_filter | 0.100 | 0.004 | 0.158 | |
| fast_estimate_ziber | 0.042 | 0.000 | 0.042 | |
| get_bio | 0.054 | 0.000 | 0.054 | |
| get_design | 0.613 | 0.000 | 0.630 | |
| get_negconruv | 0.065 | 0.000 | 0.065 | |
| get_normalized | 0.148 | 0.008 | 0.156 | |
| get_params | 0.052 | 0.004 | 0.057 | |
| get_qc | 0.066 | 0.000 | 0.066 | |
| get_scores | 0.136 | 0.016 | 0.152 | |
| impute_expectation | 0.001 | 0.000 | 0.001 | |
| impute_null | 0 | 0 | 0 | |
| lm_adjust | 0.005 | 0.000 | 0.004 | |
| make_design | 0.000 | 0.001 | 0.002 | |
| metric_sample_filter | 0.006 | 0.002 | 0.008 | |
| scone | 0.444 | 0.056 | 0.586 | |
| sconeReport | 0.145 | 0.000 | 0.146 | |
| scone_easybake | 0.145 | 0.000 | 0.145 | |
| score_matrix | 0.005 | 0.000 | 0.004 | |
| select_methods | 0.150 | 0.000 | 0.167 | |
| simple_FNR_params | 0.038 | 0.000 | 0.079 | |