| Back to Multiple platform build/check report for BioC 3.22: simplified long |
|
This page was generated on 2025-11-15 11:58 -0500 (Sat, 15 Nov 2025).
| Hostname | OS | Arch (*) | R version | Installed pkgs |
|---|---|---|---|---|
| nebbiolo2 | Linux (Ubuntu 24.04.3 LTS) | x86_64 | 4.5.1 Patched (2025-08-23 r88802) -- "Great Square Root" | 4903 |
| taishan | Linux (openEuler 24.03 LTS) | aarch64 | 4.5.0 (2025-04-11) -- "How About a Twenty-Six" | 4668 |
| Click on any hostname to see more info about the system (e.g. compilers) (*) as reported by 'uname -p', except on Windows and Mac OS X | ||||
| Package 163/2361 | Hostname | OS / Arch | INSTALL | BUILD | CHECK | BUILD BIN | ||||||||
| bedbaser 1.2.0 (landing page) Andres Wokaty
| nebbiolo2 | Linux (Ubuntu 24.04.3 LTS) / x86_64 | OK | OK | OK | |||||||||
| taishan | Linux (openEuler 24.03 LTS) / aarch64 | OK | OK | OK | ||||||||||
|
To the developers/maintainers of the bedbaser package: - Allow up to 24 hours (and sometimes 48 hours) for your latest push to git@git.bioconductor.org:packages/bedbaser.git to reflect on this report. See Troubleshooting Build Report for more information. - Use the following Renviron settings to reproduce errors and warnings. - If 'R CMD check' started to fail recently on the Linux builder(s) over a missing dependency, add the missing dependency to 'Suggests:' in your DESCRIPTION file. See Renviron.bioc for more information. - See Martin Grigorov's blog post for how to debug Linux ARM64 related issues on a x86_64 host. |
| Package: bedbaser |
| Version: 1.2.0 |
| Command: /home/biocbuild/R/R/bin/R CMD check --install=check:bedbaser.install-out.txt --library=/home/biocbuild/R/R/site-library --no-vignettes --timings bedbaser_1.2.0.tar.gz |
| StartedAt: 2025-11-14 07:03:20 -0000 (Fri, 14 Nov 2025) |
| EndedAt: 2025-11-14 07:10:29 -0000 (Fri, 14 Nov 2025) |
| EllapsedTime: 428.6 seconds |
| RetCode: 0 |
| Status: OK |
| CheckDir: bedbaser.Rcheck |
| Warnings: 0 |
##############################################################################
##############################################################################
###
### Running command:
###
### /home/biocbuild/R/R/bin/R CMD check --install=check:bedbaser.install-out.txt --library=/home/biocbuild/R/R/site-library --no-vignettes --timings bedbaser_1.2.0.tar.gz
###
##############################################################################
##############################################################################
* using log directory ‘/home/biocbuild/bbs-3.22-bioc/meat/bedbaser.Rcheck’
* using R version 4.5.0 (2025-04-11)
* using platform: aarch64-unknown-linux-gnu
* R was compiled by
aarch64-unknown-linux-gnu-gcc (GCC) 14.2.0
GNU Fortran (GCC) 14.2.0
* running under: openEuler 24.03 (LTS)
* using session charset: UTF-8
* using option ‘--no-vignettes’
* checking for file ‘bedbaser/DESCRIPTION’ ... OK
* this is package ‘bedbaser’ version ‘1.2.0’
* package encoding: UTF-8
* checking package namespace information ... OK
* checking package dependencies ... OK
* checking if this is a source package ... OK
* checking if there is a namespace ... OK
* checking for hidden files and directories ... OK
* checking for portable file names ... OK
* checking for sufficient/correct file permissions ... OK
* checking whether package ‘bedbaser’ can be installed ... OK
* checking installed package size ... OK
* checking package directory ... OK
* checking ‘build’ directory ... OK
* checking DESCRIPTION meta-information ... OK
* checking top-level files ... OK
* checking for left-over files ... OK
* checking index information ... OK
* checking package subdirectories ... OK
* checking code files for non-ASCII characters ... OK
* checking R files for syntax errors ... OK
* checking whether the package can be loaded ... OK
* checking whether the package can be loaded with stated dependencies ... OK
* checking whether the package can be unloaded cleanly ... OK
* checking whether the namespace can be loaded with stated dependencies ... OK
* checking whether the namespace can be unloaded cleanly ... OK
* checking loading without being on the library search path ... OK
* checking dependencies in R code ... OK
* checking S3 generic/method consistency ... OK
* checking replacement functions ... OK
* checking foreign function calls ... OK
* checking R code for possible problems ... NOTE
.get_url: no visible binding for global variable ‘access_methods’
.get_url: no visible binding for global variable ‘access_url’
.get_url: no visible binding for global variable ‘name’
.get_url: no visible binding for global variable ‘access_id’
bb_list_bedsets: no visible binding for global variable ‘bed_ids’
bb_list_bedsets: no visible binding for global variable ‘id’
bb_list_bedsets: no visible binding for global variable ‘name’
bb_list_bedsets: no visible binding for global variable ‘md5sum’
bb_list_bedsets: no visible binding for global variable
‘submission_date’
bb_list_bedsets: no visible binding for global variable
‘last_update_date’
bb_list_bedsets: no visible binding for global variable ‘description’
bb_list_bedsets: no visible binding for global variable ‘author’
Undefined global functions or variables:
access_id access_methods access_url author bed_ids description id
last_update_date md5sum name submission_date
* checking Rd files ... OK
* checking Rd metadata ... OK
* checking Rd cross-references ... OK
* checking for missing documentation entries ... OK
* checking for code/documentation mismatches ... OK
* checking Rd \usage sections ... OK
* checking Rd contents ... OK
* checking for unstated dependencies in examples ... OK
* checking files in ‘vignettes’ ... OK
* checking examples ... OK
Examples with CPU (user + system) or elapsed time > 5s
user system elapsed
bb_to_grangeslist 14.911 0.918 37.789
bb_to_granges 14.096 0.527 24.538
bb_list_bedsets 0.419 0.019 8.112
bb_save 0.245 0.012 5.464
* checking for unstated dependencies in ‘tests’ ... OK
* checking tests ...
Running ‘testthat.R’
OK
* checking for unstated dependencies in vignettes ... OK
* checking package vignettes ... OK
* checking running R code from vignettes ... SKIPPED
* checking re-building of vignette outputs ... SKIPPED
* checking PDF version of manual ... OK
* DONE
Status: 1 NOTE
See
‘/home/biocbuild/bbs-3.22-bioc/meat/bedbaser.Rcheck/00check.log’
for details.
bedbaser.Rcheck/00install.out
############################################################################## ############################################################################## ### ### Running command: ### ### /home/biocbuild/R/R/bin/R CMD INSTALL bedbaser ### ############################################################################## ############################################################################## * installing to library ‘/home/biocbuild/R/R-4.5.0/site-library’ * installing *source* package ‘bedbaser’ ... ** this is package ‘bedbaser’ version ‘1.2.0’ ** using staged installation ** R ** inst ** byte-compile and prepare package for lazy loading Creating a generic function for ‘tags’ from package ‘AnVIL’ in package ‘bedbaser’ ** help *** installing help indices ** building package indices ** installing vignettes ** testing if installed package can be loaded from temporary location ** testing if installed package can be loaded from final location ** testing if installed package keeps a record of temporary installation path * DONE (bedbaser)
bedbaser.Rcheck/tests/testthat.Rout
R version 4.5.0 (2025-04-11) -- "How About a Twenty-Six"
Copyright (C) 2025 The R Foundation for Statistical Computing
Platform: aarch64-unknown-linux-gnu
R is free software and comes with ABSOLUTELY NO WARRANTY.
You are welcome to redistribute it under certain conditions.
Type 'license()' or 'licence()' for distribution details.
R is a collaborative project with many contributors.
Type 'contributors()' for more information and
'citation()' on how to cite R or R packages in publications.
Type 'demo()' for some demos, 'help()' for on-line help, or
'help.start()' for an HTML browser interface to help.
Type 'q()' to quit R.
> # This file is part of the standard setup for testthat.
> # It is recommended that you do not modify it.
> #
> # Where should you do additional test configuration?
> # Learn more about the roles of various files in:
> # * https://r-pkgs.org/testing-design.html#sec-tests-files-overview
> # * https://testthat.r-lib.org/articles/special-files.html
>
> library(testthat)
> library(bedbaser)
>
> test_check("bedbaser")
trying URL 'https://api.bedbase.org/v1/files/files/9/6/9603166e55087a188fab2e30309900eb.bed.gz'
Content type 'binary/octet-stream' length 421791 bytes (411 KB)
==================================================
downloaded 411 KB
trying URL 'https://api.bedbase.org/v1/files/files/8/c/8c7eaa0744dfee11575b349062332e59.bed.gz'
Content type 'binary/octet-stream' length 471515 bytes (460 KB)
==================================================
downloaded 460 KB
trying URL 'https://api.bedbase.org/v1/files/files/c/4/c4d84f9006d873290cfb5e7abcf9cfff.bed.gz'
Content type 'binary/octet-stream' length 170975 bytes (166 KB)
==================================================
downloaded 166 KB
trying URL 'https://api.bedbase.org/v1/files/files/e/e/ee46cd046441d2702fd44a084d87adb9.bed.gz'
Content type 'binary/octet-stream' length 1221513 bytes (1.2 MB)
==================================================
downloaded 1.2 MB
trying URL 'https://api.bedbase.org/v1/files/files/b/b/bbad85f21962bb8d972444f7f9a3a932.bed.gz'
Content type 'binary/octet-stream' length 641053 bytes (626 KB)
==================================================
downloaded 626 KB
trying URL 'https://api.bedbase.org/v1/files/files/8/6/86434866aac1ab8bd16ac9d274f2c468.bed.gz'
Content type 'binary/octet-stream' length 2815381 bytes (2.7 MB)
==================================================
downloaded 2.7 MB
trying URL 'https://api.bedbase.org/v1/files/files/0/6/0692dfe199d26353af23dcbf354a6548.bed.gz'
Content type 'binary/octet-stream' length 478938 bytes (467 KB)
==================================================
downloaded 467 KB
[ FAIL 0 | WARN 0 | SKIP 0 | PASS 51 ]
>
> proc.time()
user system elapsed
40.225 2.691 271.805
bedbaser.Rcheck/bedbaser-Ex.timings
| name | user | system | elapsed | |
| BEDbase | 1.055 | 0.039 | 4.524 | |
| bb_bed_text_search | 0.234 | 0.016 | 1.614 | |
| bb_beds_in_bedset | 0.210 | 0.009 | 1.540 | |
| bb_example | 0.216 | 0.035 | 1.723 | |
| bb_list_beds | 0.371 | 0.012 | 2.917 | |
| bb_list_bedsets | 0.419 | 0.019 | 8.112 | |
| bb_metadata | 0.241 | 0.020 | 2.451 | |
| bb_save | 0.245 | 0.012 | 5.464 | |
| bb_stats | 0.144 | 0.000 | 1.816 | |
| bb_to_granges | 14.096 | 0.527 | 24.538 | |
| bb_to_grangeslist | 14.911 | 0.918 | 37.789 | |
| getCache-BEDbase-method | 0.210 | 0.016 | 1.470 | |
| operations-BEDbase-method | 0.132 | 0.007 | 1.377 | |
| schemas-BEDbase-method | 0.125 | 0.000 | 0.863 | |
| setCache-BEDbase-method | 0.177 | 0.008 | 1.040 | |
| tags-BEDbase-method | 0.170 | 0.005 | 1.210 | |