Back to Multiple platform build/check report for BioC 3.22:   simplified   long
A[B]CDEFGHIJKLMNOPQRSTUVWXYZ

This page was generated on 2025-10-24 12:03 -0400 (Fri, 24 Oct 2025).

HostnameOSArch (*)R versionInstalled pkgs
nebbiolo2Linux (Ubuntu 24.04.3 LTS)x86_644.5.1 Patched (2025-08-23 r88802) -- "Great Square Root" 4898
lconwaymacOS 12.7.6 Montereyx86_644.5.1 Patched (2025-09-10 r88807) -- "Great Square Root" 4688
kjohnson3macOS 13.7.7 Venturaarm644.5.1 Patched (2025-09-10 r88807) -- "Great Square Root" 4634
taishanLinux (openEuler 24.03 LTS)aarch644.5.0 (2025-04-11) -- "How About a Twenty-Six" 4658
Click on any hostname to see more info about the system (e.g. compilers)      (*) as reported by 'uname -p', except on Windows and Mac OS X

Package 163/2359HostnameOS / ArchINSTALLBUILDCHECKBUILD BIN
bedbaser 1.1.3  (landing page)
Andres Wokaty
Snapshot Date: 2025-10-23 14:17 -0400 (Thu, 23 Oct 2025)
git_url: https://git.bioconductor.org/packages/bedbaser
git_branch: devel
git_last_commit: 2535e67
git_last_commit_date: 2025-10-12 15:51:16 -0400 (Sun, 12 Oct 2025)
nebbiolo2Linux (Ubuntu 24.04.3 LTS) / x86_64  OK    OK    ERROR  
lconwaymacOS 12.7.6 Monterey / x86_64  OK    OK    ERROR    OK  
kjohnson3macOS 13.7.7 Ventura / arm64  OK    OK    ERROR    OK  
taishanLinux (openEuler 24.03 LTS) / aarch64  OK    ERROR  skipped


CHECK results for bedbaser on nebbiolo2

To the developers/maintainers of the bedbaser package:
- Allow up to 24 hours (and sometimes 48 hours) for your latest push to git@git.bioconductor.org:packages/bedbaser.git to reflect on this report. See Troubleshooting Build Report for more information.
- Use the following Renviron settings to reproduce errors and warnings.
- If 'R CMD check' started to fail recently on the Linux builder(s) over a missing dependency, add the missing dependency to 'Suggests:' in your DESCRIPTION file. See Renviron.bioc for more information.

raw results


Summary

Package: bedbaser
Version: 1.1.3
Command: /home/biocbuild/bbs-3.22-bioc/R/bin/R CMD check --install=check:bedbaser.install-out.txt --library=/home/biocbuild/bbs-3.22-bioc/R/site-library --timings bedbaser_1.1.3.tar.gz
StartedAt: 2025-10-23 21:24:35 -0400 (Thu, 23 Oct 2025)
EndedAt: 2025-10-23 21:28:52 -0400 (Thu, 23 Oct 2025)
EllapsedTime: 256.2 seconds
RetCode: 1
Status:   ERROR  
CheckDir: bedbaser.Rcheck
Warnings: NA

Command output

##############################################################################
##############################################################################
###
### Running command:
###
###   /home/biocbuild/bbs-3.22-bioc/R/bin/R CMD check --install=check:bedbaser.install-out.txt --library=/home/biocbuild/bbs-3.22-bioc/R/site-library --timings bedbaser_1.1.3.tar.gz
###
##############################################################################
##############################################################################


* using log directory ‘/home/biocbuild/bbs-3.22-bioc/meat/bedbaser.Rcheck’
* using R version 4.5.1 Patched (2025-08-23 r88802)
* using platform: x86_64-pc-linux-gnu
* R was compiled by
    gcc (Ubuntu 13.3.0-6ubuntu2~24.04) 13.3.0
    GNU Fortran (Ubuntu 13.3.0-6ubuntu2~24.04) 13.3.0
* running under: Ubuntu 24.04.3 LTS
* using session charset: UTF-8
* checking for file ‘bedbaser/DESCRIPTION’ ... OK
* this is package ‘bedbaser’ version ‘1.1.3’
* package encoding: UTF-8
* checking package namespace information ... OK
* checking package dependencies ... OK
* checking if this is a source package ... OK
* checking if there is a namespace ... OK
* checking for hidden files and directories ... OK
* checking for portable file names ... OK
* checking for sufficient/correct file permissions ... OK
* checking whether package ‘bedbaser’ can be installed ... OK
* checking installed package size ... OK
* checking package directory ... OK
* checking ‘build’ directory ... OK
* checking DESCRIPTION meta-information ... OK
* checking top-level files ... OK
* checking for left-over files ... OK
* checking index information ... OK
* checking package subdirectories ... OK
* checking code files for non-ASCII characters ... OK
* checking R files for syntax errors ... OK
* checking whether the package can be loaded ... OK
* checking whether the package can be loaded with stated dependencies ... OK
* checking whether the package can be unloaded cleanly ... OK
* checking whether the namespace can be loaded with stated dependencies ... OK
* checking whether the namespace can be unloaded cleanly ... OK
* checking loading without being on the library search path ... OK
* checking dependencies in R code ... OK
* checking S3 generic/method consistency ... OK
* checking replacement functions ... OK
* checking foreign function calls ... OK
* checking R code for possible problems ... NOTE
.get_url: no visible binding for global variable ‘access_methods’
.get_url: no visible binding for global variable ‘access_url’
.get_url: no visible binding for global variable ‘name’
.get_url: no visible binding for global variable ‘access_id’
bb_list_bedsets: no visible binding for global variable ‘bed_ids’
bb_list_bedsets: no visible binding for global variable ‘id’
bb_list_bedsets: no visible binding for global variable ‘name’
bb_list_bedsets: no visible binding for global variable ‘md5sum’
bb_list_bedsets: no visible binding for global variable
  ‘submission_date’
bb_list_bedsets: no visible binding for global variable
  ‘last_update_date’
bb_list_bedsets: no visible binding for global variable ‘description’
bb_list_bedsets: no visible binding for global variable ‘author’
Undefined global functions or variables:
  access_id access_methods access_url author bed_ids description id
  last_update_date md5sum name submission_date
* checking Rd files ... OK
* checking Rd metadata ... OK
* checking Rd cross-references ... OK
* checking for missing documentation entries ... OK
* checking for code/documentation mismatches ... OK
* checking Rd \usage sections ... OK
* checking Rd contents ... OK
* checking for unstated dependencies in examples ... OK
* checking files in ‘vignettes’ ... OK
* checking examples ... OK
Examples with CPU (user + system) or elapsed time > 5s
                    user system elapsed
bb_to_granges     13.613  0.625  15.745
bb_to_grangeslist 12.631  0.469  19.339
bb_list_bedsets    0.335  0.013  11.538
* checking for unstated dependencies in ‘tests’ ... OK
* checking tests ...
  Running ‘testthat.R’
 ERROR
Running the tests in ‘tests/testthat.R’ failed.
Last 13 lines of output:
  downloaded 467 KB
  
  [ FAIL 1 | WARN 0 | SKIP 0 | PASS 50 ]
  
  ══ Failed tests ════════════════════════════════════════════════════════════════
  ── Error ('test-utils.R:28:5'): .get_extra_cols returns a named vector ─────────
  Error in `.get_extra_cols(file_path, 4, 1)`: x + y == dim(t)[2] is not TRUE
  Backtrace:
      ▆
   1. └─bedbaser:::.get_extra_cols(file_path, 4, 1) at test-utils.R:28:5
   2.   └─base::stopifnot(x + y == dim(t)[2])
  
  [ FAIL 1 | WARN 0 | SKIP 0 | PASS 50 ]
  Error: Test failures
  Execution halted
* checking for unstated dependencies in vignettes ... OK
* checking package vignettes ... OK
* checking re-building of vignette outputs ... OK
* checking PDF version of manual ... OK
* DONE

Status: 1 ERROR, 1 NOTE
See
  ‘/home/biocbuild/bbs-3.22-bioc/meat/bedbaser.Rcheck/00check.log’
for details.


Installation output

bedbaser.Rcheck/00install.out

##############################################################################
##############################################################################
###
### Running command:
###
###   /home/biocbuild/bbs-3.22-bioc/R/bin/R CMD INSTALL bedbaser
###
##############################################################################
##############################################################################


* installing to library ‘/home/biocbuild/bbs-3.22-bioc/R/site-library’
* installing *source* package ‘bedbaser’ ...
** this is package ‘bedbaser’ version ‘1.1.3’
** using staged installation
** R
** inst
** byte-compile and prepare package for lazy loading
Creating a generic function for ‘tags’ from package ‘AnVIL’ in package ‘bedbaser’
** help
*** installing help indices
** building package indices
** installing vignettes
** testing if installed package can be loaded from temporary location
** testing if installed package can be loaded from final location
** testing if installed package keeps a record of temporary installation path
* DONE (bedbaser)

Tests output

bedbaser.Rcheck/tests/testthat.Rout.fail


R version 4.5.1 Patched (2025-08-23 r88802) -- "Great Square Root"
Copyright (C) 2025 The R Foundation for Statistical Computing
Platform: x86_64-pc-linux-gnu

R is free software and comes with ABSOLUTELY NO WARRANTY.
You are welcome to redistribute it under certain conditions.
Type 'license()' or 'licence()' for distribution details.

R is a collaborative project with many contributors.
Type 'contributors()' for more information and
'citation()' on how to cite R or R packages in publications.

Type 'demo()' for some demos, 'help()' for on-line help, or
'help.start()' for an HTML browser interface to help.
Type 'q()' to quit R.

> # This file is part of the standard setup for testthat.
> # It is recommended that you do not modify it.
> #
> # Where should you do additional test configuration?
> # Learn more about the roles of various files in:
> # * https://r-pkgs.org/testing-design.html#sec-tests-files-overview
> # * https://testthat.r-lib.org/articles/special-files.html
> 
> library(testthat)
> library(bedbaser)
> 
> test_check("bedbaser")
trying URL 'https://api.bedbase.org/v1/files/files/9/e/9e813c7cee7d1d861d58560b845024b0.bed.gz'
Content type 'binary/octet-stream' length 21759 bytes (21 KB)
==================================================
downloaded 21 KB

trying URL 'https://api.bedbase.org/v1/files/files/9/5/958d3fcb085777c3e7788de3a5273c7a.bed.gz'
Content type 'binary/octet-stream' length 1043413 bytes (1018 KB)
==================================================
downloaded 1018 KB

trying URL 'https://api.bedbase.org/v1/files/files/d/3/d34de33c866e94cba8b0e5771b26dde2.bed.gz'
Content type 'binary/octet-stream' length 232379 bytes (226 KB)
==================================================
downloaded 226 KB

trying URL 'https://api.bedbase.org/v1/files/files/8/b/8bde6b28a4db5f473f58516ebcfd503b.bed.gz'
Content type 'binary/octet-stream' length 241934 bytes (236 KB)
==================================================
downloaded 236 KB

trying URL 'https://api.bedbase.org/v1/files/files/b/b/bbad85f21962bb8d972444f7f9a3a932.bed.gz'
Content type 'binary/octet-stream' length 641053 bytes (626 KB)
==================================================
downloaded 626 KB

trying URL 'https://api.bedbase.org/v1/files/files/3/a/3a7ec6da8ad8075a5508413dd439ae9a.bed.gz'
Content type 'binary/octet-stream' length 695111 bytes (678 KB)
==================================================
downloaded 678 KB

trying URL 'https://api.bedbase.org/v1/files/files/0/6/0692dfe199d26353af23dcbf354a6548.bed.gz'
Content type 'binary/octet-stream' length 478938 bytes (467 KB)
==================================================
downloaded 467 KB

[ FAIL 1 | WARN 0 | SKIP 0 | PASS 50 ]

══ Failed tests ════════════════════════════════════════════════════════════════
── Error ('test-utils.R:28:5'): .get_extra_cols returns a named vector ─────────
Error in `.get_extra_cols(file_path, 4, 1)`: x + y == dim(t)[2] is not TRUE
Backtrace:
    ▆
 1. └─bedbaser:::.get_extra_cols(file_path, 4, 1) at test-utils.R:28:5
 2.   └─base::stopifnot(x + y == dim(t)[2])

[ FAIL 1 | WARN 0 | SKIP 0 | PASS 50 ]
Error: Test failures
Execution halted

Example timings

bedbaser.Rcheck/bedbaser-Ex.timings

nameusersystemelapsed
BEDbase0.9440.0491.406
bb_bed_text_search0.1650.0240.774
bb_beds_in_bedset0.1480.0010.403
bb_example0.1520.0000.466
bb_list_beds0.2690.0160.861
bb_list_bedsets 0.335 0.01311.538
bb_metadata0.1710.0030.544
bb_save0.3270.0521.864
bb_stats0.1350.0310.473
bb_to_granges13.613 0.62515.745
bb_to_grangeslist12.631 0.46919.339
getCache-BEDbase-method0.1430.0050.321
operations-BEDbase-method0.0930.0030.262
schemas-BEDbase-method0.1010.0010.269
setCache-BEDbase-method0.1410.0000.314
tags-BEDbase-method0.1270.0000.288