Back to Multiple platform build/check report for BioC 3.22:   simplified   long
ABCDEFGHIJKL[M]NOPQRSTUVWXYZ

This page was generated on 2025-11-15 11:58 -0500 (Sat, 15 Nov 2025).

HostnameOSArch (*)R versionInstalled pkgs
nebbiolo2Linux (Ubuntu 24.04.3 LTS)x86_644.5.1 Patched (2025-08-23 r88802) -- "Great Square Root" 4903
taishanLinux (openEuler 24.03 LTS)aarch644.5.0 (2025-04-11) -- "How About a Twenty-Six" 4668
Click on any hostname to see more info about the system (e.g. compilers)      (*) as reported by 'uname -p', except on Windows and Mac OS X

Package 1231/2361HostnameOS / ArchINSTALLBUILDCHECKBUILD BIN
Mergeomics 1.38.0  (landing page)
Zeyneb Kurt
Snapshot Date: 2025-11-14 13:45 -0500 (Fri, 14 Nov 2025)
git_url: https://git.bioconductor.org/packages/Mergeomics
git_branch: RELEASE_3_22
git_last_commit: a71f54d
git_last_commit_date: 2025-10-29 10:29:54 -0500 (Wed, 29 Oct 2025)
nebbiolo2Linux (Ubuntu 24.04.3 LTS) / x86_64  OK    OK    OK  UNNEEDED, same version is already published
taishanLinux (openEuler 24.03 LTS) / aarch64  OK    OK    OK  


CHECK results for Mergeomics on taishan

To the developers/maintainers of the Mergeomics package:
- Allow up to 24 hours (and sometimes 48 hours) for your latest push to git@git.bioconductor.org:packages/Mergeomics.git to reflect on this report. See Troubleshooting Build Report for more information.
- Use the following Renviron settings to reproduce errors and warnings.
- If 'R CMD check' started to fail recently on the Linux builder(s) over a missing dependency, add the missing dependency to 'Suggests:' in your DESCRIPTION file. See Renviron.bioc for more information.
- See Martin Grigorov's blog post for how to debug Linux ARM64 related issues on a x86_64 host.

raw results


Summary

Package: Mergeomics
Version: 1.38.0
Command: /home/biocbuild/R/R/bin/R CMD check --install=check:Mergeomics.install-out.txt --library=/home/biocbuild/R/R/site-library --no-vignettes --timings Mergeomics_1.38.0.tar.gz
StartedAt: 2025-11-14 11:15:46 -0000 (Fri, 14 Nov 2025)
EndedAt: 2025-11-14 11:30:48 -0000 (Fri, 14 Nov 2025)
EllapsedTime: 902.1 seconds
RetCode: 0
Status:   OK  
CheckDir: Mergeomics.Rcheck
Warnings: 0

Command output

##############################################################################
##############################################################################
###
### Running command:
###
###   /home/biocbuild/R/R/bin/R CMD check --install=check:Mergeomics.install-out.txt --library=/home/biocbuild/R/R/site-library --no-vignettes --timings Mergeomics_1.38.0.tar.gz
###
##############################################################################
##############################################################################


* using log directory ‘/home/biocbuild/bbs-3.22-bioc/meat/Mergeomics.Rcheck’
* using R version 4.5.0 (2025-04-11)
* using platform: aarch64-unknown-linux-gnu
* R was compiled by
    aarch64-unknown-linux-gnu-gcc (GCC) 14.2.0
    GNU Fortran (GCC) 14.2.0
* running under: openEuler 24.03 (LTS)
* using session charset: UTF-8
* using option ‘--no-vignettes’
* checking for file ‘Mergeomics/DESCRIPTION’ ... OK
* checking extension type ... Package
* this is package ‘Mergeomics’ version ‘1.38.0’
* checking package namespace information ... OK
* checking package dependencies ... OK
* checking if this is a source package ... OK
* checking if there is a namespace ... OK
* checking for hidden files and directories ... OK
* checking for portable file names ... OK
* checking for sufficient/correct file permissions ... OK
* checking whether package ‘Mergeomics’ can be installed ... OK
* checking installed package size ... INFO
  installed size is  8.4Mb
  sub-directories of 1Mb or more:
    extdata   7.5Mb
* checking package directory ... OK
* checking ‘build’ directory ... OK
* checking DESCRIPTION meta-information ... OK
* checking top-level files ... OK
* checking for left-over files ... OK
* checking index information ... OK
* checking package subdirectories ... OK
* checking code files for non-ASCII characters ... OK
* checking R files for syntax errors ... OK
* checking whether the package can be loaded ... OK
* checking whether the package can be loaded with stated dependencies ... OK
* checking whether the package can be unloaded cleanly ... OK
* checking whether the namespace can be loaded with stated dependencies ... OK
* checking whether the namespace can be unloaded cleanly ... OK
* checking loading without being on the library search path ... OK
* checking dependencies in R code ... OK
* checking S3 generic/method consistency ... OK
* checking replacement functions ... OK
* checking foreign function calls ... OK
* checking R code for possible problems ... NOTE
kda.analyze: no visible global function definition for ‘p.adjust’
kda.analyze.exec: no visible global function definition for ‘pnorm’
kda.analyze.simulate: no visible global function definition for ‘rnorm’
kda.prepare: no visible global function definition for ‘quantile’
kda.prepare: no visible global function definition for ‘object.size’
kda.prepare.screen: no visible global function definition for
  ‘quantile’
kda.prepare.screen: no visible global function definition for ‘median’
kda.start: no visible global function definition for ‘object.size’
kda2cytoscape: no visible global function definition for ‘write.table’
kda2cytoscape.colormap: no visible global function definition for
  ‘rainbow’
kda2cytoscape.colormap: no visible global function definition for
  ‘col2rgb’
kda2himmeli: no visible global function definition for ‘quantile’
kda2himmeli: no visible global function definition for ‘write.table’
kda2himmeli.colormap: no visible global function definition for
  ‘rainbow’
kda2himmeli.colormap: no visible global function definition for
  ‘col2rgb’
ssea.analyze: no visible global function definition for ‘qnorm’
ssea.analyze: no visible global function definition for ‘approx’
ssea.analyze: no visible global function definition for ‘pnorm’
ssea.analyze.simulate: no visible global function definition for
  ‘quantile’
ssea.control: no visible global function definition for ‘median’
ssea.control: no visible global function definition for ‘object.size’
ssea.meta: no visible global function definition for ‘qnorm’
ssea.meta: no visible global function definition for ‘quantile’
ssea.meta: no visible global function definition for ‘pnorm’
ssea.meta: no visible global function definition for ‘median’
ssea.meta: no visible global function definition for ‘na.omit’
ssea.prepare: no visible global function definition for ‘median’
ssea.prepare: no visible global function definition for ‘object.size’
ssea.start: no visible global function definition for ‘na.omit’
ssea.start: no visible global function definition for ‘object.size’
ssea.start.configure: no visible global function definition for
  ‘write.table’
ssea2kda: no visible global function definition for ‘na.omit’
ssea2kda.import: no visible global function definition for ‘na.omit’
tool.aggregate: no visible global function definition for ‘na.omit’
tool.cluster: no visible global function definition for ‘as.dist’
tool.cluster: no visible global function definition for ‘hclust’
tool.fdr.bh: no visible global function definition for ‘qnorm’
tool.fdr.bh: no visible global function definition for ‘p.adjust’
tool.fdr.bh: no visible global function definition for ‘approx’
tool.fdr.empirical: no visible global function definition for ‘qnorm’
tool.fdr.empirical: no visible global function definition for ‘approx’
tool.metap: no visible global function definition for ‘qnorm’
tool.metap: no visible global function definition for ‘pnorm’
tool.normalize: no visible global function definition for ‘sd’
tool.normalize: no visible global function definition for ‘median’
tool.normalize: no visible global function definition for ‘optim’
tool.normalize: no visible global function definition for ‘ks.test’
tool.normalize.quality: no visible global function definition for ‘sd’
tool.normalize.quality: no visible global function definition for
  ‘ks.test’
tool.overlap: no visible global function definition for ‘phyper’
tool.read: no visible global function definition for ‘read.delim’
tool.read: no visible global function definition for ‘na.omit’
tool.save: no visible global function definition for ‘write.table’
tool.unify: no visible global function definition for ‘sd’
tool.unify: no visible global function definition for ‘quantile’
tool.unify: no visible global function definition for ‘approx’
Undefined global functions or variables:
  approx as.dist col2rgb hclust ks.test median na.omit object.size
  optim p.adjust phyper pnorm qnorm quantile rainbow read.delim rnorm
  sd write.table
Consider adding
  importFrom("grDevices", "col2rgb", "rainbow")
  importFrom("stats", "approx", "as.dist", "hclust", "ks.test", "median",
             "na.omit", "optim", "p.adjust", "phyper", "pnorm", "qnorm",
             "quantile", "rnorm", "sd")
  importFrom("utils", "object.size", "read.delim", "write.table")
to your NAMESPACE file.
* checking Rd files ... OK
* checking Rd metadata ... OK
* checking Rd cross-references ... OK
* checking for missing documentation entries ... OK
* checking for code/documentation mismatches ... OK
* checking Rd \usage sections ... OK
* checking Rd contents ... OK
* checking for unstated dependencies in examples ... OK
* checking contents of ‘data’ directory ... OK
* checking data for non-ASCII characters ... OK
* checking data for ASCII and uncompressed saves ... OK
* checking files in ‘vignettes’ ... OK
* checking examples ... OK
Examples with CPU (user + system) or elapsed time > 5s
                         user system elapsed
ssea2kda.analyze       12.679  0.020  12.732
ssea2kda               12.609  0.024  12.668
kda.analyze.test       10.980  0.024  11.039
kda.prepare            10.981  0.012  11.028
kda.analyze.exec       10.903  0.059  10.996
kda.analyze.simulate   10.940  0.020  10.994
ssea2kda.import         9.208  0.008   9.239
ssea.finish.genes       9.046  0.016   9.096
ssea.finish.details     9.032  0.008   9.072
ssea.finish             8.761  0.012   8.794
ssea.finish.fdr         8.631  0.008   8.665
ssea.analyze            8.611  0.008   8.648
ssea.meta               8.501  0.036   8.559
ssea.analyze.simulate   8.357  0.000   8.383
ssea.analyze.randgenes  5.943  0.016   5.976
ssea.prepare            5.596  0.007   5.626
ssea.analyze.randloci   5.293  0.008   5.316
ssea.analyze.observe    5.286  0.004   5.304
ssea.control            5.173  0.008   5.193
ssea.prepare.structure  5.096  0.008   5.116
ssea.start.relabel      5.010  0.000   5.024
* checking for unstated dependencies in ‘tests’ ... OK
* checking tests ...
  Running ‘runTests.R’
 OK
* checking for unstated dependencies in vignettes ... OK
* checking package vignettes ... OK
* checking running R code from vignettes ... SKIPPED
* checking re-building of vignette outputs ... SKIPPED
* checking PDF version of manual ... OK
* DONE

Status: 1 NOTE
See
  ‘/home/biocbuild/bbs-3.22-bioc/meat/Mergeomics.Rcheck/00check.log’
for details.


Installation output

Mergeomics.Rcheck/00install.out

##############################################################################
##############################################################################
###
### Running command:
###
###   /home/biocbuild/R/R/bin/R CMD INSTALL Mergeomics
###
##############################################################################
##############################################################################


* installing to library ‘/home/biocbuild/R/R-4.5.0/site-library’
* installing *source* package ‘Mergeomics’ ...
** this is package ‘Mergeomics’ version ‘1.38.0’
** using staged installation
** R
** data
** inst
** byte-compile and prepare package for lazy loading
** help
*** installing help indices
** building package indices
** installing vignettes
** testing if installed package can be loaded from temporary location
** testing if installed package can be loaded from final location
** testing if installed package keeps a record of temporary installation path
* DONE (Mergeomics)

Tests output

Mergeomics.Rcheck/tests/runTests.Rout


R version 4.5.0 (2025-04-11) -- "How About a Twenty-Six"
Copyright (C) 2025 The R Foundation for Statistical Computing
Platform: aarch64-unknown-linux-gnu

R is free software and comes with ABSOLUTELY NO WARRANTY.
You are welcome to redistribute it under certain conditions.
Type 'license()' or 'licence()' for distribution details.

R is a collaborative project with many contributors.
Type 'contributors()' for more information and
'citation()' on how to cite R or R packages in publications.

Type 'demo()' for some demos, 'help()' for on-line help, or
'help.start()' for an HTML browser interface to help.
Type 'q()' to quit R.

> BiocGenerics:::testPackage("Mergeomics")

KDA Version:12.7.2015

Parameters:
  Search depth: 1
  Search direction: 1
  Maximum overlap: 0.33
  Minimum module size: 20
  Minimum degree: automatic
  Maximum degree: automatic
  Edge factor: 0
  Random seed: 1

Importing edges...
     TAIL               HEAD               WEIGHT 
 Length:140663      Length:140663      Min.   :1  
 Class :character   Class :character   1st Qu.:1  
 Mode  :character   Mode  :character   Median :1  
                                       Mean   :1  
                                       3rd Qu.:1  
                                       Max.   :1  

Importing modules...
    MODULE              NODE          
 Length:1643        Length:1643       
 Class :character   Class :character  
 Mode  :character   Mode  :character  
Graph: 7.694687 Mb

Minimum degree set to 20 

Maximum degree set to 278 

Collecting hubs...
4876 hubs (25.21%)
Graph: 13.28768 Mb

Analyzing network...
6675: Dhcr7, n=114, p=2.24e-17
6648: Cit, n=20, p=7.89e-01
6643: Pbx4, n=23, p=2.32e-05
5582: Sypl, n=319, p=2.02e-02
4746: Tcf7l2, n=73, p=2.63e-02
4708: Tpte, n=86, p=5.05e-02
4511: Pzp, n=160, p=8.85e-03
4464: Tsc22d3, n=487, p=4.28e-13
4407: Dntt, n=93, p=2.40e-20
4360: Amica1, n=132, p=1.06e-06
4588,..: Lrg1, n=86, p=5.76e-12

MSEA Version:01.04.2016

Parameters:
  Permutation type: gene
  Permutations: 100
  Random seed: 1
  Minimum gene count: 10
  Maximum gene count: 500
  Maximum overlap between genes: 0.33

Importing modules...
    MODULE             DESCR          
 Length:20          Length:20         
 Class :character   Class :character  
 Mode  :character   Mode  :character  
    MODULE              GENE          
 Length:2906        Length:2906       
 Class :character   Class :character  
 Mode  :character   Mode  :character  

Importing marker values...
    MARKER              VALUE         
 Length:76866       Min.   :  0.8094  
 Class :character   1st Qu.:  0.9450  
 Mode  :character   Median :  1.1374  
                    Mean   :  1.3944  
                    3rd Qu.:  1.4688  
                    Max.   :323.0100  

Importing mapping data...
     GENE              MARKER         
 Length:132705      Length:132705     
 Class :character   Class :character  
 Mode  :character   Mode  :character  

Merging genes containing shared markers...
WARNING! Limited overlap analysis due to large number of groups.

82744/1673535 
165045/1673535 
247420/1673535 
329643/1673535 
412580/1673535 
494567/1673535 
576856/1673535 
660547/1673535 
743735/1673535 
825526/1673535 
907338/1673535 
990144/1673535 
1072737/1673535 
1155627/1673535 
1237328/1673535 
1319100/1673535 
1400241/1673535 
1481590/1673535 
1564310/1673535 
1646316/1673535 
1673535 comparisons

21115 comparisons

13861 comparisons

12880 comparisons
Job: 11.66891 Mb

Preparing data structures...
Job: 17.11776 Mb

Adding positive controls...
Job: 17.42039 Mb

Estimating enrichment...
45/100 cycles
94/100 cycles
100/100 cycles

Normalizing scores...


RUNIT TEST PROTOCOL -- Fri Nov 14 11:30:41 2025 
*********************************************** 
Number of test functions: 2 
Number of errors: 0 
Number of failures: 0 

 
1 Test Suite : 
Mergeomics RUnit Tests - 2 test functions, 0 errors, 0 failures
Number of test functions: 2 
Number of errors: 0 
Number of failures: 0 
> 
> proc.time()
   user  system elapsed 
671.151   0.177 673.242 

Example timings

Mergeomics.Rcheck/Mergeomics-Ex.timings

nameusersystemelapsed
MSEA.KDA.onestep0.0030.0000.003
job.kda0.0130.0040.017
kda.analyze0.0100.0000.011
kda.analyze.exec10.903 0.05910.996
kda.analyze.simulate10.940 0.02010.994
kda.analyze.test10.980 0.02411.039
kda.configure000
kda.finish0.1280.0040.133
kda.finish.estimate0.070.000.07
kda.finish.save0.070.000.07
kda.finish.summarize0.0710.0000.070
kda.finish.trim0.0630.0080.071
kda.prepare10.981 0.01211.028
kda.prepare.overlap000
kda.prepare.screen0.0010.0000.000
kda.start1.4230.0121.439
kda.start.edges0.0020.0000.002
kda.start.identify0.0060.0000.006
kda.start.modules0.0020.0000.001
kda2cytoscape0.4110.0000.413
kda2cytoscape.colorize000
kda2cytoscape.colormap0.0000.0000.001
kda2cytoscape.drivers0.1240.0040.129
kda2cytoscape.edges0.1380.0000.138
kda2cytoscape.exec0.1500.0000.151
kda2cytoscape.identify0.0040.0000.004
kda2himmeli0.4090.0000.413
kda2himmeli.colorize000
kda2himmeli.colormap000
kda2himmeli.drivers0.1230.0000.124
kda2himmeli.edges0.1260.0040.131
kda2himmeli.exec0.2170.0040.222
kda2himmeli.identify0.0050.0000.005
ssea.analyze8.6110.0088.648
ssea.analyze.observe5.2860.0045.304
ssea.analyze.randgenes5.9430.0165.976
ssea.analyze.randloci5.2930.0085.316
ssea.analyze.simulate8.3570.0008.383
ssea.analyze.statistic000
ssea.control5.1730.0085.193
ssea.finish8.7610.0128.794
ssea.finish.details9.0320.0089.072
ssea.finish.fdr8.6310.0088.665
ssea.finish.genes9.0460.0169.096
ssea.meta8.5010.0368.559
ssea.prepare5.5960.0075.626
ssea.prepare.counts4.7660.0084.791
ssea.prepare.structure5.0960.0085.116
ssea.start4.8900.0084.913
ssea.start.configure0.3370.0120.353
ssea.start.identify0.0040.0000.004
ssea.start.relabel5.0100.0005.024
ssea2kda12.609 0.02412.668
ssea2kda.analyze12.679 0.02012.732
ssea2kda.import9.2080.0089.239
tool.aggregate0.0010.0000.002
tool.cluster0.0220.0000.022
tool.cluster.static0.0000.0000.001
tool.coalesce0.0570.0000.058
tool.coalesce.exec0.1720.0000.172
tool.coalesce.find0.1710.0000.172
tool.coalesce.merge0.1730.0000.173
tool.fdr0.0010.0000.000
tool.fdr.bh0.0000.0000.001
tool.fdr.empirical0.0010.0000.001
tool.graph1.3760.0081.387
tool.graph.degree1.4270.0041.434
tool.graph.list1.3450.0081.356
tool.metap0.0040.0000.004
tool.normalize0.0150.0000.016
tool.normalize.quality0.0130.0000.013
tool.overlap0.0040.0040.008
tool.read0.2290.0120.242
tool.save0.0010.0000.001
tool.subgraph0.0740.0000.073
tool.subgraph.find0.0720.0000.072
tool.subgraph.search0.0730.0000.073
tool.subgraph.stats0.0890.0000.090
tool.translate0.0390.0000.038
tool.unify0.0020.0000.001