Back to Multiple platform build/check report for BioC 3.22:   simplified   long
ABCDEFGHIJKLMNOPQR[S]TUVWXYZ

This page was generated on 2025-11-15 11:58 -0500 (Sat, 15 Nov 2025).

HostnameOSArch (*)R versionInstalled pkgs
nebbiolo2Linux (Ubuntu 24.04.3 LTS)x86_644.5.1 Patched (2025-08-23 r88802) -- "Great Square Root" 4903
taishanLinux (openEuler 24.03 LTS)aarch644.5.0 (2025-04-11) -- "How About a Twenty-Six" 4668
Click on any hostname to see more info about the system (e.g. compilers)      (*) as reported by 'uname -p', except on Windows and Mac OS X

Package 1992/2361HostnameOS / ArchINSTALLBUILDCHECKBUILD BIN
sesame 1.28.0  (landing page)
Wanding Zhou
Snapshot Date: 2025-11-14 13:45 -0500 (Fri, 14 Nov 2025)
git_url: https://git.bioconductor.org/packages/sesame
git_branch: RELEASE_3_22
git_last_commit: f0f05cb
git_last_commit_date: 2025-10-29 10:46:05 -0500 (Wed, 29 Oct 2025)
nebbiolo2Linux (Ubuntu 24.04.3 LTS) / x86_64  OK    ERROR  skipped
taishanLinux (openEuler 24.03 LTS) / aarch64  OK    OK    OK  


CHECK results for sesame on taishan

To the developers/maintainers of the sesame package:
- Allow up to 24 hours (and sometimes 48 hours) for your latest push to git@git.bioconductor.org:packages/sesame.git to reflect on this report. See Troubleshooting Build Report for more information.
- Use the following Renviron settings to reproduce errors and warnings.
- If 'R CMD check' started to fail recently on the Linux builder(s) over a missing dependency, add the missing dependency to 'Suggests:' in your DESCRIPTION file. See Renviron.bioc for more information.
- See Martin Grigorov's blog post for how to debug Linux ARM64 related issues on a x86_64 host.

raw results


Summary

Package: sesame
Version: 1.28.0
Command: /home/biocbuild/R/R/bin/R CMD check --install=check:sesame.install-out.txt --library=/home/biocbuild/R/R/site-library --no-vignettes --timings sesame_1.28.0.tar.gz
StartedAt: 2025-11-14 14:39:06 -0000 (Fri, 14 Nov 2025)
EndedAt: 2025-11-14 14:56:26 -0000 (Fri, 14 Nov 2025)
EllapsedTime: 1040.0 seconds
RetCode: 0
Status:   OK  
CheckDir: sesame.Rcheck
Warnings: 0

Command output

##############################################################################
##############################################################################
###
### Running command:
###
###   /home/biocbuild/R/R/bin/R CMD check --install=check:sesame.install-out.txt --library=/home/biocbuild/R/R/site-library --no-vignettes --timings sesame_1.28.0.tar.gz
###
##############################################################################
##############################################################################


* using log directory ‘/home/biocbuild/bbs-3.22-bioc/meat/sesame.Rcheck’
* using R version 4.5.0 (2025-04-11)
* using platform: aarch64-unknown-linux-gnu
* R was compiled by
    aarch64-unknown-linux-gnu-gcc (GCC) 14.2.0
    GNU Fortran (GCC) 14.2.0
* running under: openEuler 24.03 (LTS)
* using session charset: UTF-8
* using option ‘--no-vignettes’
* checking for file ‘sesame/DESCRIPTION’ ... OK
* checking extension type ... Package
* this is package ‘sesame’ version ‘1.28.0’
* package encoding: UTF-8
* checking package namespace information ... OK
* checking package dependencies ... OK
* checking if this is a source package ... OK
* checking if there is a namespace ... OK
* checking for hidden files and directories ... OK
* checking for portable file names ... OK
* checking for sufficient/correct file permissions ... OK
* checking whether package ‘sesame’ can be installed ... OK
* checking installed package size ... OK
* checking package directory ... OK
* checking ‘build’ directory ... OK
* checking DESCRIPTION meta-information ... OK
* checking top-level files ... OK
* checking for left-over files ... OK
* checking index information ... OK
* checking package subdirectories ... OK
* checking code files for non-ASCII characters ... OK
* checking R files for syntax errors ... OK
* checking whether the package can be loaded ... OK
* checking whether the package can be loaded with stated dependencies ... OK
* checking whether the package can be unloaded cleanly ... OK
* checking whether the namespace can be loaded with stated dependencies ... OK
* checking whether the namespace can be unloaded cleanly ... OK
* checking loading without being on the library search path ... OK
* checking whether startup messages can be suppressed ... OK
* checking dependencies in R code ... OK
* checking S3 generic/method consistency ... OK
* checking replacement functions ... OK
* checking foreign function calls ... OK
* checking R code for possible problems ... OK
* checking Rd files ... OK
* checking Rd metadata ... OK
* checking Rd cross-references ... OK
* checking for missing documentation entries ... OK
* checking for code/documentation mismatches ... OK
* checking Rd \usage sections ... OK
* checking Rd contents ... OK
* checking for unstated dependencies in examples ... OK
* checking files in ‘vignettes’ ... OK
* checking examples ... OK
Examples with CPU (user + system) or elapsed time > 5s
                                user system elapsed
imputeBetasByGenomicNeighbors 40.492  0.630  58.056
inferSex                      26.374  0.218  33.011
imputeBetas                   24.418  0.672  35.216
sesameQC_calcStats            23.802  0.110  26.989
sesameQC_plotHeatSNPs         23.190  0.183  31.601
inferSpecies                  18.951  0.751  24.621
ELBAR                         17.765  0.147  26.230
compareMouseStrainReference   17.001  0.249  19.596
diffRefSet                    16.462  0.309  20.517
matchDesign                   16.077  0.168  21.549
compareReference              14.266  0.220  17.837
sesameQC_plotBar              13.318  0.315  17.968
sesameQC_plotBetaByDesign     13.039  0.095  17.225
getRefSet                     12.759  0.217  14.112
DMR                           10.729  0.389  11.995
visualizeGene                  9.695  0.322  13.791
inferStrain                    8.889  0.336  10.559
DML                            8.597  0.391   9.509
sdf_read_table                 8.295  0.217   9.691
inferTissue                    8.115  0.115   9.679
dyeBiasCorrMostBalanced        7.621  0.215   8.185
deIdentify                     7.569  0.092   9.675
estimateLeukocyte              6.918  0.135  10.632
getMask                        6.874  0.168   9.453
createUCSCtrack                6.605  0.183   9.399
dyeBiasNL                      6.595  0.056  11.212
reIdentify                     6.268  0.095   7.881
openSesame                     5.692  0.167   6.589
probeSuccessRate               5.662  0.110   8.122
prepSesame                     5.497  0.139   6.912
bisConversionControl           4.948  0.137   6.145
checkLevels                    4.361  0.159   5.381
scrubSoft                      4.237  0.036   5.631
* checking for unstated dependencies in ‘tests’ ... OK
* checking tests ...
  Running ‘testthat.R’
 OK
* checking for unstated dependencies in vignettes ... OK
* checking package vignettes ... OK
* checking running R code from vignettes ... SKIPPED
* checking re-building of vignette outputs ... SKIPPED
* checking PDF version of manual ... OK
* DONE

Status: OK


Installation output

sesame.Rcheck/00install.out

##############################################################################
##############################################################################
###
### Running command:
###
###   /home/biocbuild/R/R/bin/R CMD INSTALL sesame
###
##############################################################################
##############################################################################


* installing to library ‘/home/biocbuild/R/R-4.5.0/site-library’
* installing *source* package ‘sesame’ ...
** this is package ‘sesame’ version ‘1.28.0’
** using staged installation
** R
** inst
** byte-compile and prepare package for lazy loading
** help
*** installing help indices
** building package indices
** installing vignettes
** testing if installed package can be loaded from temporary location
** testing if installed package can be loaded from final location
** testing if installed package keeps a record of temporary installation path
* DONE (sesame)

Tests output

sesame.Rcheck/tests/testthat.Rout


R version 4.5.0 (2025-04-11) -- "How About a Twenty-Six"
Copyright (C) 2025 The R Foundation for Statistical Computing
Platform: aarch64-unknown-linux-gnu

R is free software and comes with ABSOLUTELY NO WARRANTY.
You are welcome to redistribute it under certain conditions.
Type 'license()' or 'licence()' for distribution details.

R is a collaborative project with many contributors.
Type 'contributors()' for more information and
'citation()' on how to cite R or R packages in publications.

Type 'demo()' for some demos, 'help()' for on-line help, or
'help.start()' for an HTML browser interface to help.
Type 'q()' to quit R.

> library(testthat)
> library(sesame)
Loading required package: sesameData
Loading required package: ExperimentHub
Loading required package: BiocGenerics
Loading required package: generics

Attaching package: 'generics'

The following objects are masked from 'package:base':

    as.difftime, as.factor, as.ordered, intersect, is.element, setdiff,
    setequal, union


Attaching package: 'BiocGenerics'

The following objects are masked from 'package:stats':

    IQR, mad, sd, var, xtabs

The following objects are masked from 'package:base':

    Filter, Find, Map, Position, Reduce, anyDuplicated, aperm, append,
    as.data.frame, basename, cbind, colnames, dirname, do.call,
    duplicated, eval, evalq, get, grep, grepl, is.unsorted, lapply,
    mapply, match, mget, order, paste, pmax, pmax.int, pmin, pmin.int,
    rank, rbind, rownames, sapply, saveRDS, table, tapply, unique,
    unsplit, which.max, which.min

Loading required package: AnnotationHub
Loading required package: BiocFileCache
Loading required package: dbplyr
Loading sesameData.

----------------------------------------------------------
| SEnsible Step-wise Analysis of DNA MEthylation (SeSAMe)
| --------------------------------------------------------
| Please cache auxiliary data by "sesameDataCache()".
| This needs to be done only once per SeSAMe installation.
----------------------------------------------------------

> 
> test_check("sesame")
[ FAIL 0 | WARN 0 | SKIP 0 | PASS 5 ]
> 
> proc.time()
   user  system elapsed 
 21.408   0.774  27.283 

Example timings

sesame.Rcheck/sesame-Ex.timings

nameusersystemelapsed
BetaValueToMValue0.0010.0000.001
DML8.5970.3919.509
DMLpredict1.5970.0682.165
DMR10.729 0.38911.995
ELBAR17.765 0.14726.230
MValueToBetaValue000
SigDF0.4260.0280.454
addMask0.0870.0000.087
betasCollapseToPfx0.0120.0040.017
bisConversionControl4.9480.1376.145
calcEffectSize1.3860.0561.581
checkLevels4.3610.1595.381
cnSegmentation0.3950.0150.429
compareMouseStrainReference17.001 0.24919.596
compareMouseTissueReference000
compareReference14.266 0.22017.837
controls2.2860.0592.504
createUCSCtrack6.6050.1839.399
deIdentify7.5690.0929.675
detectionPnegEcdf1.1040.0041.163
diffRefSet16.462 0.30920.517
dmContrasts2.0600.0442.171
dyeBiasCorr3.1160.0604.884
dyeBiasCorrMostBalanced7.6210.2158.185
dyeBiasL1.3560.0321.391
dyeBiasNL 6.595 0.05611.212
estimateLeukocyte 6.918 0.13510.632
formatVCF2.2730.0512.400
getAFTypeIbySumAlleles1.8400.0722.069
getAFs1.2390.0201.521
getBetas0.9290.0401.063
getMask6.8740.1689.453
getRefSet12.759 0.21714.112
imputeBetas24.418 0.67235.216
imputeBetasByGenomicNeighbors40.492 0.63058.056
imputeBetasMatrixByMean0.0010.0000.002
inferEthnicity0.0010.0000.000
inferInfiniumIChannel0.3020.0830.392
inferSex26.374 0.21833.011
inferSpecies18.951 0.75124.621
inferStrain 8.889 0.33610.559
inferTissue8.1150.1159.679
initFileSet1.4020.0601.521
listAvailableMasks1.4440.0312.229
mLiftOver000
mapFileSet0.0390.0000.039
mapToMammal402.8700.0753.169
matchDesign16.077 0.16821.549
meanIntensity2.9930.1113.750
medianTotalIntensity0.9610.0200.988
noMasked3.7410.0994.061
noob2.6170.0562.714
openSesame5.6920.1676.589
openSesameToFile1.8420.0161.892
pOOBAH1.4210.0002.371
palgen0.0340.0120.097
parseGEOsignalMU3.0960.0763.975
predictAge2.5260.0403.455
predictAgeHorvath353000
predictAgeSkinBlood000
predictMouseAgeInMonth000
prefixMask0.5480.0000.660
prefixMaskButC0.1790.0000.183
prefixMaskButCG0.0760.0000.107
prepSesame5.4970.1396.912
prepSesameList0.0020.0000.001
print.DMLSummary2.7120.0792.916
print.fileSet1.2990.0401.395
probeID_designType000
probeSuccessRate5.6620.1108.122
qualityMask2.0080.0404.105
reIdentify6.2680.0957.881
readFileSet0.0620.0000.063
readIDATpair0.1350.0040.140
recommendedMaskNames000
resetMask0.4290.0240.454
scrub2.8810.0393.547
scrubSoft4.2370.0365.631
sdfPlatform0.3540.0160.372
sdf_read_table8.2950.2179.691
sdf_write_table2.3210.0643.563
searchIDATprefixes0.0050.0000.033
sesame-package2.5940.0512.920
sesameAnno_attachManifest000
sesameAnno_buildAddressFile000
sesameAnno_buildManifestGRanges0.0010.0000.000
sesameAnno_download000
sesameAnno_readManifestTSV000
sesameQC_calcStats23.802 0.11026.989
sesameQC_getStats2.9620.0164.196
sesameQC_plotBar13.318 0.31517.968
sesameQC_plotBetaByDesign13.039 0.09517.225
sesameQC_plotHeatSNPs23.190 0.18331.601
sesameQC_plotIntensVsBetas2.6790.0042.774
sesameQC_plotRedGrnQQ1.5950.0552.226
sesameQC_rankStats4.5360.0554.729
sesameQCtoDF2.0570.0082.146
sesame_checkVersion0.0050.0000.005
sesamize000
setMask0.1080.0000.108
signalMU1.2220.0441.352
sliceFileSet0.0400.0000.041
summaryExtractTest3.2000.1344.313
totalIntensities2.7830.0793.052
updateSigDF3.6170.1463.976
visualizeGene 9.695 0.32213.791
visualizeProbes1.6210.0161.695
visualizeRegion0.4360.0040.560
visualizeSegments1.7770.0512.329