| Back to Multiple platform build/check report for BioC 3.22: simplified long |
|
This page was generated on 2025-11-14 11:58 -0500 (Fri, 14 Nov 2025).
| Hostname | OS | Arch (*) | R version | Installed pkgs |
|---|---|---|---|---|
| nebbiolo2 | Linux (Ubuntu 24.04.3 LTS) | x86_64 | 4.5.1 Patched (2025-08-23 r88802) -- "Great Square Root" | 4903 |
| taishan | Linux (openEuler 24.03 LTS) | aarch64 | 4.5.0 (2025-04-11) -- "How About a Twenty-Six" | 4668 |
| Click on any hostname to see more info about the system (e.g. compilers) (*) as reported by 'uname -p', except on Windows and Mac OS X | ||||
| Package 1992/2361 | Hostname | OS / Arch | INSTALL | BUILD | CHECK | BUILD BIN | ||||||||
| sesame 1.28.0 (landing page) Wanding Zhou
| nebbiolo2 | Linux (Ubuntu 24.04.3 LTS) / x86_64 | OK | OK | OK | |||||||||
| taishan | Linux (openEuler 24.03 LTS) / aarch64 | OK | OK | OK | ||||||||||
|
To the developers/maintainers of the sesame package: - Allow up to 24 hours (and sometimes 48 hours) for your latest push to git@git.bioconductor.org:packages/sesame.git to reflect on this report. See Troubleshooting Build Report for more information. - Use the following Renviron settings to reproduce errors and warnings. - If 'R CMD check' started to fail recently on the Linux builder(s) over a missing dependency, add the missing dependency to 'Suggests:' in your DESCRIPTION file. See Renviron.bioc for more information. |
| Package: sesame |
| Version: 1.28.0 |
| Command: /home/biocbuild/bbs-3.22-bioc/R/bin/R CMD check --install=check:sesame.install-out.txt --library=/home/biocbuild/bbs-3.22-bioc/R/site-library --timings sesame_1.28.0.tar.gz |
| StartedAt: 2025-11-14 04:08:31 -0500 (Fri, 14 Nov 2025) |
| EndedAt: 2025-11-14 04:24:47 -0500 (Fri, 14 Nov 2025) |
| EllapsedTime: 976.0 seconds |
| RetCode: 0 |
| Status: OK |
| CheckDir: sesame.Rcheck |
| Warnings: 0 |
##############################################################################
##############################################################################
###
### Running command:
###
### /home/biocbuild/bbs-3.22-bioc/R/bin/R CMD check --install=check:sesame.install-out.txt --library=/home/biocbuild/bbs-3.22-bioc/R/site-library --timings sesame_1.28.0.tar.gz
###
##############################################################################
##############################################################################
* using log directory ‘/home/biocbuild/bbs-3.22-bioc/meat/sesame.Rcheck’
* using R version 4.5.1 Patched (2025-08-23 r88802)
* using platform: x86_64-pc-linux-gnu
* R was compiled by
gcc (Ubuntu 13.3.0-6ubuntu2~24.04) 13.3.0
GNU Fortran (Ubuntu 13.3.0-6ubuntu2~24.04) 13.3.0
* running under: Ubuntu 24.04.3 LTS
* using session charset: UTF-8
* checking for file ‘sesame/DESCRIPTION’ ... OK
* checking extension type ... Package
* this is package ‘sesame’ version ‘1.28.0’
* package encoding: UTF-8
* checking package namespace information ... OK
* checking package dependencies ... OK
* checking if this is a source package ... OK
* checking if there is a namespace ... OK
* checking for hidden files and directories ... OK
* checking for portable file names ... OK
* checking for sufficient/correct file permissions ... OK
* checking whether package ‘sesame’ can be installed ... OK
* checking installed package size ... OK
* checking package directory ... OK
* checking ‘build’ directory ... OK
* checking DESCRIPTION meta-information ... OK
* checking top-level files ... OK
* checking for left-over files ... OK
* checking index information ... OK
* checking package subdirectories ... OK
* checking code files for non-ASCII characters ... OK
* checking R files for syntax errors ... OK
* checking whether the package can be loaded ... OK
* checking whether the package can be loaded with stated dependencies ... OK
* checking whether the package can be unloaded cleanly ... OK
* checking whether the namespace can be loaded with stated dependencies ... OK
* checking whether the namespace can be unloaded cleanly ... OK
* checking loading without being on the library search path ... OK
* checking whether startup messages can be suppressed ... OK
* checking dependencies in R code ... OK
* checking S3 generic/method consistency ... OK
* checking replacement functions ... OK
* checking foreign function calls ... OK
* checking R code for possible problems ... OK
* checking Rd files ... OK
* checking Rd metadata ... OK
* checking Rd cross-references ... OK
* checking for missing documentation entries ... OK
* checking for code/documentation mismatches ... OK
* checking Rd \usage sections ... OK
* checking Rd contents ... OK
* checking for unstated dependencies in examples ... OK
* checking files in ‘vignettes’ ... OK
* checking examples ... OK
Examples with CPU (user + system) or elapsed time > 5s
user system elapsed
imputeBetasByGenomicNeighbors 32.067 0.702 32.773
inferSex 20.717 0.232 20.951
sesameQC_plotHeatSNPs 18.926 0.312 19.241
sesameQC_calcStats 17.540 0.169 17.718
imputeBetas 17.012 0.412 17.426
inferSpecies 13.361 0.659 14.021
ELBAR 12.850 0.206 13.057
diffRefSet 12.699 0.268 12.968
compareMouseStrainReference 11.613 0.082 11.721
sesameQC_plotBar 11.282 0.211 11.509
compareReference 10.880 0.195 11.075
getRefSet 10.898 0.050 10.952
matchDesign 10.822 0.054 10.883
sesameQC_plotBetaByDesign 9.478 0.097 9.578
visualizeGene 8.839 0.178 9.018
DMR 7.865 0.210 8.076
sdf_read_table 7.447 0.095 7.542
inferStrain 6.909 0.454 7.364
dyeBiasCorrMostBalanced 6.940 0.107 7.046
getMask 6.783 0.143 6.927
DML 6.406 0.325 6.732
estimateLeukocyte 6.353 0.117 6.470
inferTissue 6.125 0.212 6.338
createUCSCtrack 5.450 0.153 5.603
deIdentify 5.429 0.090 5.522
dyeBiasNL 5.251 0.067 5.319
* checking for unstated dependencies in ‘tests’ ... OK
* checking tests ...
Running ‘testthat.R’
OK
* checking for unstated dependencies in vignettes ... OK
* checking package vignettes ... OK
* checking re-building of vignette outputs ... OK
* checking PDF version of manual ... OK
* DONE
Status: OK
sesame.Rcheck/00install.out
############################################################################## ############################################################################## ### ### Running command: ### ### /home/biocbuild/bbs-3.22-bioc/R/bin/R CMD INSTALL sesame ### ############################################################################## ############################################################################## * installing to library ‘/home/biocbuild/bbs-3.22-bioc/R/site-library’ * installing *source* package ‘sesame’ ... ** this is package ‘sesame’ version ‘1.28.0’ ** using staged installation ** R ** inst ** byte-compile and prepare package for lazy loading ** help *** installing help indices ** building package indices ** installing vignettes ** testing if installed package can be loaded from temporary location ** testing if installed package can be loaded from final location ** testing if installed package keeps a record of temporary installation path * DONE (sesame)
sesame.Rcheck/tests/testthat.Rout
R version 4.5.1 Patched (2025-08-23 r88802) -- "Great Square Root"
Copyright (C) 2025 The R Foundation for Statistical Computing
Platform: x86_64-pc-linux-gnu
R is free software and comes with ABSOLUTELY NO WARRANTY.
You are welcome to redistribute it under certain conditions.
Type 'license()' or 'licence()' for distribution details.
R is a collaborative project with many contributors.
Type 'contributors()' for more information and
'citation()' on how to cite R or R packages in publications.
Type 'demo()' for some demos, 'help()' for on-line help, or
'help.start()' for an HTML browser interface to help.
Type 'q()' to quit R.
> library(testthat)
> library(sesame)
Loading required package: sesameData
Loading required package: ExperimentHub
Loading required package: BiocGenerics
Loading required package: generics
Attaching package: 'generics'
The following objects are masked from 'package:base':
as.difftime, as.factor, as.ordered, intersect, is.element, setdiff,
setequal, union
Attaching package: 'BiocGenerics'
The following objects are masked from 'package:stats':
IQR, mad, sd, var, xtabs
The following objects are masked from 'package:base':
Filter, Find, Map, Position, Reduce, anyDuplicated, aperm, append,
as.data.frame, basename, cbind, colnames, dirname, do.call,
duplicated, eval, evalq, get, grep, grepl, is.unsorted, lapply,
mapply, match, mget, order, paste, pmax, pmax.int, pmin, pmin.int,
rank, rbind, rownames, sapply, saveRDS, table, tapply, unique,
unsplit, which.max, which.min
Loading required package: AnnotationHub
Loading required package: BiocFileCache
Loading required package: dbplyr
Loading sesameData.
----------------------------------------------------------
| SEnsible Step-wise Analysis of DNA MEthylation (SeSAMe)
| --------------------------------------------------------
| Please cache auxiliary data by "sesameDataCache()".
| This needs to be done only once per SeSAMe installation.
----------------------------------------------------------
>
> test_check("sesame")
[ FAIL 0 | WARN 0 | SKIP 0 | PASS 5 ]
>
> proc.time()
user system elapsed
18.201 0.923 19.109
sesame.Rcheck/sesame-Ex.timings
| name | user | system | elapsed | |
| BetaValueToMValue | 0 | 0 | 0 | |
| DML | 6.406 | 0.325 | 6.732 | |
| DMLpredict | 1.215 | 0.050 | 1.265 | |
| DMR | 7.865 | 0.210 | 8.076 | |
| ELBAR | 12.850 | 0.206 | 13.057 | |
| MValueToBetaValue | 0 | 0 | 0 | |
| SigDF | 0.276 | 0.013 | 0.289 | |
| addMask | 0.125 | 0.000 | 0.124 | |
| betasCollapseToPfx | 0.012 | 0.000 | 0.012 | |
| bisConversionControl | 4.039 | 0.065 | 4.104 | |
| calcEffectSize | 1.212 | 0.031 | 1.242 | |
| checkLevels | 2.801 | 0.107 | 2.907 | |
| cnSegmentation | 0.269 | 0.009 | 0.278 | |
| compareMouseStrainReference | 11.613 | 0.082 | 11.721 | |
| compareMouseTissueReference | 0 | 0 | 0 | |
| compareReference | 10.880 | 0.195 | 11.075 | |
| controls | 2.077 | 0.045 | 2.122 | |
| createUCSCtrack | 5.450 | 0.153 | 5.603 | |
| deIdentify | 5.429 | 0.090 | 5.522 | |
| detectionPnegEcdf | 0.845 | 0.022 | 0.868 | |
| diffRefSet | 12.699 | 0.268 | 12.968 | |
| dmContrasts | 1.781 | 0.025 | 1.805 | |
| dyeBiasCorr | 2.598 | 0.046 | 2.644 | |
| dyeBiasCorrMostBalanced | 6.940 | 0.107 | 7.046 | |
| dyeBiasL | 1.023 | 0.074 | 1.097 | |
| dyeBiasNL | 5.251 | 0.067 | 5.319 | |
| estimateLeukocyte | 6.353 | 0.117 | 6.470 | |
| formatVCF | 2.328 | 0.055 | 2.384 | |
| getAFTypeIbySumAlleles | 1.649 | 0.045 | 1.694 | |
| getAFs | 0.832 | 0.022 | 0.854 | |
| getBetas | 0.807 | 0.013 | 0.819 | |
| getMask | 6.783 | 0.143 | 6.927 | |
| getRefSet | 10.898 | 0.050 | 10.952 | |
| imputeBetas | 17.012 | 0.412 | 17.426 | |
| imputeBetasByGenomicNeighbors | 32.067 | 0.702 | 32.773 | |
| imputeBetasMatrixByMean | 0.001 | 0.000 | 0.001 | |
| inferEthnicity | 0.000 | 0.000 | 0.001 | |
| inferInfiniumIChannel | 0.228 | 0.064 | 0.293 | |
| inferSex | 20.717 | 0.232 | 20.951 | |
| inferSpecies | 13.361 | 0.659 | 14.021 | |
| inferStrain | 6.909 | 0.454 | 7.364 | |
| inferTissue | 6.125 | 0.212 | 6.338 | |
| initFileSet | 1.101 | 0.023 | 1.124 | |
| listAvailableMasks | 1.189 | 0.034 | 1.223 | |
| mLiftOver | 0.001 | 0.000 | 0.001 | |
| mapFileSet | 0.033 | 0.000 | 0.033 | |
| mapToMammal40 | 2.493 | 0.084 | 2.578 | |
| matchDesign | 10.822 | 0.054 | 10.883 | |
| meanIntensity | 2.483 | 0.036 | 2.519 | |
| medianTotalIntensity | 0.808 | 0.015 | 0.823 | |
| noMasked | 3.398 | 0.048 | 3.446 | |
| noob | 2.023 | 0.011 | 2.033 | |
| openSesame | 4.699 | 0.067 | 4.775 | |
| openSesameToFile | 1.371 | 0.001 | 1.375 | |
| pOOBAH | 1.294 | 0.000 | 1.295 | |
| palgen | 0.038 | 0.001 | 0.039 | |
| parseGEOsignalMU | 2.864 | 0.022 | 2.886 | |
| predictAge | 2.221 | 0.028 | 2.251 | |
| predictAgeHorvath353 | 0 | 0 | 0 | |
| predictAgeSkinBlood | 0 | 0 | 0 | |
| predictMouseAgeInMonth | 0 | 0 | 0 | |
| prefixMask | 0.476 | 0.000 | 0.476 | |
| prefixMaskButC | 0.128 | 0.000 | 0.128 | |
| prefixMaskButCG | 0.052 | 0.000 | 0.052 | |
| prepSesame | 3.583 | 0.025 | 3.610 | |
| prepSesameList | 0.000 | 0.001 | 0.001 | |
| print.DMLSummary | 2.826 | 0.041 | 2.868 | |
| print.fileSet | 1.100 | 0.044 | 1.144 | |
| probeID_designType | 0 | 0 | 0 | |
| probeSuccessRate | 4.896 | 0.064 | 4.960 | |
| qualityMask | 2.088 | 0.040 | 2.128 | |
| reIdentify | 4.112 | 0.024 | 4.136 | |
| readFileSet | 0.052 | 0.000 | 0.051 | |
| readIDATpair | 0.104 | 0.000 | 0.103 | |
| recommendedMaskNames | 0 | 0 | 0 | |
| resetMask | 0.372 | 0.016 | 0.387 | |
| scrub | 2.079 | 0.002 | 2.080 | |
| scrubSoft | 3.513 | 0.000 | 3.513 | |
| sdfPlatform | 0.305 | 0.011 | 0.315 | |
| sdf_read_table | 7.447 | 0.095 | 7.542 | |
| sdf_write_table | 1.687 | 0.056 | 1.744 | |
| searchIDATprefixes | 0.004 | 0.000 | 0.005 | |
| sesame-package | 2.259 | 0.040 | 2.299 | |
| sesameAnno_attachManifest | 0 | 0 | 0 | |
| sesameAnno_buildAddressFile | 0 | 0 | 0 | |
| sesameAnno_buildManifestGRanges | 0 | 0 | 0 | |
| sesameAnno_download | 0.000 | 0.000 | 0.001 | |
| sesameAnno_readManifestTSV | 0 | 0 | 0 | |
| sesameQC_calcStats | 17.540 | 0.169 | 17.718 | |
| sesameQC_getStats | 1.579 | 0.016 | 1.596 | |
| sesameQC_plotBar | 11.282 | 0.211 | 11.509 | |
| sesameQC_plotBetaByDesign | 9.478 | 0.097 | 9.578 | |
| sesameQC_plotHeatSNPs | 18.926 | 0.312 | 19.241 | |
| sesameQC_plotIntensVsBetas | 1.783 | 0.038 | 1.821 | |
| sesameQC_plotRedGrnQQ | 1.773 | 0.031 | 1.803 | |
| sesameQC_rankStats | 3.357 | 0.068 | 3.426 | |
| sesameQCtoDF | 1.745 | 0.000 | 1.746 | |
| sesame_checkVersion | 0.003 | 0.000 | 0.004 | |
| sesamize | 0 | 0 | 0 | |
| setMask | 0.095 | 0.000 | 0.095 | |
| signalMU | 0.870 | 0.015 | 0.886 | |
| sliceFileSet | 0.031 | 0.002 | 0.033 | |
| summaryExtractTest | 2.651 | 0.186 | 2.836 | |
| totalIntensities | 2.389 | 0.062 | 2.452 | |
| updateSigDF | 3.088 | 0.118 | 3.207 | |
| visualizeGene | 8.839 | 0.178 | 9.018 | |
| visualizeProbes | 1.134 | 0.012 | 1.147 | |
| visualizeRegion | 0.312 | 0.002 | 0.315 | |
| visualizeSegments | 1.657 | 0.035 | 1.693 | |