Back to Multiple platform build/check report for BioC 3.22:   simplified   long
AB[C]DEFGHIJKLMNOPQRSTUVWXYZ

This page was generated on 2025-11-20 12:07 -0500 (Thu, 20 Nov 2025).

HostnameOSArch (*)R versionInstalled pkgs
nebbiolo2Linux (Ubuntu 24.04.3 LTS)x86_644.5.2 (2025-10-31) -- "[Not] Part in a Rumble" 4615
merida1macOS 12.7.6 Montereyx86_644.5.2 Patched (2025-11-05 r88990) -- "[Not] Part in a Rumble" 4610
kjohnson1macOS 13.7.5 Venturaarm644.5.2 Patched (2025-11-04 r88984) -- "[Not] Part in a Rumble" 4598
taishanLinux (openEuler 24.03 LTS)aarch644.5.0 (2025-04-11) -- "How About a Twenty-Six" 4668
Click on any hostname to see more info about the system (e.g. compilers)      (*) as reported by 'uname -p', except on Windows and Mac OS X

Package 425/2361HostnameOS / ArchINSTALLBUILDCHECKBUILD BIN
cola 2.16.0  (landing page)
Zuguang Gu
Snapshot Date: 2025-11-17 13:45 -0500 (Mon, 17 Nov 2025)
git_url: https://git.bioconductor.org/packages/cola
git_branch: RELEASE_3_22
git_last_commit: 796a58f
git_last_commit_date: 2025-10-29 10:49:39 -0500 (Wed, 29 Oct 2025)
nebbiolo2Linux (Ubuntu 24.04.3 LTS) / x86_64  OK    OK    OK  UNNEEDED, same version is already published
merida1macOS 12.7.6 Monterey / x86_64  OK    OK    OK    OK  UNNEEDED, same version is already published
kjohnson1macOS 13.7.5 Ventura / arm64  OK    OK    OK    OK  UNNEEDED, same version is already published
taishanLinux (openEuler 24.03 LTS) / aarch64  OK    OK    OK  


CHECK results for cola on taishan

To the developers/maintainers of the cola package:
- Allow up to 24 hours (and sometimes 48 hours) for your latest push to git@git.bioconductor.org:packages/cola.git to reflect on this report. See Troubleshooting Build Report for more information.
- Use the following Renviron settings to reproduce errors and warnings.
- If 'R CMD check' started to fail recently on the Linux builder(s) over a missing dependency, add the missing dependency to 'Suggests:' in your DESCRIPTION file. See Renviron.bioc for more information.
- See Martin Grigorov's blog post for how to debug Linux ARM64 related issues on a x86_64 host.

raw results


Summary

Package: cola
Version: 2.16.0
Command: /home/biocbuild/R/R/bin/R CMD check --install=check:cola.install-out.txt --library=/home/biocbuild/R/R/site-library --no-vignettes --timings cola_2.16.0.tar.gz
StartedAt: 2025-11-18 08:26:52 -0000 (Tue, 18 Nov 2025)
EndedAt: 2025-11-18 08:30:48 -0000 (Tue, 18 Nov 2025)
EllapsedTime: 236.2 seconds
RetCode: 0
Status:   OK  
CheckDir: cola.Rcheck
Warnings: 0

Command output

##############################################################################
##############################################################################
###
### Running command:
###
###   /home/biocbuild/R/R/bin/R CMD check --install=check:cola.install-out.txt --library=/home/biocbuild/R/R/site-library --no-vignettes --timings cola_2.16.0.tar.gz
###
##############################################################################
##############################################################################


* using log directory ‘/home/biocbuild/bbs-3.22-bioc/meat/cola.Rcheck’
* using R version 4.5.0 (2025-04-11)
* using platform: aarch64-unknown-linux-gnu
* R was compiled by
    aarch64-unknown-linux-gnu-gcc (GCC) 14.2.0
    GNU Fortran (GCC) 14.2.0
* running under: openEuler 24.03 (LTS)
* using session charset: UTF-8
* using option ‘--no-vignettes’
* checking for file ‘cola/DESCRIPTION’ ... OK
* checking extension type ... Package
* this is package ‘cola’ version ‘2.16.0’
* checking package namespace information ... OK
* checking package dependencies ... INFO
Imports includes 27 non-default packages.
Importing from so many packages makes the package vulnerable to any of
them becoming unavailable.  Move as many as possible to Suggests and
use conditionally.
* checking if this is a source package ... OK
* checking if there is a namespace ... OK
* checking for hidden files and directories ... OK
* checking for portable file names ... OK
* checking for sufficient/correct file permissions ... OK
* checking whether package ‘cola’ can be installed ... OK
* used C++ compiler: ‘aarch64-unknown-linux-gnu-g++ (GCC) 14.2.0’
* checking installed package size ... INFO
  installed size is  7.7Mb
  sub-directories of 1Mb or more:
    data      3.2Mb
    extdata   1.0Mb
    libs      2.1Mb
* checking package directory ... OK
* checking ‘build’ directory ... OK
* checking DESCRIPTION meta-information ... NOTE
License stub is invalid DCF.
* checking top-level files ... OK
* checking for left-over files ... OK
* checking index information ... OK
* checking package subdirectories ... OK
* checking code files for non-ASCII characters ... OK
* checking R files for syntax errors ... OK
* checking whether the package can be loaded ... OK
* checking whether the package can be loaded with stated dependencies ... OK
* checking whether the package can be unloaded cleanly ... OK
* checking whether the namespace can be loaded with stated dependencies ... OK
* checking whether the namespace can be unloaded cleanly ... OK
* checking loading without being on the library search path ... OK
* checking whether startup messages can be suppressed ... OK
* checking dependencies in R code ... OK
* checking S3 generic/method consistency ... OK
* checking replacement functions ... OK
* checking foreign function calls ... OK
* checking R code for possible problems ... OK
* checking Rd files ... OK
* checking Rd metadata ... OK
* checking Rd cross-references ... NOTE
Non-topic package-anchored link(s) in Rd file 'collect_classes-ConsensusPartitionList-method.Rd':
  ‘[ComplexHeatmap:draw-HeatmapList-method]{draw,HeatmapList-method}’

See section 'Cross-references' in the 'Writing R Extensions' manual.

Found the following Rd file(s) with Rd \link{} targets missing package
anchors:
  predict_classes-ConsensusPartition-method.Rd: colorRamp2
  predict_classes-matrix-method.Rd: colorRamp2
Please provide package anchors for all Rd \link{} targets not in the
package itself and the base packages.
* checking for missing documentation entries ... OK
* checking for code/documentation mismatches ... OK
* checking Rd \usage sections ... OK
* checking Rd contents ... OK
* checking for unstated dependencies in examples ... OK
* checking contents of ‘data’ directory ... OK
* checking data for non-ASCII characters ... OK
* checking data for ASCII and uncompressed saves ... OK
* checking line endings in C/C++/Fortran sources/headers ... OK
* checking compiled code ... NOTE
Note: information on .o files is not available
* checking files in ‘vignettes’ ... OK
* checking examples ... OK
Examples with CPU (user + system) or elapsed time > 5s
                                                  user system elapsed
consensus_partition                             29.326  0.323  29.740
get_signatures-ConsensusPartition-method         6.508  0.072   6.601
compare_signatures-HierarchicalPartition-method  5.481  0.140   5.645
* checking for unstated dependencies in ‘tests’ ... OK
* checking tests ...
  Running ‘test-all.R’
 OK
* checking for unstated dependencies in vignettes ... OK
* checking package vignettes ... OK
* checking running R code from vignettes ... SKIPPED
* checking re-building of vignette outputs ... SKIPPED
* checking PDF version of manual ... OK
* DONE

Status: 3 NOTEs
See
  ‘/home/biocbuild/bbs-3.22-bioc/meat/cola.Rcheck/00check.log’
for details.


Installation output

cola.Rcheck/00install.out

##############################################################################
##############################################################################
###
### Running command:
###
###   /home/biocbuild/R/R/bin/R CMD INSTALL cola
###
##############################################################################
##############################################################################


* installing to library ‘/home/biocbuild/R/R-4.5.0/site-library’
* installing *source* package ‘cola’ ...
** this is package ‘cola’ version ‘2.16.0’
** using staged installation
** libs
using C++ compiler: ‘aarch64-unknown-linux-gnu-g++ (GCC) 14.2.0’
/opt/ohpc/pub/compiler/gcc/14.2.0/bin/aarch64-unknown-linux-gnu-g++ -std=gnu++17 -I"/home/biocbuild/R/R-4.5.0/include" -DNDEBUG  -I'/home/biocbuild/R/R-4.5.0/site-library/Rcpp/include' -I/usr/local/include    -fPIC  -g -O2  -Wall -Werror=format-security  -c RcppExports.cpp -o RcppExports.o
/opt/ohpc/pub/compiler/gcc/14.2.0/bin/aarch64-unknown-linux-gnu-g++ -std=gnu++17 -I"/home/biocbuild/R/R-4.5.0/include" -DNDEBUG  -I'/home/biocbuild/R/R-4.5.0/site-library/Rcpp/include' -I/usr/local/include    -fPIC  -g -O2  -Wall -Werror=format-security  -c atc.cpp -o atc.o
/opt/ohpc/pub/compiler/gcc/14.2.0/bin/aarch64-unknown-linux-gnu-g++ -std=gnu++17 -I"/home/biocbuild/R/R-4.5.0/include" -DNDEBUG  -I'/home/biocbuild/R/R-4.5.0/site-library/Rcpp/include' -I/usr/local/include    -fPIC  -g -O2  -Wall -Werror=format-security  -c cal_consensus_mat.cpp -o cal_consensus_mat.o
/opt/ohpc/pub/compiler/gcc/14.2.0/bin/aarch64-unknown-linux-gnu-g++ -std=gnu++17 -I"/home/biocbuild/R/R-4.5.0/include" -DNDEBUG  -I'/home/biocbuild/R/R-4.5.0/site-library/Rcpp/include' -I/usr/local/include    -fPIC  -g -O2  -Wall -Werror=format-security  -c pdist.cpp -o pdist.o
/opt/ohpc/pub/compiler/gcc/14.2.0/bin/aarch64-unknown-linux-gnu-g++ -std=gnu++17 -shared -L/home/biocbuild/R/R-4.5.0/lib -L/usr/local/lib -o cola.so RcppExports.o atc.o cal_consensus_mat.o pdist.o -L/home/biocbuild/R/R-4.5.0/lib -lR
installing to /home/biocbuild/R/R-4.5.0/site-library/00LOCK-cola/00new/cola/libs
** R
** data
** inst
** byte-compile and prepare package for lazy loading
** help
*** installing help indices
** building package indices
** installing vignettes
** testing if installed package can be loaded from temporary location
** checking absolute paths in shared objects and dynamic libraries
** testing if installed package can be loaded from final location
** testing if installed package keeps a record of temporary installation path
* DONE (cola)

Tests output

cola.Rcheck/tests/test-all.Rout


R version 4.5.0 (2025-04-11) -- "How About a Twenty-Six"
Copyright (C) 2025 The R Foundation for Statistical Computing
Platform: aarch64-unknown-linux-gnu

R is free software and comes with ABSOLUTELY NO WARRANTY.
You are welcome to redistribute it under certain conditions.
Type 'license()' or 'licence()' for distribution details.

R is a collaborative project with many contributors.
Type 'contributors()' for more information and
'citation()' on how to cite R or R packages in publications.

Type 'demo()' for some demos, 'help()' for on-line help, or
'help.start()' for an HTML browser interface to help.
Type 'q()' to quit R.

> library(testthat)
> suppressWarnings(suppressPackageStartupMessages(library(cola)))
> 
> test_check("cola")
[ FAIL 0 | WARN 0 | SKIP 0 | PASS 18 ]
> 
> 
> proc.time()
   user  system elapsed 
  6.174   0.254   6.430 

Example timings

cola.Rcheck/cola-Ex.timings

nameusersystemelapsed
ATC0.1530.0040.157
ATC_approx000
ConsensusPartition-class0.0010.0000.000
ConsensusPartitionList-class000
DownSamplingConsensusPartition-class000
Extract.ConsensusPartitionList0.5570.0120.571
Extract.HierarchicalPartition0.2310.0040.235
ExtractExtract.ConsensusPartitionList0.1670.0000.167
ExtractExtract.HierarchicalPartition000
FCC0.1670.0040.172
HierarchicalPartition-class000
PAC0.4450.0120.459
aPAC0.1300.0040.135
adjust_matrix0.0050.0040.008
adjust_outlier0.0010.0000.000
all_leaves-HierarchicalPartition-method0.1100.0040.115
all_nodes-HierarchicalPartition-method0.1160.0040.121
all_partition_methods000
all_top_value_methods000
cola0.0810.0000.081
cola_opt0.030.000.03
cola_report-ConsensusPartition-method000
cola_report-ConsensusPartitionList-method0.0000.0000.001
cola_report-HierarchicalPartition-method000
cola_report-dispatch000
cola_rl0.0730.0040.078
collect_classes-ConsensusPartition-method2.5350.0792.623
collect_classes-ConsensusPartitionList-method4.3280.0044.345
collect_classes-HierarchicalPartition-method2.2770.0202.304
collect_classes-dispatch000
collect_plots-ConsensusPartition-method0.0010.0000.000
collect_plots-ConsensusPartitionList-method000
collect_plots-dispatch0.0010.0000.000
collect_stats-ConsensusPartition-method000
collect_stats-ConsensusPartitionList-method0.5280.0000.529
collect_stats-dispatch000
colnames-ConsensusPartition-method0.0000.0000.001
colnames-ConsensusPartitionList-method000
colnames-DownSamplingConsensusPartition-method0.0010.0000.000
colnames-HierarchicalPartition-method000
colnames-dispatch000
compare_partitions-ConsensusPartition-method000
compare_signatures-ConsensusPartition-method0.0010.0000.000
compare_signatures-HierarchicalPartition-method5.4810.1405.645
compare_signatures-dispatch0.0010.0000.000
concordance0.1270.0080.135
config_ATC0.0010.0000.001
consensus_heatmap-ConsensusPartition-method0.7160.0000.717
consensus_partition29.326 0.32329.740
consensus_partition_by_down_sampling0.0010.0000.001
correspond_between_rankings0.0790.0000.079
correspond_between_two_rankings0.0380.0000.037
david_enrichment000
dim.ConsensusPartition0.0010.0000.000
dim.ConsensusPartitionList000
dim.DownSamplingConsensusPartition000
dim.HierarchicalPartition0.0000.0000.001
dimension_reduction-ConsensusPartition-method0.8180.0110.832
dimension_reduction-DownSamplingConsensusPartition-method1.5030.0041.512
dimension_reduction-HierarchicalPartition-method0.7220.0000.725
dimension_reduction-dispatch000
dimension_reduction-matrix-method0.0010.0000.000
find_best_km000
functional_enrichment-ANY-method000
functional_enrichment-ConsensusPartition-method000
functional_enrichment-ConsensusPartitionList-method000
functional_enrichment-HierarchicalPartition-method0.0010.0000.000
functional_enrichment-dispatch000
get_anno-ConsensusPartition-method000
get_anno-ConsensusPartitionList-method000
get_anno-DownSamplingConsensusPartition-method0.0690.0000.069
get_anno-HierarchicalPartition-method000
get_anno-dispatch000
get_anno_col-ConsensusPartition-method000
get_anno_col-ConsensusPartitionList-method000
get_anno_col-HierarchicalPartition-method000
get_anno_col-dispatch000
get_children_nodes-HierarchicalPartition-method000
get_classes-ConsensusPartition-method0.1250.0050.130
get_classes-ConsensusPartitionList-method0.1340.0080.142
get_classes-DownSamplingConsensusPartition-method0.070.000.07
get_classes-HierarchicalPartition-method0.1250.0040.130
get_classes-dispatch000
get_consensus-ConsensusPartition-method0.1250.0120.137
get_matrix-ConsensusPartition-method0.2920.0920.385
get_matrix-ConsensusPartitionList-method0.3130.0800.393
get_matrix-DownSamplingConsensusPartition-method000
get_matrix-HierarchicalPartition-method000
get_matrix-dispatch0.0000.0000.001
get_membership-ConsensusPartition-method0.1260.0100.137
get_membership-ConsensusPartitionList-method0.1240.0050.130
get_membership-dispatch000
get_param-ConsensusPartition-method0.6820.0690.754
get_signatures-ConsensusPartition-method6.5080.0726.601
get_signatures-DownSamplingConsensusPartition-method000
get_signatures-HierarchicalPartition-method000
get_signatures-dispatch000
get_stats-ConsensusPartition-method0.1190.0080.127
get_stats-ConsensusPartitionList-method0.1280.0000.128
get_stats-dispatch000
golub_cola0.1580.0070.166
golub_cola_ds0.1200.0080.128
golub_cola_rh0.1750.0000.176
hierarchical_partition000
is_best_k-ConsensusPartition-method0.1270.0000.128
is_best_k-ConsensusPartitionList-method0.1330.0000.134
is_best_k-dispatch000
is_leaf_node-HierarchicalPartition-method0.1100.0000.111
is_stable_k-ConsensusPartition-method0.1340.0080.142
is_stable_k-ConsensusPartitionList-method0.1350.0000.136
is_stable_k-dispatch000
knee_finder20.0250.0040.029
knitr_add_tab_item000
knitr_insert_tabs000
map_to_entrez_id000
max_depth-HierarchicalPartition-method0.1090.0000.110
membership_heatmap-ConsensusPartition-method0.6080.0040.614
merge_node-HierarchicalPartition-method000
merge_node_param000
ncol-ConsensusPartition-method000
ncol-ConsensusPartitionList-method000
ncol-DownSamplingConsensusPartition-method000
ncol-HierarchicalPartition-method0.0010.0000.000
ncol-dispatch000
node_info-HierarchicalPartition-method000
node_level-HierarchicalPartition-method000
nrow-ConsensusPartition-method000
nrow-ConsensusPartitionList-method000
nrow-HierarchicalPartition-method000
nrow-dispatch0.0010.0000.000
plot_ecdf-ConsensusPartition-method0.1370.0000.137
predict_classes-ConsensusPartition-method000
predict_classes-dispatch000
predict_classes-matrix-method000
print.hc_table_suggest_best_k000
recalc_stats000
register_NMF000
register_SOM000
register_partition_methods0.5440.0000.545
register_top_value_methods0.0020.0000.002
relabel_class0.0110.0000.012
remove_partition_methods000
remove_top_value_methods0.0010.0000.000
rownames-ConsensusPartition-method000
rownames-ConsensusPartitionList-method0.0000.0000.001
rownames-HierarchicalPartition-method000
rownames-dispatch000
run_all_consensus_partition_methods0.0010.0000.000
select_partition_number-ConsensusPartition-method0.1430.0000.143
show-ConsensusPartition-method000
show-ConsensusPartitionList-method000
show-DownSamplingConsensusPartition-method0.0990.0040.103
show-HierarchicalPartition-method0.1680.0000.169
show-dispatch000
split_node-HierarchicalPartition-method000
suggest_best_k-ConsensusPartition-method0.1180.0080.127
suggest_best_k-ConsensusPartitionList-method0.1350.0040.140
suggest_best_k-HierarchicalPartition-method0.1190.0000.119
suggest_best_k-dispatch000
test_between_factors0.0110.0000.012
test_to_known_factors-ConsensusPartition-method0.1440.0080.152
test_to_known_factors-ConsensusPartitionList-method0.3190.0030.323
test_to_known_factors-DownSamplingConsensusPartition-method0.1030.0000.103
test_to_known_factors-HierarchicalPartition-method0.1510.0000.151
test_to_known_factors-dispatch000
top_elements_overlap0.2950.0040.299
top_rows_heatmap-ConsensusPartition-method000
top_rows_heatmap-ConsensusPartitionList-method000
top_rows_heatmap-HierarchicalPartition-method000
top_rows_heatmap-dispatch0.0000.0000.001
top_rows_heatmap-matrix-method4.1880.0404.246
top_rows_overlap-ConsensusPartitionList-method0.8930.0040.899
top_rows_overlap-HierarchicalPartition-method0.5860.0000.588
top_rows_overlap-dispatch000
top_rows_overlap-matrix-method0.1810.0000.182