Back to Multiple platform build/check report for BioC 3.22:   simplified   long
ABCDEFGHIJKL[M]NOPQRSTUVWXYZ

This page was generated on 2025-11-15 11:58 -0500 (Sat, 15 Nov 2025).

HostnameOSArch (*)R versionInstalled pkgs
nebbiolo2Linux (Ubuntu 24.04.3 LTS)x86_644.5.1 Patched (2025-08-23 r88802) -- "Great Square Root" 4903
taishanLinux (openEuler 24.03 LTS)aarch644.5.0 (2025-04-11) -- "How About a Twenty-Six" 4668
Click on any hostname to see more info about the system (e.g. compilers)      (*) as reported by 'uname -p', except on Windows and Mac OS X

Package 1195/2361HostnameOS / ArchINSTALLBUILDCHECKBUILD BIN
maSigPro 1.82.0  (landing page)
Maria Jose Nueda
Snapshot Date: 2025-11-14 13:45 -0500 (Fri, 14 Nov 2025)
git_url: https://git.bioconductor.org/packages/maSigPro
git_branch: RELEASE_3_22
git_last_commit: a7bf8e2
git_last_commit_date: 2025-10-29 09:57:06 -0500 (Wed, 29 Oct 2025)
nebbiolo2Linux (Ubuntu 24.04.3 LTS) / x86_64  OK    OK    OK  UNNEEDED, same version is already published
taishanLinux (openEuler 24.03 LTS) / aarch64  OK    OK    OK  


CHECK results for maSigPro on taishan

To the developers/maintainers of the maSigPro package:
- Allow up to 24 hours (and sometimes 48 hours) for your latest push to git@git.bioconductor.org:packages/maSigPro.git to reflect on this report. See Troubleshooting Build Report for more information.
- Use the following Renviron settings to reproduce errors and warnings.
- If 'R CMD check' started to fail recently on the Linux builder(s) over a missing dependency, add the missing dependency to 'Suggests:' in your DESCRIPTION file. See Renviron.bioc for more information.
- See Martin Grigorov's blog post for how to debug Linux ARM64 related issues on a x86_64 host.

raw results


Summary

Package: maSigPro
Version: 1.82.0
Command: /home/biocbuild/R/R/bin/R CMD check --install=check:maSigPro.install-out.txt --library=/home/biocbuild/R/R/site-library --no-vignettes --timings maSigPro_1.82.0.tar.gz
StartedAt: 2025-11-14 11:08:53 -0000 (Fri, 14 Nov 2025)
EndedAt: 2025-11-14 11:12:02 -0000 (Fri, 14 Nov 2025)
EllapsedTime: 189.3 seconds
RetCode: 0
Status:   OK  
CheckDir: maSigPro.Rcheck
Warnings: 0

Command output

##############################################################################
##############################################################################
###
### Running command:
###
###   /home/biocbuild/R/R/bin/R CMD check --install=check:maSigPro.install-out.txt --library=/home/biocbuild/R/R/site-library --no-vignettes --timings maSigPro_1.82.0.tar.gz
###
##############################################################################
##############################################################################


* using log directory ‘/home/biocbuild/bbs-3.22-bioc/meat/maSigPro.Rcheck’
* using R version 4.5.0 (2025-04-11)
* using platform: aarch64-unknown-linux-gnu
* R was compiled by
    aarch64-unknown-linux-gnu-gcc (GCC) 14.2.0
    GNU Fortran (GCC) 14.2.0
* running under: openEuler 24.03 (LTS)
* using session charset: UTF-8
* using option ‘--no-vignettes’
* checking for file ‘maSigPro/DESCRIPTION’ ... OK
* checking extension type ... Package
* this is package ‘maSigPro’ version ‘1.82.0’
* checking package namespace information ... OK
* checking package dependencies ... OK
* checking if this is a source package ... OK
* checking if there is a namespace ... OK
* checking for hidden files and directories ... OK
* checking for portable file names ... OK
* checking for sufficient/correct file permissions ... OK
* checking whether package ‘maSigPro’ can be installed ... OK
* checking installed package size ... OK
* checking package directory ... OK
* checking ‘build’ directory ... OK
* checking DESCRIPTION meta-information ... OK
* checking top-level files ... OK
* checking for left-over files ... OK
* checking index information ... OK
* checking package subdirectories ... OK
* checking code files for non-ASCII characters ... OK
* checking R files for syntax errors ... OK
* checking whether the package can be loaded ... OK
* checking whether the package can be loaded with stated dependencies ... OK
* checking whether the package can be unloaded cleanly ... OK
* checking whether the namespace can be loaded with stated dependencies ... OK
* checking whether the namespace can be unloaded cleanly ... OK
* checking loading without being on the library search path ... OK
* checking dependencies in R code ... OK
* checking S3 generic/method consistency ... OK
* checking replacement functions ... OK
* checking foreign function calls ... OK
* checking R code for possible problems ... OK
* checking Rd files ... OK
* checking Rd metadata ... OK
* checking Rd cross-references ... OK
* checking for missing documentation entries ... OK
* checking for code/documentation mismatches ... OK
* checking Rd \usage sections ... OK
* checking Rd contents ... OK
* checking for unstated dependencies in examples ... OK
* checking contents of ‘data’ directory ... OK
* checking data for non-ASCII characters ... OK
* checking data for ASCII and uncompressed saves ... OK
* checking installed files from ‘inst/doc’ ... OK
* checking files in ‘vignettes’ ... OK
* checking examples ... OK
Examples with CPU (user + system) or elapsed time > 5s
                user system elapsed
getDS         15.502  0.004  15.556
getDSPatterns 15.460  0.004  15.515
IsoModel      15.435  0.008  15.495
seeDS         15.338  0.004  15.390
ISOdesign     15.302  0.000  15.354
tableDS       15.279  0.004  15.326
ISOdata       15.226  0.055  15.331
IsoPlot       15.264  0.000  15.315
PodiumChange  15.149  0.004  15.196
T.fit          7.484  0.004   7.513
* checking for unstated dependencies in vignettes ... OK
* checking package vignettes ... OK
* checking running R code from vignettes ... SKIPPED
* checking re-building of vignette outputs ... SKIPPED
* checking PDF version of manual ... OK
* DONE

Status: OK


Installation output

maSigPro.Rcheck/00install.out

##############################################################################
##############################################################################
###
### Running command:
###
###   /home/biocbuild/R/R/bin/R CMD INSTALL maSigPro
###
##############################################################################
##############################################################################


* installing to library ‘/home/biocbuild/R/R-4.5.0/site-library’
* installing *source* package ‘maSigPro’ ...
** this is package ‘maSigPro’ version ‘1.82.0’
** using staged installation
** R
** data
** inst
** byte-compile and prepare package for lazy loading
** help
*** installing help indices
** building package indices
** installing vignettes
** testing if installed package can be loaded from temporary location
** testing if installed package can be loaded from final location
** testing if installed package keeps a record of temporary installation path
* DONE (maSigPro)

Tests output


Example timings

maSigPro.Rcheck/maSigPro-Ex.timings

nameusersystemelapsed
ISOdata15.226 0.05515.331
ISOdesign15.302 0.00015.354
IsoModel15.435 0.00815.495
IsoPlot15.264 0.00015.315
NBdata0.0000.0010.001
NBdesign0.0000.0010.001
PlotGroups0.0340.0000.034
PlotProfiles0.0040.0000.004
PodiumChange15.149 0.00415.196
T.fit7.4840.0047.513
average.rows0.0030.0000.003
data.abiotic0.0040.0000.004
edesign.abiotic0.0020.0000.001
edesignCT0.0010.0000.001
edesignDR0.0000.0000.001
get.siggenes3.4340.0003.445
getDS15.502 0.00415.556
getDSPatterns15.460 0.00415.515
i.rank000
maSigProUsersGuide0.0020.0020.005
make.design.matrix0.0060.0000.005
p.vector2.3160.0002.324
position000
reg.coeffs0.0000.0000.001
see.genes1.1760.0001.179
seeDS15.338 0.00415.390
stepback0.0270.0000.028
stepfor0.1280.0000.129
suma2Venn0.0210.0000.023
tableDS15.279 0.00415.326
two.ways.stepback0.0950.0000.095
two.ways.stepfor0.1360.0000.136