| Back to Multiple platform build/check report for BioC 3.22: simplified long |
|
This page was generated on 2025-10-24 12:07 -0400 (Fri, 24 Oct 2025).
| Hostname | OS | Arch (*) | R version | Installed pkgs |
|---|---|---|---|---|
| nebbiolo2 | Linux (Ubuntu 24.04.3 LTS) | x86_64 | 4.5.1 Patched (2025-08-23 r88802) -- "Great Square Root" | 4898 |
| lconway | macOS 12.7.6 Monterey | x86_64 | 4.5.1 Patched (2025-09-10 r88807) -- "Great Square Root" | 4688 |
| kjohnson3 | macOS 13.7.7 Ventura | arm64 | 4.5.1 Patched (2025-09-10 r88807) -- "Great Square Root" | 4634 |
| taishan | Linux (openEuler 24.03 LTS) | aarch64 | 4.5.0 (2025-04-11) -- "How About a Twenty-Six" | 4658 |
| Click on any hostname to see more info about the system (e.g. compilers) (*) as reported by 'uname -p', except on Windows and Mac OS X | ||||
| Package 281/2359 | Hostname | OS / Arch | INSTALL | BUILD | CHECK | BUILD BIN | ||||||||
| Cardinal 3.11.1 (landing page) Kylie Ariel Bemis
| nebbiolo2 | Linux (Ubuntu 24.04.3 LTS) / x86_64 | OK | OK | OK | |||||||||
| lconway | macOS 12.7.6 Monterey / x86_64 | OK | OK | OK | OK | |||||||||
| kjohnson3 | macOS 13.7.7 Ventura / arm64 | OK | OK | OK | OK | |||||||||
| taishan | Linux (openEuler 24.03 LTS) / aarch64 | OK | OK | OK | ||||||||||
|
To the developers/maintainers of the Cardinal package: - Allow up to 24 hours (and sometimes 48 hours) for your latest push to git@git.bioconductor.org:packages/Cardinal.git to reflect on this report. See Troubleshooting Build Report for more information. - Use the following Renviron settings to reproduce errors and warnings. - If 'R CMD check' started to fail recently on the Linux builder(s) over a missing dependency, add the missing dependency to 'Suggests:' in your DESCRIPTION file. See Renviron.bioc for more information. - See Martin Grigorov's blog post for how to debug Linux ARM64 related issues on a x86_64 host. |
| Package: Cardinal |
| Version: 3.11.1 |
| Command: /home/biocbuild/R/R/bin/R CMD check --install=check:Cardinal.install-out.txt --library=/home/biocbuild/R/R/site-library --no-vignettes --timings Cardinal_3.11.1.tar.gz |
| StartedAt: 2025-10-21 06:12:55 -0000 (Tue, 21 Oct 2025) |
| EndedAt: 2025-10-21 06:22:49 -0000 (Tue, 21 Oct 2025) |
| EllapsedTime: 594.5 seconds |
| RetCode: 0 |
| Status: OK |
| CheckDir: Cardinal.Rcheck |
| Warnings: 0 |
##############################################################################
##############################################################################
###
### Running command:
###
### /home/biocbuild/R/R/bin/R CMD check --install=check:Cardinal.install-out.txt --library=/home/biocbuild/R/R/site-library --no-vignettes --timings Cardinal_3.11.1.tar.gz
###
##############################################################################
##############################################################################
* using log directory ‘/home/biocbuild/bbs-3.22-bioc/meat/Cardinal.Rcheck’
* using R version 4.5.0 (2025-04-11)
* using platform: aarch64-unknown-linux-gnu
* R was compiled by
aarch64-unknown-linux-gnu-gcc (GCC) 14.2.0
GNU Fortran (GCC) 14.2.0
* running under: openEuler 24.03 (LTS)
* using session charset: UTF-8
* using option ‘--no-vignettes’
* checking for file ‘Cardinal/DESCRIPTION’ ... OK
* checking extension type ... Package
* this is package ‘Cardinal’ version ‘3.11.1’
* checking package namespace information ... OK
* checking package dependencies ... OK
* checking if this is a source package ... OK
* checking if there is a namespace ... OK
* checking for hidden files and directories ... OK
* checking for portable file names ... OK
* checking for sufficient/correct file permissions ... OK
* checking whether package ‘Cardinal’ can be installed ... OK
* checking installed package size ... OK
* checking package directory ... OK
* checking ‘build’ directory ... OK
* checking DESCRIPTION meta-information ... OK
* checking top-level files ... OK
* checking for left-over files ... OK
* checking index information ... OK
* checking package subdirectories ... OK
* checking code files for non-ASCII characters ... OK
* checking R files for syntax errors ... OK
* checking whether the package can be loaded ... OK
* checking whether the package can be loaded with stated dependencies ... OK
* checking whether the package can be unloaded cleanly ... OK
* checking whether the namespace can be loaded with stated dependencies ... OK
* checking whether the namespace can be unloaded cleanly ... OK
* checking loading without being on the library search path ... OK
* checking whether startup messages can be suppressed ... OK
* checking dependencies in R code ... OK
* checking S3 generic/method consistency ... OK
* checking replacement functions ... OK
* checking foreign function calls ... OK
* checking R code for possible problems ... OK
* checking Rd files ... OK
* checking Rd metadata ... OK
* checking Rd cross-references ... NOTE
Found the following Rd file(s) with Rd \link{} targets missing package
anchors:
Cardinal-package.Rd: bplapply, simple_logger
MSImagingArrays-class.Rd: ImzMeta-class, ProcessingStep-class
MSImagingExperiment-class.Rd: ImzMeta-class, ProcessingStep-class
MeansTest.Rd: lme, chunkApply, bplapply
ResultsList-class.Rd: SimpleList-class
SpatialCV.Rd: chunkApply, bplapply, cv_do
SpatialDGMM.Rd: chunkApply, bplapply
SpatialFastmap.Rd: chunkApply, bplapply
SpatialKMeans.Rd: chunkApply, bplapply
SpatialPCA.Rd: chunkApply, bplapply, irlba
SpatialPLS.Rd: chunkApply, bplapply
SpatialResults-class.Rd: DataFrame-class
SpatialShrunkenCentroids.Rd: chunkApply, bplapply
SpectraArrays-class.Rd: SimpleList-class
SpectralImagingArrays-class.Rd: ProcessingStep-class
SpectralImagingData-class.Rd: ProcessingStep-class
SpectralImagingExperiment-class.Rd: DataFrame-class,
ProcessingStep-class
XDataFrame-class.Rd: DataFrame-class, DataFrame
colocalized.Rd: chunkApply, bplapply
estimateDomain.Rd: chunkApply, bplapply, chunkLapply
findNeighbors.Rd: sparse_mat-class
normalize.Rd: rescale_sum, rescale_rms, rescale_ref
peakAlign.Rd: chunkApply, bplapply
peakPick.Rd: estnoise_diff, estnoise_sd, estnoise_mad,
estnoise_quant, estnoise_filt, findpeaks_cwt
peakProcess.Rd: chunkApply, bplapply
plot-image.Rd: enhance, filt2, plot_image
plot-spectra.Rd: downsample, plot_signal
process.Rd: chunkApply, bplapply
readMSIData.Rd: matter, chunkApply, bplapply
recalibrate.Rd: warp1_loc, warp1_dtw, warp1_cow
reduceBaseline.Rd: estbase_loc, estbase_hull, estbase_snip,
estbase_med
simulateSpectra.Rd: chunkApply, bplapply
smooth.Rd: filt1_gauss, filt1_bi, filt1_adapt, filt1_diff,
filt1_guide, filt1_pag, filt1_sg, filt1_ma
spatialDists.Rd: chunkApply, bplapply
spatialWeights.Rd: chunkApply, bplapply, sparse_mat-class
spectrapply.Rd: chunkApply, bplapply
summarize.Rd: chunkApply, bplapply
writeMSIData.Rd: chunkApply, bplapply
Please provide package anchors for all Rd \link{} targets not in the
package itself and the base packages.
* checking for missing documentation entries ... OK
* checking for code/documentation mismatches ... OK
* checking Rd \usage sections ... OK
* checking Rd contents ... OK
* checking for unstated dependencies in examples ... OK
* checking files in ‘vignettes’ ... OK
* checking examples ... OK
Examples with CPU (user + system) or elapsed time > 5s
user system elapsed
MeansTest 21.377 0.271 21.716
plot-image 8.107 0.024 8.155
* checking for unstated dependencies in ‘tests’ ... OK
* checking tests ...
Running ‘testthat.R’
OK
* checking for unstated dependencies in vignettes ... OK
* checking package vignettes ... OK
* checking running R code from vignettes ... SKIPPED
* checking re-building of vignette outputs ... SKIPPED
* checking PDF version of manual ... OK
* DONE
Status: 1 NOTE
See
‘/home/biocbuild/bbs-3.22-bioc/meat/Cardinal.Rcheck/00check.log’
for details.
Cardinal.Rcheck/00install.out
############################################################################## ############################################################################## ### ### Running command: ### ### /home/biocbuild/R/R/bin/R CMD INSTALL Cardinal ### ############################################################################## ############################################################################## * installing to library ‘/home/biocbuild/R/R-4.5.0/site-library’ * installing *source* package ‘Cardinal’ ... ** this is package ‘Cardinal’ version ‘3.11.1’ ** using staged installation ** R ** inst ** byte-compile and prepare package for lazy loading ** help *** installing help indices ** building package indices ** installing vignettes ** testing if installed package can be loaded from temporary location ** testing if installed package can be loaded from final location ** testing if installed package keeps a record of temporary installation path * DONE (Cardinal)
Cardinal.Rcheck/tests/testthat.Rout
R version 4.5.0 (2025-04-11) -- "How About a Twenty-Six"
Copyright (C) 2025 The R Foundation for Statistical Computing
Platform: aarch64-unknown-linux-gnu
R is free software and comes with ABSOLUTELY NO WARRANTY.
You are welcome to redistribute it under certain conditions.
Type 'license()' or 'licence()' for distribution details.
R is a collaborative project with many contributors.
Type 'contributors()' for more information and
'citation()' on how to cite R or R packages in publications.
Type 'demo()' for some demos, 'help()' for on-line help, or
'help.start()' for an HTML browser interface to help.
Type 'q()' to quit R.
> library(testthat)
> library(Cardinal)
Loading required package: BiocParallel
Loading required package: BiocGenerics
Loading required package: generics
Attaching package: 'generics'
The following objects are masked from 'package:base':
as.difftime, as.factor, as.ordered, intersect, is.element, setdiff,
setequal, union
Attaching package: 'BiocGenerics'
The following objects are masked from 'package:stats':
IQR, mad, sd, var, xtabs
The following objects are masked from 'package:base':
Filter, Find, Map, Position, Reduce, anyDuplicated, aperm, append,
as.data.frame, basename, cbind, colnames, dirname, do.call,
duplicated, eval, evalq, get, grep, grepl, is.unsorted, lapply,
mapply, match, mget, order, paste, pmax, pmax.int, pmin, pmin.int,
rank, rbind, rownames, sapply, saveRDS, table, tapply, unique,
unsplit, which.max, which.min
Loading required package: ProtGenerics
Attaching package: 'ProtGenerics'
The following object is masked from 'package:stats':
smooth
Loading required package: S4Vectors
Loading required package: stats4
Attaching package: 'S4Vectors'
The following object is masked from 'package:utils':
findMatches
The following objects are masked from 'package:base':
I, expand.grid, unname
>
> test_check("Cardinal")
[ FAIL 0 | WARN 198 | SKIP 0 | PASS 782 ]
[ FAIL 0 | WARN 198 | SKIP 0 | PASS 782 ]
>
> proc.time()
user system elapsed
342.118 4.943 346.210
Cardinal.Rcheck/Cardinal-Ex.timings
| name | user | system | elapsed | |
| MSImagingArrays-class | 0.243 | 0.001 | 0.244 | |
| MSImagingExperiment-class | 0.180 | 0.000 | 0.181 | |
| MassDataFrame-class | 0.036 | 0.003 | 0.040 | |
| MeansTest | 21.377 | 0.271 | 21.716 | |
| PositionDataFrame-class | 0.074 | 0.000 | 0.074 | |
| SpatialDGMM | 4.656 | 0.024 | 4.695 | |
| SpatialFastmap | 3.629 | 0.028 | 3.668 | |
| SpatialKMeans | 3.719 | 0.024 | 3.755 | |
| SpatialNMF | 3.569 | 0.060 | 3.640 | |
| SpatialPCA | 3.313 | 0.024 | 3.347 | |
| SpatialPLS | 3.415 | 0.004 | 3.431 | |
| SpatialShrunkenCentroids | 4.651 | 0.024 | 4.690 | |
| SpectraArrays-class | 0.011 | 0.000 | 0.012 | |
| SpectralImagingArrays-class | 0.090 | 0.008 | 0.099 | |
| SpectralImagingExperiment-class | 0.092 | 0.004 | 0.100 | |
| XDataFrame-class | 0.024 | 0.000 | 0.024 | |
| bin | 0.837 | 0.012 | 0.851 | |
| colocalized | 3.819 | 0.032 | 3.862 | |
| features | 3.144 | 0.047 | 3.200 | |
| findNeighbors | 0.074 | 0.012 | 0.086 | |
| normalize | 0.746 | 0.008 | 0.756 | |
| peakAlign | 1.041 | 0.000 | 1.044 | |
| peakPick | 1.129 | 0.000 | 1.132 | |
| peakProcess | 1.048 | 0.000 | 1.051 | |
| pixels | 3.174 | 0.016 | 3.200 | |
| plot-image | 8.107 | 0.024 | 8.155 | |
| plot-spectra | 1.041 | 0.004 | 1.048 | |
| process | 1.037 | 0.028 | 1.068 | |
| recalibrate | 1.101 | 0.000 | 1.105 | |
| reduceBaseline | 0.951 | 0.000 | 0.954 | |
| simulateSpectra | 3.461 | 0.016 | 3.487 | |
| sliceImage | 3.248 | 0.003 | 3.261 | |
| smooth | 1.013 | 0.040 | 1.056 | |
| spatialDists | 3.471 | 0.008 | 3.489 | |
| spatialWeights | 3.472 | 0.004 | 3.486 | |
| spectrapply | 3.302 | 0.031 | 3.345 | |
| subset | 3.517 | 0.004 | 3.533 | |
| summarize | 3.354 | 0.000 | 3.364 | |