| Back to Multiple platform build/check report for BioC 3.22: simplified long |
|
This page was generated on 2025-10-21 12:07 -0400 (Tue, 21 Oct 2025).
| Hostname | OS | Arch (*) | R version | Installed pkgs |
|---|---|---|---|---|
| nebbiolo2 | Linux (Ubuntu 24.04.3 LTS) | x86_64 | 4.5.1 Patched (2025-08-23 r88802) -- "Great Square Root" | 4887 |
| lconway | macOS 12.7.6 Monterey | x86_64 | 4.5.1 Patched (2025-09-10 r88807) -- "Great Square Root" | 4677 |
| kjohnson3 | macOS 13.7.7 Ventura | arm64 | 4.5.1 Patched (2025-09-10 r88807) -- "Great Square Root" | 4622 |
| taishan | Linux (openEuler 24.03 LTS) | aarch64 | 4.5.0 (2025-04-11) -- "How About a Twenty-Six" | 4642 |
| Click on any hostname to see more info about the system (e.g. compilers) (*) as reported by 'uname -p', except on Windows and Mac OS X | ||||
| Package 1979/2353 | Hostname | OS / Arch | INSTALL | BUILD | CHECK | BUILD BIN | ||||||||
| seqsetvis 1.29.1 (landing page) Joseph R Boyd
| nebbiolo2 | Linux (Ubuntu 24.04.3 LTS) / x86_64 | OK | OK | OK | |||||||||
| lconway | macOS 12.7.6 Monterey / x86_64 | OK | OK | OK | OK | |||||||||
| kjohnson3 | macOS 13.7.7 Ventura / arm64 | OK | OK | OK | OK | |||||||||
| taishan | Linux (openEuler 24.03 LTS) / aarch64 | OK | OK | OK | ||||||||||
|
To the developers/maintainers of the seqsetvis package: - Allow up to 24 hours (and sometimes 48 hours) for your latest push to git@git.bioconductor.org:packages/seqsetvis.git to reflect on this report. See Troubleshooting Build Report for more information. - Use the following Renviron settings to reproduce errors and warnings. - If 'R CMD check' started to fail recently on the Linux builder(s) over a missing dependency, add the missing dependency to 'Suggests:' in your DESCRIPTION file. See Renviron.bioc for more information. - See Martin Grigorov's blog post for how to debug Linux ARM64 related issues on a x86_64 host. |
| Package: seqsetvis |
| Version: 1.29.1 |
| Command: /home/biocbuild/R/R/bin/R CMD check --install=check:seqsetvis.install-out.txt --library=/home/biocbuild/R/R/site-library --no-vignettes --timings seqsetvis_1.29.1.tar.gz |
| StartedAt: 2025-10-17 13:35:55 -0000 (Fri, 17 Oct 2025) |
| EndedAt: 2025-10-17 13:50:25 -0000 (Fri, 17 Oct 2025) |
| EllapsedTime: 870.4 seconds |
| RetCode: 0 |
| Status: OK |
| CheckDir: seqsetvis.Rcheck |
| Warnings: 0 |
##############################################################################
##############################################################################
###
### Running command:
###
### /home/biocbuild/R/R/bin/R CMD check --install=check:seqsetvis.install-out.txt --library=/home/biocbuild/R/R/site-library --no-vignettes --timings seqsetvis_1.29.1.tar.gz
###
##############################################################################
##############################################################################
* using log directory ‘/home/biocbuild/bbs-3.22-bioc/meat/seqsetvis.Rcheck’
* using R version 4.5.0 (2025-04-11)
* using platform: aarch64-unknown-linux-gnu
* R was compiled by
aarch64-unknown-linux-gnu-gcc (GCC) 14.2.0
GNU Fortran (GCC) 14.2.0
* running under: openEuler 24.03 (LTS)
* using session charset: UTF-8
* using option ‘--no-vignettes’
* checking for file ‘seqsetvis/DESCRIPTION’ ... OK
* checking extension type ... Package
* this is package ‘seqsetvis’ version ‘1.29.1’
* package encoding: UTF-8
* checking package namespace information ... OK
* checking package dependencies ... OK
* checking if this is a source package ... OK
* checking if there is a namespace ... OK
* checking for hidden files and directories ... OK
* checking for portable file names ... OK
* checking for sufficient/correct file permissions ... OK
* checking whether package ‘seqsetvis’ can be installed ... OK
* checking installed package size ... OK
* checking package directory ... OK
* checking ‘build’ directory ... OK
* checking DESCRIPTION meta-information ... OK
* checking top-level files ... OK
* checking for left-over files ... OK
* checking index information ... OK
* checking package subdirectories ... OK
* checking code files for non-ASCII characters ... OK
* checking R files for syntax errors ... OK
* checking whether the package can be loaded ... OK
* checking whether the package can be loaded with stated dependencies ... OK
* checking whether the package can be unloaded cleanly ... OK
* checking whether the namespace can be loaded with stated dependencies ... OK
* checking whether the namespace can be unloaded cleanly ... OK
* checking loading without being on the library search path ... OK
* checking dependencies in R code ... OK
* checking S3 generic/method consistency ... OK
* checking replacement functions ... OK
* checking foreign function calls ... OK
* checking R code for possible problems ... OK
* checking Rd files ... OK
* checking Rd metadata ... OK
* checking Rd cross-references ... OK
* checking for missing documentation entries ... OK
* checking for code/documentation mismatches ... OK
* checking Rd \usage sections ... OK
* checking Rd contents ... OK
* checking for unstated dependencies in examples ... OK
* checking contents of ‘data’ directory ... OK
* checking data for non-ASCII characters ... OK
* checking data for ASCII and uncompressed saves ... OK
* checking files in ‘vignettes’ ... OK
* checking examples ... OK
Examples with CPU (user + system) or elapsed time > 5s
user system elapsed
ssvFetchBam 9.027 0.027 9.276
ssvFeatureBinaryHeatmap 7.524 0.163 7.953
ssvSignalHeatmap 7.262 0.036 7.347
ssvSignalHeatmap.ClusterBars 6.334 0.012 6.465
ssvSignalBandedQuantiles 6.135 0.022 6.200
merge_clusters 6.132 0.011 6.334
ssvSignalClustering 5.799 0.115 5.933
ssvFeatureUpset 5.039 0.000 5.167
add_cluster_annotation 4.786 0.144 5.021
reorder_clusters_stepdown 4.441 0.088 5.068
* checking for unstated dependencies in ‘tests’ ... OK
* checking tests ...
Running ‘testthat.R’
OK
* checking for unstated dependencies in vignettes ... OK
* checking package vignettes ... OK
* checking running R code from vignettes ... SKIPPED
* checking re-building of vignette outputs ... SKIPPED
* checking PDF version of manual ... OK
* DONE
Status: OK
seqsetvis.Rcheck/00install.out
############################################################################## ############################################################################## ### ### Running command: ### ### /home/biocbuild/R/R/bin/R CMD INSTALL seqsetvis ### ############################################################################## ############################################################################## * installing to library ‘/home/biocbuild/R/R-4.5.0/site-library’ * installing *source* package ‘seqsetvis’ ... ** this is package ‘seqsetvis’ version ‘1.29.1’ ** using staged installation ** R ** data ** inst ** byte-compile and prepare package for lazy loading ** help *** installing help indices ** building package indices ** installing vignettes ** testing if installed package can be loaded from temporary location ** testing if installed package can be loaded from final location ** testing if installed package keeps a record of temporary installation path * DONE (seqsetvis)
seqsetvis.Rcheck/tests/testthat.Rout
R version 4.5.0 (2025-04-11) -- "How About a Twenty-Six" Copyright (C) 2025 The R Foundation for Statistical Computing Platform: aarch64-unknown-linux-gnu R is free software and comes with ABSOLUTELY NO WARRANTY. You are welcome to redistribute it under certain conditions. Type 'license()' or 'licence()' for distribution details. R is a collaborative project with many contributors. Type 'contributors()' for more information and 'citation()' on how to cite R or R packages in publications. Type 'demo()' for some demos, 'help()' for on-line help, or 'help.start()' for an HTML browser interface to help. Type 'q()' to quit R. > > ## load dependencies > library(testthat) > library(seqsetvis) Loading required package: ggplot2 > library(data.table) > > ## test package > test_check(package = "seqsetvis") [ FAIL 0 | WARN 3 | SKIP 0 | PASS 1291 ] [ FAIL 0 | WARN 3 | SKIP 0 | PASS 1291 ] > > proc.time() user system elapsed 390.799 2.139 404.633
seqsetvis.Rcheck/seqsetvis-Ex.timings
| name | user | system | elapsed | |
| add_cluster_annotation | 4.786 | 0.144 | 5.021 | |
| append_ynorm | 0.079 | 0.007 | 0.087 | |
| applyMovingAverage | 1.358 | 0.001 | 1.500 | |
| applySpline | 0.649 | 0.000 | 0.651 | |
| assemble_heatmap_cluster_bars | 1.416 | 0.035 | 1.458 | |
| calc_norm_factors | 0.036 | 0.000 | 0.036 | |
| centerAtMax | 0.381 | 0.012 | 0.395 | |
| centerFixedSizeGRanges | 0.204 | 0.004 | 0.210 | |
| centerGRangesAtMax | 0.773 | 0.004 | 0.778 | |
| clusteringKmeans | 0.058 | 0.000 | 0.058 | |
| clusteringKmeansNestedHclust | 0.044 | 0.004 | 0.048 | |
| col2hex | 0.001 | 0.000 | 0.001 | |
| collapse_gr | 0.987 | 0.004 | 1.000 | |
| convert_collapsed_coord | 0.365 | 0.000 | 0.366 | |
| copy_clust_info | 2.661 | 0.024 | 2.694 | |
| crossCorrByRle | 0.604 | 0.012 | 0.725 | |
| easyLoad_FUN | 0.076 | 0.004 | 0.143 | |
| easyLoad_IDRmerged | 0.066 | 0.000 | 0.135 | |
| easyLoad_bed | 0.187 | 0.000 | 0.376 | |
| easyLoad_broadPeak | 0.055 | 0.000 | 0.106 | |
| easyLoad_narrowPeak | 0.055 | 0.000 | 0.106 | |
| easyLoad_seacr | 0.063 | 0.000 | 0.134 | |
| expandCigar | 0.235 | 0.000 | 0.420 | |
| findMaxPos | 0.040 | 0.004 | 0.044 | |
| fragLen_calcStranded | 2.710 | 0.012 | 2.909 | |
| fragLen_fromMacs2Xls | 0.002 | 0.000 | 0.008 | |
| getReadLength | 0.076 | 0.000 | 0.144 | |
| get_mapped_reads | 0.011 | 0.000 | 0.011 | |
| ggellipse | 1.257 | 0.000 | 1.263 | |
| harmonize_seqlengths | 0.157 | 0.004 | 0.161 | |
| make_clustering_matrix | 0.121 | 0.000 | 0.122 | |
| merge_clusters | 6.132 | 0.011 | 6.334 | |
| prepare_fetch_GRanges | 0.043 | 0.000 | 0.051 | |
| prepare_fetch_GRanges_names | 0.121 | 0.004 | 0.198 | |
| prepare_fetch_GRanges_width | 0.044 | 0.000 | 0.061 | |
| quantileGRangesWidth | 0.003 | 0.000 | 0.004 | |
| reorder_clusters_hclust | 3.703 | 0.016 | 3.736 | |
| reorder_clusters_manual | 1.979 | 0.012 | 1.997 | |
| reorder_clusters_stepdown | 4.441 | 0.088 | 5.068 | |
| reverse_clusters | 3.835 | 0.028 | 3.943 | |
| safeBrew | 0.027 | 0.004 | 0.030 | |
| split_cluster | 3.302 | 0.024 | 3.476 | |
| ssvAnnotateSubjectGRanges | 1.371 | 0.030 | 1.474 | |
| ssvConsensusIntervalSets | 0.456 | 0.016 | 0.673 | |
| ssvFactorizeMembTable | 0.019 | 0.000 | 0.019 | |
| ssvFeatureBars | 1.273 | 0.024 | 1.357 | |
| ssvFeatureBinaryHeatmap | 7.524 | 0.163 | 7.953 | |
| ssvFeatureEuler | 1.214 | 0.004 | 1.222 | |
| ssvFeaturePie | 0.945 | 0.000 | 0.947 | |
| ssvFeatureUpset | 5.039 | 0.000 | 5.167 | |
| ssvFeatureVenn | 2.241 | 0.016 | 2.371 | |
| ssvFetchBam | 9.027 | 0.027 | 9.276 | |
| ssvFetchBamPE | 2.735 | 0.008 | 2.904 | |
| ssvFetchBamPE.RNA | 2.168 | 0.012 | 2.234 | |
| ssvFetchBigwig | 2.036 | 0.000 | 2.087 | |
| ssvFetchGRanges | 1.149 | 0.000 | 1.162 | |
| ssvFetchSignal | 2.257 | 0.075 | 2.340 | |
| ssvMakeMembTable-methods | 0.785 | 0.004 | 0.816 | |
| ssvOverlapIntervalSets | 0.384 | 0.000 | 0.385 | |
| ssvSignalBandedQuantiles | 6.135 | 0.022 | 6.200 | |
| ssvSignalClustering | 5.799 | 0.115 | 5.933 | |
| ssvSignalHeatmap.ClusterBars | 6.334 | 0.012 | 6.465 | |
| ssvSignalHeatmap | 7.262 | 0.036 | 7.347 | |
| ssvSignalLineplot | 4.241 | 0.016 | 4.414 | |
| ssvSignalLineplotAgg | 1.477 | 0.015 | 1.512 | |
| ssvSignalScatterplot | 1.636 | 0.004 | 2.057 | |
| viewGRangesWinSample_dt | 1.865 | 0.000 | 1.986 | |
| viewGRangesWinSummary_dt | 1.739 | 0.000 | 1.746 | |
| within_clust_sort | 2.846 | 0.020 | 2.918 | |