| Back to Multiple platform build/check report for BioC 3.22: simplified long |
|
This page was generated on 2025-10-24 12:04 -0400 (Fri, 24 Oct 2025).
| Hostname | OS | Arch (*) | R version | Installed pkgs |
|---|---|---|---|---|
| nebbiolo2 | Linux (Ubuntu 24.04.3 LTS) | x86_64 | 4.5.1 Patched (2025-08-23 r88802) -- "Great Square Root" | 4898 |
| lconway | macOS 12.7.6 Monterey | x86_64 | 4.5.1 Patched (2025-09-10 r88807) -- "Great Square Root" | 4688 |
| kjohnson3 | macOS 13.7.7 Ventura | arm64 | 4.5.1 Patched (2025-09-10 r88807) -- "Great Square Root" | 4634 |
| taishan | Linux (openEuler 24.03 LTS) | aarch64 | 4.5.0 (2025-04-11) -- "How About a Twenty-Six" | 4658 |
| Click on any hostname to see more info about the system (e.g. compilers) (*) as reported by 'uname -p', except on Windows and Mac OS X | ||||
| Package 1985/2359 | Hostname | OS / Arch | INSTALL | BUILD | CHECK | BUILD BIN | ||||||||
| seqsetvis 1.29.1 (landing page) Joseph R Boyd
| nebbiolo2 | Linux (Ubuntu 24.04.3 LTS) / x86_64 | OK | OK | OK | |||||||||
| lconway | macOS 12.7.6 Monterey / x86_64 | OK | OK | OK | OK | |||||||||
| kjohnson3 | macOS 13.7.7 Ventura / arm64 | OK | OK | OK | OK | |||||||||
| taishan | Linux (openEuler 24.03 LTS) / aarch64 | OK | OK | NA | ||||||||||
|
To the developers/maintainers of the seqsetvis package: - Allow up to 24 hours (and sometimes 48 hours) for your latest push to git@git.bioconductor.org:packages/seqsetvis.git to reflect on this report. See Troubleshooting Build Report for more information. - Use the following Renviron settings to reproduce errors and warnings. - If 'R CMD check' started to fail recently on the Linux builder(s) over a missing dependency, add the missing dependency to 'Suggests:' in your DESCRIPTION file. See Renviron.bioc for more information. |
| Package: seqsetvis |
| Version: 1.29.1 |
| Command: /home/biocbuild/bbs-3.22-bioc/R/bin/R CMD check --install=check:seqsetvis.install-out.txt --library=/home/biocbuild/bbs-3.22-bioc/R/site-library --timings seqsetvis_1.29.1.tar.gz |
| StartedAt: 2025-10-24 03:54:26 -0400 (Fri, 24 Oct 2025) |
| EndedAt: 2025-10-24 04:05:00 -0400 (Fri, 24 Oct 2025) |
| EllapsedTime: 633.6 seconds |
| RetCode: 0 |
| Status: OK |
| CheckDir: seqsetvis.Rcheck |
| Warnings: 0 |
##############################################################################
##############################################################################
###
### Running command:
###
### /home/biocbuild/bbs-3.22-bioc/R/bin/R CMD check --install=check:seqsetvis.install-out.txt --library=/home/biocbuild/bbs-3.22-bioc/R/site-library --timings seqsetvis_1.29.1.tar.gz
###
##############################################################################
##############################################################################
* using log directory ‘/home/biocbuild/bbs-3.22-bioc/meat/seqsetvis.Rcheck’
* using R version 4.5.1 Patched (2025-08-23 r88802)
* using platform: x86_64-pc-linux-gnu
* R was compiled by
gcc (Ubuntu 13.3.0-6ubuntu2~24.04) 13.3.0
GNU Fortran (Ubuntu 13.3.0-6ubuntu2~24.04) 13.3.0
* running under: Ubuntu 24.04.3 LTS
* using session charset: UTF-8
* checking for file ‘seqsetvis/DESCRIPTION’ ... OK
* checking extension type ... Package
* this is package ‘seqsetvis’ version ‘1.29.1’
* package encoding: UTF-8
* checking package namespace information ... OK
* checking package dependencies ... OK
* checking if this is a source package ... OK
* checking if there is a namespace ... OK
* checking for hidden files and directories ... OK
* checking for portable file names ... OK
* checking for sufficient/correct file permissions ... OK
* checking whether package ‘seqsetvis’ can be installed ... OK
* checking installed package size ... OK
* checking package directory ... OK
* checking ‘build’ directory ... OK
* checking DESCRIPTION meta-information ... OK
* checking top-level files ... OK
* checking for left-over files ... OK
* checking index information ... OK
* checking package subdirectories ... OK
* checking code files for non-ASCII characters ... OK
* checking R files for syntax errors ... OK
* checking whether the package can be loaded ... OK
* checking whether the package can be loaded with stated dependencies ... OK
* checking whether the package can be unloaded cleanly ... OK
* checking whether the namespace can be loaded with stated dependencies ... OK
* checking whether the namespace can be unloaded cleanly ... OK
* checking loading without being on the library search path ... OK
* checking dependencies in R code ... OK
* checking S3 generic/method consistency ... OK
* checking replacement functions ... OK
* checking foreign function calls ... OK
* checking R code for possible problems ... OK
* checking Rd files ... OK
* checking Rd metadata ... OK
* checking Rd cross-references ... OK
* checking for missing documentation entries ... OK
* checking for code/documentation mismatches ... OK
* checking Rd \usage sections ... OK
* checking Rd contents ... OK
* checking for unstated dependencies in examples ... OK
* checking contents of ‘data’ directory ... OK
* checking data for non-ASCII characters ... OK
* checking data for ASCII and uncompressed saves ... OK
* checking files in ‘vignettes’ ... OK
* checking examples ... OK
Examples with CPU (user + system) or elapsed time > 5s
user system elapsed
ssvFeatureBinaryHeatmap 6.683 0.221 6.904
ssvFetchBam 5.905 0.001 5.861
* checking for unstated dependencies in ‘tests’ ... OK
* checking tests ...
Running ‘testthat.R’
OK
* checking for unstated dependencies in vignettes ... OK
* checking package vignettes ... OK
* checking re-building of vignette outputs ... OK
* checking PDF version of manual ... OK
* DONE
Status: OK
seqsetvis.Rcheck/00install.out
############################################################################## ############################################################################## ### ### Running command: ### ### /home/biocbuild/bbs-3.22-bioc/R/bin/R CMD INSTALL seqsetvis ### ############################################################################## ############################################################################## * installing to library ‘/home/biocbuild/bbs-3.22-bioc/R/site-library’ * installing *source* package ‘seqsetvis’ ... ** this is package ‘seqsetvis’ version ‘1.29.1’ ** using staged installation ** R ** data ** inst ** byte-compile and prepare package for lazy loading ** help *** installing help indices ** building package indices ** installing vignettes ** testing if installed package can be loaded from temporary location ** testing if installed package can be loaded from final location ** testing if installed package keeps a record of temporary installation path * DONE (seqsetvis)
seqsetvis.Rcheck/tests/testthat.Rout
R version 4.5.1 Patched (2025-08-23 r88802) -- "Great Square Root" Copyright (C) 2025 The R Foundation for Statistical Computing Platform: x86_64-pc-linux-gnu R is free software and comes with ABSOLUTELY NO WARRANTY. You are welcome to redistribute it under certain conditions. Type 'license()' or 'licence()' for distribution details. R is a collaborative project with many contributors. Type 'contributors()' for more information and 'citation()' on how to cite R or R packages in publications. Type 'demo()' for some demos, 'help()' for on-line help, or 'help.start()' for an HTML browser interface to help. Type 'q()' to quit R. > > ## load dependencies > library(testthat) > library(seqsetvis) Loading required package: ggplot2 > library(data.table) > > ## test package > test_check(package = "seqsetvis") [ FAIL 0 | WARN 3 | SKIP 0 | PASS 1291 ] [ FAIL 0 | WARN 3 | SKIP 0 | PASS 1291 ] > > proc.time() user system elapsed 261.517 1.645 258.524
seqsetvis.Rcheck/seqsetvis-Ex.timings
| name | user | system | elapsed | |
| add_cluster_annotation | 3.855 | 0.204 | 4.022 | |
| append_ynorm | 0.070 | 0.002 | 0.043 | |
| applyMovingAverage | 0.927 | 0.015 | 0.934 | |
| applySpline | 0.459 | 0.008 | 0.434 | |
| assemble_heatmap_cluster_bars | 0.926 | 0.020 | 0.912 | |
| calc_norm_factors | 0.034 | 0.001 | 0.024 | |
| centerAtMax | 0.299 | 0.004 | 0.243 | |
| centerFixedSizeGRanges | 0.133 | 0.004 | 0.137 | |
| centerGRangesAtMax | 0.554 | 0.025 | 0.515 | |
| clusteringKmeans | 0.036 | 0.005 | 0.026 | |
| clusteringKmeansNestedHclust | 0.049 | 0.003 | 0.032 | |
| col2hex | 0.001 | 0.001 | 0.001 | |
| collapse_gr | 0.681 | 0.021 | 0.701 | |
| convert_collapsed_coord | 0.234 | 0.038 | 0.272 | |
| copy_clust_info | 1.738 | 0.012 | 1.668 | |
| crossCorrByRle | 0.404 | 0.004 | 0.409 | |
| easyLoad_FUN | 0.050 | 0.001 | 0.051 | |
| easyLoad_IDRmerged | 0.039 | 0.000 | 0.040 | |
| easyLoad_bed | 0.112 | 0.000 | 0.112 | |
| easyLoad_broadPeak | 0.033 | 0.000 | 0.033 | |
| easyLoad_narrowPeak | 0.035 | 0.000 | 0.035 | |
| easyLoad_seacr | 0.039 | 0.000 | 0.039 | |
| expandCigar | 0.159 | 0.005 | 0.146 | |
| findMaxPos | 0.038 | 0.001 | 0.032 | |
| fragLen_calcStranded | 1.589 | 0.004 | 1.583 | |
| fragLen_fromMacs2Xls | 0.001 | 0.001 | 0.002 | |
| getReadLength | 0.05 | 0.00 | 0.05 | |
| get_mapped_reads | 0.007 | 0.001 | 0.008 | |
| ggellipse | 0.833 | 0.001 | 0.834 | |
| harmonize_seqlengths | 0.101 | 0.000 | 0.100 | |
| make_clustering_matrix | 0.090 | 0.000 | 0.069 | |
| merge_clusters | 4.231 | 0.033 | 4.078 | |
| prepare_fetch_GRanges | 0.030 | 0.002 | 0.032 | |
| prepare_fetch_GRanges_names | 0.078 | 0.001 | 0.079 | |
| prepare_fetch_GRanges_width | 0.029 | 0.000 | 0.029 | |
| quantileGRangesWidth | 0.003 | 0.000 | 0.002 | |
| reorder_clusters_hclust | 2.422 | 0.032 | 2.365 | |
| reorder_clusters_manual | 1.276 | 0.029 | 1.264 | |
| reorder_clusters_stepdown | 3.123 | 0.152 | 3.231 | |
| reverse_clusters | 2.488 | 0.004 | 2.400 | |
| safeBrew | 0.021 | 0.000 | 0.021 | |
| split_cluster | 2.128 | 0.025 | 2.068 | |
| ssvAnnotateSubjectGRanges | 0.936 | 0.017 | 0.953 | |
| ssvConsensusIntervalSets | 0.278 | 0.004 | 0.282 | |
| ssvFactorizeMembTable | 0.012 | 0.000 | 0.013 | |
| ssvFeatureBars | 0.861 | 0.011 | 0.873 | |
| ssvFeatureBinaryHeatmap | 6.683 | 0.221 | 6.904 | |
| ssvFeatureEuler | 0.831 | 0.004 | 0.834 | |
| ssvFeaturePie | 0.634 | 0.000 | 0.633 | |
| ssvFeatureUpset | 3.125 | 0.003 | 3.128 | |
| ssvFeatureVenn | 1.449 | 0.000 | 1.450 | |
| ssvFetchBam | 5.905 | 0.001 | 5.861 | |
| ssvFetchBamPE | 1.876 | 0.026 | 1.906 | |
| ssvFetchBamPE.RNA | 1.466 | 0.001 | 1.387 | |
| ssvFetchBigwig | 1.304 | 0.001 | 1.297 | |
| ssvFetchGRanges | 0.697 | 0.002 | 0.699 | |
| ssvFetchSignal | 1.393 | 0.016 | 1.408 | |
| ssvMakeMembTable-methods | 0.485 | 0.001 | 0.487 | |
| ssvOverlapIntervalSets | 0.207 | 0.002 | 0.209 | |
| ssvSignalBandedQuantiles | 3.992 | 0.050 | 3.929 | |
| ssvSignalClustering | 4.082 | 0.153 | 3.978 | |
| ssvSignalHeatmap.ClusterBars | 4.149 | 0.003 | 3.872 | |
| ssvSignalHeatmap | 4.615 | 0.011 | 4.248 | |
| ssvSignalLineplot | 2.713 | 0.002 | 2.702 | |
| ssvSignalLineplotAgg | 0.982 | 0.018 | 0.982 | |
| ssvSignalScatterplot | 1.073 | 0.005 | 1.034 | |
| viewGRangesWinSample_dt | 1.142 | 0.005 | 1.141 | |
| viewGRangesWinSummary_dt | 1.070 | 0.001 | 1.047 | |
| within_clust_sort | 1.781 | 0.008 | 1.728 | |