Back to Multiple platform build/check report for BioC 3.22:   simplified   long
ABCDEF[G]HIJKLMNOPQRSTUVWXYZ

This page was generated on 2025-11-15 11:58 -0500 (Sat, 15 Nov 2025).

HostnameOSArch (*)R versionInstalled pkgs
nebbiolo2Linux (Ubuntu 24.04.3 LTS)x86_644.5.1 Patched (2025-08-23 r88802) -- "Great Square Root" 4903
taishanLinux (openEuler 24.03 LTS)aarch644.5.0 (2025-04-11) -- "How About a Twenty-Six" 4668
Click on any hostname to see more info about the system (e.g. compilers)      (*) as reported by 'uname -p', except on Windows and Mac OS X

Package 806/2361HostnameOS / ArchINSTALLBUILDCHECKBUILD BIN
gDRutils 1.8.0  (landing page)
Arkadiusz Gladki
Snapshot Date: 2025-11-14 13:45 -0500 (Fri, 14 Nov 2025)
git_url: https://git.bioconductor.org/packages/gDRutils
git_branch: RELEASE_3_22
git_last_commit: b7dd34b
git_last_commit_date: 2025-10-29 11:23:43 -0500 (Wed, 29 Oct 2025)
nebbiolo2Linux (Ubuntu 24.04.3 LTS) / x86_64  OK    OK    OK  UNNEEDED, same version is already published
taishanLinux (openEuler 24.03 LTS) / aarch64  OK    OK    OK  


CHECK results for gDRutils on taishan

To the developers/maintainers of the gDRutils package:
- Allow up to 24 hours (and sometimes 48 hours) for your latest push to git@git.bioconductor.org:packages/gDRutils.git to reflect on this report. See Troubleshooting Build Report for more information.
- Use the following Renviron settings to reproduce errors and warnings.
- If 'R CMD check' started to fail recently on the Linux builder(s) over a missing dependency, add the missing dependency to 'Suggests:' in your DESCRIPTION file. See Renviron.bioc for more information.
- See Martin Grigorov's blog post for how to debug Linux ARM64 related issues on a x86_64 host.

raw results


Summary

Package: gDRutils
Version: 1.8.0
Command: /home/biocbuild/R/R/bin/R CMD check --install=check:gDRutils.install-out.txt --library=/home/biocbuild/R/R/site-library --no-vignettes --timings gDRutils_1.8.0.tar.gz
StartedAt: 2025-11-14 09:42:37 -0000 (Fri, 14 Nov 2025)
EndedAt: 2025-11-14 09:48:22 -0000 (Fri, 14 Nov 2025)
EllapsedTime: 344.3 seconds
RetCode: 0
Status:   OK  
CheckDir: gDRutils.Rcheck
Warnings: 0

Command output

##############################################################################
##############################################################################
###
### Running command:
###
###   /home/biocbuild/R/R/bin/R CMD check --install=check:gDRutils.install-out.txt --library=/home/biocbuild/R/R/site-library --no-vignettes --timings gDRutils_1.8.0.tar.gz
###
##############################################################################
##############################################################################


* using log directory ‘/home/biocbuild/bbs-3.22-bioc/meat/gDRutils.Rcheck’
* using R version 4.5.0 (2025-04-11)
* using platform: aarch64-unknown-linux-gnu
* R was compiled by
    aarch64-unknown-linux-gnu-gcc (GCC) 14.2.0
    GNU Fortran (GCC) 14.2.0
* running under: openEuler 24.03 (LTS)
* using session charset: UTF-8
* using option ‘--no-vignettes’
* checking for file ‘gDRutils/DESCRIPTION’ ... OK
* checking extension type ... Package
* this is package ‘gDRutils’ version ‘1.8.0’
* package encoding: UTF-8
* checking package namespace information ... OK
* checking package dependencies ... OK
* checking if this is a source package ... OK
* checking if there is a namespace ... OK
* checking for hidden files and directories ... OK
* checking for portable file names ... OK
* checking for sufficient/correct file permissions ... OK
* checking whether package ‘gDRutils’ can be installed ... OK
* checking installed package size ... OK
* checking package directory ... OK
* checking ‘build’ directory ... OK
* checking DESCRIPTION meta-information ... OK
* checking top-level files ... OK
* checking for left-over files ... OK
* checking index information ... OK
* checking package subdirectories ... OK
* checking code files for non-ASCII characters ... OK
* checking R files for syntax errors ... OK
* checking whether the package can be loaded ... OK
* checking whether the package can be loaded with stated dependencies ... OK
* checking whether the package can be unloaded cleanly ... OK
* checking whether the namespace can be loaded with stated dependencies ... OK
* checking whether the namespace can be unloaded cleanly ... OK
* checking loading without being on the library search path ... OK
* checking dependencies in R code ... OK
* checking S3 generic/method consistency ... OK
* checking replacement functions ... OK
* checking foreign function calls ... OK
* checking R code for possible problems ... OK
* checking Rd files ... OK
* checking Rd metadata ... OK
* checking Rd cross-references ... NOTE
Found the following Rd file(s) with Rd \link{} targets missing package
anchors:
  SE_metadata.Rd: SummarizedExperiment-class
  convert_mae_assay_to_dt.Rd: SummarizedExperiment-class,
    MultiAssayExperiment-class
  convert_se_assay_to_dt.Rd: SummarizedExperiment-class
  is_exp_empty.Rd: SummarizedExperiment-class
  split_SE_components.Rd: SummarizedExperiment-class
  validate_se_assay_name.Rd: SummarizedExperiment-class
Please provide package anchors for all Rd \link{} targets not in the
package itself and the base packages.
* checking for missing documentation entries ... OK
* checking for code/documentation mismatches ... OK
* checking Rd \usage sections ... OK
* checking Rd contents ... OK
* checking for unstated dependencies in examples ... OK
* checking files in ‘vignettes’ ... OK
* checking examples ... OK
Examples with CPU (user + system) or elapsed time > 5s
           user system elapsed
merge_MAE 5.406  0.838   5.202
* checking for unstated dependencies in ‘tests’ ... OK
* checking tests ...
  Running ‘testthat.R’
 OK
* checking for unstated dependencies in vignettes ... OK
* checking package vignettes ... OK
* checking running R code from vignettes ... SKIPPED
* checking re-building of vignette outputs ... SKIPPED
* checking PDF version of manual ... OK
* DONE

Status: 1 NOTE
See
  ‘/home/biocbuild/bbs-3.22-bioc/meat/gDRutils.Rcheck/00check.log’
for details.


Installation output

gDRutils.Rcheck/00install.out

##############################################################################
##############################################################################
###
### Running command:
###
###   /home/biocbuild/R/R/bin/R CMD INSTALL gDRutils
###
##############################################################################
##############################################################################


* installing to library ‘/home/biocbuild/R/R-4.5.0/site-library’
* installing *source* package ‘gDRutils’ ...
** this is package ‘gDRutils’ version ‘1.8.0’
** using staged installation
** R
** inst
** byte-compile and prepare package for lazy loading
** help
*** installing help indices
** building package indices
** installing vignettes
** testing if installed package can be loaded from temporary location
** testing if installed package can be loaded from final location
** testing if installed package keeps a record of temporary installation path
* DONE (gDRutils)

Tests output

gDRutils.Rcheck/tests/testthat.Rout


R version 4.5.0 (2025-04-11) -- "How About a Twenty-Six"
Copyright (C) 2025 The R Foundation for Statistical Computing
Platform: aarch64-unknown-linux-gnu

R is free software and comes with ABSOLUTELY NO WARRANTY.
You are welcome to redistribute it under certain conditions.
Type 'license()' or 'licence()' for distribution details.

R is a collaborative project with many contributors.
Type 'contributors()' for more information and
'citation()' on how to cite R or R packages in publications.

Type 'demo()' for some demos, 'help()' for on-line help, or
'help.start()' for an HTML browser interface to help.
Type 'q()' to quit R.

> library("gDRutils")
> library("testthat")
> 
> test_check("gDRutils")
[ FAIL 0 | WARN 0 | SKIP 0 | PASS 845 ]
> 
> proc.time()
   user  system elapsed 
127.757   4.145 131.281 

Example timings

gDRutils.Rcheck/gDRutils-Ex.timings

nameusersystemelapsed
MAEpply0.9920.0601.054
SE_metadata0.0400.0040.044
addClass0.0030.0000.002
aggregate_assay0.6820.0080.692
apply_bumpy_function2.2000.0602.265
assert_choices0.0000.0000.001
average_biological_replicates_dt1.0980.0831.183
calc_sd0.0000.0010.001
capVals0.2630.0070.271
cap_assay_infinities0.3540.0190.368
cap_xc500.0010.0000.001
convert_colData_to_json0.0750.0000.075
convert_combo_data_to_dt0.3840.0120.394
convert_combo_field_to_assay0.0020.0000.002
convert_mae_assay_to_dt0.0790.0040.084
convert_mae_to_json0.0150.0040.019
convert_metadata_to_json0.0120.0000.011
convert_rowData_to_json0.0040.0000.003
convert_se_assay_to_custom_dt0.7400.0200.759
convert_se_assay_to_dt0.0840.0000.084
convert_se_to_json0.0180.0010.018
define_matrix_grid_positions0.0690.0000.069
demote_fields0.4940.0030.490
df_to_bm_assay0.2040.0000.204
dot-set_invalid_fit_params000
dot-standardize_conc0.0000.0010.000
extend_normalization_type_name0.0000.0010.000
fit_curves0.1760.0100.186
flatten0.010.000.01
gen_synthetic_data0.0070.0000.007
geometric_mean000
get_MAE_identifiers0.0070.0000.007
get_additional_variables0.0160.0000.016
get_assay_dt_duplicated_rows0.2370.0000.237
get_assay_names0.0010.0000.000
get_assay_req_uniq_cols0.1470.0000.147
get_combo_assay_names0.0010.0000.001
get_combo_base_assay_names0.0010.0000.001
get_combo_excess_field_names0.0020.0000.002
get_combo_score_assay_names0.0010.0000.001
get_combo_score_field_names0.0010.0000.001
get_default_identifiers0.0000.0000.001
get_duplicated_rows0.0010.0020.004
get_env_assay_names0.0010.0000.001
get_env_var000
get_expect_one_identifiers000
get_experiment_groups0.0010.0000.001
get_gDR_session_info0.0700.0040.074
get_identifiers_dt0.0070.0000.008
get_idfs_synonyms0.0010.0000.000
get_isobologram_columns0.090.000.09
get_non_empty_assays0.0630.0000.063
get_required_identifiers000
get_settings_from_json0.0010.0000.001
get_supported_experiments0.0000.0000.001
get_synthetic_data0.0120.0000.012
get_testdata0.1390.0000.139
get_testdata_codilution0.1000.0040.107
get_testdata_combo0.2520.0120.284
has_assay_dt_duplicated_rows0.1840.0000.184
has_dt_duplicated_rows0.0010.0000.001
has_single_codrug_data0.2190.0080.228
has_valid_codrug_data0.1840.0000.184
headers0.0280.0000.029
identifiers000
identify_unique_se_metadata_fields0.0090.0000.010
is_any_exp_empty0.0560.0040.060
is_combo_data0.1960.0200.216
is_exp_empty0.0600.0040.063
is_mae_empty0.0590.0000.058
logisticFit0.0390.0000.040
loop3.1210.0804.176
map_conc_to_standardized_conc0.0070.0000.007
mcolData0.0190.0040.023
merge_MAE5.4060.8385.202
merge_SE1.8410.0411.864
merge_assay0.3790.0470.424
merge_metadata0.0080.0000.009
modifyData0.3880.0030.393
mrowData0.0160.0000.016
predict_conc_from_efficacy0.0000.0000.001
predict_efficacy_from_conc000
predict_smooth_from_combo0.2510.0000.252
prettify_flat_metrics0.0510.0000.051
process_batch0.6210.1670.790
promote_fields0.2350.0000.235
refine_coldata0.0120.0000.013
refine_rowdata0.0520.0000.053
remove_codrug_data0.0830.0000.083
remove_drug_batch0.0020.0000.002
rename_DFrame0.0110.0000.011
rename_bumpy0.0340.0040.038
round_concentration000
set_constant_fit_params0.0010.0000.001
set_unique_cl_names0.0600.0040.064
set_unique_cl_names_dt0.0220.0030.026
set_unique_drug_names0.0710.0000.071
set_unique_drug_names_dt0.050.000.05
set_unique_identifiers0.3590.0040.364
set_unique_names_dt0.0240.0040.028
shorten_normalization_type_name000
split_SE_components0.1290.0000.129
split_big_table_for_xlsx0.0060.0000.006
standardize_mae0.1490.0000.149
standardize_se0.0430.0000.043
throw_msg_if_duplicates0.1470.0000.148
update_env_idfs_from_mae0.0010.0000.002
update_idfs_synonyms0.0000.0000.001
validate_MAE0.1190.0000.119
validate_SE0.0340.0000.034
validate_identifiers0.0050.0040.009
validate_json000
validate_mae_with_schema0.6900.0520.881
validate_se_assay_name0.0090.0000.009