Back to Multiple platform build/check report for BioC 3.22:   simplified   long
ABCDEF[G]HIJKLMNOPQRSTUVWXYZ

This page was generated on 2025-10-24 12:03 -0400 (Fri, 24 Oct 2025).

HostnameOSArch (*)R versionInstalled pkgs
nebbiolo2Linux (Ubuntu 24.04.3 LTS)x86_644.5.1 Patched (2025-08-23 r88802) -- "Great Square Root" 4898
lconwaymacOS 12.7.6 Montereyx86_644.5.1 Patched (2025-09-10 r88807) -- "Great Square Root" 4688
kjohnson3macOS 13.7.7 Venturaarm644.5.1 Patched (2025-09-10 r88807) -- "Great Square Root" 4634
taishanLinux (openEuler 24.03 LTS)aarch644.5.0 (2025-04-11) -- "How About a Twenty-Six" 4658
Click on any hostname to see more info about the system (e.g. compilers)      (*) as reported by 'uname -p', except on Windows and Mac OS X

Package 805/2359HostnameOS / ArchINSTALLBUILDCHECKBUILD BIN
gDRutils 1.7.18  (landing page)
Arkadiusz Gladki
Snapshot Date: 2025-10-23 14:17 -0400 (Thu, 23 Oct 2025)
git_url: https://git.bioconductor.org/packages/gDRutils
git_branch: devel
git_last_commit: f4317a5
git_last_commit_date: 2025-10-13 05:11:46 -0400 (Mon, 13 Oct 2025)
nebbiolo2Linux (Ubuntu 24.04.3 LTS) / x86_64  OK    OK    OK  UNNEEDED, same version is already published
lconwaymacOS 12.7.6 Monterey / x86_64  OK    OK    OK    OK  UNNEEDED, same version is already published
kjohnson3macOS 13.7.7 Ventura / arm64  OK    OK    OK    OK  UNNEEDED, same version is already published
taishanLinux (openEuler 24.03 LTS) / aarch64  OK    OK    NA  


CHECK results for gDRutils on nebbiolo2

To the developers/maintainers of the gDRutils package:
- Allow up to 24 hours (and sometimes 48 hours) for your latest push to git@git.bioconductor.org:packages/gDRutils.git to reflect on this report. See Troubleshooting Build Report for more information.
- Use the following Renviron settings to reproduce errors and warnings.
- If 'R CMD check' started to fail recently on the Linux builder(s) over a missing dependency, add the missing dependency to 'Suggests:' in your DESCRIPTION file. See Renviron.bioc for more information.

raw results


Summary

Package: gDRutils
Version: 1.7.18
Command: /home/biocbuild/bbs-3.22-bioc/R/bin/R CMD check --install=check:gDRutils.install-out.txt --library=/home/biocbuild/bbs-3.22-bioc/R/site-library --timings gDRutils_1.7.18.tar.gz
StartedAt: 2025-10-23 23:45:49 -0400 (Thu, 23 Oct 2025)
EndedAt: 2025-10-23 23:50:21 -0400 (Thu, 23 Oct 2025)
EllapsedTime: 271.3 seconds
RetCode: 0
Status:   OK  
CheckDir: gDRutils.Rcheck
Warnings: 0

Command output

##############################################################################
##############################################################################
###
### Running command:
###
###   /home/biocbuild/bbs-3.22-bioc/R/bin/R CMD check --install=check:gDRutils.install-out.txt --library=/home/biocbuild/bbs-3.22-bioc/R/site-library --timings gDRutils_1.7.18.tar.gz
###
##############################################################################
##############################################################################


* using log directory ‘/home/biocbuild/bbs-3.22-bioc/meat/gDRutils.Rcheck’
* using R version 4.5.1 Patched (2025-08-23 r88802)
* using platform: x86_64-pc-linux-gnu
* R was compiled by
    gcc (Ubuntu 13.3.0-6ubuntu2~24.04) 13.3.0
    GNU Fortran (Ubuntu 13.3.0-6ubuntu2~24.04) 13.3.0
* running under: Ubuntu 24.04.3 LTS
* using session charset: UTF-8
* checking for file ‘gDRutils/DESCRIPTION’ ... OK
* checking extension type ... Package
* this is package ‘gDRutils’ version ‘1.7.18’
* package encoding: UTF-8
* checking package namespace information ... OK
* checking package dependencies ... OK
* checking if this is a source package ... OK
* checking if there is a namespace ... OK
* checking for hidden files and directories ... OK
* checking for portable file names ... OK
* checking for sufficient/correct file permissions ... OK
* checking whether package ‘gDRutils’ can be installed ... OK
* checking installed package size ... OK
* checking package directory ... OK
* checking ‘build’ directory ... OK
* checking DESCRIPTION meta-information ... OK
* checking top-level files ... OK
* checking for left-over files ... OK
* checking index information ... OK
* checking package subdirectories ... OK
* checking code files for non-ASCII characters ... OK
* checking R files for syntax errors ... OK
* checking whether the package can be loaded ... OK
* checking whether the package can be loaded with stated dependencies ... OK
* checking whether the package can be unloaded cleanly ... OK
* checking whether the namespace can be loaded with stated dependencies ... OK
* checking whether the namespace can be unloaded cleanly ... OK
* checking loading without being on the library search path ... OK
* checking dependencies in R code ... OK
* checking S3 generic/method consistency ... OK
* checking replacement functions ... OK
* checking foreign function calls ... OK
* checking R code for possible problems ... OK
* checking Rd files ... OK
* checking Rd metadata ... OK
* checking Rd cross-references ... NOTE
Found the following Rd file(s) with Rd \link{} targets missing package
anchors:
  SE_metadata.Rd: SummarizedExperiment-class
  convert_mae_assay_to_dt.Rd: SummarizedExperiment-class,
    MultiAssayExperiment-class
  convert_se_assay_to_dt.Rd: SummarizedExperiment-class
  is_exp_empty.Rd: SummarizedExperiment-class
  split_SE_components.Rd: SummarizedExperiment-class
  validate_se_assay_name.Rd: SummarizedExperiment-class
Please provide package anchors for all Rd \link{} targets not in the
package itself and the base packages.
* checking for missing documentation entries ... OK
* checking for code/documentation mismatches ... OK
* checking Rd \usage sections ... OK
* checking Rd contents ... OK
* checking for unstated dependencies in examples ... OK
* checking files in ‘vignettes’ ... OK
* checking examples ... OK
* checking for unstated dependencies in ‘tests’ ... OK
* checking tests ...
  Running ‘testthat.R’
 OK
* checking for unstated dependencies in vignettes ... OK
* checking package vignettes ... OK
* checking re-building of vignette outputs ... OK
* checking PDF version of manual ... OK
* DONE

Status: 1 NOTE
See
  ‘/home/biocbuild/bbs-3.22-bioc/meat/gDRutils.Rcheck/00check.log’
for details.


Installation output

gDRutils.Rcheck/00install.out

##############################################################################
##############################################################################
###
### Running command:
###
###   /home/biocbuild/bbs-3.22-bioc/R/bin/R CMD INSTALL gDRutils
###
##############################################################################
##############################################################################


* installing to library ‘/home/biocbuild/bbs-3.22-bioc/R/site-library’
* installing *source* package ‘gDRutils’ ...
** this is package ‘gDRutils’ version ‘1.7.18’
** using staged installation
** R
** inst
** byte-compile and prepare package for lazy loading
** help
*** installing help indices
** building package indices
** installing vignettes
** testing if installed package can be loaded from temporary location
** testing if installed package can be loaded from final location
** testing if installed package keeps a record of temporary installation path
* DONE (gDRutils)

Tests output

gDRutils.Rcheck/tests/testthat.Rout


R version 4.5.1 Patched (2025-08-23 r88802) -- "Great Square Root"
Copyright (C) 2025 The R Foundation for Statistical Computing
Platform: x86_64-pc-linux-gnu

R is free software and comes with ABSOLUTELY NO WARRANTY.
You are welcome to redistribute it under certain conditions.
Type 'license()' or 'licence()' for distribution details.

R is a collaborative project with many contributors.
Type 'contributors()' for more information and
'citation()' on how to cite R or R packages in publications.

Type 'demo()' for some demos, 'help()' for on-line help, or
'help.start()' for an HTML browser interface to help.
Type 'q()' to quit R.

> library("gDRutils")
> library("testthat")
> 
> test_check("gDRutils")
[ FAIL 0 | WARN 0 | SKIP 0 | PASS 845 ]
> 
> proc.time()
   user  system elapsed 
 92.739   2.083  92.292 

Example timings

gDRutils.Rcheck/gDRutils-Ex.timings

nameusersystemelapsed
MAEpply0.9320.0530.984
SE_metadata0.0320.0020.034
addClass0.0020.0000.002
aggregate_assay0.4790.0210.496
apply_bumpy_function2.0640.0422.104
assert_choices0.0010.0000.001
average_biological_replicates_dt0.3610.0550.417
calc_sd000
capVals0.2050.0140.218
cap_assay_infinities0.2910.0020.235
cap_xc500.0000.0000.001
convert_colData_to_json0.0530.0000.048
convert_combo_data_to_dt0.3350.0100.286
convert_combo_field_to_assay0.0020.0000.001
convert_mae_assay_to_dt0.0580.0010.058
convert_mae_to_json0.0160.0000.015
convert_metadata_to_json0.0090.0000.008
convert_rowData_to_json0.0030.0000.002
convert_se_assay_to_custom_dt0.5900.0110.552
convert_se_assay_to_dt0.0570.0000.058
convert_se_to_json0.0130.0000.012
define_matrix_grid_positions0.0650.0010.049
demote_fields0.4420.0020.363
df_to_bm_assay0.1210.0010.122
dot-set_invalid_fit_params0.0010.0000.000
dot-standardize_conc0.0010.0000.001
extend_normalization_type_name000
fit_curves0.1350.0040.138
flatten0.0080.0000.007
gen_synthetic_data0.0050.0000.004
geometric_mean0.0000.0010.000
get_MAE_identifiers0.0060.0000.006
get_additional_variables0.0110.0010.012
get_assay_dt_duplicated_rows0.1840.0010.186
get_assay_names000
get_assay_req_uniq_cols0.1070.0000.107
get_combo_assay_names000
get_combo_base_assay_names0.0010.0000.001
get_combo_excess_field_names0.0010.0000.001
get_combo_score_assay_names0.0010.0000.000
get_combo_score_field_names0.0010.0000.000
get_default_identifiers0.0010.0000.000
get_duplicated_rows0.0020.0000.003
get_env_assay_names000
get_env_var000
get_expect_one_identifiers000
get_experiment_groups000
get_gDR_session_info0.0560.0070.060
get_identifiers_dt0.0070.0010.005
get_idfs_synonyms000
get_isobologram_columns0.0590.0000.059
get_non_empty_assays0.0610.0000.042
get_required_identifiers0.0000.0010.000
get_settings_from_json0.0010.0010.001
get_supported_experiments000
get_synthetic_data0.0180.0000.010
get_testdata0.0830.0010.078
get_testdata_codilution0.0880.0010.075
get_testdata_combo0.2290.0170.202
has_assay_dt_duplicated_rows0.1620.0020.164
has_dt_duplicated_rows0.0000.0000.001
has_single_codrug_data0.1360.0000.136
has_valid_codrug_data0.1260.0130.138
headers0.0190.0020.020
identifiers000
identify_unique_se_metadata_fields0.0070.0010.009
is_any_exp_empty0.0570.0010.046
is_combo_data0.1500.0090.154
is_exp_empty0.0610.0000.045
is_mae_empty0.0710.0000.043
logisticFit0.0380.0000.026
loop3.3650.0834.545
map_conc_to_standardized_conc0.0040.0000.005
mcolData0.0130.0040.017
merge_MAE4.2150.6353.547
merge_SE1.5190.0281.395
merge_assay0.2950.0020.269
merge_metadata0.0060.0000.007
modifyData0.2630.0030.266
mrowData0.0140.0000.015
predict_conc_from_efficacy0.0010.0000.000
predict_efficacy_from_conc000
predict_smooth_from_combo0.1850.0030.189
prettify_flat_metrics0.0330.0000.033
process_batch0.7000.0760.776
promote_fields0.1940.0010.171
refine_coldata0.0090.0000.010
refine_rowdata0.0410.0020.043
remove_codrug_data0.060.000.06
remove_drug_batch0.0010.0010.002
rename_DFrame0.0100.0000.009
rename_bumpy0.0290.0000.029
round_concentration0.0010.0000.000
set_constant_fit_params000
set_unique_cl_names0.0480.0000.049
set_unique_cl_names_dt0.0180.0000.018
set_unique_drug_names0.0520.0000.052
set_unique_drug_names_dt0.0360.0000.035
set_unique_identifiers0.2510.0010.252
set_unique_names_dt0.0180.0000.018
shorten_normalization_type_name0.0010.0000.001
split_SE_components0.0910.0000.091
split_big_table_for_xlsx0.0050.0000.005
standardize_mae0.1070.0000.108
standardize_se0.0480.0000.048
throw_msg_if_duplicates0.1110.0010.112
update_env_idfs_from_mae0.0010.0000.001
update_idfs_synonyms000
validate_MAE0.0750.0000.075
validate_SE0.0270.0000.027
validate_identifiers0.0070.0000.007
validate_json000
validate_mae_with_schema0.3770.0330.378
validate_se_assay_name0.0080.0000.009