| Back to Multiple platform build/check report for BioC 3.22: simplified long |
|
This page was generated on 2025-10-21 12:07 -0400 (Tue, 21 Oct 2025).
| Hostname | OS | Arch (*) | R version | Installed pkgs |
|---|---|---|---|---|
| nebbiolo2 | Linux (Ubuntu 24.04.3 LTS) | x86_64 | 4.5.1 Patched (2025-08-23 r88802) -- "Great Square Root" | 4887 |
| lconway | macOS 12.7.6 Monterey | x86_64 | 4.5.1 Patched (2025-09-10 r88807) -- "Great Square Root" | 4677 |
| kjohnson3 | macOS 13.7.7 Ventura | arm64 | 4.5.1 Patched (2025-09-10 r88807) -- "Great Square Root" | 4622 |
| taishan | Linux (openEuler 24.03 LTS) | aarch64 | 4.5.0 (2025-04-11) -- "How About a Twenty-Six" | 4642 |
| Click on any hostname to see more info about the system (e.g. compilers) (*) as reported by 'uname -p', except on Windows and Mac OS X | ||||
| Package 1045/2353 | Hostname | OS / Arch | INSTALL | BUILD | CHECK | BUILD BIN | ||||||||
| IMMAN 1.29.0 (landing page) Minoo Ashtiani
| nebbiolo2 | Linux (Ubuntu 24.04.3 LTS) / x86_64 | OK | OK | OK | |||||||||
| lconway | macOS 12.7.6 Monterey / x86_64 | OK | OK | OK | OK | |||||||||
| kjohnson3 | macOS 13.7.7 Ventura / arm64 | OK | OK | OK | OK | |||||||||
| taishan | Linux (openEuler 24.03 LTS) / aarch64 | OK | OK | OK | ||||||||||
|
To the developers/maintainers of the IMMAN package: - Allow up to 24 hours (and sometimes 48 hours) for your latest push to git@git.bioconductor.org:packages/IMMAN.git to reflect on this report. See Troubleshooting Build Report for more information. - Use the following Renviron settings to reproduce errors and warnings. - If 'R CMD check' started to fail recently on the Linux builder(s) over a missing dependency, add the missing dependency to 'Suggests:' in your DESCRIPTION file. See Renviron.bioc for more information. - See Martin Grigorov's blog post for how to debug Linux ARM64 related issues on a x86_64 host. |
| Package: IMMAN |
| Version: 1.29.0 |
| Command: /home/biocbuild/R/R/bin/R CMD check --install=check:IMMAN.install-out.txt --library=/home/biocbuild/R/R/site-library --no-vignettes --timings IMMAN_1.29.0.tar.gz |
| StartedAt: 2025-10-17 10:13:28 -0000 (Fri, 17 Oct 2025) |
| EndedAt: 2025-10-17 10:22:28 -0000 (Fri, 17 Oct 2025) |
| EllapsedTime: 540.4 seconds |
| RetCode: 0 |
| Status: OK |
| CheckDir: IMMAN.Rcheck |
| Warnings: 0 |
##############################################################################
##############################################################################
###
### Running command:
###
### /home/biocbuild/R/R/bin/R CMD check --install=check:IMMAN.install-out.txt --library=/home/biocbuild/R/R/site-library --no-vignettes --timings IMMAN_1.29.0.tar.gz
###
##############################################################################
##############################################################################
* using log directory ‘/home/biocbuild/bbs-3.22-bioc/meat/IMMAN.Rcheck’
* using R version 4.5.0 (2025-04-11)
* using platform: aarch64-unknown-linux-gnu
* R was compiled by
aarch64-unknown-linux-gnu-gcc (GCC) 14.2.0
GNU Fortran (GCC) 14.2.0
* running under: openEuler 24.03 (LTS)
* using session charset: UTF-8
* using option ‘--no-vignettes’
* checking for file ‘IMMAN/DESCRIPTION’ ... OK
* this is package ‘IMMAN’ version ‘1.29.0’
* package encoding: UTF-8
* checking package namespace information ... OK
* checking package dependencies ... OK
* checking if this is a source package ... OK
* checking if there is a namespace ... OK
* checking for hidden files and directories ... OK
* checking for portable file names ... OK
* checking for sufficient/correct file permissions ... OK
* checking whether package ‘IMMAN’ can be installed ... OK
* checking installed package size ... OK
* checking package directory ... OK
* checking ‘build’ directory ... OK
* checking DESCRIPTION meta-information ... OK
* checking top-level files ... OK
* checking for left-over files ... OK
* checking index information ... OK
* checking package subdirectories ... OK
* checking code files for non-ASCII characters ... OK
* checking R files for syntax errors ... OK
* checking whether the package can be loaded ... OK
* checking whether the package can be loaded with stated dependencies ... OK
* checking whether the package can be unloaded cleanly ... OK
* checking whether the namespace can be loaded with stated dependencies ... OK
* checking whether the namespace can be unloaded cleanly ... OK
* checking loading without being on the library search path ... OK
* checking dependencies in R code ... OK
* checking S3 generic/method consistency ... OK
* checking replacement functions ... OK
* checking foreign function calls ... OK
* checking R code for possible problems ... NOTE
IMMAN: no visible binding for global variable ‘tem’
IMMAN : <anonymous>: no visible binding for global variable ‘tem’
Undefined global functions or variables:
tem
* checking Rd files ... OK
* checking Rd metadata ... OK
* checking Rd cross-references ... OK
* checking for missing documentation entries ... OK
* checking for code/documentation mismatches ... OK
* checking Rd \usage sections ... OK
* checking Rd contents ... OK
* checking for unstated dependencies in examples ... OK
* checking contents of ‘data’ directory ... OK
* checking data for non-ASCII characters ... OK
* checking LazyData ... OK
* checking data for ASCII and uncompressed saves ... OK
* checking files in ‘vignettes’ ... OK
* checking examples ... OK
Examples with CPU (user + system) or elapsed time > 5s
user system elapsed
IMMAN 47.215 3.201 175.629
* checking for unstated dependencies in ‘tests’ ... OK
* checking tests ...
Running ‘testthat.R’
OK
* checking for unstated dependencies in vignettes ... OK
* checking package vignettes ... OK
* checking running R code from vignettes ... SKIPPED
* checking re-building of vignette outputs ... SKIPPED
* checking PDF version of manual ... OK
* DONE
Status: 1 NOTE
See
‘/home/biocbuild/bbs-3.22-bioc/meat/IMMAN.Rcheck/00check.log’
for details.
IMMAN.Rcheck/00install.out
############################################################################## ############################################################################## ### ### Running command: ### ### /home/biocbuild/R/R/bin/R CMD INSTALL IMMAN ### ############################################################################## ############################################################################## * installing to library ‘/home/biocbuild/R/R-4.5.0/site-library’ * installing *source* package ‘IMMAN’ ... ** this is package ‘IMMAN’ version ‘1.29.0’ ** using staged installation ** R ** data *** moving datasets to lazyload DB ** byte-compile and prepare package for lazy loading ** help *** installing help indices ** building package indices ** installing vignettes ** testing if installed package can be loaded from temporary location ** testing if installed package can be loaded from final location ** testing if installed package keeps a record of temporary installation path * DONE (IMMAN)
IMMAN.Rcheck/tests/testthat.Rout
R version 4.5.0 (2025-04-11) -- "How About a Twenty-Six"
Copyright (C) 2025 The R Foundation for Statistical Computing
Platform: aarch64-unknown-linux-gnu
R is free software and comes with ABSOLUTELY NO WARRANTY.
You are welcome to redistribute it under certain conditions.
Type 'license()' or 'licence()' for distribution details.
R is a collaborative project with many contributors.
Type 'contributors()' for more information and
'citation()' on how to cite R or R packages in publications.
Type 'demo()' for some demos, 'help()' for on-line help, or
'help.start()' for an HTML browser interface to help.
Type 'q()' to quit R.
> library(testthat)
> library(IMMAN)
>
> test_check("IMMAN")
trying URL 'https://stringdb-downloads.org/download/protein.aliases.v11.0/6239.protein.aliases.v11.0.txt.gz'
Content type 'application/octet-stream' length 2902021 bytes (2.8 MB)
==================================================
downloaded 2.8 MB
trying URL 'https://stringdb-downloads.org/download/protein.info.v11.0/6239.protein.info.v11.0.txt.gz'
Content type 'application/octet-stream' length 675823 bytes (659 KB)
==================================================
downloaded 659 KB
trying URL 'https://stringdb-downloads.org/download/protein.aliases.v11.0/7227.protein.aliases.v11.0.txt.gz'
Content type 'application/octet-stream' length 4188915 bytes (4.0 MB)
==================================================
downloaded 4.0 MB
trying URL 'https://stringdb-downloads.org/download/protein.info.v11.0/7227.protein.info.v11.0.txt.gz'
Content type 'application/octet-stream' length 687988 bytes (671 KB)
==================================================
downloaded 671 KB
trying URL 'https://stringdb-downloads.org/download/protein.links.v11.0/6239.protein.links.v11.0.txt.gz'
Content type 'application/octet-stream' length 48132415 bytes (45.9 MB)
==================================================
downloaded 45.9 MB
trying URL 'https://stringdb-downloads.org/download/protein.links.v11.0/7227.protein.links.v11.0.txt.gz'
Content type 'application/octet-stream' length 22010066 bytes (21.0 MB)
==================================================
downloaded 21.0 MB
[ FAIL 0 | WARN 0 | SKIP 0 | PASS 2 ]
>
> proc.time()
user system elapsed
62.742 2.040 260.160
IMMAN.Rcheck/IMMAN-Ex.timings
| name | user | system | elapsed | |
| Celegance | 0.005 | 0.000 | 0.005 | |
| FruitFly | 0.002 | 0.000 | 0.002 | |
| H.sapiens | 0.002 | 0.000 | 0.002 | |
| IMMAN | 47.215 | 3.201 | 175.629 | |
| R.norvegicus | 0.001 | 0.000 | 0.002 | |