| Back to Multiple platform build/check report for BioC 3.22: simplified long | 
 | 
This page was generated on 2025-10-24 12:07 -0400 (Fri, 24 Oct 2025).
| Hostname | OS | Arch (*) | R version | Installed pkgs | 
|---|---|---|---|---|
| nebbiolo2 | Linux (Ubuntu 24.04.3 LTS) | x86_64 | 4.5.1 Patched (2025-08-23 r88802) -- "Great Square Root" | 4898 | 
| lconway | macOS 12.7.6 Monterey | x86_64 | 4.5.1 Patched (2025-09-10 r88807) -- "Great Square Root" | 4688 | 
| kjohnson3 | macOS 13.7.7 Ventura | arm64 | 4.5.1 Patched (2025-09-10 r88807) -- "Great Square Root" | 4634 | 
| taishan | Linux (openEuler 24.03 LTS) | aarch64 | 4.5.0 (2025-04-11) -- "How About a Twenty-Six" | 4658 | 
| Click on any hostname to see more info about the system (e.g. compilers) (*) as reported by 'uname -p', except on Windows and Mac OS X | ||||
| Package 417/2359 | Hostname | OS / Arch | INSTALL | BUILD | CHECK | BUILD BIN | ||||||||
| codelink 1.77.0  (landing page) Diego Diez 
 | nebbiolo2 | Linux (Ubuntu 24.04.3 LTS) / x86_64 | OK | OK | OK |  | ||||||||
| lconway | macOS 12.7.6 Monterey / x86_64 | OK | OK | OK | OK |  | ||||||||
| kjohnson3 | macOS 13.7.7 Ventura / arm64 | OK | OK | OK | OK |  | ||||||||
| taishan | Linux (openEuler 24.03 LTS) / aarch64 | OK | OK | OK | ||||||||||
| To the developers/maintainers of the codelink package: - Allow up to 24 hours (and sometimes 48 hours) for your latest push to git@git.bioconductor.org:packages/codelink.git to reflect on this report. See Troubleshooting Build Report for more information. - Use the following Renviron settings to reproduce errors and warnings. - If 'R CMD check' started to fail recently on the Linux builder(s) over a missing dependency, add the missing dependency to 'Suggests:' in your DESCRIPTION file. See Renviron.bioc for more information. - See Martin Grigorov's blog post for how to debug Linux ARM64 related issues on a x86_64 host. | 
| Package: codelink | 
| Version: 1.77.0 | 
| Command: /home/biocbuild/R/R/bin/R CMD check --install=check:codelink.install-out.txt --library=/home/biocbuild/R/R/site-library --no-vignettes --timings codelink_1.77.0.tar.gz | 
| StartedAt: 2025-10-21 06:41:55 -0000 (Tue, 21 Oct 2025) | 
| EndedAt: 2025-10-21 06:44:23 -0000 (Tue, 21 Oct 2025) | 
| EllapsedTime: 147.1 seconds | 
| RetCode: 0 | 
| Status: OK | 
| CheckDir: codelink.Rcheck | 
| Warnings: 0 | 
##############################################################################
##############################################################################
###
### Running command:
###
###   /home/biocbuild/R/R/bin/R CMD check --install=check:codelink.install-out.txt --library=/home/biocbuild/R/R/site-library --no-vignettes --timings codelink_1.77.0.tar.gz
###
##############################################################################
##############################################################################
* using log directory ‘/home/biocbuild/bbs-3.22-bioc/meat/codelink.Rcheck’
* using R version 4.5.0 (2025-04-11)
* using platform: aarch64-unknown-linux-gnu
* R was compiled by
    aarch64-unknown-linux-gnu-gcc (GCC) 14.2.0
    GNU Fortran (GCC) 14.2.0
* running under: openEuler 24.03 (LTS)
* using session charset: UTF-8
* using option ‘--no-vignettes’
* checking for file ‘codelink/DESCRIPTION’ ... OK
* this is package ‘codelink’ version ‘1.77.0’
* checking package namespace information ... OK
* checking package dependencies ... OK
* checking if this is a source package ... OK
* checking if there is a namespace ... OK
* checking for hidden files and directories ... OK
* checking for portable file names ... OK
* checking for sufficient/correct file permissions ... OK
* checking whether package ‘codelink’ can be installed ... OK
* checking installed package size ... OK
* checking package directory ... OK
* checking ‘build’ directory ... OK
* checking DESCRIPTION meta-information ... OK
* checking top-level files ... OK
* checking for left-over files ... OK
* checking index information ... OK
* checking package subdirectories ... OK
* checking code files for non-ASCII characters ... OK
* checking R files for syntax errors ... OK
* checking whether the package can be loaded ... OK
* checking whether the package can be loaded with stated dependencies ... OK
* checking whether the package can be unloaded cleanly ... OK
* checking whether the namespace can be loaded with stated dependencies ... OK
* checking whether the namespace can be unloaded cleanly ... OK
* checking loading without being on the library search path ... OK
* checking dependencies in R code ... OK
* checking S3 generic/method consistency ... OK
* checking replacement functions ... OK
* checking foreign function calls ... OK
* checking R code for possible problems ... OK
* checking Rd files ... NOTE
checkRd: (-1) readCodelink.Rd:25: Escaped LaTeX specials: \_
checkRd: (-1) writeCodelink.Rd:21: Escaped LaTeX specials: \_ \_ \_
* checking Rd metadata ... OK
* checking Rd cross-references ... NOTE
Found the following Rd file(s) with Rd \link{} targets missing package
anchors:
  CodelinkSet-class.Rd: ExpressionSet
Please provide package anchors for all Rd \link{} targets not in the
package itself and the base packages.
* checking for missing documentation entries ... OK
* checking for code/documentation mismatches ... OK
* checking Rd \usage sections ... OK
* checking Rd contents ... OK
* checking for unstated dependencies in examples ... OK
* checking contents of ‘data’ directory ... OK
* checking data for non-ASCII characters ... OK
* checking data for ASCII and uncompressed saves ... OK
* checking installed files from ‘inst/doc’ ... OK
* checking files in ‘vignettes’ ... OK
* checking examples ... OK
* checking for unstated dependencies in vignettes ... OK
* checking package vignettes ... NOTE
Package vignettes with \VignetteEngine{} not specifying an engine package:
  ‘Codelink_Introduction.Rnw’
  ‘Codelink_Legacy.Rnw’
Engines should be specified as \VignetteEngine{PKG::ENG}.
* checking running R code from vignettes ... SKIPPED
* checking re-building of vignette outputs ... SKIPPED
* checking PDF version of manual ... OK
* DONE
Status: 3 NOTEs
See
  ‘/home/biocbuild/bbs-3.22-bioc/meat/codelink.Rcheck/00check.log’
for details.
codelink.Rcheck/00install.out
############################################################################## ############################################################################## ### ### Running command: ### ### /home/biocbuild/R/R/bin/R CMD INSTALL codelink ### ############################################################################## ############################################################################## * installing to library ‘/home/biocbuild/R/R-4.5.0/site-library’ * installing *source* package ‘codelink’ ... ** this is package ‘codelink’ version ‘1.77.0’ ** using staged installation ** R ** data ** inst ** byte-compile and prepare package for lazy loading ** help *** installing help indices ** building package indices ** installing vignettes ** testing if installed package can be loaded from temporary location ** testing if installed package can be loaded from final location ** testing if installed package keeps a record of temporary installation path * DONE (codelink)
codelink.Rcheck/codelink-Ex.timings
| name | user | system | elapsed | |
| Codelink-class | 0 | 0 | 0 | |
| CodelinkSet-class | 0 | 0 | 0 | |
| CodelinkSetUnique-class | 0.001 | 0.000 | 0.000 | |
| arrayNew | 0 | 0 | 0 | |
| as.matrix.Codelink | 0 | 0 | 0 | |
| averageProbes | 0 | 0 | 0 | |
| bkgdCorrect | 0.370 | 0.012 | 0.383 | |
| createWeights | 0.879 | 0.004 | 0.885 | |
| cutCV | 0 | 0 | 0 | |
| dim.Codelink | 0 | 0 | 0 | |
| imageCodelink | 0 | 0 | 0 | |
| logCodelink | 0 | 0 | 0 | |
| mergeArray | 0 | 0 | 0 | |
| na2false | 0.001 | 0.000 | 0.000 | |
| normalize | 0.855 | 0.052 | 0.909 | |
| plotCorrelation | 0 | 0 | 0 | |
| plotDensities | 0 | 0 | 0 | |
| plotMA | 0 | 0 | 0 | |
| readCodelink | 0.000 | 0.000 | 0.001 | |
| readHeader | 0 | 0 | 0 | |
| readHeaderXLS | 0 | 0 | 0 | |
| writeCodelink | 0.001 | 0.000 | 0.000 | |