| Back to Multiple platform build/check report for BioC 3.22: simplified long |
|
This page was generated on 2025-10-21 12:07 -0400 (Tue, 21 Oct 2025).
| Hostname | OS | Arch (*) | R version | Installed pkgs |
|---|---|---|---|---|
| nebbiolo2 | Linux (Ubuntu 24.04.3 LTS) | x86_64 | 4.5.1 Patched (2025-08-23 r88802) -- "Great Square Root" | 4887 |
| lconway | macOS 12.7.6 Monterey | x86_64 | 4.5.1 Patched (2025-09-10 r88807) -- "Great Square Root" | 4677 |
| kjohnson3 | macOS 13.7.7 Ventura | arm64 | 4.5.1 Patched (2025-09-10 r88807) -- "Great Square Root" | 4622 |
| taishan | Linux (openEuler 24.03 LTS) | aarch64 | 4.5.0 (2025-04-11) -- "How About a Twenty-Six" | 4642 |
| Click on any hostname to see more info about the system (e.g. compilers) (*) as reported by 'uname -p', except on Windows and Mac OS X | ||||
| Package 2063/2353 | Hostname | OS / Arch | INSTALL | BUILD | CHECK | BUILD BIN | ||||||||
| sparrow 1.15.0 (landing page) Steve Lianoglou
| nebbiolo2 | Linux (Ubuntu 24.04.3 LTS) / x86_64 | OK | OK | OK | |||||||||
| lconway | macOS 12.7.6 Monterey / x86_64 | OK | OK | OK | OK | |||||||||
| kjohnson3 | macOS 13.7.7 Ventura / arm64 | OK | OK | OK | OK | |||||||||
| taishan | Linux (openEuler 24.03 LTS) / aarch64 | OK | OK | OK | ||||||||||
|
To the developers/maintainers of the sparrow package: - Allow up to 24 hours (and sometimes 48 hours) for your latest push to git@git.bioconductor.org:packages/sparrow.git to reflect on this report. See Troubleshooting Build Report for more information. - Use the following Renviron settings to reproduce errors and warnings. - If 'R CMD check' started to fail recently on the Linux builder(s) over a missing dependency, add the missing dependency to 'Suggests:' in your DESCRIPTION file. See Renviron.bioc for more information. - See Martin Grigorov's blog post for how to debug Linux ARM64 related issues on a x86_64 host. |
| Package: sparrow |
| Version: 1.15.0 |
| Command: /home/biocbuild/R/R/bin/R CMD check --install=check:sparrow.install-out.txt --library=/home/biocbuild/R/R/site-library --no-vignettes --timings sparrow_1.15.0.tar.gz |
| StartedAt: 2025-10-17 13:53:42 -0000 (Fri, 17 Oct 2025) |
| EndedAt: 2025-10-17 14:05:18 -0000 (Fri, 17 Oct 2025) |
| EllapsedTime: 695.9 seconds |
| RetCode: 0 |
| Status: OK |
| CheckDir: sparrow.Rcheck |
| Warnings: 0 |
##############################################################################
##############################################################################
###
### Running command:
###
### /home/biocbuild/R/R/bin/R CMD check --install=check:sparrow.install-out.txt --library=/home/biocbuild/R/R/site-library --no-vignettes --timings sparrow_1.15.0.tar.gz
###
##############################################################################
##############################################################################
* using log directory ‘/home/biocbuild/bbs-3.22-bioc/meat/sparrow.Rcheck’
* using R version 4.5.0 (2025-04-11)
* using platform: aarch64-unknown-linux-gnu
* R was compiled by
aarch64-unknown-linux-gnu-gcc (GCC) 14.2.0
GNU Fortran (GCC) 14.2.0
* running under: openEuler 24.03 (LTS)
* using session charset: UTF-8
* using option ‘--no-vignettes’
* checking for file ‘sparrow/DESCRIPTION’ ... OK
* checking extension type ... Package
* this is package ‘sparrow’ version ‘1.15.0’
* package encoding: UTF-8
* checking package namespace information ... OK
* checking package dependencies ... OK
* checking if this is a source package ... OK
* checking if there is a namespace ... OK
* checking for hidden files and directories ... OK
* checking for portable file names ... OK
* checking for sufficient/correct file permissions ... OK
* checking whether package ‘sparrow’ can be installed ... OK
* checking installed package size ... OK
* checking package directory ... OK
* checking ‘build’ directory ... OK
* checking DESCRIPTION meta-information ... NOTE
License stub is invalid DCF.
* checking top-level files ... OK
* checking for left-over files ... OK
* checking index information ... OK
* checking package subdirectories ... OK
* checking code files for non-ASCII characters ... OK
* checking R files for syntax errors ... OK
* checking whether the package can be loaded ... OK
* checking whether the package can be loaded with stated dependencies ... OK
* checking whether the package can be unloaded cleanly ... OK
* checking whether the namespace can be loaded with stated dependencies ... OK
* checking whether the namespace can be unloaded cleanly ... OK
* checking loading without being on the library search path ... OK
* checking whether startup messages can be suppressed ... OK
* checking dependencies in R code ... OK
* checking S3 generic/method consistency ... OK
* checking replacement functions ... OK
* checking foreign function calls ... OK
* checking R code for possible problems ... NOTE
.map_ids_orthogene: no visible binding for global variable ‘gspecies’
.map_ids_orthogene: no visible binding for global variable ‘species’
.map_ids_orthogene: no visible binding for global variable ‘input_ensg’
.map_ids_orthogene: no visible binding for global variable
‘ortholog_ensg’
.map_ids_orthogene: no visible binding for global variable
‘ortholog_gene’
.map_ids_orthogene: no visible binding for global variable ‘symbol’
.map_ids_orthogene: no visible binding for global variable ‘input_id’
.map_ids_orthogene: no visible global function definition for
‘starts_with’
.map_ids_orthogene: no visible global function definition for
‘last_col’
.map_ids_orthogene: no visible binding for global variable ‘rm_na’
geneSetsStats: no visible binding for global variable ‘direction’
getMSigGeneSetDb: no visible binding for global variable ‘ncbi_gene’
getMSigGeneSetDb: no visible binding for global variable ‘db_species’
getMSigGeneSetDb: no visible binding for global variable
‘msigdb_collection’
getMSigGeneSetDb: no visible binding for global variable ‘gene_symbol’
getMSigGeneSetDb: no visible binding for global variable
‘gs_collection_name’
getMSigGeneSetDb: no visible binding for global variable ‘gs_url’
convertIdentifiers,GeneSetDb: no visible binding for global variable
‘.convert_ids_with_babelgene’
convertIdentifiers,GeneSetDb: no visible global function definition for
‘.map_ids_babelgene’
Undefined global functions or variables:
.convert_ids_with_babelgene .map_ids_babelgene db_species direction
gene_symbol gs_collection_name gs_url gspecies input_ensg input_id
last_col msigdb_collection ncbi_gene ortholog_ensg ortholog_gene
rm_na species starts_with symbol
* checking Rd files ... OK
* checking Rd metadata ... OK
* checking Rd cross-references ... NOTE
Non-topic package-anchored link(s) in Rd file 'GeneSetDb-class.Rd':
‘[GSEABase:GeneIdentifierType-constructors]{GSEABase::EntrezIdentifier()}’
Non-topic package-anchored link(s) in Rd file 'calculateIndividualLogFC.Rd':
‘[limma:ebayes]{limma::eBayes()}’
Non-topic package-anchored link(s) in Rd file 'collectionMetadata.Rd':
‘[GSEABase:GeneIdentifierType-constructors]{GSEABase::EntrezIdentifier()}’
Non-topic package-anchored link(s) in Rd file 'seas.Rd':
‘[limma:toptable]{limma::topTable()}’
‘[limma:dupcor]{limma::duplicateCorrelation()}’
See section 'Cross-references' in the 'Writing R Extensions' manual.
Found the following Rd file(s) with Rd \link{} targets missing package
anchors:
seas.Rd: BiocParallel
Please provide package anchors for all Rd \link{} targets not in the
package itself and the base packages.
* checking for missing documentation entries ... OK
* checking for code/documentation mismatches ... OK
* checking Rd \usage sections ... OK
* checking Rd contents ... OK
* checking for unstated dependencies in examples ... OK
* checking line endings in Makefiles ... OK
* checking for GNU extensions in Makefiles ... OK
* checking include directives in Makefiles ... OK
* checking files in ‘vignettes’ ... OK
* checking examples ... OK
Examples with CPU (user + system) or elapsed time > 5s
user system elapsed
scoreSingleSamples 12.050 0.040 12.927
goseq 10.145 0.307 10.463
seas 7.948 0.171 8.269
eigenWeightedMean 6.608 0.147 6.968
geneSetsStats 5.842 0.124 5.996
SparrowResult-utilities 5.244 0.085 5.515
annotateGeneSetMembership 5.141 0.171 5.613
* checking for unstated dependencies in ‘tests’ ... OK
* checking tests ...
Running ‘testthat.R’
OK
* checking for unstated dependencies in vignettes ... OK
* checking package vignettes ... OK
* checking running R code from vignettes ... SKIPPED
* checking re-building of vignette outputs ... SKIPPED
* checking PDF version of manual ... OK
* DONE
Status: 3 NOTEs
See
‘/home/biocbuild/bbs-3.22-bioc/meat/sparrow.Rcheck/00check.log’
for details.
sparrow.Rcheck/00install.out
############################################################################## ############################################################################## ### ### Running command: ### ### /home/biocbuild/R/R/bin/R CMD INSTALL sparrow ### ############################################################################## ############################################################################## * installing to library ‘/home/biocbuild/R/R-4.5.0/site-library’ * installing *source* package ‘sparrow’ ... ** this is package ‘sparrow’ version ‘1.15.0’ ** using staged installation ** R ** inst ** byte-compile and prepare package for lazy loading ** help *** installing help indices *** copying figures ** building package indices ** installing vignettes ** testing if installed package can be loaded from temporary location ** testing if installed package can be loaded from final location ** testing if installed package keeps a record of temporary installation path * DONE (sparrow)
sparrow.Rcheck/tests/testthat.Rout
R version 4.5.0 (2025-04-11) -- "How About a Twenty-Six"
Copyright (C) 2025 The R Foundation for Statistical Computing
Platform: aarch64-unknown-linux-gnu
R is free software and comes with ABSOLUTELY NO WARRANTY.
You are welcome to redistribute it under certain conditions.
Type 'license()' or 'licence()' for distribution details.
R is a collaborative project with many contributors.
Type 'contributors()' for more information and
'citation()' on how to cite R or R packages in publications.
Type 'demo()' for some demos, 'help()' for on-line help, or
'help.start()' for an HTML browser interface to help.
Type 'q()' to quit R.
> library("sparrow")
> library("testthat")
> library("data.table")
> library("dplyr")
Attaching package: 'dplyr'
The following objects are masked from 'package:data.table':
between, first, last
The following object is masked from 'package:testthat':
matches
The following object is masked from 'package:sparrow':
combine
The following objects are masked from 'package:stats':
filter, lag
The following objects are masked from 'package:base':
intersect, setdiff, setequal, union
>
> test_check("sparrow")
Attaching package: 'magrittr'
The following objects are masked from 'package:testthat':
equals, is_less_than, not
[ FAIL 0 | WARN 0 | SKIP 6 | PASS 1491 ]
══ Skipped tests (6) ═══════════════════════════════════════════════════════════
• empty test (1): 'test-MultiGSEAResult.R:3:1'
• {misgdbdf} is not installed (5): 'test-get-msigdb.R:6:3',
'test-get-msigdb.R:14:3', 'test-get-msigdb.R:27:3', 'test-get-msigdb.R:65:3',
'test-get-msigdb.R:99:3'
[ FAIL 0 | WARN 0 | SKIP 6 | PASS 1491 ]
>
> ## Remove temporary files that were generated
> test.dir <- system.file('tests', package = "sparrow")
> pdfs <- dir(test.dir, "\\.pdf$", full.names=TRUE)
> if (length(pdfs)) {
+ unlink(pdfs)
+ }
>
>
> proc.time()
user system elapsed
332.941 9.847 342.102
sparrow.Rcheck/sparrow-Ex.timings
| name | user | system | elapsed | |
| GeneSetDb-class | 0.093 | 0.015 | 0.129 | |
| SparrowResult-utilities | 5.244 | 0.085 | 5.515 | |
| addGeneSetMetadata | 0.096 | 0.001 | 0.196 | |
| annotateGeneSetMembership | 5.141 | 0.171 | 5.613 | |
| calculateIndividualLogFC | 2.377 | 0.032 | 2.420 | |
| collectionMetadata | 0.098 | 0.000 | 0.100 | |
| combine-GeneSetDb-GeneSetDb-method | 0.131 | 0.004 | 0.133 | |
| combine-SparrowResult-SparrowResult-method | 0.119 | 0.012 | 0.135 | |
| conform | 0.536 | 0.016 | 0.554 | |
| conversion | 0.802 | 0.004 | 0.808 | |
| convertIdentifiers | 0.285 | 0.000 | 0.286 | |
| corplot | 0.115 | 0.000 | 0.116 | |
| eigenWeightedMean | 6.608 | 0.147 | 6.968 | |
| examples | 0.369 | 0.012 | 0.383 | |
| failWith | 0.001 | 0.000 | 0.001 | |
| featureIdMap | 0.545 | 0.000 | 0.546 | |
| featureIds | 0.587 | 0.000 | 0.584 | |
| geneSet | 0.108 | 0.000 | 0.108 | |
| geneSetCollectionURLfunction | 0.097 | 0.000 | 0.097 | |
| geneSetSummaryByGenes | 4.187 | 0.130 | 4.479 | |
| geneSets | 0.079 | 0.004 | 0.083 | |
| geneSetsStats | 5.842 | 0.124 | 5.996 | |
| getKeggCollection | 0 | 0 | 0 | |
| getMSigCollection | 0 | 0 | 0 | |
| getPantherCollection | 0.000 | 0.000 | 0.001 | |
| getReactomeCollection | 0 | 0 | 0 | |
| goseq | 10.145 | 0.307 | 10.463 | |
| gsdScore | 1.362 | 0.004 | 1.369 | |
| gskey | 0.003 | 0.000 | 0.003 | |
| hasGeneSet | 0.085 | 0.000 | 0.085 | |
| hasGeneSetCollection | 0.087 | 0.000 | 0.087 | |
| incidenceMatrix | 2.449 | 0.092 | 2.548 | |
| iplot | 2.302 | 0.087 | 2.585 | |
| is.active | 0.400 | 0.020 | 0.489 | |
| logFC | 3.820 | 0.091 | 3.925 | |
| mgheatmap | 0 | 0 | 0 | |
| mgheatmap2 | 0 | 0 | 0 | |
| msg | 0 | 0 | 0 | |
| ora | 0.313 | 0.012 | 0.326 | |
| p.matrix | 0.1 | 0.0 | 0.1 | |
| randomGeneSetDb | 0.197 | 0.004 | 0.201 | |
| renameCollections | 0.106 | 0.000 | 0.106 | |
| renameRows | 0.443 | 0.004 | 0.447 | |
| results | 0.119 | 0.000 | 0.119 | |
| scale_rows | 0.005 | 0.000 | 0.004 | |
| scoreSingleSamples | 12.050 | 0.040 | 12.927 | |
| seas | 7.948 | 0.171 | 8.269 | |
| sparrow_methods | 0.004 | 0.000 | 0.004 | |
| species_info | 0.007 | 0.000 | 0.011 | |
| subset.GeneSetDb | 0.099 | 0.005 | 0.163 | |
| subsetByFeatures | 0.113 | 0.004 | 0.117 | |
| validateInputs | 0.172 | 0.004 | 0.176 | |
| volcanoPlot | 2.921 | 0.039 | 2.978 | |
| volcanoStatsTable | 0.074 | 0.000 | 0.074 | |
| zScore | 1.063 | 0.020 | 1.085 | |