Back to Multiple platform build/check report for BioC 3.22:   simplified   long
AB[C]DEFGHIJKLMNOPQRSTUVWXYZ

This page was generated on 2025-10-24 12:07 -0400 (Fri, 24 Oct 2025).

HostnameOSArch (*)R versionInstalled pkgs
nebbiolo2Linux (Ubuntu 24.04.3 LTS)x86_644.5.1 Patched (2025-08-23 r88802) -- "Great Square Root" 4898
lconwaymacOS 12.7.6 Montereyx86_644.5.1 Patched (2025-09-10 r88807) -- "Great Square Root" 4688
kjohnson3macOS 13.7.7 Venturaarm644.5.1 Patched (2025-09-10 r88807) -- "Great Square Root" 4634
taishanLinux (openEuler 24.03 LTS)aarch644.5.0 (2025-04-11) -- "How About a Twenty-Six" 4658
Click on any hostname to see more info about the system (e.g. compilers)      (*) as reported by 'uname -p', except on Windows and Mac OS X

Package 377/2359HostnameOS / ArchINSTALLBUILDCHECKBUILD BIN
clippda 1.59.0  (landing page)
Stephen Nyangoma
Snapshot Date: 2025-10-23 14:17 -0400 (Thu, 23 Oct 2025)
git_url: https://git.bioconductor.org/packages/clippda
git_branch: devel
git_last_commit: 67ae34e
git_last_commit_date: 2025-04-15 09:45:42 -0400 (Tue, 15 Apr 2025)
nebbiolo2Linux (Ubuntu 24.04.3 LTS) / x86_64  OK    OK    OK  UNNEEDED, same version is already published
lconwaymacOS 12.7.6 Monterey / x86_64  OK    OK    OK    OK  UNNEEDED, same version is already published
kjohnson3macOS 13.7.7 Ventura / arm64  OK    OK    OK    OK  UNNEEDED, same version is already published
taishanLinux (openEuler 24.03 LTS) / aarch64  OK    OK    OK  


CHECK results for clippda on taishan

To the developers/maintainers of the clippda package:
- Allow up to 24 hours (and sometimes 48 hours) for your latest push to git@git.bioconductor.org:packages/clippda.git to reflect on this report. See Troubleshooting Build Report for more information.
- Use the following Renviron settings to reproduce errors and warnings.
- If 'R CMD check' started to fail recently on the Linux builder(s) over a missing dependency, add the missing dependency to 'Suggests:' in your DESCRIPTION file. See Renviron.bioc for more information.
- See Martin Grigorov's blog post for how to debug Linux ARM64 related issues on a x86_64 host.

raw results


Summary

Package: clippda
Version: 1.59.0
Command: /home/biocbuild/R/R/bin/R CMD check --install=check:clippda.install-out.txt --library=/home/biocbuild/R/R/site-library --no-vignettes --timings clippda_1.59.0.tar.gz
StartedAt: 2025-10-21 06:34:37 -0000 (Tue, 21 Oct 2025)
EndedAt: 2025-10-21 06:37:24 -0000 (Tue, 21 Oct 2025)
EllapsedTime: 167.2 seconds
RetCode: 0
Status:   OK  
CheckDir: clippda.Rcheck
Warnings: 0

Command output

##############################################################################
##############################################################################
###
### Running command:
###
###   /home/biocbuild/R/R/bin/R CMD check --install=check:clippda.install-out.txt --library=/home/biocbuild/R/R/site-library --no-vignettes --timings clippda_1.59.0.tar.gz
###
##############################################################################
##############################################################################


* using log directory ‘/home/biocbuild/bbs-3.22-bioc/meat/clippda.Rcheck’
* using R version 4.5.0 (2025-04-11)
* using platform: aarch64-unknown-linux-gnu
* R was compiled by
    aarch64-unknown-linux-gnu-gcc (GCC) 14.2.0
    GNU Fortran (GCC) 14.2.0
* running under: openEuler 24.03 (LTS)
* using session charset: UTF-8
* using option ‘--no-vignettes’
* checking for file ‘clippda/DESCRIPTION’ ... OK
* this is package ‘clippda’ version ‘1.59.0’
* checking package namespace information ... NOTE
  Namespaces with empty importFrom:
  ‘Biobase’ ‘tools’
* checking package dependencies ... INFO
Depends: includes the non-default packages:
  'limma', 'statmod', 'rgl', 'lattice', 'scatterplot3d', 'Biobase',
  'tools'
Adding so many packages to the search path is excessive and importing
selectively is preferable.
* checking if this is a source package ... OK
* checking if there is a namespace ... OK
* checking for hidden files and directories ... OK
* checking for portable file names ... OK
* checking for sufficient/correct file permissions ... OK
* checking whether package ‘clippda’ can be installed ... OK
* checking installed package size ... OK
* checking package directory ... OK
* checking ‘build’ directory ... OK
* checking DESCRIPTION meta-information ... OK
* checking top-level files ... OK
* checking for left-over files ... OK
* checking index information ... OK
* checking package subdirectories ... OK
* checking code files for non-ASCII characters ... OK
* checking R files for syntax errors ... OK
* checking whether the package can be loaded ... OK
* checking whether the package can be loaded with stated dependencies ... OK
* checking whether the package can be unloaded cleanly ... OK
* checking whether the namespace can be loaded with stated dependencies ... OK
* checking whether the namespace can be unloaded cleanly ... OK
* checking loading without being on the library search path ... OK
* checking dependencies in R code ... NOTE
'library' or 'require' calls to packages already attached by Depends:
  ‘lattice’ ‘limma’ ‘rgl’ ‘scatterplot3d’ ‘statmod’
  Please remove these calls from your code.
Packages in Depends field not imported from:
  ‘lattice’ ‘rgl’
  These packages need to be imported from (in the NAMESPACE file)
  for when this namespace is loaded but not attached.
* checking S3 generic/method consistency ... OK
* checking replacement functions ... OK
* checking foreign function calls ... OK
* checking R code for possible problems ... NOTE
ZvaluescasesVcontrolsPlots: no visible global function definition for
  ‘lines’
ZvaluescasesVcontrolsPlots: no visible global function definition for
  ‘legend’
ZvaluesfrommultinomPlots: no visible global function definition for
  ‘rmultinom’
ZvaluesfrommultinomPlots: no visible global function definition for
  ‘density’
ZvaluesfrommultinomPlots: no visible global function definition for
  ‘lines’
ZvaluesfrommultinomPlots: no visible global function definition for
  ‘legend’
ZvaluesfrommultinomPlots: no visible global function definition for
  ‘cloud’
ZvaluesfrommultinomPlots: no visible global function definition for
  ‘var’
Undefined global functions or variables:
  cloud density legend lines rmultinom var
Consider adding
  importFrom("graphics", "legend", "lines")
  importFrom("stats", "density", "rmultinom", "var")
to your NAMESPACE file.
* checking Rd files ... NOTE
checkRd: (-1) show-methods.Rd:11-18: Lost braces
    11 | {object = "aclinicalProteomicsData"}{
       |                                     ^
* checking Rd metadata ... OK
* checking Rd cross-references ... OK
* checking for missing documentation entries ... OK
* checking for code/documentation mismatches ... OK
* checking Rd \usage sections ... OK
* checking Rd contents ... OK
* checking for unstated dependencies in examples ... OK
* checking contents of ‘data’ directory ... OK
* checking data for non-ASCII characters ... OK
* checking data for ASCII and uncompressed saves ... OK
* checking files in ‘vignettes’ ... OK
* checking examples ... OK
Examples with CPU (user + system) or elapsed time > 5s
                       user system elapsed
clippda-package      55.127  0.135  55.425
sampleSize           33.258  0.040  33.396
sampleSizeParameters 16.600  0.032  16.682
* checking for unstated dependencies in vignettes ... OK
* checking package vignettes ... OK
* checking running R code from vignettes ... SKIPPED
* checking re-building of vignette outputs ... SKIPPED
* checking PDF version of manual ... OK
* DONE

Status: 4 NOTEs
See
  ‘/home/biocbuild/bbs-3.22-bioc/meat/clippda.Rcheck/00check.log’
for details.


Installation output

clippda.Rcheck/00install.out

##############################################################################
##############################################################################
###
### Running command:
###
###   /home/biocbuild/R/R/bin/R CMD INSTALL clippda
###
##############################################################################
##############################################################################


* installing to library ‘/home/biocbuild/R/R-4.5.0/site-library’
* installing *source* package ‘clippda’ ...
** this is package ‘clippda’ version ‘1.59.0’
** using staged installation
** R
** data
** inst
** byte-compile and prepare package for lazy loading
** help
*** installing help indices
** building package indices
** installing vignettes
** testing if installed package can be loaded from temporary location
** testing if installed package can be loaded from final location
** testing if installed package keeps a record of temporary installation path
* DONE (clippda)

Tests output


Example timings

clippda.Rcheck/clippda-Ex.timings

nameusersystemelapsed
ZvaluescasesVcontrolsPlots0.0130.0000.014
ZvaluesfrommultinomPlots1.1110.0601.174
aclinicalProteomicsData-class0.0470.0040.052
aclinicalProteomicsData-methods0.1520.0920.245
betweensampleVariance1.6440.0201.669
checkNo.replicates0.0910.0000.091
clippda-package55.127 0.13555.425
f0.0010.0000.001
fisherInformation0.0560.0000.057
liverRawData0.0040.0000.004
liver_pheno0.0010.0000.001
liverdata1.5120.0041.520
mostSimilarTwo0.0020.0000.002
negativeIntensitiesCorrection0.3130.0000.314
phenoDataFrame0.0380.0040.043
pheno_urine0.0010.0000.002
preProcRepeatedPeakData1.1850.0041.194
proteomicsExprsData0.1300.0000.131
proteomicspData0.0420.0000.043
replicateCorrelations2.6910.0002.700
sampleClusteredData0.3350.0000.337
sampleSize33.258 0.04033.396
sampleSize3DscatterPlots0.0220.0000.022
sampleSizeContourPlots0.0310.0000.031
sampleSizeParameters16.600 0.03216.682
sample_technicalVariance4.0490.0084.069
spectrumFilter1.2090.0001.213
ztwo000