Back to Multiple platform build/check report for BioC 3.22:   simplified   long
AB[C]DEFGHIJKLMNOPQRSTUVWXYZ

This page was generated on 2025-10-24 12:03 -0400 (Fri, 24 Oct 2025).

HostnameOSArch (*)R versionInstalled pkgs
nebbiolo2Linux (Ubuntu 24.04.3 LTS)x86_644.5.1 Patched (2025-08-23 r88802) -- "Great Square Root" 4898
lconwaymacOS 12.7.6 Montereyx86_644.5.1 Patched (2025-09-10 r88807) -- "Great Square Root" 4688
kjohnson3macOS 13.7.7 Venturaarm644.5.1 Patched (2025-09-10 r88807) -- "Great Square Root" 4634
taishanLinux (openEuler 24.03 LTS)aarch644.5.0 (2025-04-11) -- "How About a Twenty-Six" 4658
Click on any hostname to see more info about the system (e.g. compilers)      (*) as reported by 'uname -p', except on Windows and Mac OS X

Package 377/2359HostnameOS / ArchINSTALLBUILDCHECKBUILD BIN
clippda 1.59.0  (landing page)
Stephen Nyangoma
Snapshot Date: 2025-10-23 14:17 -0400 (Thu, 23 Oct 2025)
git_url: https://git.bioconductor.org/packages/clippda
git_branch: devel
git_last_commit: 67ae34e
git_last_commit_date: 2025-04-15 09:45:42 -0400 (Tue, 15 Apr 2025)
nebbiolo2Linux (Ubuntu 24.04.3 LTS) / x86_64  OK    OK    OK  UNNEEDED, same version is already published
lconwaymacOS 12.7.6 Monterey / x86_64  OK    OK    OK    OK  UNNEEDED, same version is already published
kjohnson3macOS 13.7.7 Ventura / arm64  OK    OK    OK    OK  UNNEEDED, same version is already published
taishanLinux (openEuler 24.03 LTS) / aarch64  OK    OK    OK  


CHECK results for clippda on nebbiolo2

To the developers/maintainers of the clippda package:
- Allow up to 24 hours (and sometimes 48 hours) for your latest push to git@git.bioconductor.org:packages/clippda.git to reflect on this report. See Troubleshooting Build Report for more information.
- Use the following Renviron settings to reproduce errors and warnings.
- If 'R CMD check' started to fail recently on the Linux builder(s) over a missing dependency, add the missing dependency to 'Suggests:' in your DESCRIPTION file. See Renviron.bioc for more information.

raw results


Summary

Package: clippda
Version: 1.59.0
Command: /home/biocbuild/bbs-3.22-bioc/R/bin/R CMD check --install=check:clippda.install-out.txt --library=/home/biocbuild/bbs-3.22-bioc/R/site-library --timings clippda_1.59.0.tar.gz
StartedAt: 2025-10-23 22:08:59 -0400 (Thu, 23 Oct 2025)
EndedAt: 2025-10-23 22:13:25 -0400 (Thu, 23 Oct 2025)
EllapsedTime: 265.3 seconds
RetCode: 0
Status:   OK  
CheckDir: clippda.Rcheck
Warnings: 0

Command output

##############################################################################
##############################################################################
###
### Running command:
###
###   /home/biocbuild/bbs-3.22-bioc/R/bin/R CMD check --install=check:clippda.install-out.txt --library=/home/biocbuild/bbs-3.22-bioc/R/site-library --timings clippda_1.59.0.tar.gz
###
##############################################################################
##############################################################################


* using log directory ‘/home/biocbuild/bbs-3.22-bioc/meat/clippda.Rcheck’
* using R version 4.5.1 Patched (2025-08-23 r88802)
* using platform: x86_64-pc-linux-gnu
* R was compiled by
    gcc (Ubuntu 13.3.0-6ubuntu2~24.04) 13.3.0
    GNU Fortran (Ubuntu 13.3.0-6ubuntu2~24.04) 13.3.0
* running under: Ubuntu 24.04.3 LTS
* using session charset: UTF-8
* checking for file ‘clippda/DESCRIPTION’ ... OK
* this is package ‘clippda’ version ‘1.59.0’
* checking package namespace information ... NOTE
  Namespaces with empty importFrom:
  ‘Biobase’ ‘tools’
* checking package dependencies ... INFO
Depends: includes the non-default packages:
  'limma', 'statmod', 'rgl', 'lattice', 'scatterplot3d', 'Biobase',
  'tools'
Adding so many packages to the search path is excessive and importing
selectively is preferable.
* checking if this is a source package ... OK
* checking if there is a namespace ... OK
* checking for hidden files and directories ... OK
* checking for portable file names ... OK
* checking for sufficient/correct file permissions ... OK
* checking whether package ‘clippda’ can be installed ... OK
* checking installed package size ... OK
* checking package directory ... OK
* checking ‘build’ directory ... OK
* checking DESCRIPTION meta-information ... OK
* checking top-level files ... OK
* checking for left-over files ... OK
* checking index information ... OK
* checking package subdirectories ... OK
* checking code files for non-ASCII characters ... OK
* checking R files for syntax errors ... OK
* checking whether the package can be loaded ... OK
* checking whether the package can be loaded with stated dependencies ... OK
* checking whether the package can be unloaded cleanly ... OK
* checking whether the namespace can be loaded with stated dependencies ... OK
* checking whether the namespace can be unloaded cleanly ... OK
* checking loading without being on the library search path ... OK
* checking dependencies in R code ... NOTE
'library' or 'require' calls to packages already attached by Depends:
  ‘lattice’ ‘limma’ ‘rgl’ ‘scatterplot3d’ ‘statmod’
  Please remove these calls from your code.
Packages in Depends field not imported from:
  ‘lattice’ ‘rgl’
  These packages need to be imported from (in the NAMESPACE file)
  for when this namespace is loaded but not attached.
* checking S3 generic/method consistency ... OK
* checking replacement functions ... OK
* checking foreign function calls ... OK
* checking R code for possible problems ... NOTE
ZvaluescasesVcontrolsPlots: no visible global function definition for
  ‘lines’
ZvaluescasesVcontrolsPlots: no visible global function definition for
  ‘legend’
ZvaluesfrommultinomPlots: no visible global function definition for
  ‘rmultinom’
ZvaluesfrommultinomPlots: no visible global function definition for
  ‘density’
ZvaluesfrommultinomPlots: no visible global function definition for
  ‘lines’
ZvaluesfrommultinomPlots: no visible global function definition for
  ‘legend’
ZvaluesfrommultinomPlots: no visible global function definition for
  ‘cloud’
ZvaluesfrommultinomPlots: no visible global function definition for
  ‘var’
Undefined global functions or variables:
  cloud density legend lines rmultinom var
Consider adding
  importFrom("graphics", "legend", "lines")
  importFrom("stats", "density", "rmultinom", "var")
to your NAMESPACE file.
* checking Rd files ... NOTE
checkRd: (-1) show-methods.Rd:11-18: Lost braces
    11 | {object = "aclinicalProteomicsData"}{
       |                                     ^
* checking Rd metadata ... OK
* checking Rd cross-references ... OK
* checking for missing documentation entries ... OK
* checking for code/documentation mismatches ... OK
* checking Rd \usage sections ... OK
* checking Rd contents ... OK
* checking for unstated dependencies in examples ... OK
* checking contents of ‘data’ directory ... OK
* checking data for non-ASCII characters ... OK
* checking data for ASCII and uncompressed saves ... OK
* checking files in ‘vignettes’ ... OK
* checking examples ... OK
Examples with CPU (user + system) or elapsed time > 5s
                           user system elapsed
clippda-package          73.321  0.340  73.661
sampleSize               43.443  0.063  43.507
sampleSizeParameters     21.984  0.044  22.028
sample_technicalVariance  6.275  0.008   6.284
* checking for unstated dependencies in vignettes ... OK
* checking package vignettes ... OK
* checking re-building of vignette outputs ... OK
* checking PDF version of manual ... OK
* DONE

Status: 4 NOTEs
See
  ‘/home/biocbuild/bbs-3.22-bioc/meat/clippda.Rcheck/00check.log’
for details.


Installation output

clippda.Rcheck/00install.out

##############################################################################
##############################################################################
###
### Running command:
###
###   /home/biocbuild/bbs-3.22-bioc/R/bin/R CMD INSTALL clippda
###
##############################################################################
##############################################################################


* installing to library ‘/home/biocbuild/bbs-3.22-bioc/R/site-library’
* installing *source* package ‘clippda’ ...
** this is package ‘clippda’ version ‘1.59.0’
** using staged installation
** R
** data
** inst
** byte-compile and prepare package for lazy loading
** help
*** installing help indices
** building package indices
** installing vignettes
** testing if installed package can be loaded from temporary location
** testing if installed package can be loaded from final location
** testing if installed package keeps a record of temporary installation path
* DONE (clippda)

Tests output


Example timings

clippda.Rcheck/clippda-Ex.timings

nameusersystemelapsed
ZvaluescasesVcontrolsPlots0.0090.0000.009
ZvaluesfrommultinomPlots1.0350.0381.073
aclinicalProteomicsData-class0.0390.0030.042
aclinicalProteomicsData-methods0.1330.0600.193
betweensampleVariance1.0190.0251.044
checkNo.replicates0.0660.0030.069
clippda-package73.321 0.34073.661
f0.0000.0000.001
fisherInformation0.0460.0010.046
liverRawData0.0020.0010.003
liver_pheno0.0000.0010.001
liverdata1.0190.0091.028
mostSimilarTwo0.0010.0000.001
negativeIntensitiesCorrection0.2240.0040.228
phenoDataFrame0.0390.0010.040
pheno_urine0.0020.0000.002
preProcRepeatedPeakData1.0480.0051.052
proteomicsExprsData0.0860.0010.087
proteomicspData0.0380.0000.039
replicateCorrelations3.8790.0043.883
sampleClusteredData0.2090.0040.213
sampleSize43.443 0.06343.507
sampleSize3DscatterPlots0.0220.0000.021
sampleSizeContourPlots0.0220.0010.022
sampleSizeParameters21.984 0.04422.028
sample_technicalVariance6.2750.0086.284
spectrumFilter0.8850.0080.893
ztwo000