| Back to Multiple platform build/check report for BioC 3.22: simplified long |
|
This page was generated on 2025-10-21 12:07 -0400 (Tue, 21 Oct 2025).
| Hostname | OS | Arch (*) | R version | Installed pkgs |
|---|---|---|---|---|
| nebbiolo2 | Linux (Ubuntu 24.04.3 LTS) | x86_64 | 4.5.1 Patched (2025-08-23 r88802) -- "Great Square Root" | 4887 |
| lconway | macOS 12.7.6 Monterey | x86_64 | 4.5.1 Patched (2025-09-10 r88807) -- "Great Square Root" | 4677 |
| kjohnson3 | macOS 13.7.7 Ventura | arm64 | 4.5.1 Patched (2025-09-10 r88807) -- "Great Square Root" | 4622 |
| taishan | Linux (openEuler 24.03 LTS) | aarch64 | 4.5.0 (2025-04-11) -- "How About a Twenty-Six" | 4642 |
| Click on any hostname to see more info about the system (e.g. compilers) (*) as reported by 'uname -p', except on Windows and Mac OS X | ||||
| Package 1303/2353 | Hostname | OS / Arch | INSTALL | BUILD | CHECK | BUILD BIN | ||||||||
| minfi 1.55.1 (landing page) Kasper Daniel Hansen
| nebbiolo2 | Linux (Ubuntu 24.04.3 LTS) / x86_64 | OK | OK | OK | |||||||||
| lconway | macOS 12.7.6 Monterey / x86_64 | OK | OK | OK | OK | |||||||||
| kjohnson3 | macOS 13.7.7 Ventura / arm64 | OK | OK | OK | OK | |||||||||
| taishan | Linux (openEuler 24.03 LTS) / aarch64 | OK | OK | OK | ||||||||||
|
To the developers/maintainers of the minfi package: - Allow up to 24 hours (and sometimes 48 hours) for your latest push to git@git.bioconductor.org:packages/minfi.git to reflect on this report. See Troubleshooting Build Report for more information. - Use the following Renviron settings to reproduce errors and warnings. - If 'R CMD check' started to fail recently on the Linux builder(s) over a missing dependency, add the missing dependency to 'Suggests:' in your DESCRIPTION file. See Renviron.bioc for more information. - See Martin Grigorov's blog post for how to debug Linux ARM64 related issues on a x86_64 host. |
| Package: minfi |
| Version: 1.55.1 |
| Command: /home/biocbuild/R/R/bin/R CMD check --install=check:minfi.install-out.txt --library=/home/biocbuild/R/R/site-library --no-vignettes --timings minfi_1.55.1.tar.gz |
| StartedAt: 2025-10-17 11:04:36 -0000 (Fri, 17 Oct 2025) |
| EndedAt: 2025-10-17 11:14:39 -0000 (Fri, 17 Oct 2025) |
| EllapsedTime: 603.6 seconds |
| RetCode: 0 |
| Status: OK |
| CheckDir: minfi.Rcheck |
| Warnings: 0 |
##############################################################################
##############################################################################
###
### Running command:
###
### /home/biocbuild/R/R/bin/R CMD check --install=check:minfi.install-out.txt --library=/home/biocbuild/R/R/site-library --no-vignettes --timings minfi_1.55.1.tar.gz
###
##############################################################################
##############################################################################
* using log directory ‘/home/biocbuild/bbs-3.22-bioc/meat/minfi.Rcheck’
* using R version 4.5.0 (2025-04-11)
* using platform: aarch64-unknown-linux-gnu
* R was compiled by
aarch64-unknown-linux-gnu-gcc (GCC) 14.2.0
GNU Fortran (GCC) 14.2.0
* running under: openEuler 24.03 (LTS)
* using session charset: UTF-8
* using option ‘--no-vignettes’
* checking for file ‘minfi/DESCRIPTION’ ... OK
* this is package ‘minfi’ version ‘1.55.1’
* checking package namespace information ... OK
* checking package dependencies ... INFO
Imports includes 24 non-default packages.
Importing from so many packages makes the package vulnerable to any of
them becoming unavailable. Move as many as possible to Suggests and
use conditionally.
* checking if this is a source package ... OK
* checking if there is a namespace ... OK
* checking for hidden files and directories ... OK
* checking for portable file names ... OK
* checking for sufficient/correct file permissions ... OK
* checking whether package ‘minfi’ can be installed ... OK
* checking installed package size ... OK
* checking package directory ... OK
* checking ‘build’ directory ... OK
* checking DESCRIPTION meta-information ... OK
* checking top-level files ... OK
* checking for left-over files ... OK
* checking index information ... OK
* checking package subdirectories ... OK
* checking code files for non-ASCII characters ... OK
* checking R files for syntax errors ... OK
* checking whether the package can be loaded ... OK
* checking whether the package can be loaded with stated dependencies ... OK
* checking whether the package can be unloaded cleanly ... OK
* checking whether the namespace can be loaded with stated dependencies ... OK
* checking whether the namespace can be unloaded cleanly ... OK
* checking loading without being on the library search path ... OK
* checking dependencies in R code ... NOTE
Unexported objects imported by ':::' calls:
‘DelayedArray:::get_verbose_block_processing’
‘DelayedArray:::normarg_grid’ ‘bumphunter:::.getEstimate’
See the note in ?`:::` about the use of this operator.
There are ::: calls to the package's namespace in its code. A package
almost never needs to use ::: for its own objects:
‘.guessArrayTypes’
* checking S3 generic/method consistency ... OK
* checking replacement functions ... OK
* checking foreign function calls ... OK
* checking R code for possible problems ... NOTE
Found the following possibly unsafe calls:
File ‘minfi/R/IlluminaMethylationManifest-class.R’:
unlockBinding(name, env = object@data)
* checking Rd files ... NOTE
checkRd: (-1) gaphunter.Rd:19: Lost braces
19 | If one of the first two, code{\link{getBeta}} is used to calculate beta values. If a
| ^
checkRd: (-1) ratioConvert-methods.Rd:35: Lost braces
35 | \code{\link{RatioSet}} or code{\link{GenomicRatioSet}} for the output
| ^
checkRd: (-1) ratioConvert-methods.Rd:36: Lost braces
36 | object and \code{\link{MethylSet}} or code{\link{GenomicMethylSet}}
| ^
* checking Rd metadata ... OK
* checking Rd cross-references ... NOTE
Found the following Rd file(s) with Rd \link{} targets missing package
anchors:
MethylSet-class.Rd: eSet-class
RGChannelSet-class.Rd: SummarizedExperiment-class
RatioSet-class.Rd: eSet-class
blockFinder.Rd: clusterMaker, bumphunter
bumphunter.Rd: clusterMaker
Please provide package anchors for all Rd \link{} targets not in the
package itself and the base packages.
* checking for missing documentation entries ... OK
* checking for code/documentation mismatches ... OK
* checking Rd \usage sections ... OK
* checking Rd contents ... OK
* checking for unstated dependencies in examples ... OK
* checking files in ‘vignettes’ ... OK
* checking examples ... OK
Examples with CPU (user + system) or elapsed time > 5s
user system elapsed
combineArrays 67.783 1.618 70.098
bumphunter 32.500 0.390 33.029
read.metharray.exp 9.234 0.056 9.309
read.metharray 5.951 0.183 6.150
densityPlot 5.058 0.095 5.167
preprocessIllumina 4.904 0.088 5.004
* checking for unstated dependencies in ‘tests’ ... OK
* checking tests ...
Running ‘runTests.R’
OK
* checking for unstated dependencies in vignettes ... OK
* checking package vignettes ... OK
* checking running R code from vignettes ... SKIPPED
* checking re-building of vignette outputs ... SKIPPED
* checking PDF version of manual ... OK
* DONE
Status: 4 NOTEs
See
‘/home/biocbuild/bbs-3.22-bioc/meat/minfi.Rcheck/00check.log’
for details.
minfi.Rcheck/00install.out
############################################################################## ############################################################################## ### ### Running command: ### ### /home/biocbuild/R/R/bin/R CMD INSTALL minfi ### ############################################################################## ############################################################################## * installing to library ‘/home/biocbuild/R/R-4.5.0/site-library’ * installing *source* package ‘minfi’ ... ** this is package ‘minfi’ version ‘1.55.1’ ** using staged installation ** R ** inst ** byte-compile and prepare package for lazy loading ** help *** installing help indices ** building package indices ** installing vignettes ** testing if installed package can be loaded from temporary location ** testing if installed package can be loaded from final location ** testing if installed package keeps a record of temporary installation path * DONE (minfi)
minfi.Rcheck/tests/runTests.Rout
R version 4.5.0 (2025-04-11) -- "How About a Twenty-Six"
Copyright (C) 2025 The R Foundation for Statistical Computing
Platform: aarch64-unknown-linux-gnu
R is free software and comes with ABSOLUTELY NO WARRANTY.
You are welcome to redistribute it under certain conditions.
Type 'license()' or 'licence()' for distribution details.
R is a collaborative project with many contributors.
Type 'contributors()' for more information and
'citation()' on how to cite R or R packages in publications.
Type 'demo()' for some demos, 'help()' for on-line help, or
'help.start()' for an HTML browser interface to help.
Type 'q()' to quit R.
> require("minfi") || stop("unable to load minfi")
Loading required package: minfi
Loading required package: BiocGenerics
Loading required package: generics
Attaching package: 'generics'
The following objects are masked from 'package:base':
as.difftime, as.factor, as.ordered, intersect, is.element, setdiff,
setequal, union
Attaching package: 'BiocGenerics'
The following objects are masked from 'package:stats':
IQR, mad, sd, var, xtabs
The following objects are masked from 'package:base':
Filter, Find, Map, Position, Reduce, anyDuplicated, aperm, append,
as.data.frame, basename, cbind, colnames, dirname, do.call,
duplicated, eval, evalq, get, grep, grepl, is.unsorted, lapply,
mapply, match, mget, order, paste, pmax, pmax.int, pmin, pmin.int,
rank, rbind, rownames, sapply, saveRDS, table, tapply, unique,
unsplit, which.max, which.min
Loading required package: GenomicRanges
Loading required package: stats4
Loading required package: S4Vectors
Attaching package: 'S4Vectors'
The following object is masked from 'package:utils':
findMatches
The following objects are masked from 'package:base':
I, expand.grid, unname
Loading required package: IRanges
Loading required package: Seqinfo
Loading required package: SummarizedExperiment
Loading required package: MatrixGenerics
Loading required package: matrixStats
Attaching package: 'MatrixGenerics'
The following objects are masked from 'package:matrixStats':
colAlls, colAnyNAs, colAnys, colAvgsPerRowSet, colCollapse,
colCounts, colCummaxs, colCummins, colCumprods, colCumsums,
colDiffs, colIQRDiffs, colIQRs, colLogSumExps, colMadDiffs,
colMads, colMaxs, colMeans2, colMedians, colMins, colOrderStats,
colProds, colQuantiles, colRanges, colRanks, colSdDiffs, colSds,
colSums2, colTabulates, colVarDiffs, colVars, colWeightedMads,
colWeightedMeans, colWeightedMedians, colWeightedSds,
colWeightedVars, rowAlls, rowAnyNAs, rowAnys, rowAvgsPerColSet,
rowCollapse, rowCounts, rowCummaxs, rowCummins, rowCumprods,
rowCumsums, rowDiffs, rowIQRDiffs, rowIQRs, rowLogSumExps,
rowMadDiffs, rowMads, rowMaxs, rowMeans2, rowMedians, rowMins,
rowOrderStats, rowProds, rowQuantiles, rowRanges, rowRanks,
rowSdDiffs, rowSds, rowSums2, rowTabulates, rowVarDiffs, rowVars,
rowWeightedMads, rowWeightedMeans, rowWeightedMedians,
rowWeightedSds, rowWeightedVars
Loading required package: Biobase
Welcome to Bioconductor
Vignettes contain introductory material; view with
'browseVignettes()'. To cite Bioconductor, see
'citation("Biobase")', and for packages 'citation("pkgname")'.
Attaching package: 'Biobase'
The following object is masked from 'package:MatrixGenerics':
rowMedians
The following objects are masked from 'package:matrixStats':
anyMissing, rowMedians
Loading required package: Biostrings
Loading required package: XVector
Attaching package: 'Biostrings'
The following object is masked from 'package:base':
strsplit
Loading required package: bumphunter
Loading required package: foreach
Loading required package: iterators
Loading required package: parallel
Loading required package: locfit
locfit 1.5-9.12 2025-03-05
Setting options('download.file.method.GEOquery'='auto')
Setting options('GEOquery.inmemory.gpl'=FALSE)
[1] TRUE
> BiocGenerics:::testPackage("minfi")
Loading required package: minfiData
Loading required package: IlluminaHumanMethylation450kmanifest
Loading required package: IlluminaHumanMethylation450kanno.ilmn12.hg19
Loading required package: digest
Loading required package: DelayedArray
Loading required package: Matrix
Attaching package: 'Matrix'
The following object is masked from 'package:S4Vectors':
expand
Loading required package: S4Arrays
Loading required package: abind
Attaching package: 'S4Arrays'
The following object is masked from 'package:abind':
abind
The following object is masked from 'package:base':
rowsum
Loading required package: SparseArray
Attaching package: 'DelayedArray'
The following objects are masked from 'package:base':
apply, scale, sweep
RUNIT TEST PROTOCOL -- Fri Oct 17 11:14:32 2025
***********************************************
Number of test functions: 10
Number of errors: 0
Number of failures: 0
1 Test Suite :
minfi RUnit Tests - 10 test functions, 0 errors, 0 failures
Number of test functions: 10
Number of errors: 0
Number of failures: 0
>
> proc.time()
user system elapsed
46.933 1.414 48.458
minfi.Rcheck/minfi-Ex.timings
| name | user | system | elapsed | |
| GenomicMethylSet-class | 0.002 | 0.000 | 0.002 | |
| GenomicRatioSet-class | 0.001 | 0.000 | 0.001 | |
| IlluminaMethylationManifest-class | 3.269 | 0.092 | 3.370 | |
| MethylSet-class | 0.001 | 0.000 | 0.001 | |
| RGChannelSet-class | 0 | 0 | 0 | |
| RatioSet-class | 0.001 | 0.000 | 0.001 | |
| bumphunter | 32.500 | 0.390 | 33.029 | |
| combineArrays | 67.783 | 1.618 | 70.098 | |
| compartments | 3.944 | 0.120 | 4.075 | |
| controlStripPlot | 1.600 | 0.016 | 1.620 | |
| convertArray | 1.685 | 0.004 | 1.694 | |
| densityBeanPlot | 4.433 | 0.052 | 4.497 | |
| densityPlot | 5.058 | 0.095 | 5.167 | |
| detectionP | 0.512 | 0.000 | 0.514 | |
| dmpFinder | 0.144 | 0.000 | 0.144 | |
| estimateCellCounts | 0 | 0 | 0 | |
| fixMethOutliers | 2.157 | 0.011 | 2.175 | |
| gaphunter | 0.121 | 0.001 | 0.121 | |
| getAnnotation | 0.893 | 0.000 | 0.895 | |
| getGenomicRatioSetFromGEO | 0 | 0 | 0 | |
| getQC | 0.221 | 0.000 | 0.222 | |
| getSex | 2.852 | 0.035 | 2.895 | |
| logit2 | 0 | 0 | 0 | |
| makeGenomicRatioSetFromMatrix | 0.473 | 0.000 | 0.474 | |
| mapToGenome-methods | 0.250 | 0.004 | 0.254 | |
| mdsPlot | 0.232 | 0.000 | 0.232 | |
| minfiQC | 3.453 | 0.000 | 3.460 | |
| plotBetasByType | 0 | 0 | 0 | |
| plotCpg | 0.137 | 0.003 | 0.140 | |
| preprocessFunnorm | 3.244 | 0.052 | 3.306 | |
| preprocessIllumina | 4.904 | 0.088 | 5.004 | |
| preprocessNoob | 2.420 | 0.012 | 2.439 | |
| preprocessQuantile | 1.098 | 0.004 | 1.106 | |
| preprocessRaw | 2.723 | 0.020 | 2.751 | |
| preprocessSwan | 2.304 | 0.020 | 2.330 | |
| qcReport | 0.062 | 0.000 | 0.062 | |
| ratioConvert-methods | 0.108 | 0.000 | 0.109 | |
| read.metharray | 5.951 | 0.183 | 6.150 | |
| read.metharray.exp | 9.234 | 0.056 | 9.309 | |
| read.metharray.sheet | 0.065 | 0.000 | 0.066 | |
| readGEORawFile | 0 | 0 | 0 | |
| readTCGA | 0 | 0 | 0 | |
| subsetByLoci | 0.930 | 0.008 | 0.940 | |
| utils | 0.147 | 0.020 | 0.167 | |