| Back to Multiple platform build/check report for BioC 3.22: simplified long |
|
This page was generated on 2025-10-21 12:07 -0400 (Tue, 21 Oct 2025).
| Hostname | OS | Arch (*) | R version | Installed pkgs |
|---|---|---|---|---|
| nebbiolo2 | Linux (Ubuntu 24.04.3 LTS) | x86_64 | 4.5.1 Patched (2025-08-23 r88802) -- "Great Square Root" | 4887 |
| lconway | macOS 12.7.6 Monterey | x86_64 | 4.5.1 Patched (2025-09-10 r88807) -- "Great Square Root" | 4677 |
| kjohnson3 | macOS 13.7.7 Ventura | arm64 | 4.5.1 Patched (2025-09-10 r88807) -- "Great Square Root" | 4622 |
| taishan | Linux (openEuler 24.03 LTS) | aarch64 | 4.5.0 (2025-04-11) -- "How About a Twenty-Six" | 4642 |
| Click on any hostname to see more info about the system (e.g. compilers) (*) as reported by 'uname -p', except on Windows and Mac OS X | ||||
| Package 1367/2353 | Hostname | OS / Arch | INSTALL | BUILD | CHECK | BUILD BIN | ||||||||
| MSA2dist 1.13.0 (landing page) Kristian K Ullrich
| nebbiolo2 | Linux (Ubuntu 24.04.3 LTS) / x86_64 | OK | OK | OK | |||||||||
| lconway | macOS 12.7.6 Monterey / x86_64 | OK | OK | OK | OK | |||||||||
| kjohnson3 | macOS 13.7.7 Ventura / arm64 | OK | OK | OK | OK | |||||||||
| taishan | Linux (openEuler 24.03 LTS) / aarch64 | OK | OK | OK | ||||||||||
|
To the developers/maintainers of the MSA2dist package: - Allow up to 24 hours (and sometimes 48 hours) for your latest push to git@git.bioconductor.org:packages/MSA2dist.git to reflect on this report. See Troubleshooting Build Report for more information. - Use the following Renviron settings to reproduce errors and warnings. - If 'R CMD check' started to fail recently on the Linux builder(s) over a missing dependency, add the missing dependency to 'Suggests:' in your DESCRIPTION file. See Renviron.bioc for more information. - See Martin Grigorov's blog post for how to debug Linux ARM64 related issues on a x86_64 host. |
| Package: MSA2dist |
| Version: 1.13.0 |
| Command: /home/biocbuild/R/R/bin/R CMD check --install=check:MSA2dist.install-out.txt --library=/home/biocbuild/R/R/site-library --no-vignettes --timings MSA2dist_1.13.0.tar.gz |
| StartedAt: 2025-10-17 11:20:01 -0000 (Fri, 17 Oct 2025) |
| EndedAt: 2025-10-17 11:24:40 -0000 (Fri, 17 Oct 2025) |
| EllapsedTime: 278.3 seconds |
| RetCode: 0 |
| Status: OK |
| CheckDir: MSA2dist.Rcheck |
| Warnings: 0 |
##############################################################################
##############################################################################
###
### Running command:
###
### /home/biocbuild/R/R/bin/R CMD check --install=check:MSA2dist.install-out.txt --library=/home/biocbuild/R/R/site-library --no-vignettes --timings MSA2dist_1.13.0.tar.gz
###
##############################################################################
##############################################################################
* using log directory ‘/home/biocbuild/bbs-3.22-bioc/meat/MSA2dist.Rcheck’
* using R version 4.5.0 (2025-04-11)
* using platform: aarch64-unknown-linux-gnu
* R was compiled by
aarch64-unknown-linux-gnu-gcc (GCC) 14.2.0
GNU Fortran (GCC) 14.2.0
* running under: openEuler 24.03 (LTS)
* using session charset: UTF-8
* using option ‘--no-vignettes’
* checking for file ‘MSA2dist/DESCRIPTION’ ... OK
* checking extension type ... Package
* this is package ‘MSA2dist’ version ‘1.13.0’
* package encoding: UTF-8
* checking package namespace information ... OK
* checking package dependencies ... OK
* checking if this is a source package ... OK
* checking if there is a namespace ... OK
* checking for hidden files and directories ... OK
* checking for portable file names ... OK
* checking for sufficient/correct file permissions ... OK
* checking whether package ‘MSA2dist’ can be installed ... OK
* used C++ compiler: ‘aarch64-unknown-linux-gnu-g++ (GCC) 14.2.0’
* checking C++ specification ... NOTE
Specified C++11: please drop specification unless essential
* checking installed package size ... INFO
installed size is 9.3Mb
sub-directories of 1Mb or more:
libs 8.7Mb
* checking package directory ... OK
* checking ‘build’ directory ... OK
* checking DESCRIPTION meta-information ... OK
* checking top-level files ... OK
* checking for left-over files ... OK
* checking index information ... OK
* checking package subdirectories ... OK
* checking code files for non-ASCII characters ... OK
* checking R files for syntax errors ... OK
* checking whether the package can be loaded ... OK
* checking whether the package can be loaded with stated dependencies ... OK
* checking whether the package can be unloaded cleanly ... OK
* checking whether the namespace can be loaded with stated dependencies ... OK
* checking whether the namespace can be unloaded cleanly ... OK
* checking loading without being on the library search path ... OK
* checking dependencies in R code ... OK
* checking S3 generic/method consistency ... OK
* checking replacement functions ... OK
* checking foreign function calls ... OK
* checking R code for possible problems ... OK
* checking Rd files ... OK
* checking Rd metadata ... OK
* checking Rd cross-references ... OK
* checking for missing documentation entries ... OK
* checking for code/documentation mismatches ... OK
* checking Rd \usage sections ... OK
* checking Rd contents ... OK
* checking for unstated dependencies in examples ... OK
* checking contents of ‘data’ directory ... OK
* checking data for non-ASCII characters ... OK
* checking data for ASCII and uncompressed saves ... OK
* checking line endings in C/C++/Fortran sources/headers ... OK
* checking compiled code ... NOTE
Note: information on .o files is not available
* checking files in ‘vignettes’ ... OK
* checking examples ... OK
Examples with CPU (user + system) or elapsed time > 5s
user system elapsed
codonmat2xy 7.079 0.953 11.912
* checking for unstated dependencies in ‘tests’ ... OK
* checking tests ...
Running ‘testthat.R’
OK
* checking for unstated dependencies in vignettes ... OK
* checking package vignettes ... OK
* checking running R code from vignettes ... SKIPPED
* checking re-building of vignette outputs ... SKIPPED
* checking PDF version of manual ... OK
* DONE
Status: 2 NOTEs
See
‘/home/biocbuild/bbs-3.22-bioc/meat/MSA2dist.Rcheck/00check.log’
for details.
MSA2dist.Rcheck/00install.out
############################################################################## ############################################################################## ### ### Running command: ### ### /home/biocbuild/R/R/bin/R CMD INSTALL MSA2dist ### ############################################################################## ############################################################################## * installing to library ‘/home/biocbuild/R/R-4.5.0/site-library’ * installing *source* package ‘MSA2dist’ ... ** this is package ‘MSA2dist’ version ‘1.13.0’ ** using staged installation ** libs using C++ compiler: ‘aarch64-unknown-linux-gnu-g++ (GCC) 14.2.0’ using C++11 /opt/ohpc/pub/compiler/gcc/14.2.0/bin/aarch64-unknown-linux-gnu-g++ -std=gnu++11 -I"/home/biocbuild/R/R-4.5.0/include" -DNDEBUG -I'/home/biocbuild/R/R-4.5.0/site-library/Rcpp/include' -I'/home/biocbuild/R/R-4.5.0/site-library/RcppThread/include' -I/usr/local/include -fPIC -g -O2 -Wall -Werror=format-security -c GY94.cpp -o GY94.o /opt/ohpc/pub/compiler/gcc/14.2.0/bin/aarch64-unknown-linux-gnu-g++ -std=gnu++11 -I"/home/biocbuild/R/R-4.5.0/include" -DNDEBUG -I'/home/biocbuild/R/R-4.5.0/site-library/Rcpp/include' -I'/home/biocbuild/R/R-4.5.0/site-library/RcppThread/include' -I/usr/local/include -fPIC -g -O2 -Wall -Werror=format-security -c KaKs.cpp -o KaKs.o /opt/ohpc/pub/compiler/gcc/14.2.0/bin/aarch64-unknown-linux-gnu-g++ -std=gnu++11 -I"/home/biocbuild/R/R-4.5.0/include" -DNDEBUG -I'/home/biocbuild/R/R-4.5.0/site-library/Rcpp/include' -I'/home/biocbuild/R/R-4.5.0/site-library/RcppThread/include' -I/usr/local/include -fPIC -g -O2 -Wall -Werror=format-security -c LPB93.cpp -o LPB93.o /opt/ohpc/pub/compiler/gcc/14.2.0/bin/aarch64-unknown-linux-gnu-g++ -std=gnu++11 -I"/home/biocbuild/R/R-4.5.0/include" -DNDEBUG -I'/home/biocbuild/R/R-4.5.0/site-library/Rcpp/include' -I'/home/biocbuild/R/R-4.5.0/site-library/RcppThread/include' -I/usr/local/include -fPIC -g -O2 -Wall -Werror=format-security -c LWL85.cpp -o LWL85.o /opt/ohpc/pub/compiler/gcc/14.2.0/bin/aarch64-unknown-linux-gnu-g++ -std=gnu++11 -I"/home/biocbuild/R/R-4.5.0/include" -DNDEBUG -I'/home/biocbuild/R/R-4.5.0/site-library/Rcpp/include' -I'/home/biocbuild/R/R-4.5.0/site-library/RcppThread/include' -I/usr/local/include -fPIC -g -O2 -Wall -Werror=format-security -c MSMA.cpp -o MSMA.o /opt/ohpc/pub/compiler/gcc/14.2.0/bin/aarch64-unknown-linux-gnu-g++ -std=gnu++11 -I"/home/biocbuild/R/R-4.5.0/include" -DNDEBUG -I'/home/biocbuild/R/R-4.5.0/site-library/Rcpp/include' -I'/home/biocbuild/R/R-4.5.0/site-library/RcppThread/include' -I/usr/local/include -fPIC -g -O2 -Wall -Werror=format-security -c MYN.cpp -o MYN.o /opt/ohpc/pub/compiler/gcc/14.2.0/bin/aarch64-unknown-linux-gnu-g++ -std=gnu++11 -I"/home/biocbuild/R/R-4.5.0/include" -DNDEBUG -I'/home/biocbuild/R/R-4.5.0/site-library/Rcpp/include' -I'/home/biocbuild/R/R-4.5.0/site-library/RcppThread/include' -I/usr/local/include -fPIC -g -O2 -Wall -Werror=format-security -c NG86.cpp -o NG86.o /opt/ohpc/pub/compiler/gcc/14.2.0/bin/aarch64-unknown-linux-gnu-g++ -std=gnu++11 -I"/home/biocbuild/R/R-4.5.0/include" -DNDEBUG -I'/home/biocbuild/R/R-4.5.0/site-library/Rcpp/include' -I'/home/biocbuild/R/R-4.5.0/site-library/RcppThread/include' -I/usr/local/include -fPIC -g -O2 -Wall -Werror=format-security -c RcppExports.cpp -o RcppExports.o /opt/ohpc/pub/compiler/gcc/14.2.0/bin/aarch64-unknown-linux-gnu-g++ -std=gnu++11 -I"/home/biocbuild/R/R-4.5.0/include" -DNDEBUG -I'/home/biocbuild/R/R-4.5.0/site-library/Rcpp/include' -I'/home/biocbuild/R/R-4.5.0/site-library/RcppThread/include' -I/usr/local/include -fPIC -g -O2 -Wall -Werror=format-security -c YN00.cpp -o YN00.o /opt/ohpc/pub/compiler/gcc/14.2.0/bin/aarch64-unknown-linux-gnu-g++ -std=gnu++11 -I"/home/biocbuild/R/R-4.5.0/include" -DNDEBUG -I'/home/biocbuild/R/R-4.5.0/site-library/Rcpp/include' -I'/home/biocbuild/R/R-4.5.0/site-library/RcppThread/include' -I/usr/local/include -fPIC -g -O2 -Wall -Werror=format-security -c base.cpp -o base.o /opt/ohpc/pub/compiler/gcc/14.2.0/bin/aarch64-unknown-linux-gnu-g++ -std=gnu++11 -I"/home/biocbuild/R/R-4.5.0/include" -DNDEBUG -I'/home/biocbuild/R/R-4.5.0/site-library/Rcpp/include' -I'/home/biocbuild/R/R-4.5.0/site-library/RcppThread/include' -I/usr/local/include -fPIC -g -O2 -Wall -Werror=format-security -c rcpp_KaKs.cpp -o rcpp_KaKs.o /opt/ohpc/pub/compiler/gcc/14.2.0/bin/aarch64-unknown-linux-gnu-g++ -std=gnu++11 -I"/home/biocbuild/R/R-4.5.0/include" -DNDEBUG -I'/home/biocbuild/R/R-4.5.0/site-library/Rcpp/include' -I'/home/biocbuild/R/R-4.5.0/site-library/RcppThread/include' -I/usr/local/include -fPIC -g -O2 -Wall -Werror=format-security -c rcpp_distSTRING.cpp -o rcpp_distSTRING.o /opt/ohpc/pub/compiler/gcc/14.2.0/bin/aarch64-unknown-linux-gnu-g++ -std=gnu++11 -I"/home/biocbuild/R/R-4.5.0/include" -DNDEBUG -I'/home/biocbuild/R/R-4.5.0/site-library/Rcpp/include' -I'/home/biocbuild/R/R-4.5.0/site-library/RcppThread/include' -I/usr/local/include -fPIC -g -O2 -Wall -Werror=format-security -c rcpp_pairwiseDeletionAA.cpp -o rcpp_pairwiseDeletionAA.o /opt/ohpc/pub/compiler/gcc/14.2.0/bin/aarch64-unknown-linux-gnu-g++ -std=gnu++11 -I"/home/biocbuild/R/R-4.5.0/include" -DNDEBUG -I'/home/biocbuild/R/R-4.5.0/site-library/Rcpp/include' -I'/home/biocbuild/R/R-4.5.0/site-library/RcppThread/include' -I/usr/local/include -fPIC -g -O2 -Wall -Werror=format-security -c rcpp_pairwiseDeletionDNA.cpp -o rcpp_pairwiseDeletionDNA.o /opt/ohpc/pub/compiler/gcc/14.2.0/bin/aarch64-unknown-linux-gnu-g++ -std=gnu++11 -shared -L/home/biocbuild/R/R-4.5.0/lib -L/usr/local/lib -o MSA2dist.so GY94.o KaKs.o LPB93.o LWL85.o MSMA.o MYN.o NG86.o RcppExports.o YN00.o base.o rcpp_KaKs.o rcpp_distSTRING.o rcpp_pairwiseDeletionAA.o rcpp_pairwiseDeletionDNA.o -L/home/biocbuild/R/R-4.5.0/lib -lR installing to /home/biocbuild/R/R-4.5.0/site-library/00LOCK-MSA2dist/00new/MSA2dist/libs ** R ** data ** byte-compile and prepare package for lazy loading ** help *** installing help indices *** copying figures ** building package indices ** installing vignettes ** testing if installed package can be loaded from temporary location ** checking absolute paths in shared objects and dynamic libraries ** testing if installed package can be loaded from final location ** testing if installed package keeps a record of temporary installation path * DONE (MSA2dist)
MSA2dist.Rcheck/tests/testthat.Rout
R version 4.5.0 (2025-04-11) -- "How About a Twenty-Six"
Copyright (C) 2025 The R Foundation for Statistical Computing
Platform: aarch64-unknown-linux-gnu
R is free software and comes with ABSOLUTELY NO WARRANTY.
You are welcome to redistribute it under certain conditions.
Type 'license()' or 'licence()' for distribution details.
R is a collaborative project with many contributors.
Type 'contributors()' for more information and
'citation()' on how to cite R or R packages in publications.
Type 'demo()' for some demos, 'help()' for on-line help, or
'help.start()' for an HTML browser interface to help.
Type 'q()' to quit R.
> library(testthat)
> library(MSA2dist)
>
> test_check("MSA2dist")
Computing: [========================================] 100% (done)
Computing: [========================================] 100% (done)
Computing: [========================================] 100% (done)
Computing: [========================================] 100% (done)
Computing: [========================================] 100% (done)
Computing: [========================================] 100% (done)
Computing: [========================================] 100% (done)
Computing: [========================================] 100% (done)
Computing: [========================================] 100% (done)
Computing: [========================================] 100% (done)
Computing: [========================================] 100% (done)
Computing: [========================================] 100% (done)
Computing: [========================================] 100% (done)
Computing: [========================================] 100% (done)
Computing: [========================================] 100% (done)
Computing: [========================================] 100% (done)
Computing: [========================================] 100% (done)
Computing: [========================================] 100% (done)
Computing: [========================================] 100% (done)
Computing: [========================================] 100% (done)
Computing: [========================================] 100% (done)
Computing: [========================================] 100% (done)
Computing: [========================================] 100% (done)
[ FAIL 0 | WARN 0 | SKIP 0 | PASS 177 ]
>
> proc.time()
user system elapsed
102.093 14.934 121.009
MSA2dist.Rcheck/MSA2dist-Ex.timings
| name | user | system | elapsed | |
| AAMatrix-data | 0.003 | 0.000 | 0.003 | |
| GENETIC_CODE_TCAG | 0.004 | 0.000 | 0.004 | |
| aa2selfscore | 0.381 | 0.020 | 0.403 | |
| aabin2aastring | 0.054 | 0.000 | 0.054 | |
| aastring2aabin | 0.328 | 0.020 | 0.349 | |
| aastring2aln | 0.212 | 0.056 | 0.268 | |
| aastring2dist | 1.337 | 0.228 | 1.575 | |
| addmask2string | 0.630 | 0.063 | 0.696 | |
| addpop2string | 0.240 | 0.004 | 0.245 | |
| addpos2string | 0.107 | 0.000 | 0.107 | |
| addregion2string | 0.588 | 0.096 | 0.686 | |
| aln2aastring | 0.202 | 0.000 | 0.203 | |
| aln2dnastring | 0.026 | 0.000 | 0.027 | |
| cds2aa | 0.848 | 0.176 | 1.026 | |
| cds2codonaln | 0.657 | 0.028 | 0.686 | |
| cdsstring2codonaln | 0.306 | 0.004 | 0.312 | |
| codon2numberAMBIG | 0.001 | 0.000 | 0.001 | |
| codon2numberTCAG | 0.001 | 0.000 | 0.001 | |
| codonmat2pnps | 0.045 | 0.000 | 0.046 | |
| codonmat2xy | 7.079 | 0.953 | 11.912 | |
| compareCodons | 0.061 | 0.003 | 0.065 | |
| dnabin2dnastring | 0.038 | 0.004 | 0.042 | |
| dnastring2aln | 0.015 | 0.008 | 0.022 | |
| dnastring2codonmat | 0.054 | 0.012 | 0.066 | |
| dnastring2dist | 0.222 | 0.036 | 0.273 | |
| dnastring2dnabin | 0.02 | 0.00 | 0.02 | |
| dnastring2kaks | 2.026 | 0.577 | 2.379 | |
| getmask | 0.260 | 0.033 | 0.294 | |
| getpos | 0.061 | 0.011 | 0.072 | |
| globalDeletion | 0.031 | 0.001 | 0.031 | |
| globalDeletionAA | 0.274 | 0.027 | 0.303 | |
| granthamMatrix | 0.001 | 0.000 | 0.002 | |
| hiv-data | 0.028 | 0.000 | 0.027 | |
| indices2kaks | 1.905 | 0.757 | 2.541 | |
| iupac-data | 0.045 | 0.008 | 0.054 | |
| iupacMatrix | 0.001 | 0.000 | 0.000 | |
| makePostalignedSeqs | 1.244 | 0.287 | 1.536 | |
| pal2nal | 0.945 | 0.060 | 1.008 | |
| popinteger | 0.229 | 0.012 | 0.242 | |
| popnames | 0.230 | 0.000 | 0.231 | |
| rcpp_KaKs | 0.048 | 0.000 | 0.049 | |
| rcpp_distSTRING | 0.027 | 0.004 | 0.031 | |
| rcpp_pairwiseDeletionAA | 0.211 | 0.000 | 0.212 | |
| rcpp_pairwiseDeletionDNA | 0.018 | 0.000 | 0.018 | |
| region | 0.233 | 0.008 | 0.242 | |
| regionused | 0.231 | 0.000 | 0.232 | |
| string2region | 0.664 | 0.000 | 0.668 | |
| subString | 0.026 | 0.000 | 0.026 | |
| uptriidx | 0.000 | 0.000 | 0.001 | |